{"text_format":"1","workbook":"xlsx","n_sheets":35,"sheets":["main","curMat","datpro","filEst","valB1","valB2","valB3","valB23","asisB1","asisB2","asisB3","asisMes","CA","infTri","RCA","CAac","CAA","EEA","CB1","CB2","CB3","infTut","CADT","CAT","bol1","bol2","bol3","bol4","BJP","eco","acta","cita","apf","car","obsB1"],"not_rendered":{"charts":6,"images":6,"macros":1,"external_links":0,"defined_names":75,"comments":0,"pivot_tables":0},"unopened":[],"bounds":{"document_bytes":16777216,"sheet_cells":100000,"rows_first":2000,"rows_last":500,"rows_between":2000,"halvings":0,"cell_chars":16384,"cell_head_chars":4096},"cells_cut":0,"cells_raw":0,"read":"whole","date_system":"1900"}

{"sheet":"main","index":0,"n_rows":116,"n_cols":81,"rows_kept":116,"cut":false,"hidden":false,"merged":[[22,4,22,6],[23,4,23,6],[24,4,24,6],[19,4,19,6],[1,4,1,6],[4,4,4,6],[5,4,5,6],[20,4,20,6],[21,4,21,6],[2,4,2,6],[31,4,31,5],[26,4,26,6],[27,4,27,6],[32,4,32,6],[30,4,30,6],[29,4,29,6]]}
[]
[null,null,null,null,"DATOS PROFESOR",null,null,null,null,null,null,null,null,null,"©  2023"]
[null,null,null,null,"CURSO Y AREA ",null,null,null,null,null,null,null,null,null,"PROYECTO REMDIZ",null,null,null,null,null,null,null,null,null,null,null,null,null,"nivel","listCur","nEst","valBx","AsisBx"]
[null,null,null,null,null,null,null,null,null,null,null,null,null,null,null,null,null,null,null,null,null,null,null,null,null,null,null,"select_load",{"$f":"curMat!H19","v":"S"},{"$f":"curMat!F19","v":"21"},{"$f":"curMat!L19","v":50},8,7]
[null,null,null,null,"CARATULA",null,null,null,null,null,null,null,null,null,null,null,null,null,null,null,null,null,null,null,null,null,null,"actual_save",{"$f":"AC4","v":"S"}]
[null,null,null,null,"LISTA DE ESTUDIANTES",null,null,null,null,null,null,null,null,null,null,null,null,null,null,null,null,null,null,null,null,null,null,null,"n","l","e","v","a"]
[null,null,null,null,"1er. TRIMESTRE","2do. TRIMESTRE","3er. TRIMESTRE"]
[]
[null,null,null,null,null,null,null,null,null,null,null,null,null,null,null,null,null,null,null,null,null,null,null,null,null,null,null,null,"nivel","listCur","nEst","valBx","AsisBx"]
[null,null,null,null,null,null,null,null,null,null,null,null,null,null,null,null,null,null,null,null,null,null,null,null,null,null,null,"select_load",{"$f":"curMat!H19","v":"S"},{"$f":"IF(AC10=\"S\",AD16,AD4)","v":"21"},{"$f":"IF(AC10=\"S\",AE16,AE4)","v":50},{"$f":"IF(AC10=\"S\",AF16,AF4)","v":"21"},{"$f":"IF(AC10=\"S\",AG16,AG4)","v":"21"}]
[null,null,null,null,null,null,null,null,null,null,null,null,null,null,null,null,null,null,null,null,null,null,null,null,null,null,null,"actual_save",{"$f":"AC10","v":"S"}]
[null,null,null,null,null,null,null,null,null,null,null,null,null,null,null,null,null,null,null,null,null,null,null,null,null,null,null,null,null,"l","e","v","a"]
[]
[]
[null,null,null,null,null,null,null,null,null,null,null,null,null,null,null,null,null,null,null,null,null,null,null,null,null,null,null,null,"nivel","listCur","nEst","valBx","AsisBx"]
[null,null,null,null,null,null,null,null,null,null,null,null,null,null,null,null,null,null,null,null,null,null,null,null,null,null,null,"select_load",{"$f":"AC4","v":"S"},{"$f":"curMat!F19","v":"21"},{"$f":"curMat!L19","v":50},{"$f":"curMat!T19","v":"21"},{"$f":"AF16","v":"21"}]
[null,null,null,null,"VALORACION","VALORACION","VALORACION",null,null,null,null,null,null,null,null,null,null,null,null,null,null,null,null,null,null,null,null,"actual_save",{"$f":"AC4","v":"S"}]
[null,null,null,null,"ASISTENCIA","ASISTENCIA","ASISTENCIA",null,null,null,null,null,null,null,null,null,null,null,null,null,null,null,null,null,null,null,null,null,"n","l","e","v","a"]
[null,null,null,null,"OBSERVACIONES","OBSERVACIONES","OBSERVACIONES"]
[null,null,null,null,"CENTRALIZADOR ANUAL"]
[null,null,null,null,"CENTRALIZADOR DE ASISTENCIA ANUAL"]
[]
[null,null,null,null,"ESTADISTICAS DE ESTUDIANTES"]
[]
[]
[null,null,null,null,"CENTRALIZADOR","CENTRALIZADOR","CENTRALIZADOR"]
[null,null,null,null,"CENTRALIZADOR: ANUAL (TUTOR)"]
[null,null,null,null,"CENTRALIZADOR DETALLADO (TUTOR)"]
[null,null,null,null,"BOLETINES [2 en 1]","BOLETINES [3 en 1]","BOLETINES [4 en 1]"]
[null,null,null,null,"BONO JUANCITO PINTO"]
[null,null,null,null,"CONTROL ECONOMICO"]
[null,null,null,null,"ACTAS DE CONDUCTA",null,"CITACIONES"]
[null,null,null,null,"REUNIONES PADRES DE FAMILIA"]
[]
[]
[]
[]
[]
[]
[]
[]
[]
[]
[]
[]
[]
[]
[]
[]
[null,null,null,null,null,5]
[]
[]
[]
[]
[]
[]
[]
[]
[]
[]
[]
[]
[]
[]
[]
[]
[]
[]
[]
[]
[]
[]
[]
[]
[]
[]
[]
[]
[]
[]
[]
[]
[]
[]
[]
[]
[]
[]
[]
[]
[]
[]
[]
[null,null,null,null,null,null,null,null,null,null,null,null,"+","-","i3","i4","i5","i6","i7","i8","i9","iA","Ì","+","-","i3","i4","i5","i6","i7","i8","i9","iA","iB","iC","iD","iE","iF","iG","iH","iJ","iK","iL","Ì","+","-","i3","i4","i5","i6","i7","i8","i9","iA","iB","iC","iD","iE","iF","iG","iH","iJ","iK","iL","Ì","+","-","i3","i4","i5","i6","i7","i8","i9","iA","Ì",".",".",".",".","Ì"]
[null,null,null,null,null,null,null,null,null,null,null,null,13,14,15,16,17,18,19,20,21,22,23,24,25,26,27,28,29,30,31,32,33,34,35,36,37,38,39,40,41,42,43,44,45,46,47,48,49,50,51,52,53,54,55,56,57,58,59,60,61,62,63,64,65,66,67,68,69,70,71,72,73,74,75,76,77,78,79,80]
[null,null,null,null,null,null,null,null,null,null,null,null,"M","N","O","P","Q","R","S","T","U","V","W","X","Y","Z","AA","AB","AC","AD","AE","AF","AG","AH","AI","AJ","AK","AL","AM","AN","AO","AP","AQ","AR","AS","AT","AU","AV","AW","AX","AY","AZ","BA","BB","BC","BD","BE","BF","BG","BH","BI","BJ","BK","BL","BM","BN","BO","BP","BQ","BR","BS","BT","BU","BV","BW","BX","BY","BZ","CA","CB"]
[null,null,null,null,null,null,null,null,null,null,null,null,13,14,15,16,17,18,19,20,21,22,23,24,25,26,27,28,29,30,31,32,33,34,35,36,37,38,39,40,41,42,43,44,45,46,47,48,49,50,51,52,53,54,55,56,57,58,59,60,61,62,63,64,65,66,67,68,69,70,71]
[null,null,null,null,null,null,null,null,null,null,null,null,13,14,15,16,17,18,19,20,21,22,23,24,25,26,27,28,29,30,31,32,33,34,35,36,37,38,39,40,41,42,43,44,45,46,47,48,49,50,51,52,53,54,55,56,57,58,59,60,61,62,63,64,65,66,67,68,69,70,71]
[null,null,null,null,null,null,null,null,null,null,null,null,13,14,15,16,17,18,19,20,21,22,23,24,25,26,27,28,29,30,31,32,33,34,35,36,37,38,39,40,41,42,43,44,45,46,47,48,49,50,51,52,53,54,55,56,57,58,59,60,61,62,63,64,65,66,67,68,69,70,71,73,74,75,76,77,78,79,80]
[null,null,null,null,null,null,null,null,null,null,null,null,"M","N","O","P","Q","R","S","T","U","V","W","X","Y","Z","AA","AB","AC","AD","AE","AF","AG","AH","AI","AJ","AK","AL","AM","AN","AO","AP","AQ","AR","AS","AT","AU","AV","AW","AX","AY","AZ","BA","BB","BC","BD","BE","BF","BG","BH","BI","BJ","BK","BL","BM","BN","BO","BP","BQ","BR","BS","BT","BU","BV","BW","BX","BY","BZ","CA","CB"]
[null,null,null,null,"Copia no autorizada:  PROYECTO REMDIZ - Cel. 72942909 "]
[null,null,null,null,"Llene los datos Marcados con Rojo en DATOS PROFESOR"]
[null,null,null,null,"Este Registro NO le pertenecea "]
[null,null,null,null,"Registro sin soporte",null,null,null,null,null,null,null,"val","est","dim","tri","obs"]
[null,null,null,null,"Ingrese un Nº de 5 a 50",null,null,null,null,null,null,null,0,0,0,0,0]
[null,null,null,null,"Seleccione un Curso en [DATOS PROFESOR]",null,null,null,null,null,null,null,2,27,2.29,2.57,8]
[null,null,null,null,"Seleccione un Area en [DATOS PROFESOR]",null,null,null,null,null,null,null,2.29,29,2.57,2.86,10]
[null,null,null,null,"Seleccione un Curso y Area en [CURSO Y AREA]",null,null,null,null,null,null,null,2.57,31,2.86,3.14,12]
[null,null,null,null,null,null,null,null,null,null,null,null,2.86,33,3.14,3.43,14]
[null,null,null,null,null,null,null,null,null,null,null,null,3.14,35,3.43,3.71,16]
[null,null,null,null,null,null,null,null,null,null,null,null,3.43,37,3.71,4,18]
[null,null,null,null,null,null,null,null,null,null,null,null,3.71,39,4,4.29,20]
[]
[]
[]
[null,null,null,null,"thatValBxLoadArrayColLetra"]

{"sheet":"curMat","index":1,"n_rows":63,"n_cols":24,"rows_kept":63,"cut":false,"hidden":false,"merged":[[1,3,1,16],[4,4,4,16],[5,4,5,16],[6,4,6,16],[16,3,16,11],[16,16,16,22],[7,4,7,16],[8,4,8,16],[9,4,9,16],[3,4,3,16]]}
[]
[null,null,null,"SELECCIONE CURSO Y AREA",null,null,null,null,null,null,null,null,null,null,null,null,null,"Ξ","Cerrar  "]
[]
[null,null,null,"SELECCIONEUN CURSO Y AREA","",null,null,null,null,null,null,null,null,null,null,null,null,null,null,{"$f":"IFERROR(INDEX($Q$21:$Q$40,$U4,1,1),\"\")","v":0},{"$f":"IFERROR(MATCH(E4,T$21:T$40,0),\"\")","v":1}]
[null,null,null,"NIVEL",{"$f":"IF(V5=\"\",\"\",IF(V5=\"P\",H51,H52))","v":""},null,null,null,null,null,null,null,null,null,null,null,null,null,null,{"$f":"IFERROR(MATCH(T4,F$21:F$40,0),\"\")","v":""},null,{"$f":"IFERROR(INDEX($H$21:$H$40,$T5,1,1),\"\")","v":""}]
[null,null,null,"AÑO DE ESCOLARIDAD",{"$f":"IFERROR(INDEX($D$21:$D$40,$T5,1,1),\"\")","v":""}]
[null,null,null,"PARALELO",{"$f":"IFERROR(INDEX($E$21:$E$40,$T5,1,1),\"\")","v":""}]
[null,null,null,"CAMPO",{"$f":"IFERROR(INDEX($X$51:$X$54,$V8,1,1),\"\")","v":""},null,null,null,null,null,null,null,null,null,null,null,null,null,null,null,null,{"$f":"IFERROR(INDEX($V$21:$V$40,$U4,1,1),\"\")","v":""}]
[null,null,null,"AREA",{"$f":"IFERROR(INDEX($R$21:$R$40,$U4,1,1),\"\")","v":0}]
[null,null,null,"CODIGO DE AREA",{"$f":"IFERROR(INDEX($S$21:$S$40,$U4,1,1),\"\")","v":""}]
[]
[]
[]
[]
[]
[null,null,null,null,null,"listCur",null,"nivel",null,null,null,"nEst",null,null,null,null,null,null,null,"valBx"]
[null,null,null,"CURSOS  DISPONIBLES",null,null,null,null,null,null,null,null,null,null,null,null,"CURSOS Y AREAS DISPONIBLES"]
[null,null,null,null,null,{"$f":"datpro!C12","v":"S"},null,{"$f":"datpro!C10","v":"S"},null,null,null,null,null,null,null,null,null,null,{"$f":"datpro!E15","v":""},{"$f":"CONCATENATE(F18,S18)","v":"S"}]
[null,null,null,null,null,{"$f":"IFERROR(MATCH(F18,F$21:F$41,0),\"21\")","v":"21"},null,{"$f":"H18","v":"S"},null,null,null,{"$f":"IFERROR(INDEX($L21:$L$41,$F19,1,1),\"\")","v":50},null,null,null,null,null,null,null,{"$f":"IFERROR(MATCH(T18,T$21:T$41,0),\"21\")","v":"21"}]
[null,null,null,"AÑO DE ESCOLARIDAD","PAR","CURSO","idCur","Niv","nroCur","codCur","nroPar","nroEst",null,null,null,null,"CURSO","AREA","CODIGO","curMat","idMat","nro_campo","nro_area"]
[null,null,null,null,null,{"$f":"CONCATENATE(J21,E21)","v":""},1,{"$f":"IF(I21=\"\",\"\",IF(I21<7,\"P\",\"S\"))","v":""},{"$f":"IFERROR(MATCH(D21,D$51:D$62,0),\"\")","v":""},{"$f":"IFERROR(INDEX($J$51:$J$62,$I21,1,1),\"\")","v":""},{"$f":"IFERROR(MATCH(E21,E$51:E$56,0),\"\")","v":""},50,null,null,null,null,null,null,{"$f":"IFERROR(INDEX($S$51:$S$63,$W21,1,1),\"\")","v":""},{"$f":"CONCATENATE(Q21,S21)","v":""},1,{"$f":"IFERROR(INDEX($V$51:$V$63,$W21,1,1),\"\")","v":""},{"$f":"IFERROR(MATCH(R21,R$51:R$63,0),\"\")","v":""}]
[null,null,null,null,null,"",2,{"$f":"IF(I22=\"\",\"\",IF(I22<7,\"P\",\"S\"))","v":""},"","","",50,null,null,null,null,null,null,{"$f":"IFERROR(INDEX($S$51:$S$63,$W22,1,1),\"\")","v":""},"",2,"",{"$f":"IFERROR(MATCH(R22,R$51:R$63,0),\"\")","v":""}]
[null,null,null,null,null,"",3,"","","","",50,null,null,null,null,null,null,"","",3,"",""]
[null,null,null,null,null,"",4,"","","","",50,null,null,null,null,null,null,"","",4,"",""]
[null,null,null,null,null,"",5,"","","","",50,null,null,null,null,null,null,"","",5,"",""]
[null,null,null,null,null,"",6,"","","","",50,null,null,null,null,null,null,"","",6,"",""]
[null,null,null,null,null,"",7,"","","","",50,null,null,null,null,null,null,"","",7,"",""]
[null,null,null,null,null,"",8,"","","","",50,null,null,null,null,null,null,"","",8,"",""]
[null,null,null,null,null,"",9,"","","","",50,null,null,null,null,null,null,"","",9,"",""]
[null,null,null,null,null,"",10,"","","","",50,null,null,null,null,null,null,"","",10,"",""]
[null,null,null,null,null,"",11,"","","","",50,null,null,null,null,null,null,"","",11,"",""]
[null,null,null,null,null,"",12,"","","","",50,null,null,null,null,null,null,"","",12,"",""]
[null,null,null,null,null,"",13,"","","","",50,null,null,null,null,null,null,"","",13,"",""]
[null,null,null,null,null,"",14,"","","","",50,null,null,null,null,null,null,"","",14,"",""]
[null,null,null,null,null,"",15,"","","","",50,null,null,null,null,null,null,"","",15,"",""]
[null,null,null,null,null,"",16,"","","","",50,null,null,null,null,null,null,"","",16,"",""]
[null,null,null,null,null,"",17,"","","","",50,null,null,null,null,null,null,"","",17,"",""]
[null,null,null,null,null,"",18,"","","","",50,null,null,null,null,null,null,"","",18,"",""]
[null,null,null,null,null,"",19,"","","","",50,null,null,null,null,null,null,"","",19,"",""]
[null,null,null,null,null,"",20,"","","","",50,null,null,null,null,null,null,"","",20,"",""]
[null,null,null,null,null,{"$f":"IF((D41+E41)>0,\"\",K19)","v":0},null,null,null,null,null,50,null,null,null,null,null,null,null,{"$f":"O19","v":0}]
[null,null,null,{"$f":"COUNTIF($D21:$D40,\"\")","v":20},{"$f":"COUNTIF($E21:$E40,\"\")","v":20}]
[]
[]
[]
[]
[]
[]
[]
[]
[null,null,null,"PRIMERO DE PRIMARIA","A",null,null,{"$f":"datpro!H39","v":"EDU. PRI.  COMUNITARIA VOCACIONAL"},null,"P1",null,null,null,null,null,null,null,{"$f":"datpro!E44","v":"COMUNICACIÓN Y LENGUAJES "},"CYL",null,null,1,{"$f":"datpro!E$81","v":"COMUNIDAD Y SOCIEDAD"},{"$f":"W51","v":"COMUNIDAD Y SOCIEDAD"}]
[null,null,null,"SEGUNDO DE PRIMARIA","B",null,null,{"$f":"datpro!H40","v":"EDU. SEC.  COMUNITARIA PRODUCTIVA"},null,"P2",null,null,null,null,null,null,null,{"$f":"datpro!E45","v":"LENGUA EXTRANJERA"},"LEX",null,null,1,{"$f":"datpro!E$81","v":"COMUNIDAD Y SOCIEDAD"},{"$f":"W57","v":"CIENCIA TECNOLOGIA Y PRODUCCION"}]
[null,null,null,"TERCERO DE PRIMARIA","C",null,null,null,null,"P3",null,null,null,null,null,null,null,{"$f":"datpro!E49","v":"CIENCIAS SOCIALES"},"CSO",null,null,1,{"$f":"datpro!E$81","v":"COMUNIDAD Y SOCIEDAD"},{"$f":"W59","v":"VIDA TIERRA Y TERRITORIO"}]
[null,null,null,"CUARTO DE PRIMARIA","D",null,null,null,null,"P4",null,null,null,null,null,null,null,{"$f":"datpro!E50","v":"EDUCACION FISICA Y DEPORTES"},"EFD",null,null,1,{"$f":"datpro!E$81","v":"COMUNIDAD Y SOCIEDAD"},{"$f":"W62","v":"COSMOS Y PENSAMIENTO"}]
[null,null,null,"QUINTO DE PRIMARIA","E",null,null,null,null,"P5",null,null,null,null,null,null,null,{"$f":"datpro!E51","v":"EDUCACION MUSICAL"},"EMU",null,null,1,{"$f":"datpro!E$81","v":"COMUNIDAD Y SOCIEDAD"}]
[null,null,null,"SEXTO DE PRIMARIA","F",null,null,null,null,"P6",null,null,null,null,null,null,null,{"$f":"datpro!E52","v":"ARTES PLASTICAS Y VISUALES"},"APV",null,null,1,{"$f":"datpro!E$81","v":"COMUNIDAD Y SOCIEDAD"}]
[null,null,null,"PRIMERO DE SECUNDARIA",null,null,null,null,null,"S1",null,null,null,null,null,null,null,{"$f":"datpro!E53","v":"MATEMATICAS"},"MAT",null,null,2,{"$f":"datpro!E$82","v":"CIENCIA TECNOLOGIA Y PRODUCCION"}]
[null,null,null,"SEGUNDO DE SECUNDARIA",null,null,null,null,null,"S2",null,null,null,null,null,null,null,{"$f":"datpro!E54","v":"TECNICA TECNOLOGIA"},"TEC",null,null,2,{"$f":"datpro!E$82","v":"CIENCIA TECNOLOGIA Y PRODUCCION"}]
[null,null,null,"TERCERO DE SECUNDARIA",null,null,null,null,null,"S3",null,null,null,null,null,null,null,{"$f":"datpro!E57","v":"CIENCIAS NATURALES"},"CNA",null,null,3,{"$f":"datpro!E$83","v":"VIDA TIERRA Y TERRITORIO"}]
[null,null,null,"CUARTO DE SECUNDARIA",null,null,null,null,null,"S4",null,null,null,null,null,null,null,{"$f":"datpro!E59","v":"FISICA"},"FIS",null,null,3,{"$f":"datpro!E$83","v":"VIDA TIERRA Y TERRITORIO"}]
[null,null,null,"QUINTO DE SECUNDARIA",null,null,null,null,null,"S5",null,null,null,null,null,null,null,{"$f":"datpro!E60","v":"QUIMICA"},"QMC",null,null,3,{"$f":"datpro!E$83","v":"VIDA TIERRA Y TERRITORIO"}]
[null,null,null,"SEXTO DE SECUNDARIA",null,null,null,null,null,"S6",null,null,null,null,null,null,null,{"$f":"datpro!E64","v":"COSMOVISIONES, FILOSOFIA O PSICOLOGIA"},"CFP",null,null,4,{"$f":"datpro!E$84","v":"COSMOS Y PENSAMIENTO"}]
[null,null,null,null,null,null,null,null,null,null,null,null,null,null,null,null,null,{"$f":"datpro!E65","v":"VALORES, ESPIRITUALIDAD Y RELIGIONES"},"VER",null,null,4,{"$f":"datpro!E$84","v":"COSMOS Y PENSAMIENTO"}]

{"sheet":"datpro","index":2,"n_rows":1025,"n_cols":66,"rows_kept":1025,"cut":false,"hidden":false,"merged":[[8,12,8,13],[38,3,38,4],[79,11,79,12],[12,8,12,11],[13,8,13,11],[15,8,15,11],[17,8,17,11],[18,8,18,11],[1,3,1,4],[82,8,82,10],[80,8,80,10],[5,8,5,9],[2,8,2,9],[2,10,2,11],[5,10,5,11],[3,8,3,9],[3,10,3,11],[4,8,4,9],[4,10,4,11],[37,3,37,4],[6,7,6,9],[1,7,1,12],[6,10,6,12],[8,8,8,11],[83,8,83,10],[79,8,79,10],[81,8,81,10],[23,7,23,8],[24,7,24,8],[29,9,29,12],[26,7,26,8],[27,7,27,8],[28,7,28,8],[29,7,29,8],[27,9,27,12],[26,9,26,12],[28,9,28,12],[37,7,37,12]]}
[null,null,null," Ξ","Cerrar  "]
[null,null,null,"DATOS PROFESOR",null,null,null,"FECHAS DE TRIMESTRES"]
[null,null,null,null,null,null,null,"BIM.","INI. TRIMESTRE",null,"FIN TRIMESTRE",null,"D.FALT."]
[null,null,null,"DISTRITO EDUCATIVO",null,null,null,"1º T","2023-02-01",null,"2023-04-30",null,{"$f":"IF(N4<1,\"\",N4)","v":55},{"$f":"IF(I4=\"\",\"\",IF(K4=\"\",\"\",K4-$K$7))","v":55},{"$f":"IF(I4=\"\",\"\",K4-I4)","v":88},null,"Borre las fechas de inicio y  fin "]
[null,null,null,"RED/NUCLEO EDUCATIVO",null,null,null,"2º T","2023-05-02",null,"2023-08-12",null,{"$f":"IF(N5<1,\"\",N5)","v":159},{"$f":"IF(I5=\"\",\"\",IF(K5=\"\",\"\",K5-$K$7))","v":159},{"$f":"IF(I5=\"\",\"\",K5-I5)","v":102},null,"para ocultar los dias faltantes"]
[null,null,null,"SIE U. EDUCATIVA",null,null,null,"3º T","2023-08-14",null,"2023-12-03",null,{"$f":"IF(N6<1,\"\",N6)","v":272},{"$f":"IF(I6=\"\",\"\",IF(K6=\"\",\"\",K6-$K$7))","v":272},{"$f":"IF(I6=\"\",\"\",K6-I6)","v":111},null,"en la planillas de valoracion o evaluaicon "]
[null,null,null,"UNIDAD EDUCATIVA ",null,{"$f":"IF(E7=\"\",1,0)","v":1},null,"FECHA ACTUAL",null,null,{"$f":"TODAY()","v":"2023-03-06"},null,null,null,{"$f":"SUM(O4:O6)","v":301}]
[null,null,null,"DIRECTOR(A)",null,{"$f":"IF(E8=\"\",1,0)","v":1},null,null,10,35,35,10,5]
[null,null,{"$f":"IFERROR(MATCH(E10,H$39:H$40,0),\"\")","v":""},"MAESTRO(A)",null,{"$f":"IF(LEN(E9)<6,1,0)","v":1},null,null,"EVALUACION MAESTRO(A)",null,null,null,"AUTOEVALUACION",null,null,"cambiar de estado protegido al nombre del profe","     NO CAMBIE EL NOMBRE DEL MAESTRO/A"]
[null,null,{"$f":"IF(C9=1,\"P\",\"S\")","v":"S"},"NIVEL",{"$f":"curMat!E5","v":""},{"$f":"IF(E10=\"\",1,0)","v":1},null,null,"SER","SAB","HAC","DEC","SER","DEC"]
[null,null,{"$f":"IFERROR(MATCH(E11,D81:D$86,0),\"\")","v":""},"AÑO DE ESCOLARIDAD",{"$f":"curMat!E6","v":""},1,null,null,10,35,35,10,5,{"$f":"M11","v":5},null,null,"     Puede cambiar la modalidad de calificacion (NO recomendable)"]
[null,null,{"$f":"CONCATENATE(C10,C11,E12)","v":"S"},"PARALELO",{"$f":"curMat!E7","v":""},{"$f":"IF(E12=\"\",1,0)","v":1},null,null,{"$f":"IF(I11=100,(I8/100),1)","v":1},{"$f":"IF(J11=100,(J8/100),1)","v":1},{"$f":"IF(K11=100,(K8/100),1)","v":1},{"$f":"IF(L11=100,(L8/100),1)","v":1},{"$f":"IF(M11=100,(M8/100),1)","v":1}]
[null,null,{"$f":"IFERROR(MATCH(E13,E$81:E$84,0),\"\")","v":""},"CAMPO",{"$f":"curMat!E8","v":""},1,null,null,"NRO DE ESTUDIANTES ACTUAL",null,null,null,{"$f":"filEst!K77","v":0},"     Cambie el NUMERO DE LISTA  de acuerdo al Nº de Estudiantes"]
[null,null,{"$f":"IFERROR(MATCH(E14,E$41:E$65,0),\"\")","v":""},"AREA",{"$f":"curMat!E9","v":0},0,null,null,"NUMERO DE LISTA",null,null,null,50,null,null,null,"ACTUALIZAR","Haga dos clic's en  [ACTUALIZAR] para actualizar el Nº de estudiantes"]
[null,null,{"$f":"IFERROR(INDEX($C$41:$C$65,$C14,1,1),\"\")","v":""},"CODIGO DE AREA",{"$f":"curMat!E10","v":""},1]
[null,null,null,"CELULAR  MAESTRO",null,null,null,null,"NUMERO DE AREAS PARA PROMEDIO",null,null,null,13,"     Cambie el NUMERO DE AREAS PARA PROMEDIAR   (TUTORES)"]
[null,null,null,"CELULAR  DIRECTOR",null,null,null,null,null,null,null,null,null,null,1]
[null,null,null,"CELULAR U. EDUCATIVA",null,null,null,null,"Nº DECIMALES PARA DIMENSIONES",null,null,null,0]
[null,null,null,"GESTION",2023,null,null,null,"Nº DECIMALES PARA TRIMESRES",null,null,null,0,null,"?"]
[]
[null,null,null,null,null,{"$f":"F7+F9","v":2},null,null,null,null,null,null,null,null,3]
[null,null,null,null,null,{"$f":"IF(F21<2,0,999)","v":999}]
[null,null,null,null,null,null,null,null,null,null,null,null,null,null,3,null,null,null,null,null,null,null,null,null,null,null,null,null,null,null,null,null,null,null,null,null,null,null,null,null,null,null,null,null,null,null,null,null,null,null,null,null,null,null,null,null,null,null,null,null,null,null,null,null,null,0]
[null,null,null,null,null,null,null,"APROBADO",null,{"$f":"MID(H24,1,1)","v":"A"},"Puede cambiar el detalle de APROBADO por otro",null,null,null,null,null,null,null,null,null,null,null,null,null,null,null,null,null,null,null,null,null,null,null,null,null,null,null,null,null,null,null,null,null,null,null,null,null,null,null,null,null,null,null,null,null,null,null,null,null,null,null,null,null,null,0]
[null,null,null,null,null,null,null,"RETENIDO",null,{"$f":"MID(H25,1,1)","v":"R"},"Puede cambiar el detalle de RETENIDO por otro",null,null,null,4]
[null,null,null,null,null,null,null,null,null,null,null,null,null,null,null,null,null,null,null,null,null,null,null,null,null,null,null,null,null,null,null,null,null,null,null,null,null,null,null,null,null,null,null,null,null,null,null,null,null,null,null,null,null,null,null,null,null,null,null,null,null,null,null,null,null,1]
[null,null,null,null,null,null,null,"whatsApp",null,72942909,null,null,null,null,5]
[null,null,null,null,null,null,null,"WEB",null,"www.registros.remdiz.net",null,null,null,"     Si desea mas informacion haga clic en el enlace (necesita internet)"]
[null,null,null,null,null,null,null,"FACEBOOK",null,"registros.remdiz",null,null,null,null,8]
[null,null,null,null,"Maestro NO Autorizado llame al celular 72942909 profesor remdiz",null,null,"YUOTUBE",null,"profesor.remdiz"]
[]
[]
[]
[]
[]
[]
[]
[null,null,null,{"$f":"E10","v":""},null,null,null,"NIVEL"]
[null,null,null,"BOLETIN DE CALIFICACIONES",null,null,null,"EDU. PRI.  COMUNITARIA VOCACIONAL",null,null,null,null,null,"     Puede cambiar el detalle de los niveles "]
[null,null,"COL","CODIGO  AREA","AREA","M/O",null,"EDU. SEC.  COMUNITARIA PRODUCTIVA"]
[null,null,"M","LCA","LENGUA CASTELLANA"]
[null,null,"N","LOR","LENGUA ORIGINARIA"]
[null,null,0,"LEXP","LENGUA EXTRANGERA primaria"]
[null,null,"P","CYL","COMUNICACIÓN Y LENGUAJES ",1,null,1,null,"Puede cambiar o Modificar  el nombre de las areas "]
[null,null,"Q","LEX","LENGUA EXTRANJERA",1,"="]
[null,null,"R","HIS","HISTORIA",null,"="]
[null,null,"S","CIV","CIVICA",null,"="]
[null,null,"T","GEO","GEOGRAFIA",null,"="]
[null,null,"U","CSO","CIENCIAS SOCIALES",1,"=",1,null,"Cambie a 1 para Importar  las notas al centralizador desde este archivo  (PRIMARIA)"]
[null,null,"V","EFD","EDUCACION FISICA Y DEPORTES",1,null,1]
[null,null,"W","EMU","EDUCACION MUSICAL",1,null,1,null,"Cambie a 0 para Importar  las notas al Centralizador desde otro archivo (PRIMARIA)"]
[null,null,"X","APV","ARTES PLASTICAS Y VISUALES",1,null,1,null,"Puede llenar las notas del centralizador manualmente si esta en 0 o 1 (PRIMARIA)"]
[null,null,"Y","MAT","MATEMATICAS",1,null,1]
[null,null,"Z","TEC","TECNICA TECNOLOGIA",1,"=",1,null,"Haga dos clic's en el simbolo [=] para esconder o Mostrar una area"]
[null,null,"AA","BIO"]
[null,null,"AB","GEO"]
[null,null,"AC","CNA","CIENCIAS NATURALES",1,null,1]
[null,null,"AD","CNFQ"]
[null,null,"AE","FIS","FISICA",1,"="]
[null,null,"AF","QMC","QUIMICA",1,"="]
[null,null,"AG","CN.FQ"]
[null,null,"AH","FIL"]
[null,null,"AI","PSI"]
[null,null,"AJ","CFP","COSMOVISIONES, FILOSOFIA O PSICOLOGIA",1,"="]
[null,null,"AK","VER","VALORES, ESPIRITUALIDAD Y RELIGIONES",1,null,1]
[null,null,null,"PROM.","PROMEDIO",{"$f":"SUM(F44:F65)","v":13},null,{"$f":"SUM(H44:H65)","v":9}]
[null,null,null,null,null,{"$f":"SUM(F41:F66)","v":26}]
[]
[]
[]
[]
[]
[]
[]
[]
[]
[]
[]
[]
[null,null,null,null,"CAMPO",null,null,"CR.","DESCRIPCIÓN DE CRITERIOS",null,null,"VAL"]
[null,null,null,{"$f":"CONCATENATE(\"PRIMERO DE \",$D$87)","v":"PRIMERO DE SECUNDARIA"},"COMUNIDAD Y SOCIEDAD","A",null,"ED","DIMENSIÓN EN DESARROLLO",null,null,20,50]
[null,null,null,{"$f":"CONCATENATE(\"SEGUNDO DE \",$D$87)","v":"SEGUNDO DE SECUNDARIA"},"CIENCIA TECNOLOGIA Y PRODUCCION","B",null,"DA","D. EN DESARROLLO ACEPTABLE",null,null,51,67]
[null,null,null,{"$f":"CONCATENATE(\"TERCERO DE \",$D$87)","v":"TERCERO DE SECUNDARIA"},"VIDA TIERRA Y TERRITORIO","C",null,"DO","D.  EN DESARROLLO OPTIMO",null,null,68,84]
[null,null,null,{"$f":"CONCATENATE(\"CUARTO DE \",$D$87)","v":"CUARTO DE SECUNDARIA"},"COSMOS Y PENSAMIENTO","D",null,"DP","D. EN DESARROLLO PLENO",null,null,85,100]
[null,null,null,{"$f":"CONCATENATE(\"QUINTO DE \",$D$87)","v":"QUINTO DE SECUNDARIA"},null,"E"]
[null,null,null,{"$f":"CONCATENATE(\"SEXTO DE \",$D$87)","v":"SEXTO DE SECUNDARIA"},null,"F"]
[null,null,null,{"$f":"IF(C9=1,\"PRIMARIA\",\"SECUNDARIA\")","v":"SECUNDARIA"}]
[]
[null,null,null,"listas_2022_remdiz_"]
[]
[null,null,null,"PRIMARIA"]
[null,null,null,"SECUNDARIA"]
[]
[]
[]
[]
[]
[]
[]
[]
[null,null,null,"PRIMERO DE "]
[null,null,null,"SEGUNDO DE "]
[null,null,null,"TERCERO DE "]
[null,null,null,"CUARTO DE "]
[null,null,null,"QUINTO DE "]
[null,null,null,"SEXTO DE "]
[null,null,null,null,"Puede cambiar la descripcion  de los CAMPOS"]
[]
[]
[]
[]
[]
[]
[]
[]
[]
[]
[]
[]
[]
[]
[]
[]
[]
[]
[]
[]
[]
[]
[]
[]
[]
[]
[]
[]
[]
[]
[]
[]
[]
[]
[]
[]
[]
[]
[]
[]
[]
[]
[]
[]
[]
[]
[]
[]
[]
[]
[]
[]
[]
[]
[]
[]
[]
[]
[]
[]
[]
[]
[]
[]
[]
[]
[]
[]
[]
[]
[]
[]
[]
[]
[]
[]
[]
[]
[]
[]
[]
[]
[]
[]
[]
[]
[]
[]
[]
[]
[]
[]
[]
[]
[]
[]
[]
[]
[]
[]
[]
[]
[]
[]
[]
[]
[]
[]
[]
[]
[]
[]
[]
[]
[]
[]
[]
[]
[]
[]
[]
[]
[]
[]
[]
[]
[]
[]
[]
[]
[]
[]
[]
[]
[]
[]
[]
[]
[]
[]
[]
[]
[]
[]
[]
[]
[]
[]
[]
[]
[]
[]
[]
[]
[]
[]
[]
[]
[]
[]
[]
[]
[]
[]
[]
[]
[]
[]
[]
[]
[]
[]
[]
[]
[]
[]
[]
[]
[]
[]
[]
[]
[]
[]
[]
[]
[]
[]
[]
[]
[]
[]
[]
[]
[]
[]
[]
[]
[]
[]
[]
[]
[]
[]
[]
[]
[]
[]
[]
[]
[]
[]
[]
[]
[]
[]
[]
[]
[]
[]
[]
[]
[]
[]
[]
[]
[]
[]
[]
[]
[]
[]
[]
[]
[]
[]
[]
[]
[]
[]
[]
[]
[]
[]
[]
[]
[]
[]
[]
[]
[]
[]
[]
[]
[]
[]
[]
[]
[]
[]
[]
[]
[]
[]
[]
[]
[]
[]
[]
[]
[]
[]
[]
[]
[]
[]
[]
[]
[]
[]
[]
[]
[]
[]
[]
[]
[]
[]
[]
[]
[]
[]
[]
[]
[]
[]
[]
[]
[]
[]
[]
[]
[]
[]
[]
[]
[]
[]
[]
[]
[]
[]
[]
[]
[]
[]
[]
[]
[]
[]
[]
[]
[]
[]
[]
[]
[]
[]
[]
[]
[]
[]
[]
[]
[]
[]
[]
[]
[]
[]
[]
[]
[]
[]
[]
[]
[]
[]
[]
[]
[]
[]
[]
[]
[]
[]
[]
[]
[]
[]
[]
[]
[]
[]
[]
[]
[]
[]
[]
[]
[]
[]
[]
[]
[]
[]
[]
[]
[]
[]
[]
[]
[]
[]
[]
[]
[]
[]
[]
[]
[]
[]
[]
[]
[]
[]
[]
[]
[]
[]
[]
[]
[]
[]
[]
[]
[]
[]
[]
[]
[]
[]
[]
[]
[]
[]
[]
[]
[]
[]
[]
[]
[]
[]
[]
[]
[]
[]
[]
[]
[]
[]
[]
[]
[]
[]
[]
[]
[]
[]
[]
[]
[]
[]
[]
[]
[]
[]
[]
[]
[]
[]
[]
[]
[]
[]
[]
[]
[]
[]
[]
[]
[]
[]
[]
[]
[]
[]
[]
[]
[]
[]
[]
[]
[]
[]
[]
[]
[]
[]
[]
[]
[]
[]
[]
[]
[]
[]
[]
[]
[]
[]
[]
[]
[]
[]
[]
[]
[]
[]
[]
[]
[]
[]
[]
[]
[]
[]
[]
[]
[]
[]
[]
[]
[]
[]
[]
[]
[]
[]
[]
[]
[]
[]
[]
[]
[]
[]
[]
[]
[]
[]
[]
[]
[]
[]
[]
[]
[]
[]
[]
[]
[]
[]
[]
[]
[]
[]
[]
[]
[]
[]
[]
[]
[]
[]
[]
[]
[]
[]
[]
[]
[]
[]
[]
[]
[]
[]
[]
[]
[]
[]
[]
[]
[]
[]
[]
[]
[]
[]
[]
[]
[]
[]
[]
[]
[]
[]
[]
[]
[]
[]
[]
[]
[]
[]
[]
[]
[]
[]
[]
[]
[]
[]
[]
[]
[]
[]
[]
[]
[]
[]
[]
[]
[]
[]
[]
[]
[]
[]
[]
[]
[]
[]
[]
[]
[]
[]
[]
[]
[]
[]
[]
[]
[]
[]
[]
[]
[]
[]
[]
[]
[]
[]
[]
[]
[]
[]
[]
[]
[]
[]
[]
[]
[]
[]
[]
[]
[]
[]
[]
[]
[]
[]
[]
[]
[]
[]
[]
[]
[]
[]
[]
[]
[]
[]
[]
[]
[]
[]
[]
[]
[]
[]
[]
[]
[]
[]
[]
[]
[]
[]
[]
[]
[]
[]
[]
[]
[]
[]
[]
[]
[]
[]
[]
[]
[]
[]
[]
[]
[]
[]
[]
[]
[]
[]
[]
[]
[]
[]
[]
[]
[]
[]
[]
[]
[]
[]
[]
[]
[]
[]
[]
[]
[]
[]
[]
[]
[]
[]
[]
[]
[]
[]
[]
[]
[]
[]
[]
[]
[]
[]
[]
[]
[]
[]
[]
[]
[]
[]
[]
[]
[]
[]
[]
[]
[]
[]
[]
[]
[]
[]
[]
[]
[]
[]
[]
[]
[]
[]
[]
[]
[]
[]
[]
[]
[]
[]
[]
[]
[]
[]
[]
[]
[]
[]
[]
[]
[]
[]
[]
[]
[]
[]
[]
[]
[]
[]
[]
[]
[]
[]
[]
[]
[]
[]
[]
[]
[]
[]
[]
[]
[]
[]
[]
[]
[]
[]
[]
[]
[]
[]
[]
[]
[]
[]
[]
[]
[]
[]
[]
[]
[]
[]
[]
[]
[]
[]
[]
[]
[]
[]
[]
[]
[]
[]
[]
[]
[]
[]
[]
[]
[]
[]
[]
[]
[]
[]
[]
[]
[]
[]
[]
[]
[]
[]
[]
[]
[]
[]
[]
[]
[]
[]
[]
[]
[]
[]
[]
[]
[]
[]
[]
[]
[]
[]
[]
[]
[]
[]
[]
[null,null,null,"PROYECTO REMDIZ","PROYECTO REMDIZ"]
[]
[]
[]
[]
[]
[]
[]
[]
[]
[]
[]
[]
[]
[null,null,null,"XIMENA2022!·$%&/()=?"]
[null,null,null,"XIMENA2022!·$%&/()=?"]
[null,null,null,"PROYECTO REMDIZ"]

{"sheet":"filEst","index":3,"n_rows":2120,"n_cols":27,"rows_kept":2120,"cut":false,"hidden":false,"merged":[[6,11,6,20],[7,11,7,20],[8,11,8,20],[72,11,72,14],[73,11,73,14],[1,5,1,24],[19,12,19,14],[19,18,19,19],[3,22,3,23],[4,22,4,23],[5,22,5,23],[6,22,6,23],[7,22,8,24],[2,22,2,24],[9,10,9,23],[10,10,10,23],[2,11,2,20],[3,11,3,20],[4,11,4,20],[5,11,5,20]]}
[]
[null,null,null,null,null,"REGISTRO Y CUADRO DE FILIACIÓN - GESTION 2023"]
[null,null,null,null,null,null,null,null,null,null,"UNIDAD EDUCATIVA ",{"$f":"datpro!$E$7","v":0},null,null,null,null,null,null,null,null,null,{"$f":"TODAY()","v":"2023-03-06"},"DATOS DE REGISTRO"]
[null,null,null,null,null,null,null,null,null,null,"NIVEL ",{"$f":"datpro!$E$10","v":""},null,null,null,null,null,null,null,null,null,{"$f":"COUNTIF(L21:L70,\"M\")","v":0},"INSCRITOS",null,{"$f":"COUNTIF(Y21:Y70,\"*\")","v":0},null,"INSCRITO"]
[null,null,null,null,null,null,null,null,null,null,"AÑO DE ESCOLARIDAD",{"$f":"CONCATENATE( datpro!$E$11,\"  -  \",datpro!$E$12)","v":"  -  "},null,null,null,null,null,null,null,null,null,{"$f":"COUNTIF(L21:L70,\"F\")","v":0},"RETIRO O ABANDONO",null,{"$f":"COUNTIF(Y21:Y70,\"RETIRO O ABANDONO\")","v":0},null,"RETIRO O ABANDONO"]
[null,null,null,null,null,null,null,null,null,null,"DIRECTOR/A",{"$f":"datpro!$E$8","v":0},null,null,null,null,null,null,null,null,null,null,"NO INCORPORADO",null,{"$f":"COUNTIF(Y21:Y70,\"NO INCORPORADO\")","v":0},null,"NO INCORPORADO"]
[null,null,null,null,null,null,null,null,null,null,"MAESTRO/A",{"$f":"datpro!$E$9","v":0},null,null,null,null,null,null,null,null,null,null,"EFECTIVOS",null,{"$f":"Y4-(Y5+Y6)","v":0}]
[null,null,null,null,null,null,null,null,null,null,"CAMPO ",{"$f":"IF(datpro!$E$13=\"\",\"\",datpro!$E$13)","v":""}]
[null,null,null,null,null,null,null,null,null,null,"ÁREA",{"$f":"datpro!$E$14","v":0}]
[]
[]
[]
[]
[]
[null,null,null,null,null,null,"F21:Y70","Y"]
[]
[]
[]
[]
[null,null,null,null,"Ξ","N°","COD","AP. PATERNO","AP. MATERNO","NOMBRES","APELLIDOS Y NOMBRES","GÉN.","FEC. NAC.",null,null,"EDAD","LUGAR DE NAC.","RUDE","CI ",null,"DIRECCIÓN ACTUAL","NOMBRE DE TUTOR ","PARENTESCO","TELF/CEL","ESTADO/EST"]
[]
[]
[]
[]
[]
[]
[]
[]
[]
[]
[]
[]
[]
[]
[]
[]
[]
[]
[]
[]
[]
[]
[]
[]
[]
[]
[]
[]
[]
[]
[]
[]
[]
[]
[]
[]
[]
[]
[]
[]
[]
[]
[]
[]
[]
[]
[]
[]
[]
[]
[]
[]
[]
[]
[]
[null,null,null,null,null,"Ξ","Cerrar",null,null,null,{"$f":"COUNTIF(K21:K70,\"\")","v":50}]
[null,null,null,null,null,null,null,null,null,null,{"$f":"50-K76","v":0}]
[]
[]
[]
[null,null,null,null,null,null,"select_load",{"$f":"main!$AE$10","v":50},null,null,null,"M",1,null,2020,null,null,null,null,"LP"]
[null,null,null,null,null,null,"actual_save",null,null,null,null,"F",2,null,{"$f":"O81-1","v":2019},null,null,null,null,"SC"]
[null,null,null,null,null,null,null,null,null,null,null,null,3,null,{"$f":"O82-1","v":2018},null,null,null,null,"CB"]
[null,null,null,null,null,null,null,null,null,null,null,null,4,null,2017,null,null,null,null,"TR"]
[null,null,null,null,null,null,null,null,null,null,null,null,5,null,2016,null,null,null,null,"PT"]
[null,null,null,null,null,null,null,null,null,null,null,null,6,null,2015,null,null,null,null,"BN"]
[null,null,null,null,null,null,null,null,null,null,null,null,7,null,2014,null,null,null,null,"PN"]
[null,null,null,null,null,null,null,null,null,null,null,null,8,null,2013,null,null,null,null,"OR"]
[null,null,null,null,null,null,null,null,null,null,null,null,9,null,2012,null,null,null,null,"SCR"]
[null,null,null,null,null,null,null,null,null,null,null,null,10,null,2011]
[null,null,null,null,null,null,null,null,null,null,null,null,11,null,2010]
[null,null,null,null,null,null,null,null,null,null,null,null,12,null,2009]
[null,null,null,null,null,null,null,null,null,null,null,null,13,null,2008]
[null,null,null,null,null,null,null,null,null,null,null,null,14,null,2007]
[null,null,null,null,null,null,null,null,null,null,null,null,15,null,2006]
[null,null,null,null,null,null,null,null,null,null,null,null,16,null,2005]
[null,null,null,null,null,null,null,null,null,null,null,null,17,null,2004]
[null,null,null,null,null,null,null,null,null,null,null,null,18,null,2003]
[null,null,null,null,null,null,null,null,null,null,null,null,19,null,2002]
[null,null,null,null,null,null,null,null,null,null,null,null,20,null,2001]
[null,null,null,null,null,null,null,10,null,null,null,null,21,null,2000]
[null,null,null,null,null,null,null,2,null,null,null,null,22,null,1999]
[null,null,null,null,null,null,null,25,null,null,null,null,23]
[null,null,null,null,null,null,null,2,null,null,null,null,24]
[null,null,null,null,null,null,null,2.5,null,null,null,null,25]
[null,null,null,null,null,null,null,3.3,null,null,null,null,26]
[null,null,null,null,null,null,null,2.5,null,null,null,null,27]
[null,null,null,null,null,null,null,8,null,null,null,null,28]
[null,null,null,null,null,null,null,120,null,null,null,null,29]
[null,null,null,null,null,null,null,1,null,null,null,null,30]
[null,null,null,null,null,null,null,17,null,null,null,null,31]
[null,null,null,null,null,null,null,1]
[null,null,null,null,null,null,null,75]
[null,null,null,null,null,null,null,80]
[null,null,null,null,null,null,null,1]
[]
[]
[]
[]
[null,null,null,null,null,1]
[]
[]
[]
[]
[]
[]
[]
[]
[]
[]
[]
[]
[]
[]
[]
[]
[]
[]
[]
[]
[]
[]
[]
[]
[]
[]
[]
[]
[]
[]
[]
[]
[]
[]
[]
[]
[]
[]
[]
[]
[]
[]
[]
[]
[]
[]
[]
[]
[]
[]
[]
[]
[]
[]
[]
[]
[]
[]
[]
[]
[]
[]
[]
[]
[]
[]
[]
[]
[]
[]
[]
[]
[]
[]
[]
[]
[]
[]
[]
[]
[]
[]
[]
[]
[]
[]
[]
[]
[]
[]
[]
[]
[]
[]
[]
[]
[]
[]
[]
[null,null,null,null,null,2]
[]
[]
[]
[]
[]
[]
[]
[]
[]
[]
[]
[]
[]
[]
[]
[]
[]
[]
[]
[]
[]
[]
[]
[]
[]
[]
[]
[]
[]
[]
[]
[]
[]
[]
[]
[]
[]
[]
[]
[]
[]
[]
[]
[]
[]
[]
[]
[]
[]
[]
[]
[]
[]
[]
[]
[]
[]
[]
[]
[]
[]
[]
[]
[]
[]
[]
[]
[]
[]
[]
[]
[]
[]
[]
[]
[]
[]
[]
[]
[]
[]
[]
[]
[]
[]
[]
[]
[]
[]
[]
[]
[]
[]
[]
[]
[]
[]
[]
[]
[null,null,null,null,null,3]
[]
[]
[]
[]
[]
[]
[]
[]
[]
[]
[]
[]
[]
[]
[]
[]
[]
[]
[]
[]
[]
[]
[]
[]
[]
[]
[]
[]
[]
[]
[]
[]
[]
[]
[]
[]
[]
[]
[]
[]
[]
[]
[]
[]
[]
[]
[]
[]
[]
[]
[]
[]
[]
[]
[]
[]
[]
[]
[]
[]
[]
[]
[]
[]
[]
[]
[]
[]
[]
[]
[]
[]
[]
[]
[]
[]
[]
[]
[]
[]
[]
[]
[]
[]
[]
[]
[]
[]
[]
[]
[]
[]
[]
[]
[]
[]
[]
[]
[]
[null,null,null,null,null,4]
[]
[]
[]
[]
[]
[]
[]
[]
[]
[]
[]
[]
[]
[]
[]
[]
[]
[]
[]
[]
[]
[]
[]
[]
[]
[]
[]
[]
[]
[]
[]
[]
[]
[]
[]
[]
[]
[]
[]
[]
[]
[]
[]
[]
[]
[]
[]
[]
[]
[]
[]
[]
[]
[]
[]
[]
[]
[]
[]
[]
[]
[]
[]
[]
[]
[]
[]
[]
[]
[]
[]
[]
[]
[]
[]
[]
[]
[]
[]
[]
[]
[]
[]
[]
[]
[]
[]
[]
[]
[]
[]
[]
[]
[]
[]
[]
[]
[]
[]
[null,null,null,null,null,5]
[]
[]
[]
[]
[]
[]
[]
[]
[]
[]
[]
[]
[]
[]
[]
[]
[]
[]
[]
[]
[]
[]
[]
[]
[]
[]
[]
[]
[]
[]
[]
[]
[]
[]
[]
[]
[]
[]
[]
[]
[]
[]
[]
[]
[]
[]
[]
[]
[]
[]
[]
[]
[]
[]
[]
[]
[]
[]
[]
[]
[]
[]
[]
[]
[]
[]
[]
[]
[]
[]
[]
[]
[]
[]
[]
[]
[]
[]
[]
[]
[]
[]
[]
[]
[]
[]
[]
[]
[]
[]
[]
[]
[]
[]
[]
[]
[]
[]
[]
[null,null,null,null,null,6]
[]
[]
[]
[]
[]
[]
[]
[]
[]
[]
[]
[]
[]
[]
[]
[]
[]
[]
[]
[]
[]
[]
[]
[]
[]
[]
[]
[]
[]
[]
[]
[]
[]
[]
[]
[]
[]
[]
[]
[]
[]
[]
[]
[]
[]
[]
[]
[]
[]
[]
[]
[]
[]
[]
[]
[]
[]
[]
[]
[]
[]
[]
[]
[]
[]
[]
[]
[]
[]
[]
[]
[]
[]
[]
[]
[]
[]
[]
[]
[]
[]
[]
[]
[]
[]
[]
[]
[]
[]
[]
[]
[]
[]
[]
[]
[]
[]
[]
[]
[null,null,null,null,null,7]
[]
[]
[]
[]
[]
[]
[]
[]
[]
[]
[]
[]
[]
[]
[]
[]
[]
[]
[]
[]
[]
[]
[]
[]
[]
[]
[]
[]
[]
[]
[]
[]
[]
[]
[]
[]
[]
[]
[]
[]
[]
[]
[]
[]
[]
[]
[]
[]
[]
[]
[]
[]
[]
[]
[]
[]
[]
[]
[]
[]
[]
[]
[]
[]
[]
[]
[]
[]
[]
[]
[]
[]
[]
[]
[]
[]
[]
[]
[]
[]
[]
[]
[]
[]
[]
[]
[]
[]
[]
[]
[]
[]
[]
[]
[]
[]
[]
[]
[]
[null,null,null,null,null,8]
[]
[]
[]
[]
[]
[]
[]
[]
[]
[]
[]
[]
[]
[]
[]
[]
[]
[]
[]
[]
[]
[]
[]
[]
[]
[]
[]
[]
[]
[]
[]
[]
[]
[]
[]
[]
[]
[]
[]
[]
[]
[]
[]
[]
[]
[]
[]
[]
[]
[]
[]
[]
[]
[]
[]
[]
[]
[]
[]
[]
[]
[]
[]
[]
[]
[]
[]
[]
[]
[]
[]
[]
[]
[]
[]
[]
[]
[]
[]
[]
[]
[]
[]
[]
[]
[]
[]
[]
[]
[]
[]
[]
[]
[]
[]
[]
[]
[]
[]
[null,null,null,null,null,9]
[]
[]
[]
[]
[]
[]
[]
[]
[]
[]
[]
[]
[]
[]
[]
[]
[]
[]
[]
[]
[]
[]
[]
[]
[]
[]
[]
[]
[]
[]
[]
[]
[]
[]
[]
[]
[]
[]
[]
[]
[]
[]
[]
[]
[]
[]
[]
[]
[]
[]
[]
[]
[]
[]
[]
[]
[]
[]
[]
[]
[]
[]
[]
[]
[]
[]
[]
[]
[]
[]
[]
[]
[]
[]
[]
[]
[]
[]
[]
[]
[]
[]
[]
[]
[]
[]
[]
[]
[]
[]
[]
[]
[]
[]
[]
[]
[]
[]
[]
[null,null,null,null,null,10]
[]
[]
[]
[]
[]
[]
[]
[]
[]
[]
[]
[]
[]
[]
[]
[]
[]
[]
[]
[]
[]
[]
[]
[]
[]
[]
[]
[]
[]
[]
[]
[]
[]
[]
[]
[]
[]
[]
[]
[]
[]
[]
[]
[]
[]
[]
[]
[]
[]
[]
[]
[]
[]
[]
[]
[]
[]
[]
[]
[]
[]
[]
[]
[]
[]
[]
[]
[]
[]
[]
[]
[]
[]
[]
[]
[]
[]
[]
[]
[]
[]
[]
[]
[]
[]
[]
[]
[]
[]
[]
[]
[]
[]
[]
[]
[]
[]
[]
[]
[null,null,null,null,null,11]
[]
[]
[]
[]
[]
[]
[]
[]
[]
[]
[]
[]
[]
[]
[]
[]
[]
[]
[]
[]
[]
[]
[]
[]
[]
[]
[]
[]
[]
[]
[]
[]
[]
[]
[]
[]
[]
[]
[]
[]
[]
[]
[]
[]
[]
[]
[]
[]
[]
[]
[]
[]
[]
[]
[]
[]
[]
[]
[]
[]
[]
[]
[]
[]
[]
[]
[]
[]
[]
[]
[]
[]
[]
[]
[]
[]
[]
[]
[]
[]
[]
[]
[]
[]
[]
[]
[]
[]
[]
[]
[]
[]
[]
[]
[]
[]
[]
[]
[]
[null,null,null,null,null,12]
[]
[]
[]
[]
[]
[]
[]
[]
[]
[]
[]
[]
[]
[]
[]
[]
[]
[]
[]
[]
[]
[]
[]
[]
[]
[]
[]
[]
[]
[]
[]
[]
[]
[]
[]
[]
[]
[]
[]
[]
[]
[]
[]
[]
[]
[]
[]
[]
[]
[]
[]
[]
[]
[]
[]
[]
[]
[]
[]
[]
[]
[]
[]
[]
[]
[]
[]
[]
[]
[]
[]
[]
[]
[]
[]
[]
[]
[]
[]
[]
[]
[]
[]
[]
[]
[]
[]
[]
[]
[]
[]
[]
[]
[]
[]
[]
[]
[]
[]
[null,null,null,null,null,13]
[]
[]
[]
[]
[]
[]
[]
[]
[]
[]
[]
[]
[]
[]
[]
[]
[]
[]
[]
[]
[]
[]
[]
[]
[]
[]
[]
[]
[]
[]
[]
[]
[]
[]
[]
[]
[]
[]
[]
[]
[]
[]
[]
[]
[]
[]
[]
[]
[]
[]
[]
[]
[]
[]
[]
[]
[]
[]
[]
[]
[]
[]
[]
[]
[]
[]
[]
[]
[]
[]
[]
[]
[]
[]
[]
[]
[]
[]
[]
[]
[]
[]
[]
[]
[]
[]
[]
[]
[]
[]
[]
[]
[]
[]
[]
[]
[]
[]
[]
[null,null,null,null,null,14]
[]
[]
[]
[]
[]
[]
[]
[]
[]
[]
[]
[]
[]
[]
[]
[]
[]
[]
[]
[]
[]
[]
[]
[]
[]
[]
[]
[]
[]
[]
[]
[]
[]
[]
[]
[]
[]
[]
[]
[]
[]
[]
[]
[]
[]
[]
[]
[]
[]
[]
[]
[]
[]
[]
[]
[]
[]
[]
[]
[]
[]
[]
[]
[]
[]
[]
[]
[]
[]
[]
[]
[]
[]
[]
[]
[]
[]
[]
[]
[]
[]
[]
[]
[]
[]
[]
[]
[]
[]
[]
[]
[]
[]
[]
[]
[]
[]
[]
[]
[null,null,null,null,null,15]
[]
[]
[]
[]
[]
[]
[]
[]
[]
[]
[]
[]
[]
[]
[]
[]
[]
[]
[]
[]
[]
[]
[]
[]
[]
[]
[]
[]
[]
[]
[]
[]
[]
[]
[]
[]
[]
[]
[]
[]
[]
[]
[]
[]
[]
[]
[]
[]
[]
[]
[]
[]
[]
[]
[]
[]
[]
[]
[]
[]
[]
[]
[]
[]
[]
[]
[]
[]
[]
[]
[]
[]
[]
[]
[]
[]
[]
[]
[]
[]
[]
[]
[]
[]
[]
[]
[]
[]
[]
[]
[]
[]
[]
[]
[]
[]
[]
[]
[]
[null,null,null,null,null,16]
[]
[]
[]
[]
[]
[]
[]
[]
[]
[]
[]
[]
[]
[]
[]
[]
[]
[]
[]
[]
[]
[]
[]
[]
[]
[]
[]
[]
[]
[]
[]
[]
[]
[]
[]
[]
[]
[]
[]
[]
[]
[]
[]
[]
[]
[]
[]
[]
[]
[]
[]
[]
[]
[]
[]
[]
[]
[]
[]
[]
[]
[]
[]
[]
[]
[]
[]
[]
[]
[]
[]
[]
[]
[]
[]
[]
[]
[]
[]
[]
[]
[]
[]
[]
[]
[]
[]
[]
[]
[]
[]
[]
[]
[]
[]
[]
[]
[]
[]
[null,null,null,null,null,17]
[]
[]
[]
[]
[]
[]
[]
[]
[]
[]
[]
[]
[]
[]
[]
[]
[]
[]
[]
[]
[]
[]
[]
[]
[]
[]
[]
[]
[]
[]
[]
[]
[]
[]
[]
[]
[]
[]
[]
[]
[]
[]
[]
[]
[]
[]
[]
[]
[]
[]
[]
[]
[]
[]
[]
[]
[]
[]
[]
[]
[]
[]
[]
[]
[]
[]
[]
[]
[]
[]
[]
[]
[]
[]
[]
[]
[]
[]
[]
[]
[]
[]
[]
[]
[]
[]
[]
[]
[]
[]
[]
[]
[]
[]
[]
[]
[]
[]
[]
[null,null,null,null,null,18]
[]
[]
[]
[]
[]
[]
[]
[]
[]
[]
[]
[]
[]
[]
[]
[]
[]
[]
[]
[]
[]
[]
[]
[]
[]
[]
[]
[]
[]
[]
[]
[]
[]
[]
[]
[]
[]
[]
[]
[]
[]
[]
[]
[]
[]
[]
[]
[]
[]
[]
[]
[]
[]
[]
[]
[]
[]
[]
[]
[]
[]
[]
[]
[]
[]
[]
[]
[]
[]
[]
[]
[]
[]
[]
[]
[]
[]
[]
[]
[]
[]
[]
[]
[]
[]
[]
[]
[]
[]
[]
[]
[]
[]
[]
[]
[]
[]
[]
[]
[null,null,null,null,null,19]
[]
[]
[]
[]
[]
[]
[]
[]
[]
[]
[]
[]
[]
[]
[]
[]
[]
[]
[]
[]
[]
[]
[]
[]
[]
[]
[]
[]
[]
[]
[]
[]
[]
[]
[]
[]
[]
[]
[]
[]
[]
[]
[]
[]
[]
[]
[]
[]
[]
[]
[]
[]
[]
[]
[]
[]
[]
[]
[]
[]
[]
[]
[]
[]
[]
[]
[]
[]
[]
[]
[]
[]
[]
[]
[]
[]
[]
[]
[]
[]
[]
[]
[]
[]
[]
[]
[]
[]
[]
[]
[]
[]
[]
[]
[]
[]
[]
[]
[]
[null,null,null,null,null,20]
[]
[]
[]
[]
[]
[]
[]
[]
[]
[]
[]
[]
[]
[]
[]
[]
[]
[]
[]
[]
[]
[]
[]
[]
[]
[]
[]
[]
[]
[]
[]
[]
[]
[]
[]
[]
[]
[]
[]
[]
[]
[]
[]
[]
[]
[]
[]
[]
[]
[]
[]
[]
[]
[]
[]
[]
[]
[]
[]
[]
[]
[]
[]
[]
[]
[]
[]
[]
[]
[]
[]
[]
[]
[]
[]
[]
[]
[]
[]
[]
[]
[]
[]
[]
[]
[]
[]
[]
[]
[]
[]
[]
[]
[]
[]
[]
[]
[]
[]
[null,null,null,null,null,21]

{"sheet":"valB1","index":4,"n_rows":2120,"n_cols":289,"rows_kept":2120,"cut":false,"hidden":false,"merged":[[15,82,19,82],[15,80,18,80],[15,81,18,81],[15,12,15,79],[17,65,17,69],[16,23,16,43],[17,44,17,48],[17,28,17,32],[17,33,17,37],[17,70,17,74],[17,12,17,16],[17,23,17,27],[17,64,18,64],[17,38,17,42],[17,59,17,63],[16,12,16,22],[16,76,16,79],[17,76,17,78],[17,75,18,75],[17,22,18,22],[17,79,18,79],[5,89,7,89],[15,84,19,84],[15,85,19,85],[15,86,19,86],[15,83,19,83],[25,10,25,11],[23,10,23,11],[24,10,24,11],[17,49,17,53],[26,10,26,11],[17,17,17,21],[27,10,27,11],[28,10,28,11],[5,11,5,47],[6,11,6,47],[7,11,7,47],[8,11,8,47],[16,44,16,64],[17,43,18,43],[20,10,20,11],[21,10,21,11],[22,10,22,11],[7,64,7,65],[6,64,6,67],[5,65,5,66],[17,54,17,58],[16,65,16,75],[29,10,29,11],[30,10,30,11],[31,10,31,11],[32,10,32,11],[33,10,33,11],[34,10,34,11],[35,10,35,11],[36,10,36,11],[37,10,37,11],[38,10,38,11],[39,10,39,11],[40,10,40,11],[41,10,41,11],[42,10,42,11],[43,10,43,11],[44,10,44,11],[45,10,45,11],[46,10,46,11],[47,10,47,11],[48,10,48,11],[49,10,49,11],[50,10,50,11],[51,10,51,11],[52,10,52,11],[53,10,53,11],[54,10,54,11],[55,10,55,11],[56,10,56,11],[57,10,57,11],[58,10,58,11],[59,10,59,11],[60,10,60,11],[66,10,66,11],[67,10,67,11],[68,10,68,11],[69,10,69,11],[61,10,61,11],[62,10,62,11],[63,10,63,11],[64,10,64,11],[65,10,65,11],[1,80,1,81],[8,64,8,65],[7,66,8,67],[4,11,4,47],[2,11,2,47],[4,64,4,67],[2,64,2,67],[3,65,3,66],[1,10,1,74],[3,11,3,47]]}
["Q",null,null,null,null,null,null,null,null,null,null,null,null,null,2,2,2,2,2,2]
[null,null,null,null,null,"\u0081",null,null,null,null,"REGISTRO DE VALORACIÓN  1er.  TRIMESTRE ",null,null,null,null,null,null,null,null,null,null,null,null,null,null,null,null,null,null,null,null,null,null,null,null,null,null,null,null,null,null,null,null,null,null,null,null,null,null,null,null,null,null,null,null,null,null,null,null,null,null,null,null,null,null,null,null,null,null,null,null,null,null,null,null,"\u0082",null,null,null,null,"GESTION 2023",null,null,null,null,null,null,"Ξ"]
[null,null,null,null,null,null,{"$f":"datpro!$E$6","v":0},"sie",null,null,"UNIDAD EDUCATIVA ",{"$f":"IF(datpro!$E$7=\"\",\"\",datpro!$E$7)","v":""},null,null,null,null,null,null,null,null,null,null,null,null,null,null,null,null,null,null,null,null,null,null,null,null,null,null,null,null,null,null,null,null,null,null,null,null,null,null,null,null,null,null,null,null,null,null,null,null,null,null,null,null,{"$f":"CONCATENATE(datpro!H24,\"S\")","v":"APROBADOS"},null,null,null,null,null,null,null,null,null,null,null,null,null,null,null,null,null,null,null,null,null,null,"Cerrar"]
[null,null,null,null,null,null,{"$f":"datpro!$M$14","v":50},"nroes",null,null,"NIVEL ",{"$f":"datpro!$E$10","v":""},null,null,null,null,null,null,null,null,null,null,null,null,null,null,null,null,null,null,null,null,null,null,null,null,null,null,null,null,null,null,null,null,null,null,null,null,null,null,null,null,null,null,null,null,null,null,null,null,null,null,null,null,{"$f":"COUNTIF(CC21:CC70,\">=50,500\")","v":0},{"$f":"IF(BM4=0,0,ROUND((BM4*100)/(BM4+BM6),0))","v":0},null,"%",null,null,null,null,null,null,null,null,null,null,null,null,null,null,null,null,null,null,null,"u"]
[null,null,null,null,null,null,{"$f":"datpro!$C$12","v":"S"},"curso",null,null,"AÑO DE ESCOLARIDAD",{"$f":"CONCATENATE( datpro!$E$11,\"  -  \",datpro!$E$12)","v":"  -  "},null,null,null,null,null,null,null,null,null,null,null,null,null,null,null,null,null,null,null,null,null,null,null,null,null,null,null,null,null,null,null,null,null,null,null,null,null,null,null,null,null,null,null,null,null,null,null,null,null,null,null,null,{"$f":"CONCATENATE(datpro!H25,\"S\")","v":"RETENIDOS"}]
[null,null,null,null,null,null,{"$f":"DAY(TODAY())","v":6},"dia",null,null,"DIRECTORA/OR",{"$f":"IF(datpro!$E$8=\"\",\"\",datpro!$E$8)","v":""},null,null,null,null,null,null,null,null,null,null,null,null,null,null,null,null,null,null,null,null,null,null,null,null,null,null,null,null,null,null,null,null,null,null,null,null,null,null,null,null,null,null,null,null,null,null,null,null,null,null,null,null,{"$f":"COUNTIFS(CC21:CC70,\">=1\",CC21:CC70,\"<=50,499\")","v":0},{"$f":"IF(BM4=0,0,ROUND((BM6*100)/(BM4+BM6),0))","v":0},null,"%"]
[null,null,null,null,null,null,{"$f":"MONTH(TODAY())","v":3},"mes",null,null,"MAESTRA/O",{"$f":"IF(datpro!$E$9=\"\",\"\",datpro!$E$9)","v":""},null,null,null,null,null,null,null,null,null,null,null,null,null,null,null,null,null,null,null,null,null,null,null,null,null,null,null,null,null,null,null,null,null,null,null,null,null,null,null,null,null,null,null,null,null,null,null,null,null,null,null,null,{"$f":"IF(datpro!$M$4=\"\",\"\",TODAY())","v":"2023-03-06"}]
[null,null,null,null,null,null,"T1","tri",null,null,"CAMPO ",{"$f":"IF(datpro!$E$13=\"\",\"\",datpro!$E$13)","v":""},null,null,null,null,null,null,null,null,null,null,null,null,null,null,null,null,null,null,null,null,null,null,null,null,null,null,null,null,null,null,null,null,null,null,null,null,null,null,null,null,null,null,null,null,null,null,null,null,null,null,null,null,{"$f":"IF(datpro!$M$4=\"\",\"\",datpro!$I$4)","v":"2023-02-01"},null,{"$f":"datpro!$M$4","v":55}]
[null,null,null,null,null,null,{"$f":"datpro!$E$15","v":""},"codarea",null,null,"ÁREA",{"$f":"IF(datpro!$E$14=\"\",\"\",datpro!$E$14)","v":0},null,null,null,null,null,null,null,null,null,null,null,null,null,null,null,null,null,null,null,null,null,null,null,null,null,null,null,null,null,null,null,null,null,null,null,null,null,null,null,null,null,null,null,null,null,null,null,null,null,null,null,null,{"$f":"IF(datpro!$M$4=\"\",\"\",datpro!$K$4)","v":"2023-04-30"}]
[null,null,null,null,null,null,"valB1","nameSheet"]
[]
[1,2,3,4,5,6,7,8,9,10,11,12,13,14,15,16,17,18,19,20,21,22,23,24,25,26,27,28,29,30,31,32,33,34,35,36,37,38,39,40,41,42,43,44,45,46,47,48,49,50,51,52,53,54,55,56,57,58,59,60,61,62,63,64,65,66,67,68,69,70,71,72,73,74,75,76,77,78,79,80]
[null,null,null,null,null,null,null,null,null,null,null,null,"M","N","O","P","Q","R","S","T","U","V",null,"X","Y","Z","AA","AB","AC","AD","AE","AF","AG","AH","AI","AJ","AK","AL","AM","AN","AO","AP","AQ",null,"AS","AT","AU","AV","AW","AX","AY","AZ","BA","BB","BC","BD","BE","BF","BG","BH","BI","NJ","BK","BL",null,"BN","BO","BP","BQ","BR","BS","BT","BU","BV","BW"]
[null,null,null,null,null,null,null,null,null,null,null,null,null,null,null,null,null,null,null,null,9,10]
[null,null,null,null,null,null,"F21:CD70","CD",null,null,null,null,"+","-",",",",",",",",",",",",",",",3,"F","+","-",",",",",",",",",",",",",",",",",",",",",",",",",",",",",",",",",",",4,"F","+","-",",",",",",",",",",",",",",",",",",",",",",",",",",",",",",",",",",",4,"F","+","-",",",",",",",",",",",",",",",3,"F","+","-"]
[null,null,null,null,null,"+","F",null,null,null,null,"+","DIMENSIONES",null,null,null,null,null,null,null,null,null,null,null,null,null,null,null,null,null,null,null,null,null,null,null,null,null,null,null,null,null,null,null,null,null,null,null,null,null,null,null,null,null,null,null,null,null,null,null,null,null,null,null,null,null,null,null,null,null,null,null,null,null,null,null,null,null,null,null,"NOTA TOTAL  DEL TRIMESTRE","SITUACIÓN TRIMESTRAL"]
[null,null,null,null,null,"-","CD",null,null,null,null,"-","SER (10)",null,null,null,null,null,null,null,null,null,null,"SABER (35)",null,null,null,null,null,null,null,null,null,null,null,null,null,null,null,null,null,null,null,null,"HACER (35)",null,null,null,null,null,null,null,null,null,null,null,null,null,null,null,null,null,null,null,null,"DEC(10)",null,null,null,null,null,null,null,null,null,null,"AUT(10)"]
[null,null,null,null,null,null,null,null,null,null,null,"CRIT. DE EVALUACION",null,null,null,null,null,null,null,null,null,null,"PROMEDIO SER",null,null,null,null,null,null,null,null,null,null,null,null,null,null,null,null,null,null,null,null,"PROMEDIO SABER",null,null,null,null,null,null,null,null,null,null,null,null,null,null,null,null,null,null,null,null,"PROMEDIO HACER",null,null,null,null,null,null,null,null,null,null,"PROMEDIO SER - DECIDIR",null,null,null,"SUMA AUTO EVALUACION"]
[null,null,null,null,null,null,null,null,null,null,null,"ACTIVIDADES"]
[null,null,null,null,null,"Nº","codigo","sexo",null,"COD","APELLIDOS Y NOMBRES","=","+","-",",",",",",",",",",",",",",",3,"Ì","+","-",",",",",",",",",",",",",",",",",",",",",",",",",",",",",",",",",",",4,"Ì","+","-",",",",",",",",",",",",",",",",",",",",",",",",",",",",",",",",",",",4,"Ì","+","-",",",",",",",",",",",",",",",3,"Ì","+","-",".",".","Ì",null,null,null,null,null,null,null,8,"Tamaño de fuente (8..16)",null,null,null,null,null,null,null,null,null,null,null,null,null,null,null,null,null,null,null,null,null,null,null,null,null,null,null,null,null,null,null,null,null,null,null,null,null,null,null,null,null,null,null,null,null,null,null,null,null,null,null,null,null,null,null,null,null,null,null,null,null,null,null,null,null,null,null,null,null,null,null,null,null,null,null,null,null,null,null,null,null,null,null,null,null,null,null,null,null,null,null,null,null,null,null,null,null,null,null,null,null,null,null,null,null,null,null,null,null,null,null,null,null,null,null,null,null,null,null,null,null,null,null,null,null,null,null,null,null,null,null,null,null,null,null,null,null,null,null,null,null,null,null,null,null,null,null,null,null,null,null,null,null,null,null,null,null,null,null,null,null,null,null,null,null,null,null,null,null,null,null,null,null,null,null,null,null,null,null,null,null,null,null,null,null,null,null,null,null,null,null,null,null,null,null,null,null,null,8]
[null,null,null,null,null,{"$f":"IF(filEst!F21=\"\",\"\",filEst!F21)","v":""},{"$f":"IF(filEst!G21=\"\",\"\",filEst!G21)","v":""},{"$f":"IF(filEst!L21=\"\",\"\",filEst!L21)","v":""},null,{"$f":"G21","v":""},{"$f":"IF(filEst!K21=\"\",\"\",filEst!K21)","v":""},null,null,null,null,null,null,null,null,null,null,null,{"$f":"IF(M21>0,FIXED(ROUND((ROUND(AVERAGE(M21:V21),$W$73)*$W$72),$W$73),$W$73,FALSE),\"\")","v":""},null,null,null,null,null,null,null,null,null,null,null,null,null,null,null,null,null,null,null,null,{"$f":"IF(X21>0,FIXED(ROUND((ROUND(AVERAGE(X21:AQ21),$AR$73)*$AR$72),$AR$73),$AR$73,FALSE),\"\")","v":""},null,null,null,null,null,null,null,null,null,null,null,null,null,null,null,null,null,null,null,null,{"$f":"IF(AS21>0,FIXED(ROUND((ROUND(AVERAGE(AS21:BL21),$BM$73)*$BM$72),$BM$73),$BM$73,FALSE),\"\")","v":""},null,null,null,null,null,null,null,null,null,null,{"$f":"IF(BN21>0,FIXED(ROUND((ROUND(AVERAGE(BN21:BW21),$BX$73)*$BX$72),$BX$73),$BX$73,FALSE),\"\")","v":""},null,null,null,{"$f":"IF(BY21>0,BY21+BZ21,\"\")","v":""},{"$f":"IFERROR(ROUND(W21+AR21+BM21+BX21+CB21,$CC$73),\"\")","v":""},{"$f":"IF(CC21=\"\",\"\",IF(CC21<50.5,datpro!$H$25,datpro!$H$24))","v":""},null,null,null,null,null,null,11,"Alto de Fila (10..20)",null,null,null,null,null,null,null,null,null,null,null,null,null,null,null,null,null,null,null,null,null,null,null,null,null,null,null,null,null,null,null,null,null,null,null,null,null,null,null,null,null,null,null,null,null,null,null,null,null,null,null,null,null,null,null,null,null,null,null,null,null,null,null,null,null,null,null,null,null,null,null,null,null,null,null,null,null,null,null,null,null,null,null,null,null,null,null,null,null,null,null,null,null,null,null,null,null,null,null,null,null,null,null,null,null,null,null,null,null,null,null,null,null,null,null,null,null,null,null,null,null,null,null,null,null,null,null,null,null,null,null,null,null,null,null,null,null,null,null,null,null,null,null,null,null,null,null,null,null,null,null,null,null,null,null,null,null,null,null,null,null,null,null,null,null,null,null,null,null,null,null,null,null,null,null,null,null,null,null,null,null,null,null,null,null,null,null,null,null,null,null,null,null,null,null,null,null,null,11]
[null,null,null,null,null,{"$f":"IF(filEst!F22=\"\",\"\",filEst!F22)","v":""},{"$f":"IF(filEst!G22=\"\",\"\",filEst!G22)","v":""},{"$f":"IF(filEst!L22=\"\",\"\",filEst!L22)","v":""},null,{"$f":"G22","v":""},{"$f":"IF(filEst!K22=\"\",\"\",filEst!K22)","v":""},null,null,null,null,null,null,null,null,null,null,null,"",null,null,null,null,null,null,null,null,null,null,null,null,null,null,null,null,null,null,null,null,"",null,null,null,null,null,null,null,null,null,null,null,null,null,null,null,null,null,null,null,null,"",null,null,null,null,null,null,null,null,null,null,"",null,null,null,{"$f":"IF(BY22>0,BY22+BZ22,\"\")","v":""},{"$f":"IFERROR(ROUND(W22+AR22+BM22+BX22+CB22,$CC$73),\"\")","v":""},{"$f":"IF(CC22=\"\",\"\",IF(CC22<50.5,datpro!$H$25,datpro!$H$24))","v":""},null,null,null,null,null,null,2,"Ancho de Columna (1..7) Modos",null,null,null,null,null,null,null,null,null,null,null,null,null,null,null,null,null,null,null,null,null,null,null,null,null,null,null,null,null,null,null,null,null,null,null,null,null,null,null,null,null,null,null,null,null,null,null,null,null,null,null,null,null,null,null,null,null,null,null,null,null,null,null,null,null,null,null,null,null,null,null,null,null,null,null,null,null,null,null,null,null,null,null,null,null,null,null,null,null,null,null,null,null,null,null,null,null,null,null,null,null,null,null,null,null,null,null,null,null,null,null,null,null,null,null,null,null,null,null,null,null,null,null,null,null,null,null,null,null,null,null,null,null,null,null,null,null,null,null,null,null,null,null,null,null,null,null,null,null,null,null,null,null,null,null,null,null,null,null,null,null,null,null,null,null,null,null,null,null,null,null,null,null,null,null,null,null,null,null,null,null,null,null,null,null,null,null,null,null,null,null,null,null,null,null,null,null,null,1]
[null,null,null,null,null,{"$f":"IF(filEst!F23=\"\",\"\",filEst!F23)","v":""},{"$f":"IF(filEst!G23=\"\",\"\",filEst!G23)","v":""},{"$f":"IF(filEst!L23=\"\",\"\",filEst!L23)","v":""},null,"",{"$f":"IF(filEst!K23=\"\",\"\",filEst!K23)","v":""},null,null,null,null,null,null,null,null,null,null,null,"",null,null,null,null,null,null,null,null,null,null,null,null,null,null,null,null,null,null,null,null,"",null,null,null,null,null,null,null,null,null,null,null,null,null,null,null,null,null,null,null,null,"",null,null,null,null,null,null,null,null,null,null,"",null,null,null,"",{"$f":"IFERROR(ROUND(W23+AR23+BM23+BX23+CB23,$CC$73),\"\")","v":""},{"$f":"IF(CC23=\"\",\"\",IF(CC23<50.5,datpro!$H$25,datpro!$H$24))","v":""}]
[null,null,null,null,null,{"$f":"IF(filEst!F24=\"\",\"\",filEst!F24)","v":""},{"$f":"IF(filEst!G24=\"\",\"\",filEst!G24)","v":""},{"$f":"IF(filEst!L24=\"\",\"\",filEst!L24)","v":""},null,"",{"$f":"IF(filEst!K24=\"\",\"\",filEst!K24)","v":""},null,null,null,null,null,null,null,null,null,null,null,"",null,null,null,null,null,null,null,null,null,null,null,null,null,null,null,null,null,null,null,null,"",null,null,null,null,null,null,null,null,null,null,null,null,null,null,null,null,null,null,null,null,"",null,null,null,null,null,null,null,null,null,null,"",null,null,null,"","",{"$f":"IF(CC24=\"\",\"\",IF(CC24<50.5,datpro!$H$25,datpro!$H$24))","v":""},null,null,null,null,null,null,null,"©  2023"]
[null,null,null,null,null,{"$f":"IF(filEst!F25=\"\",\"\",filEst!F25)","v":""},{"$f":"IF(filEst!G25=\"\",\"\",filEst!G25)","v":""},{"$f":"IF(filEst!L25=\"\",\"\",filEst!L25)","v":""},null,"",{"$f":"IF(filEst!K25=\"\",\"\",filEst!K25)","v":""},null,null,null,null,null,null,null,null,null,null,null,"",null,null,null,null,null,null,null,null,null,null,null,null,null,null,null,null,null,null,null,null,"",null,null,null,null,null,null,null,null,null,null,null,null,null,null,null,null,null,null,null,null,"",null,null,null,null,null,null,null,null,null,null,"",null,null,null,"","",{"$f":"IF(CC25=\"\",\"\",IF(CC25<50.5,datpro!$H$25,datpro!$H$24))","v":""},null,null,null,null,null,null,null,"PROYECTO REMDIZ"]
[null,null,null,null,null,{"$f":"IF(filEst!F26=\"\",\"\",filEst!F26)","v":""},{"$f":"IF(filEst!G26=\"\",\"\",filEst!G26)","v":""},{"$f":"IF(filEst!L26=\"\",\"\",filEst!L26)","v":""},null,"",{"$f":"IF(filEst!K26=\"\",\"\",filEst!K26)","v":""},null,null,null,null,null,null,null,null,null,null,null,"",null,null,null,null,null,null,null,null,null,null,null,null,null,null,null,null,null,null,null,null,"",null,null,null,null,null,null,null,null,null,null,null,null,null,null,null,null,null,null,null,null,"",null,null,null,null,null,null,null,null,null,null,"",null,null,null,"","",{"$f":"IF(CC26=\"\",\"\",IF(CC26<50.5,datpro!$H$25,datpro!$H$24))","v":""}]
[null,null,null,null,null,{"$f":"IF(filEst!F27=\"\",\"\",filEst!F27)","v":""},{"$f":"IF(filEst!G27=\"\",\"\",filEst!G27)","v":""},{"$f":"IF(filEst!L27=\"\",\"\",filEst!L27)","v":""},null,"",{"$f":"IF(filEst!K27=\"\",\"\",filEst!K27)","v":""},null,null,null,null,null,null,null,null,null,null,null,"",null,null,null,null,null,null,null,null,null,null,null,null,null,null,null,null,null,null,null,null,"",null,null,null,null,null,null,null,null,null,null,null,null,null,null,null,null,null,null,null,null,"",null,null,null,null,null,null,null,null,null,null,"",null,null,null,"","",{"$f":"IF(CC27=\"\",\"\",IF(CC27<50.5,datpro!$H$25,datpro!$H$24))","v":""}]
[null,null,null,null,null,{"$f":"IF(filEst!F28=\"\",\"\",filEst!F28)","v":""},{"$f":"IF(filEst!G28=\"\",\"\",filEst!G28)","v":""},{"$f":"IF(filEst!L28=\"\",\"\",filEst!L28)","v":""},null,"",{"$f":"IF(filEst!K28=\"\",\"\",filEst!K28)","v":""},null,null,null,null,null,null,null,null,null,null,null,"",null,null,null,null,null,null,null,null,null,null,null,null,null,null,null,null,null,null,null,null,"",null,null,null,null,null,null,null,null,null,null,null,null,null,null,null,null,null,null,null,null,"",null,null,null,null,null,null,null,null,null,null,"",null,null,null,"","",{"$f":"IF(CC28=\"\",\"\",IF(CC28<50.5,datpro!$H$25,datpro!$H$24))","v":""}]
[null,null,null,null,null,{"$f":"IF(filEst!F29=\"\",\"\",filEst!F29)","v":""},{"$f":"IF(filEst!G29=\"\",\"\",filEst!G29)","v":""},{"$f":"IF(filEst!L29=\"\",\"\",filEst!L29)","v":""},null,"",{"$f":"IF(filEst!K29=\"\",\"\",filEst!K29)","v":""},null,null,null,null,null,null,null,null,null,null,null,"",null,null,null,null,null,null,null,null,null,null,null,null,null,null,null,null,null,null,null,null,"",null,null,null,null,null,null,null,null,null,null,null,null,null,null,null,null,null,null,null,null,"",null,null,null,null,null,null,null,null,null,null,"",null,null,null,"","",{"$f":"IF(CC29=\"\",\"\",IF(CC29<50.5,datpro!$H$25,datpro!$H$24))","v":""}]
[null,null,null,null,null,{"$f":"IF(filEst!F30=\"\",\"\",filEst!F30)","v":""},{"$f":"IF(filEst!G30=\"\",\"\",filEst!G30)","v":""},{"$f":"IF(filEst!L30=\"\",\"\",filEst!L30)","v":""},null,"",{"$f":"IF(filEst!K30=\"\",\"\",filEst!K30)","v":""},null,null,null,null,null,null,null,null,null,null,null,"",null,null,null,null,null,null,null,null,null,null,null,null,null,null,null,null,null,null,null,null,"",null,null,null,null,null,null,null,null,null,null,null,null,null,null,null,null,null,null,null,null,"",null,null,null,null,null,null,null,null,null,null,"",null,null,null,"","",{"$f":"IF(CC30=\"\",\"\",IF(CC30<50.5,datpro!$H$25,datpro!$H$24))","v":""}]
[null,null,null,null,null,{"$f":"IF(filEst!F31=\"\",\"\",filEst!F31)","v":""},{"$f":"IF(filEst!G31=\"\",\"\",filEst!G31)","v":""},{"$f":"IF(filEst!L31=\"\",\"\",filEst!L31)","v":""},null,"",{"$f":"IF(filEst!K31=\"\",\"\",filEst!K31)","v":""},null,null,null,null,null,null,null,null,null,null,null,"",null,null,null,null,null,null,null,null,null,null,null,null,null,null,null,null,null,null,null,null,"",null,null,null,null,null,null,null,null,null,null,null,null,null,null,null,null,null,null,null,null,"",null,null,null,null,null,null,null,null,null,null,"",null,null,null,"","",{"$f":"IF(CC31=\"\",\"\",IF(CC31<50.5,datpro!$H$25,datpro!$H$24))","v":""}]
[null,null,null,null,null,{"$f":"IF(filEst!F32=\"\",\"\",filEst!F32)","v":""},{"$f":"IF(filEst!G32=\"\",\"\",filEst!G32)","v":""},{"$f":"IF(filEst!L32=\"\",\"\",filEst!L32)","v":""},null,"",{"$f":"IF(filEst!K32=\"\",\"\",filEst!K32)","v":""},null,null,null,null,null,null,null,null,null,null,null,"",null,null,null,null,null,null,null,null,null,null,null,null,null,null,null,null,null,null,null,null,"",null,null,null,null,null,null,null,null,null,null,null,null,null,null,null,null,null,null,null,null,"",null,null,null,null,null,null,null,null,null,null,"",null,null,null,"","",{"$f":"IF(CC32=\"\",\"\",IF(CC32<50.5,datpro!$H$25,datpro!$H$24))","v":""}]
[null,null,null,null,null,{"$f":"IF(filEst!F33=\"\",\"\",filEst!F33)","v":""},{"$f":"IF(filEst!G33=\"\",\"\",filEst!G33)","v":""},{"$f":"IF(filEst!L33=\"\",\"\",filEst!L33)","v":""},null,"",{"$f":"IF(filEst!K33=\"\",\"\",filEst!K33)","v":""},null,null,null,null,null,null,null,null,null,null,null,"",null,null,null,null,null,null,null,null,null,null,null,null,null,null,null,null,null,null,null,null,"",null,null,null,null,null,null,null,null,null,null,null,null,null,null,null,null,null,null,null,null,"",null,null,null,null,null,null,null,null,null,null,"",null,null,null,"","",{"$f":"IF(CC33=\"\",\"\",IF(CC33<50.5,datpro!$H$25,datpro!$H$24))","v":""}]
[null,null,null,null,null,{"$f":"IF(filEst!F34=\"\",\"\",filEst!F34)","v":""},{"$f":"IF(filEst!G34=\"\",\"\",filEst!G34)","v":""},{"$f":"IF(filEst!L34=\"\",\"\",filEst!L34)","v":""},null,"",{"$f":"IF(filEst!K34=\"\",\"\",filEst!K34)","v":""},null,null,null,null,null,null,null,null,null,null,null,"",null,null,null,null,null,null,null,null,null,null,null,null,null,null,null,null,null,null,null,null,"",null,null,null,null,null,null,null,null,null,null,null,null,null,null,null,null,null,null,null,null,"",null,null,null,null,null,null,null,null,null,null,"",null,null,null,"","",{"$f":"IF(CC34=\"\",\"\",IF(CC34<50.5,datpro!$H$25,datpro!$H$24))","v":""}]
[null,null,null,null,null,{"$f":"IF(filEst!F35=\"\",\"\",filEst!F35)","v":""},{"$f":"IF(filEst!G35=\"\",\"\",filEst!G35)","v":""},{"$f":"IF(filEst!L35=\"\",\"\",filEst!L35)","v":""},null,"",{"$f":"IF(filEst!K35=\"\",\"\",filEst!K35)","v":""},null,null,null,null,null,null,null,null,null,null,null,"",null,null,null,null,null,null,null,null,null,null,null,null,null,null,null,null,null,null,null,null,"",null,null,null,null,null,null,null,null,null,null,null,null,null,null,null,null,null,null,null,null,"",null,null,null,null,null,null,null,null,null,null,"",null,null,null,"","",{"$f":"IF(CC35=\"\",\"\",IF(CC35<50.5,datpro!$H$25,datpro!$H$24))","v":""}]
[null,null,null,null,null,{"$f":"IF(filEst!F36=\"\",\"\",filEst!F36)","v":""},{"$f":"IF(filEst!G36=\"\",\"\",filEst!G36)","v":""},{"$f":"IF(filEst!L36=\"\",\"\",filEst!L36)","v":""},null,"",{"$f":"IF(filEst!K36=\"\",\"\",filEst!K36)","v":""},null,null,null,null,null,null,null,null,null,null,null,"",null,null,null,null,null,null,null,null,null,null,null,null,null,null,null,null,null,null,null,null,"",null,null,null,null,null,null,null,null,null,null,null,null,null,null,null,null,null,null,null,null,"",null,null,null,null,null,null,null,null,null,null,"",null,null,null,"","",{"$f":"IF(CC36=\"\",\"\",IF(CC36<50.5,datpro!$H$25,datpro!$H$24))","v":""}]
[null,null,null,null,null,{"$f":"IF(filEst!F37=\"\",\"\",filEst!F37)","v":""},{"$f":"IF(filEst!G37=\"\",\"\",filEst!G37)","v":""},{"$f":"IF(filEst!L37=\"\",\"\",filEst!L37)","v":""},null,"",{"$f":"IF(filEst!K37=\"\",\"\",filEst!K37)","v":""},null,null,null,null,null,null,null,null,null,null,null,"",null,null,null,null,null,null,null,null,null,null,null,null,null,null,null,null,null,null,null,null,"",null,null,null,null,null,null,null,null,null,null,null,null,null,null,null,null,null,null,null,null,"",null,null,null,null,null,null,null,null,null,null,"",null,null,null,"","",{"$f":"IF(CC37=\"\",\"\",IF(CC37<50.5,datpro!$H$25,datpro!$H$24))","v":""}]
[null,null,null,null,null,{"$f":"IF(filEst!F38=\"\",\"\",filEst!F38)","v":""},{"$f":"IF(filEst!G38=\"\",\"\",filEst!G38)","v":""},{"$f":"IF(filEst!L38=\"\",\"\",filEst!L38)","v":""},null,"",{"$f":"IF(filEst!K38=\"\",\"\",filEst!K38)","v":""},null,null,null,null,null,null,null,null,null,null,null,"",null,null,null,null,null,null,null,null,null,null,null,null,null,null,null,null,null,null,null,null,"",null,null,null,null,null,null,null,null,null,null,null,null,null,null,null,null,null,null,null,null,"",null,null,null,null,null,null,null,null,null,null,"",null,null,null,"","",{"$f":"IF(CC38=\"\",\"\",IF(CC38<50.5,datpro!$H$25,datpro!$H$24))","v":""}]
[null,null,null,null,null,{"$f":"IF(filEst!F39=\"\",\"\",filEst!F39)","v":""},{"$f":"IF(filEst!G39=\"\",\"\",filEst!G39)","v":""},{"$f":"IF(filEst!L39=\"\",\"\",filEst!L39)","v":""},null,"",{"$f":"IF(filEst!K39=\"\",\"\",filEst!K39)","v":""},null,null,null,null,null,null,null,null,null,null,null,"",null,null,null,null,null,null,null,null,null,null,null,null,null,null,null,null,null,null,null,null,"",null,null,null,null,null,null,null,null,null,null,null,null,null,null,null,null,null,null,null,null,"",null,null,null,null,null,null,null,null,null,null,"",null,null,null,"","",{"$f":"IF(CC39=\"\",\"\",IF(CC39<50.5,datpro!$H$25,datpro!$H$24))","v":""}]
[null,null,null,null,null,{"$f":"IF(filEst!F40=\"\",\"\",filEst!F40)","v":""},{"$f":"IF(filEst!G40=\"\",\"\",filEst!G40)","v":""},{"$f":"IF(filEst!L40=\"\",\"\",filEst!L40)","v":""},null,"",{"$f":"IF(filEst!K40=\"\",\"\",filEst!K40)","v":""},null,null,null,null,null,null,null,null,null,null,null,"",null,null,null,null,null,null,null,null,null,null,null,null,null,null,null,null,null,null,null,null,"",null,null,null,null,null,null,null,null,null,null,null,null,null,null,null,null,null,null,null,null,"",null,null,null,null,null,null,null,null,null,null,"",null,null,null,"","",{"$f":"IF(CC40=\"\",\"\",IF(CC40<50.5,datpro!$H$25,datpro!$H$24))","v":""}]
[null,null,null,null,null,{"$f":"IF(filEst!F41=\"\",\"\",filEst!F41)","v":""},{"$f":"IF(filEst!G41=\"\",\"\",filEst!G41)","v":""},{"$f":"IF(filEst!L41=\"\",\"\",filEst!L41)","v":""},null,"",{"$f":"IF(filEst!K41=\"\",\"\",filEst!K41)","v":""},null,null,null,null,null,null,null,null,null,null,null,"",null,null,null,null,null,null,null,null,null,null,null,null,null,null,null,null,null,null,null,null,"",null,null,null,null,null,null,null,null,null,null,null,null,null,null,null,null,null,null,null,null,"",null,null,null,null,null,null,null,null,null,null,"",null,null,null,"","",{"$f":"IF(CC41=\"\",\"\",IF(CC41<50.5,datpro!$H$25,datpro!$H$24))","v":""}]
[null,null,null,null,null,{"$f":"IF(filEst!F42=\"\",\"\",filEst!F42)","v":""},{"$f":"IF(filEst!G42=\"\",\"\",filEst!G42)","v":""},{"$f":"IF(filEst!L42=\"\",\"\",filEst!L42)","v":""},null,"",{"$f":"IF(filEst!K42=\"\",\"\",filEst!K42)","v":""},null,null,null,null,null,null,null,null,null,null,null,"",null,null,null,null,null,null,null,null,null,null,null,null,null,null,null,null,null,null,null,null,"",null,null,null,null,null,null,null,null,null,null,null,null,null,null,null,null,null,null,null,null,"",null,null,null,null,null,null,null,null,null,null,"",null,null,null,"","",{"$f":"IF(CC42=\"\",\"\",IF(CC42<50.5,datpro!$H$25,datpro!$H$24))","v":""}]
[null,null,null,null,null,{"$f":"IF(filEst!F43=\"\",\"\",filEst!F43)","v":""},{"$f":"IF(filEst!G43=\"\",\"\",filEst!G43)","v":""},{"$f":"IF(filEst!L43=\"\",\"\",filEst!L43)","v":""},null,"",{"$f":"IF(filEst!K43=\"\",\"\",filEst!K43)","v":""},null,null,null,null,null,null,null,null,null,null,null,"",null,null,null,null,null,null,null,null,null,null,null,null,null,null,null,null,null,null,null,null,"",null,null,null,null,null,null,null,null,null,null,null,null,null,null,null,null,null,null,null,null,"",null,null,null,null,null,null,null,null,null,null,"",null,null,null,"","",{"$f":"IF(CC43=\"\",\"\",IF(CC43<50.5,datpro!$H$25,datpro!$H$24))","v":""}]
[null,null,null,null,null,{"$f":"IF(filEst!F44=\"\",\"\",filEst!F44)","v":""},{"$f":"IF(filEst!G44=\"\",\"\",filEst!G44)","v":""},{"$f":"IF(filEst!L44=\"\",\"\",filEst!L44)","v":""},null,"",{"$f":"IF(filEst!K44=\"\",\"\",filEst!K44)","v":""},null,null,null,null,null,null,null,null,null,null,null,"",null,null,null,null,null,null,null,null,null,null,null,null,null,null,null,null,null,null,null,null,"",null,null,null,null,null,null,null,null,null,null,null,null,null,null,null,null,null,null,null,null,"",null,null,null,null,null,null,null,null,null,null,"",null,null,null,"","",{"$f":"IF(CC44=\"\",\"\",IF(CC44<50.5,datpro!$H$25,datpro!$H$24))","v":""}]
[null,null,null,null,null,{"$f":"IF(filEst!F45=\"\",\"\",filEst!F45)","v":""},{"$f":"IF(filEst!G45=\"\",\"\",filEst!G45)","v":""},{"$f":"IF(filEst!L45=\"\",\"\",filEst!L45)","v":""},null,"",{"$f":"IF(filEst!K45=\"\",\"\",filEst!K45)","v":""},null,null,null,null,null,null,null,null,null,null,null,"",null,null,null,null,null,null,null,null,null,null,null,null,null,null,null,null,null,null,null,null,"",null,null,null,null,null,null,null,null,null,null,null,null,null,null,null,null,null,null,null,null,"",null,null,null,null,null,null,null,null,null,null,"",null,null,null,"","",{"$f":"IF(CC45=\"\",\"\",IF(CC45<50.5,datpro!$H$25,datpro!$H$24))","v":""}]
[null,null,null,null,null,{"$f":"IF(filEst!F46=\"\",\"\",filEst!F46)","v":""},{"$f":"IF(filEst!G46=\"\",\"\",filEst!G46)","v":""},{"$f":"IF(filEst!L46=\"\",\"\",filEst!L46)","v":""},null,"",{"$f":"IF(filEst!K46=\"\",\"\",filEst!K46)","v":""},null,null,null,null,null,null,null,null,null,null,null,"",null,null,null,null,null,null,null,null,null,null,null,null,null,null,null,null,null,null,null,null,"",null,null,null,null,null,null,null,null,null,null,null,null,null,null,null,null,null,null,null,null,"",null,null,null,null,null,null,null,null,null,null,"",null,null,null,"","",{"$f":"IF(CC46=\"\",\"\",IF(CC46<50.5,datpro!$H$25,datpro!$H$24))","v":""}]
[null,null,null,null,null,{"$f":"IF(filEst!F47=\"\",\"\",filEst!F47)","v":""},{"$f":"IF(filEst!G47=\"\",\"\",filEst!G47)","v":""},{"$f":"IF(filEst!L47=\"\",\"\",filEst!L47)","v":""},null,"",{"$f":"IF(filEst!K47=\"\",\"\",filEst!K47)","v":""},null,null,null,null,null,null,null,null,null,null,null,"",null,null,null,null,null,null,null,null,null,null,null,null,null,null,null,null,null,null,null,null,"",null,null,null,null,null,null,null,null,null,null,null,null,null,null,null,null,null,null,null,null,"",null,null,null,null,null,null,null,null,null,null,"",null,null,null,"","",{"$f":"IF(CC47=\"\",\"\",IF(CC47<50.5,datpro!$H$25,datpro!$H$24))","v":""}]
[null,null,null,null,null,{"$f":"IF(filEst!F48=\"\",\"\",filEst!F48)","v":""},{"$f":"IF(filEst!G48=\"\",\"\",filEst!G48)","v":""},{"$f":"IF(filEst!L48=\"\",\"\",filEst!L48)","v":""},null,"",{"$f":"IF(filEst!K48=\"\",\"\",filEst!K48)","v":""},null,null,null,null,null,null,null,null,null,null,null,"",null,null,null,null,null,null,null,null,null,null,null,null,null,null,null,null,null,null,null,null,"",null,null,null,null,null,null,null,null,null,null,null,null,null,null,null,null,null,null,null,null,"",null,null,null,null,null,null,null,null,null,null,"",null,null,null,"","",{"$f":"IF(CC48=\"\",\"\",IF(CC48<50.5,datpro!$H$25,datpro!$H$24))","v":""}]
[null,null,null,null,null,{"$f":"IF(filEst!F49=\"\",\"\",filEst!F49)","v":""},{"$f":"IF(filEst!G49=\"\",\"\",filEst!G49)","v":""},{"$f":"IF(filEst!L49=\"\",\"\",filEst!L49)","v":""},null,"",{"$f":"IF(filEst!K49=\"\",\"\",filEst!K49)","v":""},null,null,null,null,null,null,null,null,null,null,null,"",null,null,null,null,null,null,null,null,null,null,null,null,null,null,null,null,null,null,null,null,"",null,null,null,null,null,null,null,null,null,null,null,null,null,null,null,null,null,null,null,null,"",null,null,null,null,null,null,null,null,null,null,"",null,null,null,"","",{"$f":"IF(CC49=\"\",\"\",IF(CC49<50.5,datpro!$H$25,datpro!$H$24))","v":""}]
[null,null,null,null,null,{"$f":"IF(filEst!F50=\"\",\"\",filEst!F50)","v":""},{"$f":"IF(filEst!G50=\"\",\"\",filEst!G50)","v":""},{"$f":"IF(filEst!L50=\"\",\"\",filEst!L50)","v":""},null,"",{"$f":"IF(filEst!K50=\"\",\"\",filEst!K50)","v":""},null,null,null,null,null,null,null,null,null,null,null,"",null,null,null,null,null,null,null,null,null,null,null,null,null,null,null,null,null,null,null,null,"",null,null,null,null,null,null,null,null,null,null,null,null,null,null,null,null,null,null,null,null,"",null,null,null,null,null,null,null,null,null,null,"",null,null,null,"","",{"$f":"IF(CC50=\"\",\"\",IF(CC50<50.5,datpro!$H$25,datpro!$H$24))","v":""}]
[null,null,null,null,null,{"$f":"IF(filEst!F51=\"\",\"\",filEst!F51)","v":""},{"$f":"IF(filEst!G51=\"\",\"\",filEst!G51)","v":""},{"$f":"IF(filEst!L51=\"\",\"\",filEst!L51)","v":""},null,"",{"$f":"IF(filEst!K51=\"\",\"\",filEst!K51)","v":""},null,null,null,null,null,null,null,null,null,null,null,"",null,null,null,null,null,null,null,null,null,null,null,null,null,null,null,null,null,null,null,null,"",null,null,null,null,null,null,null,null,null,null,null,null,null,null,null,null,null,null,null,null,"",null,null,null,null,null,null,null,null,null,null,"",null,null,null,"","",{"$f":"IF(CC51=\"\",\"\",IF(CC51<50.5,datpro!$H$25,datpro!$H$24))","v":""}]
[null,null,null,null,null,{"$f":"IF(filEst!F52=\"\",\"\",filEst!F52)","v":""},{"$f":"IF(filEst!G52=\"\",\"\",filEst!G52)","v":""},{"$f":"IF(filEst!L52=\"\",\"\",filEst!L52)","v":""},null,"",{"$f":"IF(filEst!K52=\"\",\"\",filEst!K52)","v":""},null,null,null,null,null,null,null,null,null,null,null,"",null,null,null,null,null,null,null,null,null,null,null,null,null,null,null,null,null,null,null,null,"",null,null,null,null,null,null,null,null,null,null,null,null,null,null,null,null,null,null,null,null,"",null,null,null,null,null,null,null,null,null,null,"",null,null,null,"","",{"$f":"IF(CC52=\"\",\"\",IF(CC52<50.5,datpro!$H$25,datpro!$H$24))","v":""}]
[null,null,null,null,null,{"$f":"IF(filEst!F53=\"\",\"\",filEst!F53)","v":""},{"$f":"IF(filEst!G53=\"\",\"\",filEst!G53)","v":""},{"$f":"IF(filEst!L53=\"\",\"\",filEst!L53)","v":""},null,"",{"$f":"IF(filEst!K53=\"\",\"\",filEst!K53)","v":""},null,null,null,null,null,null,null,null,null,null,null,{"$f":"IF(M53>0,FIXED(ROUND((ROUND(AVERAGE(M53:V53),$W$73)*$W$72),$W$73),$W$73,FALSE),\"\")","v":""},null,null,null,null,null,null,null,null,null,null,null,null,null,null,null,null,null,null,null,null,{"$f":"IF(X53>0,FIXED(ROUND((ROUND(AVERAGE(X53:AQ53),$AR$73)*$AR$72),$AR$73),$AR$73,FALSE),\"\")","v":""},null,null,null,null,null,null,null,null,null,null,null,null,null,null,null,null,null,null,null,null,{"$f":"IF(AS53>0,FIXED(ROUND((ROUND(AVERAGE(AS53:BL53),$BM$73)*$BM$72),$BM$73),$BM$73,FALSE),\"\")","v":""},null,null,null,null,null,null,null,null,null,null,{"$f":"IF(BN53>0,FIXED(ROUND((ROUND(AVERAGE(BN53:BW53),$BX$73)*$BX$72),$BX$73),$BX$73,FALSE),\"\")","v":""},null,null,null,{"$f":"IF(BY53>0,BY53+BZ53,\"\")","v":""},"",{"$f":"IF(CC53=\"\",\"\",IF(CC53<50.5,datpro!$H$25,datpro!$H$24))","v":""}]
[null,null,null,null,null,{"$f":"IF(filEst!F54=\"\",\"\",filEst!F54)","v":""},{"$f":"IF(filEst!G54=\"\",\"\",filEst!G54)","v":""},{"$f":"IF(filEst!L54=\"\",\"\",filEst!L54)","v":""},null,"",{"$f":"IF(filEst!K54=\"\",\"\",filEst!K54)","v":""},null,null,null,null,null,null,null,null,null,null,null,"",null,null,null,null,null,null,null,null,null,null,null,null,null,null,null,null,null,null,null,null,"",null,null,null,null,null,null,null,null,null,null,null,null,null,null,null,null,null,null,null,null,"",null,null,null,null,null,null,null,null,null,null,"",null,null,null,"","",{"$f":"IF(CC54=\"\",\"\",IF(CC54<50.5,datpro!$H$25,datpro!$H$24))","v":""}]
[null,null,null,null,null,{"$f":"IF(filEst!F55=\"\",\"\",filEst!F55)","v":""},{"$f":"IF(filEst!G55=\"\",\"\",filEst!G55)","v":""},{"$f":"IF(filEst!L55=\"\",\"\",filEst!L55)","v":""},null,"",{"$f":"IF(filEst!K55=\"\",\"\",filEst!K55)","v":""},null,null,null,null,null,null,null,null,null,null,null,"",null,null,null,null,null,null,null,null,null,null,null,null,null,null,null,null,null,null,null,null,"",null,null,null,null,null,null,null,null,null,null,null,null,null,null,null,null,null,null,null,null,"",null,null,null,null,null,null,null,null,null,null,"",null,null,null,"","",{"$f":"IF(CC55=\"\",\"\",IF(CC55<50.5,datpro!$H$25,datpro!$H$24))","v":""}]
[null,null,null,null,null,{"$f":"IF(filEst!F56=\"\",\"\",filEst!F56)","v":""},{"$f":"IF(filEst!G56=\"\",\"\",filEst!G56)","v":""},{"$f":"IF(filEst!L56=\"\",\"\",filEst!L56)","v":""},null,"",{"$f":"IF(filEst!K56=\"\",\"\",filEst!K56)","v":""},null,null,null,null,null,null,null,null,null,null,null,"",null,null,null,null,null,null,null,null,null,null,null,null,null,null,null,null,null,null,null,null,"",null,null,null,null,null,null,null,null,null,null,null,null,null,null,null,null,null,null,null,null,"",null,null,null,null,null,null,null,null,null,null,"",null,null,null,"","",{"$f":"IF(CC56=\"\",\"\",IF(CC56<50.5,datpro!$H$25,datpro!$H$24))","v":""}]
[null,null,null,null,null,{"$f":"IF(filEst!F57=\"\",\"\",filEst!F57)","v":""},{"$f":"IF(filEst!G57=\"\",\"\",filEst!G57)","v":""},{"$f":"IF(filEst!L57=\"\",\"\",filEst!L57)","v":""},null,"",{"$f":"IF(filEst!K57=\"\",\"\",filEst!K57)","v":""},null,null,null,null,null,null,null,null,null,null,null,"",null,null,null,null,null,null,null,null,null,null,null,null,null,null,null,null,null,null,null,null,"",null,null,null,null,null,null,null,null,null,null,null,null,null,null,null,null,null,null,null,null,"",null,null,null,null,null,null,null,null,null,null,"",null,null,null,"","",{"$f":"IF(CC57=\"\",\"\",IF(CC57<50.5,datpro!$H$25,datpro!$H$24))","v":""}]
[null,null,null,null,null,{"$f":"IF(filEst!F58=\"\",\"\",filEst!F58)","v":""},{"$f":"IF(filEst!G58=\"\",\"\",filEst!G58)","v":""},{"$f":"IF(filEst!L58=\"\",\"\",filEst!L58)","v":""},null,"",{"$f":"IF(filEst!K58=\"\",\"\",filEst!K58)","v":""},null,null,null,null,null,null,null,null,null,null,null,"",null,null,null,null,null,null,null,null,null,null,null,null,null,null,null,null,null,null,null,null,"",null,null,null,null,null,null,null,null,null,null,null,null,null,null,null,null,null,null,null,null,"",null,null,null,null,null,null,null,null,null,null,"",null,null,null,"","",{"$f":"IF(CC58=\"\",\"\",IF(CC58<50.5,datpro!$H$25,datpro!$H$24))","v":""}]
[null,null,null,null,null,{"$f":"IF(filEst!F59=\"\",\"\",filEst!F59)","v":""},{"$f":"IF(filEst!G59=\"\",\"\",filEst!G59)","v":""},{"$f":"IF(filEst!L59=\"\",\"\",filEst!L59)","v":""},null,"",{"$f":"IF(filEst!K59=\"\",\"\",filEst!K59)","v":""},null,null,null,null,null,null,null,null,null,null,null,"",null,null,null,null,null,null,null,null,null,null,null,null,null,null,null,null,null,null,null,null,"",null,null,null,null,null,null,null,null,null,null,null,null,null,null,null,null,null,null,null,null,"",null,null,null,null,null,null,null,null,null,null,"",null,null,null,"","",{"$f":"IF(CC59=\"\",\"\",IF(CC59<50.5,datpro!$H$25,datpro!$H$24))","v":""}]
[null,null,null,null,null,{"$f":"IF(filEst!F60=\"\",\"\",filEst!F60)","v":""},{"$f":"IF(filEst!G60=\"\",\"\",filEst!G60)","v":""},{"$f":"IF(filEst!L60=\"\",\"\",filEst!L60)","v":""},null,"",{"$f":"IF(filEst!K60=\"\",\"\",filEst!K60)","v":""},null,null,null,null,null,null,null,null,null,null,null,"",null,null,null,null,null,null,null,null,null,null,null,null,null,null,null,null,null,null,null,null,"",null,null,null,null,null,null,null,null,null,null,null,null,null,null,null,null,null,null,null,null,"",null,null,null,null,null,null,null,null,null,null,"",null,null,null,"","",{"$f":"IF(CC60=\"\",\"\",IF(CC60<50.5,datpro!$H$25,datpro!$H$24))","v":""}]
[null,null,null,null,null,{"$f":"IF(filEst!F61=\"\",\"\",filEst!F61)","v":""},{"$f":"IF(filEst!G61=\"\",\"\",filEst!G61)","v":""},{"$f":"IF(filEst!L61=\"\",\"\",filEst!L61)","v":""},null,"",{"$f":"IF(filEst!K61=\"\",\"\",filEst!K61)","v":""},null,null,null,null,null,null,null,null,null,null,null,"",null,null,null,null,null,null,null,null,null,null,null,null,null,null,null,null,null,null,null,null,"",null,null,null,null,null,null,null,null,null,null,null,null,null,null,null,null,null,null,null,null,"",null,null,null,null,null,null,null,null,null,null,"",null,null,null,"","",{"$f":"IF(CC61=\"\",\"\",IF(CC61<50.5,datpro!$H$25,datpro!$H$24))","v":""}]
[null,null,null,null,null,{"$f":"IF(filEst!F62=\"\",\"\",filEst!F62)","v":""},{"$f":"IF(filEst!G62=\"\",\"\",filEst!G62)","v":""},{"$f":"IF(filEst!L62=\"\",\"\",filEst!L62)","v":""},null,"",{"$f":"IF(filEst!K62=\"\",\"\",filEst!K62)","v":""},null,null,null,null,null,null,null,null,null,null,null,"",null,null,null,null,null,null,null,null,null,null,null,null,null,null,null,null,null,null,null,null,"",null,null,null,null,null,null,null,null,null,null,null,null,null,null,null,null,null,null,null,null,"",null,null,null,null,null,null,null,null,null,null,"",null,null,null,"","",{"$f":"IF(CC62=\"\",\"\",IF(CC62<50.5,datpro!$H$25,datpro!$H$24))","v":""}]
[null,null,null,null,null,{"$f":"IF(filEst!F63=\"\",\"\",filEst!F63)","v":""},{"$f":"IF(filEst!G63=\"\",\"\",filEst!G63)","v":""},{"$f":"IF(filEst!L63=\"\",\"\",filEst!L63)","v":""},null,"",{"$f":"IF(filEst!K63=\"\",\"\",filEst!K63)","v":""},null,null,null,null,null,null,null,null,null,null,null,"",null,null,null,null,null,null,null,null,null,null,null,null,null,null,null,null,null,null,null,null,"",null,null,null,null,null,null,null,null,null,null,null,null,null,null,null,null,null,null,null,null,"",null,null,null,null,null,null,null,null,null,null,"",null,null,null,"","",{"$f":"IF(CC63=\"\",\"\",IF(CC63<50.5,datpro!$H$25,datpro!$H$24))","v":""}]
[null,null,null,null,null,{"$f":"IF(filEst!F64=\"\",\"\",filEst!F64)","v":""},{"$f":"IF(filEst!G64=\"\",\"\",filEst!G64)","v":""},{"$f":"IF(filEst!L64=\"\",\"\",filEst!L64)","v":""},null,"",{"$f":"IF(filEst!K64=\"\",\"\",filEst!K64)","v":""},null,null,null,null,null,null,null,null,null,null,null,"",null,null,null,null,null,null,null,null,null,null,null,null,null,null,null,null,null,null,null,null,"",null,null,null,null,null,null,null,null,null,null,null,null,null,null,null,null,null,null,null,null,"",null,null,null,null,null,null,null,null,null,null,"",null,null,null,"","",{"$f":"IF(CC64=\"\",\"\",IF(CC64<50.5,datpro!$H$25,datpro!$H$24))","v":""}]
[null,null,null,null,null,{"$f":"IF(filEst!F65=\"\",\"\",filEst!F65)","v":""},{"$f":"IF(filEst!G65=\"\",\"\",filEst!G65)","v":""},{"$f":"IF(filEst!L65=\"\",\"\",filEst!L65)","v":""},null,"",{"$f":"IF(filEst!K65=\"\",\"\",filEst!K65)","v":""},null,null,null,null,null,null,null,null,null,null,null,"",null,null,null,null,null,null,null,null,null,null,null,null,null,null,null,null,null,null,null,null,"",null,null,null,null,null,null,null,null,null,null,null,null,null,null,null,null,null,null,null,null,"",null,null,null,null,null,null,null,null,null,null,"",null,null,null,"","",{"$f":"IF(CC65=\"\",\"\",IF(CC65<50.5,datpro!$H$25,datpro!$H$24))","v":""}]
[null,null,null,null,null,{"$f":"IF(filEst!F66=\"\",\"\",filEst!F66)","v":""},{"$f":"IF(filEst!G66=\"\",\"\",filEst!G66)","v":""},{"$f":"IF(filEst!L66=\"\",\"\",filEst!L66)","v":""},null,"",{"$f":"IF(filEst!K66=\"\",\"\",filEst!K66)","v":""},null,null,null,null,null,null,null,null,null,null,null,"",null,null,null,null,null,null,null,null,null,null,null,null,null,null,null,null,null,null,null,null,"",null,null,null,null,null,null,null,null,null,null,null,null,null,null,null,null,null,null,null,null,"",null,null,null,null,null,null,null,null,null,null,"",null,null,null,{"$f":"IF(BY66>0,BY66+BZ66,\"\")","v":""},"",{"$f":"IF(CC66=\"\",\"\",IF(CC66<50.5,datpro!$H$25,datpro!$H$24))","v":""}]
[null,null,null,null,null,{"$f":"IF(filEst!F67=\"\",\"\",filEst!F67)","v":""},{"$f":"IF(filEst!G67=\"\",\"\",filEst!G67)","v":""},{"$f":"IF(filEst!L67=\"\",\"\",filEst!L67)","v":""},null,"",{"$f":"IF(filEst!K67=\"\",\"\",filEst!K67)","v":""},null,null,null,null,null,null,null,null,null,null,null,"",null,null,null,null,null,null,null,null,null,null,null,null,null,null,null,null,null,null,null,null,"",null,null,null,null,null,null,null,null,null,null,null,null,null,null,null,null,null,null,null,null,"",null,null,null,null,null,null,null,null,null,null,"",null,null,null,"","",{"$f":"IF(CC67=\"\",\"\",IF(CC67<50.5,datpro!$H$25,datpro!$H$24))","v":""}]
[null,null,null,null,null,{"$f":"IF(filEst!F68=\"\",\"\",filEst!F68)","v":""},{"$f":"IF(filEst!G68=\"\",\"\",filEst!G68)","v":""},{"$f":"IF(filEst!L68=\"\",\"\",filEst!L68)","v":""},null,"",{"$f":"IF(filEst!K68=\"\",\"\",filEst!K68)","v":""},null,null,null,null,null,null,null,null,null,null,null,"",null,null,null,null,null,null,null,null,null,null,null,null,null,null,null,null,null,null,null,null,"",null,null,null,null,null,null,null,null,null,null,null,null,null,null,null,null,null,null,null,null,"",null,null,null,null,null,null,null,null,null,null,"",null,null,null,"","",{"$f":"IF(CC68=\"\",\"\",IF(CC68<50.5,datpro!$H$25,datpro!$H$24))","v":""}]
[null,null,null,null,null,{"$f":"IF(filEst!F69=\"\",\"\",filEst!F69)","v":""},{"$f":"IF(filEst!G69=\"\",\"\",filEst!G69)","v":""},{"$f":"IF(filEst!L69=\"\",\"\",filEst!L69)","v":""},null,"",{"$f":"IF(filEst!K69=\"\",\"\",filEst!K69)","v":""},null,null,null,null,null,null,null,null,null,null,null,"",null,null,null,null,null,null,null,null,null,null,null,null,null,null,null,null,null,null,null,null,"",null,null,null,null,null,null,null,null,null,null,null,null,null,null,null,null,null,null,null,null,"",null,null,null,null,null,null,null,null,null,null,"",null,null,null,"","",{"$f":"IF(CC69=\"\",\"\",IF(CC69<50.5,datpro!$H$25,datpro!$H$24))","v":""}]
[null,null,null,null,null,{"$f":"IF(filEst!F70=\"\",\"\",filEst!F70)","v":""},{"$f":"IF(filEst!G70=\"\",\"\",filEst!G70)","v":""},{"$f":"IF(filEst!L70=\"\",\"\",filEst!L70)","v":""},null,"",{"$f":"IF(filEst!K70=\"\",\"\",filEst!K70)","v":""},null,null,null,null,null,null,null,null,null,null,null,"",null,null,null,null,null,null,null,null,null,null,null,null,null,null,null,null,null,null,null,null,"",null,null,null,null,null,null,null,null,null,null,null,null,null,null,null,null,null,null,null,null,{"$f":"IF(AS70>0,FIXED(ROUND((ROUND(AVERAGE(AS70:BL70),$BM$73)*$BM$72),$BM$73),$BM$73,FALSE),\"\")","v":""},null,null,null,null,null,null,null,null,null,null,{"$f":"IF(BN70>0,FIXED(ROUND((ROUND(AVERAGE(BN70:BW70),$BX$73)*$BX$72),$BX$73),$BX$73,FALSE),\"\")","v":""},null,null,null,"","",{"$f":"IF(CC70=\"\",\"\",IF(CC70<50.5,datpro!$H$25,datpro!$H$24))","v":""}]
[null,null,null,null,null,null,null,null,null,null,null,null,null,null,null,null,null,null,null,null,null,"max de nota",{"$f":"datpro!$I$11","v":10},null,null,null,null,null,null,null,null,null,null,null,null,null,null,null,null,null,null,null,null,{"$f":"datpro!$J$11","v":35},null,null,null,null,null,null,null,null,null,null,null,null,null,null,null,null,null,null,null,null,{"$f":"datpro!$K$11","v":35},null,null,null,null,null,null,null,null,null,null,{"$f":"datpro!$L$11","v":10},null,null,null,{"$f":"datpro!$M$11","v":5},null,{"$f":"datpro!H25","v":"RETENIDO"}]
[null,null,null,null,null,null,null,null,null,null,null,null,null,null,null,null,null,null,null,null,null,"modalidad de ev.",{"$f":"datpro!$I$12","v":1},null,null,null,null,null,null,null,null,null,null,null,null,null,null,null,null,null,null,null,null,{"$f":"datpro!$J$12","v":1},null,null,null,null,null,null,null,null,null,null,null,null,null,null,null,null,null,null,null,null,{"$f":"datpro!$K$12","v":1},null,null,null,null,null,null,null,null,null,null,{"$f":"datpro!$L$12","v":1},null,null,null,{"$f":"datpro!$M$12","v":1}]
[null,null,null,null,null,null,null,null,null,null,null,null,null,null,null,null,null,null,null,null,null,"Dec de Dim",{"$f":"datpro!$M$18","v":0},null,null,null,null,null,null,null,null,null,null,null,null,null,null,null,null,null,null,null,null,{"$f":"datpro!$M$18","v":0},null,null,null,null,null,null,null,null,null,null,null,null,null,null,null,null,null,null,null,null,{"$f":"datpro!$M$18","v":0},null,null,null,null,null,null,null,null,null,null,{"$f":"datpro!$M$18","v":0},null,null,null,{"$f":"datpro!$M$18","v":0},{"$f":"datpro!$M$19","v":0}]
[null,null,null,null,null,null,null,null,null,null,null,null,null,null,null,null,null,null,null,null,null,"nro Col"]
[]
[]
[]
[]
[]
[]
[null,null,null,null,null,null,"select_load",{"$f":"main!$AE$10","v":50}]
[null,null,null,null,null,null,"actual_save"]
[]
[]
[]
[]
[]
[]
[]
[]
[]
[]
[]
[]
[]
[]
[]
[]
[1,2,3,4,5,6,7,8,9,10,11,12,13,14,15,16,17,18,19,20,21,22,23,24,25,26,27,28,29,30,31,32,33,34,35,36,37,38,39,40,41,42,43,44,45,46,47,48,49,50,51,52,53,54,55,56,57,58,59,60,61,62,63,64,65,66,67,68,69,70,71,72,73,74,75,76,77,78,79]
["A","B","C","D","E","F","G","H","I","J","K","L","M","N","O","P","Q","R","S","T","U","V","W","X","Y","Z","AA","AB","AC","AD","AE","AF","AG","AH","AI","AJ","AK","AL","AM","AN","AO","AP","AQ","AR","AS","AT","AU","AV","AW","AX","AY","AZ","BA","BB","BC","BD","BE","BF","BG","BH","BI","BJ","BK","BL","BM","BN","BO","BP","BQ","BR","BS","BT","BU","BV","BW","BX","BY","BZ","CA","CB"]
[null,null,null,null,null,null,"alto de fila",11,null,null,null,null,null,null,null,null,null,null,null,null,null,3,"ser",null,null,null,null,null,null,null,null,null,null,null,null,null,null,null,null,null,null,null,4,"saber",null,null,null,null,null,null,null,null,null,null,null,null,null,null,null,null,null,null,null,4,"hacer",null,null,null,null,null,null,null,null,null,3,"decidir",null,null,2]
[null,null,null,null,null,null,"ancho col nro",2.2999999999999998,null,null,null,null,null,null,null,null,null,null,null,null,null,null,{"$f":"datpro!$H$11","v":0},null,null,null,null,null,null,null,null,null,null,null,null,null,null,null,null,null,null,null,null,{"$f":"datpro!$I$11","v":10},null,null,null,null,null,null,null,null,null,null,null,null,null,null,null,null,null,null,null,null,{"$f":"datpro!$J$11","v":35},null,null,null,null,null,null,null,null,null,null,{"$f":"datpro!$K$11","v":35},null,null,null,{"$f":"datpro!L84","v":85},{"$f":"datpro!$L$11","v":10}]
[null,null,null,null,null,null,"ancho col est",27,null,null,null,null,null,null,null,null,null,null,null,null,null,{"$f":"datpro!H12","v":0},null,null,null,null,null,null,null,null,null,null,null,null,null,null,null,null,null,null,null,null,{"$f":"datpro!I12","v":1},null,null,null,null,null,null,null,null,null,null,null,null,null,null,null,null,null,null,null,null,{"$f":"datpro!J12","v":1},null,null,null,null,null,null,null,null,null,null,{"$f":"datpro!K12","v":1}]
[null,null,null,null,null,null,"ancho col indicadores",2.29,null,null,null,null,"val","est","dim","tri","obs"]
[null,null,null,null,null,null,"ancho col prom ind",2.5,null,null,null,null,0,0,0,0,0]
[null,null,null,null,null,null,"ancho nota prof",3.3,null,null,null,null,2,27,2.29,2.57,8]
[null,null,null,null,null,null,"ancho nota bim",2.5,null,null,null,null,2.29,29,2.57,2.86,10]
[null,null,null,null,null,null,"tamaño fuente",8,null,null,null,null,2.57,31,2.86,3.14,12]
[null,null,null,null,null,null,"alto indicador",120,null,null,null,null,2.86,33,3.14,3.43,14]
[null,null,null,null,null,null,"bimestre",1,null,null,null,null,3.14,35,3.43,3.71,16]
[null,null,null,null,null,null,"nroest",{"$f":"datpro!$M$14","v":50},null,null,null,null,3.43,37,3.71,4,18]
[null,null,null,null,null,null,"hiden_cri_eva",0,null,null,null,null,3.71,39,4,4.29,20]
[null,null,null,null,null,null,"alto fila crieva",80]
[null,null,null,null,null,null,"alto fila actv",80]
[null,null,null,null,null,null,"paneles",0]
[null,null,null,null,null,null,"sit_bim_comp",1]
[null,null,null,null,null,null,"sit_bim_abrv",0.5]
[null,null,null,null,null,null,"cod_area",{"$f":"datpro!$E$15","v":""}]
[null,null,null,null,null,null,"hiden_actividedes",1]
[null,null,null,null,null,null,null,null,null,null,null,null,"+","-",",",",",",",",",",",",",",",3,"F","+","-",",",",",",",",",",",",",",",",",",",",",",",",",",",",",",",",",",",4,"F","+","-",",",",",",",",",",",",",",",",",",",",",",",",",",",",",",",",",",",4,"F","+","-",",",",",",",",",",",",",",",3,"F","+","-"]
[null,null,null,null,null,null,null,null,null,null,null,null,null,null,null,null,null,null,null,null,null,null,null,null,null,null,null,null,null,null,null,null,null,null,null,null,null,null,null,null,null,null,null,null,null,null,null,null,null,null,null,null,null,null,null,null,null,null,null,null,null,null,null,null,null,null,null,null,null,null,null,null,null,null,null,null,null,null,null,null,0]
[null,null,null,null,null,null,null,null,null,null,null,null,null,null,null,null,null,null,null,null,null,null,null,null,null,null,null,null,null,null,null,null,null,null,null,null,null,null,null,null,null,null,null,null,null,null,null,null,null,null,null,null,null,null,null,null,null,null,null,null,null,null,null,null,null,null,null,null,null,null,null,null,null,null,null,null,null,null,null,null,0]
[null,null,null,null,null,null,null,null,null,null,null,null,null,null,null,null,null,null,null,null,null,null,null,null,null,null,null,null,null,null,null,null,null,null,null,null,null,null,null,null,null,null,null,null,null,null,null,null,null,null,null,null,null,null,null,null,null,null,null,null,null,null,null,null,null,null,null,null,null,null,null,null,null,null,null,null,null,null,null,null,0]
[null,null,null,null,null,null,null,null,null,null,null,null,null,null,null,null,null,null,null,null,null,null,null,null,null,null,null,null,null,null,null,null,null,null,null,null,null,null,null,null,null,null,null,null,null,null,null,null,null,null,null,null,null,null,null,null,null,null,null,null,null,null,null,null,null,null,null,null,null,null,null,null,null,null,null,null,null,null,null,null,0]
[null,null,null,null,null,null,null,null,null,null,null,null,null,null,null,null,null,null,null,null,null,null,null,null,null,null,null,null,null,null,null,null,null,null,null,null,null,null,null,null,null,null,null,null,null,null,null,null,null,null,null,null,null,null,null,null,null,null,null,null,null,null,null,null,null,null,null,null,null,null,null,null,null,null,null,null,null,null,null,null,0]
[null,null,null,null,null,null,null,null,null,null,null,null,null,null,null,null,null,null,null,null,null,null,null,null,null,null,null,null,null,null,null,null,null,null,null,null,null,null,null,null,null,null,null,null,null,null,null,null,null,null,null,null,null,null,null,null,null,null,null,null,null,null,null,null,null,null,null,null,null,null,null,null,null,null,null,null,null,null,null,null,0]
[null,null,null,null,null,null,null,null,null,null,null,null,null,null,null,null,null,null,null,null,null,null,null,null,null,null,null,null,null,null,null,null,null,null,null,null,null,null,null,null,null,null,null,null,null,null,null,null,null,null,null,null,null,null,null,null,null,null,null,null,null,null,null,null,null,null,null,null,null,null,null,null,null,null,null,null,null,null,null,null,0]
[null,null,null,null,null,null,null,null,null,null,null,null,null,null,null,null,null,null,null,null,null,null,null,null,null,null,null,null,null,null,null,null,null,null,null,null,null,null,null,null,null,null,null,null,null,null,null,null,null,null,null,null,null,null,null,null,null,null,null,null,null,null,null,null,null,null,null,null,null,null,null,null,null,null,null,null,null,null,null,null,0]
[null,null,null,null,null,null,null,null,null,null,null,null,null,null,null,null,null,null,null,null,null,null,null,null,null,null,null,null,null,null,null,null,null,null,null,null,null,null,null,null,null,null,null,null,null,null,null,null,null,null,null,null,null,null,null,null,null,null,null,null,null,null,null,null,null,null,null,null,null,null,null,null,null,null,null,null,null,null,null,null,0]
[null,null,null,null,null,null,null,null,null,null,null,null,null,null,null,null,null,null,null,null,null,null,null,null,null,null,null,null,null,null,null,null,null,null,null,null,null,null,null,null,null,null,null,null,null,null,null,null,null,null,null,null,null,null,null,null,null,null,null,null,null,null,null,null,null,null,null,null,null,null,null,null,null,null,null,null,null,null,null,null,0]
[null,null,null,null,null,null,null,null,null,null,null,null,null,null,null,null,null,null,null,null,null,null,null,null,null,null,null,null,null,null,null,null,null,null,null,null,null,null,null,null,null,null,null,null,null,null,null,null,null,null,null,null,null,null,null,null,null,null,null,null,null,null,null,null,null,null,null,null,null,null,null,null,null,null,null,null,null,null,null,null,0]
[null,null,null,null,null,null,null,null,null,null,null,null,null,null,null,null,null,null,null,null,null,null,null,null,null,null,null,null,null,null,null,null,null,null,null,null,null,null,null,null,null,null,null,null,null,null,null,null,null,null,null,null,null,null,null,null,null,null,null,null,null,null,null,null,null,null,null,null,null,null,null,null,null,null,null,null,null,null,null,null,0]
[null,null,null,null,null,null,null,null,null,null,null,null,null,null,null,null,null,null,null,null,null,null,null,null,null,null,null,null,null,null,null,null,null,null,null,null,null,null,null,null,null,null,null,null,null,null,null,null,null,null,null,null,null,null,null,null,null,null,null,null,null,null,null,null,null,null,null,null,null,null,null,null,null,null,null,null,null,null,null,null,0]
[null,null,null,null,null,null,null,null,null,null,null,null,null,null,null,null,null,null,null,null,null,null,null,null,null,null,null,null,null,null,null,null,null,null,null,null,null,null,null,null,null,null,null,null,null,null,null,null,null,null,null,null,null,null,null,null,null,null,null,null,null,null,null,null,null,null,null,null,null,null,null,null,null,null,null,null,null,null,null,null,0]
[null,null,null,null,null,null,null,null,null,null,null,null,null,null,null,null,null,null,null,null,null,null,null,null,null,null,null,null,null,null,null,null,null,null,null,null,null,null,null,null,null,null,null,null,null,null,null,null,null,null,null,null,null,null,null,null,null,null,null,null,null,null,null,null,null,null,null,null,null,null,null,null,null,null,null,null,null,null,null,null,0]
[null,null,null,null,null,null,null,null,null,null,null,null,null,null,null,null,null,null,null,null,null,null,null,null,null,null,null,null,null,null,null,null,null,null,null,null,null,null,null,null,null,null,null,null,null,null,null,null,null,null,null,null,null,null,null,null,null,null,null,null,null,null,null,null,null,null,null,null,null,null,null,null,null,null,null,null,null,null,null,null,0]
[null,null,null,null,null,null,null,null,null,null,null,null,null,null,null,null,null,null,null,null,null,null,null,null,null,null,null,null,null,null,null,null,null,null,null,null,null,null,null,null,null,null,null,null,null,null,null,null,null,null,null,null,null,null,null,null,null,null,null,null,null,null,null,null,null,null,null,null,null,null,null,null,null,null,null,null,null,null,null,null,0]
[null,null,null,null,null,null,null,null,null,null,null,null,null,null,null,null,null,null,null,null,null,null,null,null,null,null,null,null,null,null,null,null,null,null,null,null,null,null,null,null,null,null,null,null,null,null,null,null,null,null,null,null,null,null,null,null,null,null,null,null,null,null,null,null,null,null,null,null,null,null,null,null,null,null,null,null,null,null,null,null,0]
[null,null,null,null,null,null,null,null,null,null,null,null,null,null,null,null,null,null,null,null,null,null,null,null,null,null,null,null,null,null,null,null,null,null,null,null,null,null,null,null,null,null,null,null,null,null,null,null,null,null,null,null,null,null,null,null,null,null,null,null,null,null,null,null,null,null,null,null,null,null,null,null,null,null,null,null,null,null,null,null,0]
[null,null,null,null,null,null,null,null,null,null,null,null,null,null,null,null,null,null,null,null,null,null,null,null,null,null,null,null,null,null,null,null,null,null,null,null,null,null,null,null,null,null,null,null,null,null,null,null,null,null,null,null,null,null,null,null,null,null,null,null,null,null,null,null,null,null,null,null,null,null,null,null,null,null,null,null,null,null,null,null,0]
[null,null,null,null,null,null,null,null,null,null,null,null,null,null,null,null,null,null,null,null,null,null,null,null,null,null,null,null,null,null,null,null,null,null,null,null,null,null,null,null,null,null,null,null,null,null,null,null,null,null,null,null,null,null,null,null,null,null,null,null,null,null,null,null,null,null,null,null,null,null,null,null,null,null,null,null,null,null,null,null,0]
[null,null,null,null,null,null,null,null,null,null,null,null,null,null,null,null,null,null,null,null,null,null,null,null,null,null,null,null,null,null,null,null,null,null,null,null,null,null,null,null,null,null,null,null,null,null,null,null,null,null,null,null,null,null,null,null,null,null,null,null,null,null,null,null,null,null,null,null,null,null,null,null,null,null,null,null,null,null,null,null,0]
[null,null,null,null,null,null,null,null,null,null,null,null,null,null,null,null,null,null,null,null,null,null,null,null,null,null,null,null,null,null,null,null,null,null,null,null,null,null,null,null,null,null,null,null,null,null,null,null,null,null,null,null,null,null,null,null,null,null,null,null,null,null,null,null,null,null,null,null,null,null,null,null,null,null,null,null,null,null,null,null,0]
[null,null,null,null,null,null,null,null,null,null,null,null,null,null,null,null,null,null,null,null,null,null,null,null,null,null,null,null,null,null,null,null,null,null,null,null,null,null,null,null,null,null,null,null,null,null,null,null,null,null,null,null,null,null,null,null,null,null,null,null,null,null,null,null,null,null,null,null,null,null,null,null,null,null,null,null,null,null,null,null,0]
[null,null,null,null,null,null,null,null,null,null,null,null,null,null,null,null,null,null,null,null,null,null,null,null,null,null,null,null,null,null,null,null,null,null,null,null,null,null,null,null,null,null,null,null,null,null,null,null,null,null,null,null,null,null,null,null,null,null,null,null,null,null,null,null,null,null,null,null,null,null,null,null,null,null,null,null,null,null,null,null,0]
[null,null,null,null,null,null,null,null,null,null,null,null,null,null,null,null,null,null,null,null,null,null,null,null,null,null,null,null,null,null,null,null,null,null,null,null,null,null,null,null,null,null,null,null,null,null,null,null,null,null,null,null,null,null,null,null,null,null,null,null,null,null,null,null,null,null,null,null,null,null,null,null,null,null,null,null,null,null,null,null,0]
[null,null,null,null,null,null,null,null,null,null,null,null,null,null,null,null,null,null,null,null,null,null,null,null,null,null,null,null,null,null,null,null,null,null,null,null,null,null,null,null,null,null,null,null,null,null,null,null,null,null,null,null,null,null,null,null,null,null,null,null,null,null,null,null,null,null,null,null,null,null,null,null,null,null,null,null,null,null,null,null,0]
[null,null,null,null,null,null,null,null,null,null,null,null,null,null,null,null,null,null,null,null,null,null,null,null,null,null,null,null,null,null,null,null,null,null,null,null,null,null,null,null,null,null,null,null,null,null,null,null,null,null,null,null,null,null,null,null,null,null,null,null,null,null,null,null,null,null,null,null,null,null,null,null,null,null,null,null,null,null,null,null,0]
[null,null,null,null,null,null,null,null,null,null,null,null,null,null,null,null,null,null,null,null,null,null,null,null,null,null,null,null,null,null,null,null,null,null,null,null,null,null,null,null,null,null,null,null,null,null,null,null,null,null,null,null,null,null,null,null,null,null,null,null,null,null,null,null,null,null,null,null,null,null,null,null,null,null,null,null,null,null,null,null,0]
[null,null,null,null,null,null,null,null,null,null,null,null,null,null,null,null,null,null,null,null,null,null,null,null,null,null,null,null,null,null,null,null,null,null,null,null,null,null,null,null,null,null,null,null,null,null,null,null,null,null,null,null,null,null,null,null,null,null,null,null,null,null,null,null,null,null,null,null,null,null,null,null,null,null,null,null,null,null,null,null,0]
[null,null,null,null,null,null,null,null,null,null,null,null,null,null,null,null,null,null,null,null,null,null,null,null,null,null,null,null,null,null,null,null,null,null,null,null,null,null,null,null,null,null,null,null,null,null,null,null,null,null,null,null,null,null,null,null,null,null,null,null,null,null,null,null,null,null,null,null,null,null,null,null,null,null,null,null,null,null,null,null,0]
[null,null,null,null,null,null,null,null,null,null,null,null,null,null,null,null,null,null,null,null,null,null,null,null,null,null,null,null,null,null,null,null,null,null,null,null,null,null,null,null,null,null,null,null,null,null,null,null,null,null,null,null,null,null,null,null,null,null,null,null,null,null,null,null,null,null,null,null,null,null,null,null,null,null,null,null,null,null,null,null,0]
[null,null,null,null,null,null,null,null,null,null,null,null,null,null,null,null,null,null,null,null,null,null,null,null,null,null,null,null,null,null,null,null,null,null,null,null,null,null,null,null,null,null,null,null,null,null,null,null,null,null,null,null,null,null,null,null,null,null,null,null,null,null,null,null,null,null,null,null,null,null,null,null,null,null,null,null,null,null,null,null,0]
[null,null,null,null,null,null,null,null,null,null,null,null,null,null,null,null,null,null,null,null,null,null,null,null,null,null,null,null,null,null,null,null,null,null,null,null,null,null,null,null,null,null,null,null,null,null,null,null,null,null,null,null,null,null,null,null,null,null,null,null,null,null,null,null,null,null,null,null,null,null,null,null,null,null,null,null,null,null,null,null,0]
[null,null,null,null,null,null,null,null,null,null,null,null,null,null,null,null,null,null,null,null,null,null,null,null,null,null,null,null,null,null,null,null,null,null,null,null,null,null,null,null,null,null,null,null,null,null,null,null,null,null,null,null,null,null,null,null,null,null,null,null,null,null,null,null,null,null,null,null,null,null,null,null,null,null,null,null,null,null,null,null,0]
[null,null,null,null,null,null,null,null,null,null,null,null,null,null,null,null,null,null,null,null,null,null,null,null,null,null,null,null,null,null,null,null,null,null,null,null,null,null,null,null,null,null,null,null,null,null,null,null,null,null,null,null,null,null,null,null,null,null,null,null,null,null,null,null,null,null,null,null,null,null,null,null,null,null,null,null,null,null,null,null,0]
[null,null,null,null,null,null,null,null,null,null,null,null,null,null,null,null,null,null,null,null,null,null,null,null,null,null,null,null,null,null,null,null,null,null,null,null,null,null,null,null,null,null,null,null,null,null,null,null,null,null,null,null,null,null,null,null,null,null,null,null,null,null,null,null,null,null,null,null,null,null,null,null,null,null,null,null,null,null,null,null,0]
[null,null,null,null,null,null,null,null,null,null,null,null,null,null,null,null,null,null,null,null,null,null,null,null,null,null,null,null,null,null,null,null,null,null,null,null,null,null,null,null,null,null,null,null,null,null,null,null,null,null,null,null,null,null,null,null,null,null,null,null,null,null,null,null,null,null,null,null,null,null,null,null,null,null,null,null,null,null,null,null,0]
[null,null,null,null,null,null,null,null,null,null,null,null,null,null,null,null,null,null,null,null,null,null,null,null,null,null,null,null,null,null,null,null,null,null,null,null,null,null,null,null,null,null,null,null,null,null,null,null,null,null,null,null,null,null,null,null,null,null,null,null,null,null,null,null,null,null,null,null,null,null,null,null,null,null,null,null,null,null,null,null,0]
[null,null,null,null,null,null,null,null,null,null,null,null,null,null,null,null,null,null,null,null,null,null,null,null,null,null,null,null,null,null,null,null,null,null,null,null,null,null,null,null,null,null,null,null,null,null,null,null,null,null,null,null,null,null,null,null,null,null,null,null,null,null,null,null,null,null,null,null,null,null,null,null,null,null,null,null,null,null,null,null,0]
[null,null,null,null,null,null,null,null,null,null,null,null,null,null,null,null,null,null,null,null,null,null,null,null,null,null,null,null,null,null,null,null,null,null,null,null,null,null,null,null,null,null,null,null,null,null,null,null,null,null,null,null,null,null,null,null,null,null,null,null,null,null,null,null,null,null,null,null,null,null,null,null,null,null,null,null,null,null,null,null,0]
[null,null,null,null,null,null,null,null,null,null,null,null,null,null,null,null,null,null,null,null,null,null,null,null,null,null,null,null,null,null,null,null,null,null,null,null,null,null,null,null,null,null,null,null,null,null,null,null,null,null,null,null,null,null,null,null,null,null,null,null,null,null,null,null,null,null,null,null,null,null,null,null,null,null,null,null,null,null,null,null,0]
[null,null,null,null,null,null,null,null,null,null,null,null,null,null,null,null,null,null,null,null,null,null,null,null,null,null,null,null,null,null,null,null,null,null,null,null,null,null,null,null,null,null,null,null,null,null,null,null,null,null,null,null,null,null,null,null,null,null,null,null,null,null,null,null,null,null,null,null,null,null,null,null,null,null,null,null,null,null,null,null,0]
[null,null,null,null,null,null,null,null,null,null,null,null,null,null,null,null,null,null,null,null,null,null,null,null,null,null,null,null,null,null,null,null,null,null,null,null,null,null,null,null,null,null,null,null,null,null,null,null,null,null,null,null,null,null,null,null,null,null,null,null,null,null,null,null,null,null,null,null,null,null,null,null,null,null,null,null,null,null,null,null,0]
[null,null,null,null,null,null,null,null,null,null,null,null,null,null,null,null,null,null,null,null,null,null,null,null,null,null,null,null,null,null,null,null,null,null,null,null,null,null,null,null,null,null,null,null,null,null,null,null,null,null,null,null,null,null,null,null,null,null,null,null,null,null,null,null,null,null,null,null,null,null,null,null,null,null,null,null,null,null,null,null,0]
[null,null,null,null,null,null,null,null,null,null,null,null,null,null,null,null,null,null,null,null,null,null,null,null,null,null,null,null,null,null,null,null,null,null,null,null,null,null,null,null,null,null,null,null,null,null,null,null,null,null,null,null,null,null,null,null,null,null,null,null,null,null,null,null,null,null,null,null,null,null,null,null,null,null,null,null,null,null,null,null,0]
[null,null,null,null,null,null,null,null,null,null,null,null,null,null,null,null,null,null,null,null,null,null,null,null,null,null,null,null,null,null,null,null,null,null,null,null,null,null,null,null,null,null,null,null,null,null,null,null,null,null,null,null,null,null,null,null,null,null,null,null,null,null,null,null,null,null,null,null,null,null,null,null,null,null,null,null,null,null,null,null,0]
[null,null,null,null,null,null,null,null,null,null,null,null,null,null,null,null,null,null,null,null,null,null,null,null,null,null,null,null,null,null,null,null,null,null,null,null,null,null,null,null,null,null,null,null,null,null,null,null,null,null,null,null,null,null,null,null,null,null,null,null,null,null,null,null,null,null,null,null,null,null,null,null,null,null,null,null,null,null,null,null,0]
[null,null,null,null,null,null,null,null,null,null,null,null,null,null,null,null,null,null,null,null,null,null,null,null,null,null,null,null,null,null,null,null,null,null,null,null,null,null,null,null,null,null,null,null,null,null,null,null,null,null,null,null,null,null,null,null,null,null,null,null,null,null,null,null,null,null,null,null,null,null,null,null,null,null,null,null,null,null,null,null,0]
[null,null,null,null,null,null,null,null,null,null,null,null,null,null,null,null,null,null,null,null,null,null,null,null,null,null,null,null,null,null,null,null,null,null,null,null,null,null,null,null,null,null,null,null,null,null,null,null,null,null,null,null,null,null,null,null,null,null,null,null,null,null,null,null,null,null,null,null,null,null,null,null,null,null,null,null,null,null,null,null,0]
[]
[]
[]
[]
[]
[]
[]
[]
[]
[]
[]
[]
[]
[]
[]
[]
[]
[]
[]
[]
[]
[]
[]
[]
[]
[]
[]
[]
[]
[]
[]
[]
[]
[]
[]
[]
[]
[]
[]
[]
[]
[]
[]
[]
[]
[]
[]
[]
[]
[null,null,null,null,null,null,null,null,null,null,null,null,"+","-",",",",",",",",",",",",",",",3,"F","+","-",",",",",",",",",",",",",",",",",",",",",",",",",",",",",",",",",",",4,"F","+","-",",",",",",",",",",",",",",",",",",",",",",",",",",",",",",",",",",",4,"F","+","-",",",",",",",",",",",",",",",3,"F","+","-"]
[null,null,null,null,null,null,null,null,null,null,null,null,null,null,null,null,null,null,null,null,null,null,null,null,null,null,null,null,null,null,null,null,null,null,null,null,null,null,null,null,null,null,null,null,null,null,null,null,null,null,null,null,null,null,null,null,null,null,null,null,null,null,null,null,null,null,null,null,null,null,null,null,null,null,null,null,null,null,null,null,0]
[null,null,null,null,null,null,null,null,null,null,null,null,null,null,null,null,null,null,null,null,null,null,null,null,null,null,null,null,null,null,null,null,null,null,null,null,null,null,null,null,null,null,null,null,null,null,null,null,null,null,null,null,null,null,null,null,null,null,null,null,null,null,null,null,null,null,null,null,null,null,null,null,null,null,null,null,null,null,null,null,0]
[null,null,null,null,null,null,null,null,null,null,null,null,null,null,null,null,null,null,null,null,null,null,null,null,null,null,null,null,null,null,null,null,null,null,null,null,null,null,null,null,null,null,null,null,null,null,null,null,null,null,null,null,null,null,null,null,null,null,null,null,null,null,null,null,null,null,null,null,null,null,null,null,null,null,null,null,null,null,null,null,0]
[null,null,null,null,null,null,null,null,null,null,null,null,null,null,null,null,null,null,null,null,null,null,null,null,null,null,null,null,null,null,null,null,null,null,null,null,null,null,null,null,null,null,null,null,null,null,null,null,null,null,null,null,null,null,null,null,null,null,null,null,null,null,null,null,null,null,null,null,null,null,null,null,null,null,null,null,null,null,null,null,0]
[null,null,null,null,null,null,null,null,null,null,null,null,null,null,null,null,null,null,null,null,null,null,null,null,null,null,null,null,null,null,null,null,null,null,null,null,null,null,null,null,null,null,null,null,null,null,null,null,null,null,null,null,null,null,null,null,null,null,null,null,null,null,null,null,null,null,null,null,null,null,null,null,null,null,null,null,null,null,null,null,0]
[null,null,null,null,null,null,null,null,null,null,null,null,null,null,null,null,null,null,null,null,null,null,null,null,null,null,null,null,null,null,null,null,null,null,null,null,null,null,null,null,null,null,null,null,null,null,null,null,null,null,null,null,null,null,null,null,null,null,null,null,null,null,null,null,null,null,null,null,null,null,null,null,null,null,null,null,null,null,null,null,0]
[null,null,null,null,null,null,null,null,null,null,null,null,null,null,null,null,null,null,null,null,null,null,null,null,null,null,null,null,null,null,null,null,null,null,null,null,null,null,null,null,null,null,null,null,null,null,null,null,null,null,null,null,null,null,null,null,null,null,null,null,null,null,null,null,null,null,null,null,null,null,null,null,null,null,null,null,null,null,null,null,0]
[null,null,null,null,null,null,null,null,null,null,null,null,null,null,null,null,null,null,null,null,null,null,null,null,null,null,null,null,null,null,null,null,null,null,null,null,null,null,null,null,null,null,null,null,null,null,null,null,null,null,null,null,null,null,null,null,null,null,null,null,null,null,null,null,null,null,null,null,null,null,null,null,null,null,null,null,null,null,null,null,0]
[null,null,null,null,null,null,null,null,null,null,null,null,null,null,null,null,null,null,null,null,null,null,null,null,null,null,null,null,null,null,null,null,null,null,null,null,null,null,null,null,null,null,null,null,null,null,null,null,null,null,null,null,null,null,null,null,null,null,null,null,null,null,null,null,null,null,null,null,null,null,null,null,null,null,null,null,null,null,null,null,0]
[null,null,null,null,null,null,null,null,null,null,null,null,null,null,null,null,null,null,null,null,null,null,null,null,null,null,null,null,null,null,null,null,null,null,null,null,null,null,null,null,null,null,null,null,null,null,null,null,null,null,null,null,null,null,null,null,null,null,null,null,null,null,null,null,null,null,null,null,null,null,null,null,null,null,null,null,null,null,null,null,0]
[null,null,null,null,null,null,null,null,null,null,null,null,null,null,null,null,null,null,null,null,null,null,null,null,null,null,null,null,null,null,null,null,null,null,null,null,null,null,null,null,null,null,null,null,null,null,null,null,null,null,null,null,null,null,null,null,null,null,null,null,null,null,null,null,null,null,null,null,null,null,null,null,null,null,null,null,null,null,null,null,0]
[null,null,null,null,null,null,null,null,null,null,null,null,null,null,null,null,null,null,null,null,null,null,null,null,null,null,null,null,null,null,null,null,null,null,null,null,null,null,null,null,null,null,null,null,null,null,null,null,null,null,null,null,null,null,null,null,null,null,null,null,null,null,null,null,null,null,null,null,null,null,null,null,null,null,null,null,null,null,null,null,0]
[null,null,null,null,null,null,null,null,null,null,null,null,null,null,null,null,null,null,null,null,null,null,null,null,null,null,null,null,null,null,null,null,null,null,null,null,null,null,null,null,null,null,null,null,null,null,null,null,null,null,null,null,null,null,null,null,null,null,null,null,null,null,null,null,null,null,null,null,null,null,null,null,null,null,null,null,null,null,null,null,0]
[null,null,null,null,null,null,null,null,null,null,null,null,null,null,null,null,null,null,null,null,null,null,null,null,null,null,null,null,null,null,null,null,null,null,null,null,null,null,null,null,null,null,null,null,null,null,null,null,null,null,null,null,null,null,null,null,null,null,null,null,null,null,null,null,null,null,null,null,null,null,null,null,null,null,null,null,null,null,null,null,0]
[null,null,null,null,null,null,null,null,null,null,null,null,null,null,null,null,null,null,null,null,null,null,null,null,null,null,null,null,null,null,null,null,null,null,null,null,null,null,null,null,null,null,null,null,null,null,null,null,null,null,null,null,null,null,null,null,null,null,null,null,null,null,null,null,null,null,null,null,null,null,null,null,null,null,null,null,null,null,null,null,0]
[null,null,null,null,null,null,null,null,null,null,null,null,null,null,null,null,null,null,null,null,null,null,null,null,null,null,null,null,null,null,null,null,null,null,null,null,null,null,null,null,null,null,null,null,null,null,null,null,null,null,null,null,null,null,null,null,null,null,null,null,null,null,null,null,null,null,null,null,null,null,null,null,null,null,null,null,null,null,null,null,0]
[null,null,null,null,null,null,null,null,null,null,null,null,null,null,null,null,null,null,null,null,null,null,null,null,null,null,null,null,null,null,null,null,null,null,null,null,null,null,null,null,null,null,null,null,null,null,null,null,null,null,null,null,null,null,null,null,null,null,null,null,null,null,null,null,null,null,null,null,null,null,null,null,null,null,null,null,null,null,null,null,0]
[null,null,null,null,null,null,null,null,null,null,null,null,null,null,null,null,null,null,null,null,null,null,null,null,null,null,null,null,null,null,null,null,null,null,null,null,null,null,null,null,null,null,null,null,null,null,null,null,null,null,null,null,null,null,null,null,null,null,null,null,null,null,null,null,null,null,null,null,null,null,null,null,null,null,null,null,null,null,null,null,0]
[null,null,null,null,null,null,null,null,null,null,null,null,null,null,null,null,null,null,null,null,null,null,null,null,null,null,null,null,null,null,null,null,null,null,null,null,null,null,null,null,null,null,null,null,null,null,null,null,null,null,null,null,null,null,null,null,null,null,null,null,null,null,null,null,null,null,null,null,null,null,null,null,null,null,null,null,null,null,null,null,0]
[null,null,null,null,null,null,null,null,null,null,null,null,null,null,null,null,null,null,null,null,null,null,null,null,null,null,null,null,null,null,null,null,null,null,null,null,null,null,null,null,null,null,null,null,null,null,null,null,null,null,null,null,null,null,null,null,null,null,null,null,null,null,null,null,null,null,null,null,null,null,null,null,null,null,null,null,null,null,null,null,0]
[null,null,null,null,null,null,null,null,null,null,null,null,null,null,null,null,null,null,null,null,null,null,null,null,null,null,null,null,null,null,null,null,null,null,null,null,null,null,null,null,null,null,null,null,null,null,null,null,null,null,null,null,null,null,null,null,null,null,null,null,null,null,null,null,null,null,null,null,null,null,null,null,null,null,null,null,null,null,null,null,0]
[null,null,null,null,null,null,null,null,null,null,null,null,null,null,null,null,null,null,null,null,null,null,null,null,null,null,null,null,null,null,null,null,null,null,null,null,null,null,null,null,null,null,null,null,null,null,null,null,null,null,null,null,null,null,null,null,null,null,null,null,null,null,null,null,null,null,null,null,null,null,null,null,null,null,null,null,null,null,null,null,0]
[null,null,null,null,null,null,null,null,null,null,null,null,null,null,null,null,null,null,null,null,null,null,null,null,null,null,null,null,null,null,null,null,null,null,null,null,null,null,null,null,null,null,null,null,null,null,null,null,null,null,null,null,null,null,null,null,null,null,null,null,null,null,null,null,null,null,null,null,null,null,null,null,null,null,null,null,null,null,null,null,0]
[null,null,null,null,null,null,null,null,null,null,null,null,null,null,null,null,null,null,null,null,null,null,null,null,null,null,null,null,null,null,null,null,null,null,null,null,null,null,null,null,null,null,null,null,null,null,null,null,null,null,null,null,null,null,null,null,null,null,null,null,null,null,null,null,null,null,null,null,null,null,null,null,null,null,null,null,null,null,null,null,0]
[null,null,null,null,null,null,null,null,null,null,null,null,null,null,null,null,null,null,null,null,null,null,null,null,null,null,null,null,null,null,null,null,null,null,null,null,null,null,null,null,null,null,null,null,null,null,null,null,null,null,null,null,null,null,null,null,null,null,null,null,null,null,null,null,null,null,null,null,null,null,null,null,null,null,null,null,null,null,null,null,0]
[null,null,null,null,null,null,null,null,null,null,null,null,null,null,null,null,null,null,null,null,null,null,null,null,null,null,null,null,null,null,null,null,null,null,null,null,null,null,null,null,null,null,null,null,null,null,null,null,null,null,null,null,null,null,null,null,null,null,null,null,null,null,null,null,null,null,null,null,null,null,null,null,null,null,null,null,null,null,null,null,0]
[null,null,null,null,null,null,null,null,null,null,null,null,null,null,null,null,null,null,null,null,null,null,null,null,null,null,null,null,null,null,null,null,null,null,null,null,null,null,null,null,null,null,null,null,null,null,null,null,null,null,null,null,null,null,null,null,null,null,null,null,null,null,null,null,null,null,null,null,null,null,null,null,null,null,null,null,null,null,null,null,0]
[null,null,null,null,null,null,null,null,null,null,null,null,null,null,null,null,null,null,null,null,null,null,null,null,null,null,null,null,null,null,null,null,null,null,null,null,null,null,null,null,null,null,null,null,null,null,null,null,null,null,null,null,null,null,null,null,null,null,null,null,null,null,null,null,null,null,null,null,null,null,null,null,null,null,null,null,null,null,null,null,0]
[null,null,null,null,null,null,null,null,null,null,null,null,null,null,null,null,null,null,null,null,null,null,null,null,null,null,null,null,null,null,null,null,null,null,null,null,null,null,null,null,null,null,null,null,null,null,null,null,null,null,null,null,null,null,null,null,null,null,null,null,null,null,null,null,null,null,null,null,null,null,null,null,null,null,null,null,null,null,null,null,0]
[null,null,null,null,null,null,null,null,null,null,null,null,null,null,null,null,null,null,null,null,null,null,null,null,null,null,null,null,null,null,null,null,null,null,null,null,null,null,null,null,null,null,null,null,null,null,null,null,null,null,null,null,null,null,null,null,null,null,null,null,null,null,null,null,null,null,null,null,null,null,null,null,null,null,null,null,null,null,null,null,0]
[null,null,null,null,null,null,null,null,null,null,null,null,null,null,null,null,null,null,null,null,null,null,null,null,null,null,null,null,null,null,null,null,null,null,null,null,null,null,null,null,null,null,null,null,null,null,null,null,null,null,null,null,null,null,null,null,null,null,null,null,null,null,null,null,null,null,null,null,null,null,null,null,null,null,null,null,null,null,null,null,0]
[null,null,null,null,null,null,null,null,null,null,null,null,null,null,null,null,null,null,null,null,null,null,null,null,null,null,null,null,null,null,null,null,null,null,null,null,null,null,null,null,null,null,null,null,null,null,null,null,null,null,null,null,null,null,null,null,null,null,null,null,null,null,null,null,null,null,null,null,null,null,null,null,null,null,null,null,null,null,null,null,0]
[null,null,null,null,null,null,null,null,null,null,null,null,null,null,null,null,null,null,null,null,null,null,null,null,null,null,null,null,null,null,null,null,null,null,null,null,null,null,null,null,null,null,null,null,null,null,null,null,null,null,null,null,null,null,null,null,null,null,null,null,null,null,null,null,null,null,null,null,null,null,null,null,null,null,null,null,null,null,null,null,0]
[null,null,null,null,null,null,null,null,null,null,null,null,null,null,null,null,null,null,null,null,null,null,null,null,null,null,null,null,null,null,null,null,null,null,null,null,null,null,null,null,null,null,null,null,null,null,null,null,null,null,null,null,null,null,null,null,null,null,null,null,null,null,null,null,null,null,null,null,null,null,null,null,null,null,null,null,null,null,null,null,0]
[null,null,null,null,null,null,null,null,null,null,null,null,null,null,null,null,null,null,null,null,null,null,null,null,null,null,null,null,null,null,null,null,null,null,null,null,null,null,null,null,null,null,null,null,null,null,null,null,null,null,null,null,null,null,null,null,null,null,null,null,null,null,null,null,null,null,null,null,null,null,null,null,null,null,null,null,null,null,null,null,0]
[null,null,null,null,null,null,null,null,null,null,null,null,null,null,null,null,null,null,null,null,null,null,null,null,null,null,null,null,null,null,null,null,null,null,null,null,null,null,null,null,null,null,null,null,null,null,null,null,null,null,null,null,null,null,null,null,null,null,null,null,null,null,null,null,null,null,null,null,null,null,null,null,null,null,null,null,null,null,null,null,0]
[null,null,null,null,null,null,null,null,null,null,null,null,null,null,null,null,null,null,null,null,null,null,null,null,null,null,null,null,null,null,null,null,null,null,null,null,null,null,null,null,null,null,null,null,null,null,null,null,null,null,null,null,null,null,null,null,null,null,null,null,null,null,null,null,null,null,null,null,null,null,null,null,null,null,null,null,null,null,null,null,0]
[null,null,null,null,null,null,null,null,null,null,null,null,null,null,null,null,null,null,null,null,null,null,null,null,null,null,null,null,null,null,null,null,null,null,null,null,null,null,null,null,null,null,null,null,null,null,null,null,null,null,null,null,null,null,null,null,null,null,null,null,null,null,null,null,null,null,null,null,null,null,null,null,null,null,null,null,null,null,null,null,0]
[null,null,null,null,null,null,null,null,null,null,null,null,null,null,null,null,null,null,null,null,null,null,null,null,null,null,null,null,null,null,null,null,null,null,null,null,null,null,null,null,null,null,null,null,null,null,null,null,null,null,null,null,null,null,null,null,null,null,null,null,null,null,null,null,null,null,null,null,null,null,null,null,null,null,null,null,null,null,null,null,0]
[null,null,null,null,null,null,null,null,null,null,null,null,null,null,null,null,null,null,null,null,null,null,null,null,null,null,null,null,null,null,null,null,null,null,null,null,null,null,null,null,null,null,null,null,null,null,null,null,null,null,null,null,null,null,null,null,null,null,null,null,null,null,null,null,null,null,null,null,null,null,null,null,null,null,null,null,null,null,null,null,0]
[null,null,null,null,null,null,null,null,null,null,null,null,null,null,null,null,null,null,null,null,null,null,null,null,null,null,null,null,null,null,null,null,null,null,null,null,null,null,null,null,null,null,null,null,null,null,null,null,null,null,null,null,null,null,null,null,null,null,null,null,null,null,null,null,null,null,null,null,null,null,null,null,null,null,null,null,null,null,null,null,0]
[null,null,null,null,null,null,null,null,null,null,null,null,null,null,null,null,null,null,null,null,null,null,null,null,null,null,null,null,null,null,null,null,null,null,null,null,null,null,null,null,null,null,null,null,null,null,null,null,null,null,null,null,null,null,null,null,null,null,null,null,null,null,null,null,null,null,null,null,null,null,null,null,null,null,null,null,null,null,null,null,0]
[null,null,null,null,null,null,null,null,null,null,null,null,null,null,null,null,null,null,null,null,null,null,null,null,null,null,null,null,null,null,null,null,null,null,null,null,null,null,null,null,null,null,null,null,null,null,null,null,null,null,null,null,null,null,null,null,null,null,null,null,null,null,null,null,null,null,null,null,null,null,null,null,null,null,null,null,null,null,null,null,0]
[null,null,null,null,null,null,null,null,null,null,null,null,null,null,null,null,null,null,null,null,null,null,null,null,null,null,null,null,null,null,null,null,null,null,null,null,null,null,null,null,null,null,null,null,null,null,null,null,null,null,null,null,null,null,null,null,null,null,null,null,null,null,null,null,null,null,null,null,null,null,null,null,null,null,null,null,null,null,null,null,0]
[null,null,null,null,null,null,null,null,null,null,null,null,null,null,null,null,null,null,null,null,null,null,null,null,null,null,null,null,null,null,null,null,null,null,null,null,null,null,null,null,null,null,null,null,null,null,null,null,null,null,null,null,null,null,null,null,null,null,null,null,null,null,null,null,null,null,null,null,null,null,null,null,null,null,null,null,null,null,null,null,0]
[null,null,null,null,null,null,null,null,null,null,null,null,null,null,null,null,null,null,null,null,null,null,null,null,null,null,null,null,null,null,null,null,null,null,null,null,null,null,null,null,null,null,null,null,null,null,null,null,null,null,null,null,null,null,null,null,null,null,null,null,null,null,null,null,null,null,null,null,null,null,null,null,null,null,null,null,null,null,null,null,0]
[null,null,null,null,null,null,null,null,null,null,null,null,null,null,null,null,null,null,null,null,null,null,null,null,null,null,null,null,null,null,null,null,null,null,null,null,null,null,null,null,null,null,null,null,null,null,null,null,null,null,null,null,null,null,null,null,null,null,null,null,null,null,null,null,null,null,null,null,null,null,null,null,null,null,null,null,null,null,null,null,0]
[null,null,null,null,null,null,null,null,null,null,null,null,null,null,null,null,null,null,null,null,null,null,null,null,null,null,null,null,null,null,null,null,null,null,null,null,null,null,null,null,null,null,null,null,null,null,null,null,null,null,null,null,null,null,null,null,null,null,null,null,null,null,null,null,null,null,null,null,null,null,null,null,null,null,null,null,null,null,null,null,0]
[null,null,null,null,null,null,null,null,null,null,null,null,null,null,null,null,null,null,null,null,null,null,null,null,null,null,null,null,null,null,null,null,null,null,null,null,null,null,null,null,null,null,null,null,null,null,null,null,null,null,null,null,null,null,null,null,null,null,null,null,null,null,null,null,null,null,null,null,null,null,null,null,null,null,null,null,null,null,null,null,0]
[null,null,null,null,null,null,null,null,null,null,null,null,null,null,null,null,null,null,null,null,null,null,null,null,null,null,null,null,null,null,null,null,null,null,null,null,null,null,null,null,null,null,null,null,null,null,null,null,null,null,null,null,null,null,null,null,null,null,null,null,null,null,null,null,null,null,null,null,null,null,null,null,null,null,null,null,null,null,null,null,0]
[]
[]
[]
[]
[]
[]
[]
[]
[]
[]
[]
[]
[]
[]
[]
[]
[]
[]
[]
[]
[]
[]
[]
[]
[]
[]
[]
[]
[]
[]
[]
[]
[]
[]
[]
[]
[]
[]
[]
[]
[]
[]
[]
[]
[]
[]
[]
[]
[]
[null,null,null,null,null,null,null,null,null,null,null,null,"+","-",",",",",",",",",",",",",",",3,"F","+","-",",",",",",",",",",",",",",",",",",",",",",",",",",",",",",",",",",",4,"F","+","-",",",",",",",",",",",",",",",",",",",",",",",",",",",",",",",",",",",4,"F","+","-",",",",",",",",",",",",",",",3,"F","+","-"]
[]
[]
[]
[]
[]
[]
[]
[]
[]
[]
[]
[]
[]
[]
[]
[]
[]
[]
[]
[]
[]
[]
[]
[]
[]
[]
[]
[]
[]
[]
[]
[]
[]
[]
[]
[]
[]
[]
[]
[]
[]
[]
[]
[]
[]
[]
[]
[]
[]
[]
[]
[]
[]
[]
[]
[]
[]
[]
[]
[]
[]
[]
[]
[]
[]
[]
[]
[]
[]
[]
[]
[]
[]
[]
[]
[]
[]
[]
[]
[]
[]
[]
[]
[]
[]
[]
[]
[]
[]
[]
[]
[]
[]
[]
[]
[]
[]
[]
[]
[null,null,null,null,null,null,null,null,null,null,null,null,"+","-",",",",",",",",",",",",",",",3,"F","+","-",",",",",",",",",",",",",",",",",",",",",",",",",",",",",",",",",",",4,"F","+","-",",",",",",",",",",",",",",",",",",",",",",",",",",",",",",",",",",",4,"F","+","-",",",",",",",",",",",",",",",3,"F","+","-"]
[]
[]
[]
[]
[]
[]
[]
[]
[]
[]
[]
[]
[]
[]
[]
[]
[]
[]
[]
[]
[]
[]
[]
[]
[]
[]
[]
[]
[]
[]
[]
[]
[]
[]
[]
[]
[]
[]
[]
[]
[]
[]
[]
[]
[]
[]
[]
[]
[]
[]
[]
[]
[]
[]
[]
[]
[]
[]
[]
[]
[]
[]
[]
[]
[]
[]
[]
[]
[]
[]
[]
[]
[]
[]
[]
[]
[]
[]
[]
[]
[]
[]
[]
[]
[]
[]
[]
[]
[]
[]
[]
[]
[]
[]
[]
[]
[]
[]
[]
[null,null,null,null,null,null,null,null,null,null,null,null,"+","-",",",",",",",",",",",",",",",3,"F","+","-",",",",",",",",",",",",",",",",",",",",",",",",",",",",",",",",",",",4,"F","+","-",",",",",",",",",",",",",",",",",",",",",",",",",",",",",",",",",",",4,"F","+","-",",",",",",",",",",",",",",",3,"F","+","-"]
[null,null,null,null,null,null,null,null,null,null,null,null,null,null,null,null,null,null,null,null,null,null,null,null,null,null,null,null,null,null,null,null,null,null,null,null,null,null,null,null,null,null,null,null,null,null,null,null,null,null,null,null,null,null,null,null,null,null,null,null,null,null,null,null,null,null,null,null,null,null,null,null,null,null,null,null,null,null,null,null,0]
[null,null,null,null,null,null,null,null,null,null,null,null,null,null,null,null,null,null,null,null,null,null,null,null,null,null,null,null,null,null,null,null,null,null,null,null,null,null,null,null,null,null,null,null,null,null,null,null,null,null,null,null,null,null,null,null,null,null,null,null,null,null,null,null,null,null,null,null,null,null,null,null,null,null,null,null,null,null,null,null,0]
[null,null,null,null,null,null,null,null,null,null,null,null,null,null,null,null,null,null,null,null,null,null,null,null,null,null,null,null,null,null,null,null,null,null,null,null,null,null,null,null,null,null,null,null,null,null,null,null,null,null,null,null,null,null,null,null,null,null,null,null,null,null,null,null,null,null,null,null,null,null,null,null,null,null,null,null,null,null,null,null,0]
[null,null,null,null,null,null,null,null,null,null,null,null,null,null,null,null,null,null,null,null,null,null,null,null,null,null,null,null,null,null,null,null,null,null,null,null,null,null,null,null,null,null,null,null,null,null,null,null,null,null,null,null,null,null,null,null,null,null,null,null,null,null,null,null,null,null,null,null,null,null,null,null,null,null,null,null,null,null,null,null,0]
[null,null,null,null,null,null,null,null,null,null,null,null,null,null,null,null,null,null,null,null,null,null,null,null,null,null,null,null,null,null,null,null,null,null,null,null,null,null,null,null,null,null,null,null,null,null,null,null,null,null,null,null,null,null,null,null,null,null,null,null,null,null,null,null,null,null,null,null,null,null,null,null,null,null,null,null,null,null,null,null,0]
[null,null,null,null,null,null,null,null,null,null,null,null,null,null,null,null,null,null,null,null,null,null,null,null,null,null,null,null,null,null,null,null,null,null,null,null,null,null,null,null,null,null,null,null,null,null,null,null,null,null,null,null,null,null,null,null,null,null,null,null,null,null,null,null,null,null,null,null,null,null,null,null,null,null,null,null,null,null,null,null,0]
[null,null,null,null,null,null,null,null,null,null,null,null,null,null,null,null,null,null,null,null,null,null,null,null,null,null,null,null,null,null,null,null,null,null,null,null,null,null,null,null,null,null,null,null,null,null,null,null,null,null,null,null,null,null,null,null,null,null,null,null,null,null,null,null,null,null,null,null,null,null,null,null,null,null,null,null,null,null,null,null,0]
[null,null,null,null,null,null,null,null,null,null,null,null,null,null,null,null,null,null,null,null,null,null,null,null,null,null,null,null,null,null,null,null,null,null,null,null,null,null,null,null,null,null,null,null,null,null,null,null,null,null,null,null,null,null,null,null,null,null,null,null,null,null,null,null,null,null,null,null,null,null,null,null,null,null,null,null,null,null,null,null,0]
[null,null,null,null,null,null,null,null,null,null,null,null,null,null,null,null,null,null,null,null,null,null,null,null,null,null,null,null,null,null,null,null,null,null,null,null,null,null,null,null,null,null,null,null,null,null,null,null,null,null,null,null,null,null,null,null,null,null,null,null,null,null,null,null,null,null,null,null,null,null,null,null,null,null,null,null,null,null,null,null,0]
[null,null,null,null,null,null,null,null,null,null,null,null,null,null,null,null,null,null,null,null,null,null,null,null,null,null,null,null,null,null,null,null,null,null,null,null,null,null,null,null,null,null,null,null,null,null,null,null,null,null,null,null,null,null,null,null,null,null,null,null,null,null,null,null,null,null,null,null,null,null,null,null,null,null,null,null,null,null,null,null,0]
[null,null,null,null,null,null,null,null,null,null,null,null,null,null,null,null,null,null,null,null,null,null,null,null,null,null,null,null,null,null,null,null,null,null,null,null,null,null,null,null,null,null,null,null,null,null,null,null,null,null,null,null,null,null,null,null,null,null,null,null,null,null,null,null,null,null,null,null,null,null,null,null,null,null,null,null,null,null,null,null,0]
[null,null,null,null,null,null,null,null,null,null,null,null,null,null,null,null,null,null,null,null,null,null,null,null,null,null,null,null,null,null,null,null,null,null,null,null,null,null,null,null,null,null,null,null,null,null,null,null,null,null,null,null,null,null,null,null,null,null,null,null,null,null,null,null,null,null,null,null,null,null,null,null,null,null,null,null,null,null,null,null,0]
[null,null,null,null,null,null,null,null,null,null,null,null,null,null,null,null,null,null,null,null,null,null,null,null,null,null,null,null,null,null,null,null,null,null,null,null,null,null,null,null,null,null,null,null,null,null,null,null,null,null,null,null,null,null,null,null,null,null,null,null,null,null,null,null,null,null,null,null,null,null,null,null,null,null,null,null,null,null,null,null,0]
[null,null,null,null,null,null,null,null,null,null,null,null,null,null,null,null,null,null,null,null,null,null,null,null,null,null,null,null,null,null,null,null,null,null,null,null,null,null,null,null,null,null,null,null,null,null,null,null,null,null,null,null,null,null,null,null,null,null,null,null,null,null,null,null,null,null,null,null,null,null,null,null,null,null,null,null,null,null,null,null,0]
[null,null,null,null,null,null,null,null,null,null,null,null,null,null,null,null,null,null,null,null,null,null,null,null,null,null,null,null,null,null,null,null,null,null,null,null,null,null,null,null,null,null,null,null,null,null,null,null,null,null,null,null,null,null,null,null,null,null,null,null,null,null,null,null,null,null,null,null,null,null,null,null,null,null,null,null,null,null,null,null,0]
[null,null,null,null,null,null,null,null,null,null,null,null,null,null,null,null,null,null,null,null,null,null,null,null,null,null,null,null,null,null,null,null,null,null,null,null,null,null,null,null,null,null,null,null,null,null,null,null,null,null,null,null,null,null,null,null,null,null,null,null,null,null,null,null,null,null,null,null,null,null,null,null,null,null,null,null,null,null,null,null,0]
[null,null,null,null,null,null,null,null,null,null,null,null,null,null,null,null,null,null,null,null,null,null,null,null,null,null,null,null,null,null,null,null,null,null,null,null,null,null,null,null,null,null,null,null,null,null,null,null,null,null,null,null,null,null,null,null,null,null,null,null,null,null,null,null,null,null,null,null,null,null,null,null,null,null,null,null,null,null,null,null,0]
[null,null,null,null,null,null,null,null,null,null,null,null,null,null,null,null,null,null,null,null,null,null,null,null,null,null,null,null,null,null,null,null,null,null,null,null,null,null,null,null,null,null,null,null,null,null,null,null,null,null,null,null,null,null,null,null,null,null,null,null,null,null,null,null,null,null,null,null,null,null,null,null,null,null,null,null,null,null,null,null,0]
[null,null,null,null,null,null,null,null,null,null,null,null,null,null,null,null,null,null,null,null,null,null,null,null,null,null,null,null,null,null,null,null,null,null,null,null,null,null,null,null,null,null,null,null,null,null,null,null,null,null,null,null,null,null,null,null,null,null,null,null,null,null,null,null,null,null,null,null,null,null,null,null,null,null,null,null,null,null,null,null,0]
[null,null,null,null,null,null,null,null,null,null,null,null,null,null,null,null,null,null,null,null,null,null,null,null,null,null,null,null,null,null,null,null,null,null,null,null,null,null,null,null,null,null,null,null,null,null,null,null,null,null,null,null,null,null,null,null,null,null,null,null,null,null,null,null,null,null,null,null,null,null,null,null,null,null,null,null,null,null,null,null,0]
[null,null,null,null,null,null,null,null,null,null,null,null,null,null,null,null,null,null,null,null,null,null,null,null,null,null,null,null,null,null,null,null,null,null,null,null,null,null,null,null,null,null,null,null,null,null,null,null,null,null,null,null,null,null,null,null,null,null,null,null,null,null,null,null,null,null,null,null,null,null,null,null,null,null,null,null,null,null,null,null,0]
[null,null,null,null,null,null,null,null,null,null,null,null,null,null,null,null,null,null,null,null,null,null,null,null,null,null,null,null,null,null,null,null,null,null,null,null,null,null,null,null,null,null,null,null,null,null,null,null,null,null,null,null,null,null,null,null,null,null,null,null,null,null,null,null,null,null,null,null,null,null,null,null,null,null,null,null,null,null,null,null,0]
[null,null,null,null,null,null,null,null,null,null,null,null,null,null,null,null,null,null,null,null,null,null,null,null,null,null,null,null,null,null,null,null,null,null,null,null,null,null,null,null,null,null,null,null,null,null,null,null,null,null,null,null,null,null,null,null,null,null,null,null,null,null,null,null,null,null,null,null,null,null,null,null,null,null,null,null,null,null,null,null,0]
[null,null,null,null,null,null,null,null,null,null,null,null,null,null,null,null,null,null,null,null,null,null,null,null,null,null,null,null,null,null,null,null,null,null,null,null,null,null,null,null,null,null,null,null,null,null,null,null,null,null,null,null,null,null,null,null,null,null,null,null,null,null,null,null,null,null,null,null,null,null,null,null,null,null,null,null,null,null,null,null,0]
[null,null,null,null,null,null,null,null,null,null,null,null,null,null,null,null,null,null,null,null,null,null,null,null,null,null,null,null,null,null,null,null,null,null,null,null,null,null,null,null,null,null,null,null,null,null,null,null,null,null,null,null,null,null,null,null,null,null,null,null,null,null,null,null,null,null,null,null,null,null,null,null,null,null,null,null,null,null,null,null,0]
[null,null,null,null,null,null,null,null,null,null,null,null,null,null,null,null,null,null,null,null,null,null,null,null,null,null,null,null,null,null,null,null,null,null,null,null,null,null,null,null,null,null,null,null,null,null,null,null,null,null,null,null,null,null,null,null,null,null,null,null,null,null,null,null,null,null,null,null,null,null,null,null,null,null,null,null,null,null,null,null,0]
[null,null,null,null,null,null,null,null,null,null,null,null,null,null,null,null,null,null,null,null,null,null,null,null,null,null,null,null,null,null,null,null,null,null,null,null,null,null,null,null,null,null,null,null,null,null,null,null,null,null,null,null,null,null,null,null,null,null,null,null,null,null,null,null,null,null,null,null,null,null,null,null,null,null,null,null,null,null,null,null,0]
[null,null,null,null,null,null,null,null,null,null,null,null,null,null,null,null,null,null,null,null,null,null,null,null,null,null,null,null,null,null,null,null,null,null,null,null,null,null,null,null,null,null,null,null,null,null,null,null,null,null,null,null,null,null,null,null,null,null,null,null,null,null,null,null,null,null,null,null,null,null,null,null,null,null,null,null,null,null,null,null,0]
[null,null,null,null,null,null,null,null,null,null,null,null,null,null,null,null,null,null,null,null,null,null,null,null,null,null,null,null,null,null,null,null,null,null,null,null,null,null,null,null,null,null,null,null,null,null,null,null,null,null,null,null,null,null,null,null,null,null,null,null,null,null,null,null,null,null,null,null,null,null,null,null,null,null,null,null,null,null,null,null,0]
[null,null,null,null,null,null,null,null,null,null,null,null,null,null,null,null,null,null,null,null,null,null,null,null,null,null,null,null,null,null,null,null,null,null,null,null,null,null,null,null,null,null,null,null,null,null,null,null,null,null,null,null,null,null,null,null,null,null,null,null,null,null,null,null,null,null,null,null,null,null,null,null,null,null,null,null,null,null,null,null,0]
[null,null,null,null,null,null,null,null,null,null,null,null,null,null,null,null,null,null,null,null,null,null,null,null,null,null,null,null,null,null,null,null,null,null,null,null,null,null,null,null,null,null,null,null,null,null,null,null,null,null,null,null,null,null,null,null,null,null,null,null,null,null,null,null,null,null,null,null,null,null,null,null,null,null,null,null,null,null,null,null,0]
[null,null,null,null,null,null,null,null,null,null,null,null,null,null,null,null,null,null,null,null,null,null,null,null,null,null,null,null,null,null,null,null,null,null,null,null,null,null,null,null,null,null,null,null,null,null,null,null,null,null,null,null,null,null,null,null,null,null,null,null,null,null,null,null,null,null,null,null,null,null,null,null,null,null,null,null,null,null,null,null,0]
[null,null,null,null,null,null,null,null,null,null,null,null,null,null,null,null,null,null,null,null,null,null,null,null,null,null,null,null,null,null,null,null,null,null,null,null,null,null,null,null,null,null,null,null,null,null,null,null,null,null,null,null,null,null,null,null,null,null,null,null,null,null,null,null,null,null,null,null,null,null,null,null,null,null,null,null,null,null,null,null,0]
[null,null,null,null,null,null,null,null,null,null,null,null,null,null,null,null,null,null,null,null,null,null,null,null,null,null,null,null,null,null,null,null,null,null,null,null,null,null,null,null,null,null,null,null,null,null,null,null,null,null,null,null,null,null,null,null,null,null,null,null,null,null,null,null,null,null,null,null,null,null,null,null,null,null,null,null,null,null,null,null,0]
[null,null,null,null,null,null,null,null,null,null,null,null,null,null,null,null,null,null,null,null,null,null,null,null,null,null,null,null,null,null,null,null,null,null,null,null,null,null,null,null,null,null,null,null,null,null,null,null,null,null,null,null,null,null,null,null,null,null,null,null,null,null,null,null,null,null,null,null,null,null,null,null,null,null,null,null,null,null,null,null,0]
[null,null,null,null,null,null,null,null,null,null,null,null,null,null,null,null,null,null,null,null,null,null,null,null,null,null,null,null,null,null,null,null,null,null,null,null,null,null,null,null,null,null,null,null,null,null,null,null,null,null,null,null,null,null,null,null,null,null,null,null,null,null,null,null,null,null,null,null,null,null,null,null,null,null,null,null,null,null,null,null,0]
[null,null,null,null,null,null,null,null,null,null,null,null,null,null,null,null,null,null,null,null,null,null,null,null,null,null,null,null,null,null,null,null,null,null,null,null,null,null,null,null,null,null,null,null,null,null,null,null,null,null,null,null,null,null,null,null,null,null,null,null,null,null,null,null,null,null,null,null,null,null,null,null,null,null,null,null,null,null,null,null,0]
[null,null,null,null,null,null,null,null,null,null,null,null,null,null,null,null,null,null,null,null,null,null,null,null,null,null,null,null,null,null,null,null,null,null,null,null,null,null,null,null,null,null,null,null,null,null,null,null,null,null,null,null,null,null,null,null,null,null,null,null,null,null,null,null,null,null,null,null,null,null,null,null,null,null,null,null,null,null,null,null,0]
[null,null,null,null,null,null,null,null,null,null,null,null,null,null,null,null,null,null,null,null,null,null,null,null,null,null,null,null,null,null,null,null,null,null,null,null,null,null,null,null,null,null,null,null,null,null,null,null,null,null,null,null,null,null,null,null,null,null,null,null,null,null,null,null,null,null,null,null,null,null,null,null,null,null,null,null,null,null,null,null,0]
[null,null,null,null,null,null,null,null,null,null,null,null,null,null,null,null,null,null,null,null,null,null,null,null,null,null,null,null,null,null,null,null,null,null,null,null,null,null,null,null,null,null,null,null,null,null,null,null,null,null,null,null,null,null,null,null,null,null,null,null,null,null,null,null,null,null,null,null,null,null,null,null,null,null,null,null,null,null,null,null,0]
[null,null,null,null,null,null,null,null,null,null,null,null,null,null,null,null,null,null,null,null,null,null,null,null,null,null,null,null,null,null,null,null,null,null,null,null,null,null,null,null,null,null,null,null,null,null,null,null,null,null,null,null,null,null,null,null,null,null,null,null,null,null,null,null,null,null,null,null,null,null,null,null,null,null,null,null,null,null,null,null,0]
[null,null,null,null,null,null,null,null,null,null,null,null,null,null,null,null,null,null,null,null,null,null,null,null,null,null,null,null,null,null,null,null,null,null,null,null,null,null,null,null,null,null,null,null,null,null,null,null,null,null,null,null,null,null,null,null,null,null,null,null,null,null,null,null,null,null,null,null,null,null,null,null,null,null,null,null,null,null,null,null,0]
[null,null,null,null,null,null,null,null,null,null,null,null,null,null,null,null,null,null,null,null,null,null,null,null,null,null,null,null,null,null,null,null,null,null,null,null,null,null,null,null,null,null,null,null,null,null,null,null,null,null,null,null,null,null,null,null,null,null,null,null,null,null,null,null,null,null,null,null,null,null,null,null,null,null,null,null,null,null,null,null,0]
[null,null,null,null,null,null,null,null,null,null,null,null,null,null,null,null,null,null,null,null,null,null,null,null,null,null,null,null,null,null,null,null,null,null,null,null,null,null,null,null,null,null,null,null,null,null,null,null,null,null,null,null,null,null,null,null,null,null,null,null,null,null,null,null,null,null,null,null,null,null,null,null,null,null,null,null,null,null,null,null,0]
[null,null,null,null,null,null,null,null,null,null,null,null,null,null,null,null,null,null,null,null,null,null,null,null,null,null,null,null,null,null,null,null,null,null,null,null,null,null,null,null,null,null,null,null,null,null,null,null,null,null,null,null,null,null,null,null,null,null,null,null,null,null,null,null,null,null,null,null,null,null,null,null,null,null,null,null,null,null,null,null,0]
[null,null,null,null,null,null,null,null,null,null,null,null,null,null,null,null,null,null,null,null,null,null,null,null,null,null,null,null,null,null,null,null,null,null,null,null,null,null,null,null,null,null,null,null,null,null,null,null,null,null,null,null,null,null,null,null,null,null,null,null,null,null,null,null,null,null,null,null,null,null,null,null,null,null,null,null,null,null,null,null,0]
[null,null,null,null,null,null,null,null,null,null,null,null,null,null,null,null,null,null,null,null,null,null,null,null,null,null,null,null,null,null,null,null,null,null,null,null,null,null,null,null,null,null,null,null,null,null,null,null,null,null,null,null,null,null,null,null,null,null,null,null,null,null,null,null,null,null,null,null,null,null,null,null,null,null,null,null,null,null,null,null,0]
[null,null,null,null,null,null,null,null,null,null,null,null,null,null,null,null,null,null,null,null,null,null,null,null,null,null,null,null,null,null,null,null,null,null,null,null,null,null,null,null,null,null,null,null,null,null,null,null,null,null,null,null,null,null,null,null,null,null,null,null,null,null,null,null,null,null,null,null,null,null,null,null,null,null,null,null,null,null,null,null,0]
[null,null,null,null,null,null,null,null,null,null,null,null,null,null,null,null,null,null,null,null,null,null,null,null,null,null,null,null,null,null,null,null,null,null,null,null,null,null,null,null,null,null,null,null,null,null,null,null,null,null,null,null,null,null,null,null,null,null,null,null,null,null,null,null,null,null,null,null,null,null,null,null,null,null,null,null,null,null,null,null,0]
[null,null,null,null,null,null,null,null,null,null,null,null,null,null,null,null,null,null,null,null,null,null,null,null,null,null,null,null,null,null,null,null,null,null,null,null,null,null,null,null,null,null,null,null,null,null,null,null,null,null,null,null,null,null,null,null,null,null,null,null,null,null,null,null,null,null,null,null,null,null,null,null,null,null,null,null,null,null,null,null,0]
[]
[]
[]
[]
[]
[]
[]
[]
[]
[]
[]
[]
[]
[]
[]
[]
[]
[]
[]
[]
[]
[]
[]
[]
[]
[]
[]
[]
[]
[]
[]
[]
[]
[]
[]
[]
[]
[]
[]
[]
[]
[]
[]
[]
[]
[]
[]
[]
[]
[null,null,null,null,null,null,null,null,null,null,null,null,"+","-",",",",",",",",",",",",",",",3,"F","+","-",",",",",",",",",",",",",",",",",",",",",",",",",",",",",",",",",",",4,"F","+","-",",",",",",",",",",",",",",",",",",",",",",",",",",",",",",",",",",",4,"F","+","-",",",",",",",",",",",",",",",3,"F","+","-"]
[]
[]
[]
[]
[]
[]
[]
[]
[]
[]
[]
[]
[]
[]
[]
[]
[]
[]
[]
[]
[]
[]
[]
[]
[]
[]
[]
[]
[]
[]
[]
[]
[]
[]
[]
[]
[]
[]
[]
[]
[]
[]
[]
[]
[]
[]
[]
[]
[]
[]
[]
[]
[]
[]
[]
[]
[]
[]
[]
[]
[]
[]
[]
[]
[]
[]
[]
[]
[]
[]
[]
[]
[]
[]
[]
[]
[]
[]
[]
[]
[]
[]
[]
[]
[]
[]
[]
[]
[]
[]
[]
[]
[]
[]
[]
[]
[]
[]
[]
[null,null,null,null,null,null,null,null,null,null,null,null,"+","-",",",",",",",",",",",",",",",3,"F","+","-",",",",",",",",",",",",",",",",",",",",",",",",",",",",",",",",",",",4,"F","+","-",",",",",",",",",",",",",",",",",",",",",",",",",",",",",",",",",",",4,"F","+","-",",",",",",",",",",",",",",",3,"F","+","-"]
[null,null,null,null,null,null,null,null,null,null,null,null,null,null,null,null,null,null,null,null,null,null,null,null,null,null,null,null,null,null,null,null,null,null,null,null,null,null,null,null,null,null,null,null,null,null,null,null,null,null,null,null,null,null,null,null,null,null,null,null,null,null,null,null,null,null,null,null,null,null,null,null,null,null,null,null,null,null,null,null,0]
[null,null,null,null,null,null,null,null,null,null,null,null,null,null,null,null,null,null,null,null,null,null,null,null,null,null,null,null,null,null,null,null,null,null,null,null,null,null,null,null,null,null,null,null,null,null,null,null,null,null,null,null,null,null,null,null,null,null,null,null,null,null,null,null,null,null,null,null,null,null,null,null,null,null,null,null,null,null,null,null,0]
[null,null,null,null,null,null,null,null,null,null,null,null,null,null,null,null,null,null,null,null,null,null,null,null,null,null,null,null,null,null,null,null,null,null,null,null,null,null,null,null,null,null,null,null,null,null,null,null,null,null,null,null,null,null,null,null,null,null,null,null,null,null,null,null,null,null,null,null,null,null,null,null,null,null,null,null,null,null,null,null,0]
[null,null,null,null,null,null,null,null,null,null,null,null,null,null,null,null,null,null,null,null,null,null,null,null,null,null,null,null,null,null,null,null,null,null,null,null,null,null,null,null,null,null,null,null,null,null,null,null,null,null,null,null,null,null,null,null,null,null,null,null,null,null,null,null,null,null,null,null,null,null,null,null,null,null,null,null,null,null,null,null,0]
[null,null,null,null,null,null,null,null,null,null,null,null,null,null,null,null,null,null,null,null,null,null,null,null,null,null,null,null,null,null,null,null,null,null,null,null,null,null,null,null,null,null,null,null,null,null,null,null,null,null,null,null,null,null,null,null,null,null,null,null,null,null,null,null,null,null,null,null,null,null,null,null,null,null,null,null,null,null,null,null,0]
[null,null,null,null,null,null,null,null,null,null,null,null,null,null,null,null,null,null,null,null,null,null,null,null,null,null,null,null,null,null,null,null,null,null,null,null,null,null,null,null,null,null,null,null,null,null,null,null,null,null,null,null,null,null,null,null,null,null,null,null,null,null,null,null,null,null,null,null,null,null,null,null,null,null,null,null,null,null,null,null,0]
[null,null,null,null,null,null,null,null,null,null,null,null,null,null,null,null,null,null,null,null,null,null,null,null,null,null,null,null,null,null,null,null,null,null,null,null,null,null,null,null,null,null,null,null,null,null,null,null,null,null,null,null,null,null,null,null,null,null,null,null,null,null,null,null,null,null,null,null,null,null,null,null,null,null,null,null,null,null,null,null,0]
[null,null,null,null,null,null,null,null,null,null,null,null,null,null,null,null,null,null,null,null,null,null,null,null,null,null,null,null,null,null,null,null,null,null,null,null,null,null,null,null,null,null,null,null,null,null,null,null,null,null,null,null,null,null,null,null,null,null,null,null,null,null,null,null,null,null,null,null,null,null,null,null,null,null,null,null,null,null,null,null,0]
[null,null,null,null,null,null,null,null,null,null,null,null,null,null,null,null,null,null,null,null,null,null,null,null,null,null,null,null,null,null,null,null,null,null,null,null,null,null,null,null,null,null,null,null,null,null,null,null,null,null,null,null,null,null,null,null,null,null,null,null,null,null,null,null,null,null,null,null,null,null,null,null,null,null,null,null,null,null,null,null,0]
[null,null,null,null,null,null,null,null,null,null,null,null,null,null,null,null,null,null,null,null,null,null,null,null,null,null,null,null,null,null,null,null,null,null,null,null,null,null,null,null,null,null,null,null,null,null,null,null,null,null,null,null,null,null,null,null,null,null,null,null,null,null,null,null,null,null,null,null,null,null,null,null,null,null,null,null,null,null,null,null,0]
[null,null,null,null,null,null,null,null,null,null,null,null,null,null,null,null,null,null,null,null,null,null,null,null,null,null,null,null,null,null,null,null,null,null,null,null,null,null,null,null,null,null,null,null,null,null,null,null,null,null,null,null,null,null,null,null,null,null,null,null,null,null,null,null,null,null,null,null,null,null,null,null,null,null,null,null,null,null,null,null,0]
[null,null,null,null,null,null,null,null,null,null,null,null,null,null,null,null,null,null,null,null,null,null,null,null,null,null,null,null,null,null,null,null,null,null,null,null,null,null,null,null,null,null,null,null,null,null,null,null,null,null,null,null,null,null,null,null,null,null,null,null,null,null,null,null,null,null,null,null,null,null,null,null,null,null,null,null,null,null,null,null,0]
[null,null,null,null,null,null,null,null,null,null,null,null,null,null,null,null,null,null,null,null,null,null,null,null,null,null,null,null,null,null,null,null,null,null,null,null,null,null,null,null,null,null,null,null,null,null,null,null,null,null,null,null,null,null,null,null,null,null,null,null,null,null,null,null,null,null,null,null,null,null,null,null,null,null,null,null,null,null,null,null,0]
[null,null,null,null,null,null,null,null,null,null,null,null,null,null,null,null,null,null,null,null,null,null,null,null,null,null,null,null,null,null,null,null,null,null,null,null,null,null,null,null,null,null,null,null,null,null,null,null,null,null,null,null,null,null,null,null,null,null,null,null,null,null,null,null,null,null,null,null,null,null,null,null,null,null,null,null,null,null,null,null,0]
[null,null,null,null,null,null,null,null,null,null,null,null,null,null,null,null,null,null,null,null,null,null,null,null,null,null,null,null,null,null,null,null,null,null,null,null,null,null,null,null,null,null,null,null,null,null,null,null,null,null,null,null,null,null,null,null,null,null,null,null,null,null,null,null,null,null,null,null,null,null,null,null,null,null,null,null,null,null,null,null,0]
[null,null,null,null,null,null,null,null,null,null,null,null,null,null,null,null,null,null,null,null,null,null,null,null,null,null,null,null,null,null,null,null,null,null,null,null,null,null,null,null,null,null,null,null,null,null,null,null,null,null,null,null,null,null,null,null,null,null,null,null,null,null,null,null,null,null,null,null,null,null,null,null,null,null,null,null,null,null,null,null,0]
[null,null,null,null,null,null,null,null,null,null,null,null,null,null,null,null,null,null,null,null,null,null,null,null,null,null,null,null,null,null,null,null,null,null,null,null,null,null,null,null,null,null,null,null,null,null,null,null,null,null,null,null,null,null,null,null,null,null,null,null,null,null,null,null,null,null,null,null,null,null,null,null,null,null,null,null,null,null,null,null,0]
[null,null,null,null,null,null,null,null,null,null,null,null,null,null,null,null,null,null,null,null,null,null,null,null,null,null,null,null,null,null,null,null,null,null,null,null,null,null,null,null,null,null,null,null,null,null,null,null,null,null,null,null,null,null,null,null,null,null,null,null,null,null,null,null,null,null,null,null,null,null,null,null,null,null,null,null,null,null,null,null,0]
[null,null,null,null,null,null,null,null,null,null,null,null,null,null,null,null,null,null,null,null,null,null,null,null,null,null,null,null,null,null,null,null,null,null,null,null,null,null,null,null,null,null,null,null,null,null,null,null,null,null,null,null,null,null,null,null,null,null,null,null,null,null,null,null,null,null,null,null,null,null,null,null,null,null,null,null,null,null,null,null,0]
[null,null,null,null,null,null,null,null,null,null,null,null,null,null,null,null,null,null,null,null,null,null,null,null,null,null,null,null,null,null,null,null,null,null,null,null,null,null,null,null,null,null,null,null,null,null,null,null,null,null,null,null,null,null,null,null,null,null,null,null,null,null,null,null,null,null,null,null,null,null,null,null,null,null,null,null,null,null,null,null,0]
[null,null,null,null,null,null,null,null,null,null,null,null,null,null,null,null,null,null,null,null,null,null,null,null,null,null,null,null,null,null,null,null,null,null,null,null,null,null,null,null,null,null,null,null,null,null,null,null,null,null,null,null,null,null,null,null,null,null,null,null,null,null,null,null,null,null,null,null,null,null,null,null,null,null,null,null,null,null,null,null,0]
[null,null,null,null,null,null,null,null,null,null,null,null,null,null,null,null,null,null,null,null,null,null,null,null,null,null,null,null,null,null,null,null,null,null,null,null,null,null,null,null,null,null,null,null,null,null,null,null,null,null,null,null,null,null,null,null,null,null,null,null,null,null,null,null,null,null,null,null,null,null,null,null,null,null,null,null,null,null,null,null,0]
[null,null,null,null,null,null,null,null,null,null,null,null,null,null,null,null,null,null,null,null,null,null,null,null,null,null,null,null,null,null,null,null,null,null,null,null,null,null,null,null,null,null,null,null,null,null,null,null,null,null,null,null,null,null,null,null,null,null,null,null,null,null,null,null,null,null,null,null,null,null,null,null,null,null,null,null,null,null,null,null,0]
[null,null,null,null,null,null,null,null,null,null,null,null,null,null,null,null,null,null,null,null,null,null,null,null,null,null,null,null,null,null,null,null,null,null,null,null,null,null,null,null,null,null,null,null,null,null,null,null,null,null,null,null,null,null,null,null,null,null,null,null,null,null,null,null,null,null,null,null,null,null,null,null,null,null,null,null,null,null,null,null,0]
[null,null,null,null,null,null,null,null,null,null,null,null,null,null,null,null,null,null,null,null,null,null,null,null,null,null,null,null,null,null,null,null,null,null,null,null,null,null,null,null,null,null,null,null,null,null,null,null,null,null,null,null,null,null,null,null,null,null,null,null,null,null,null,null,null,null,null,null,null,null,null,null,null,null,null,null,null,null,null,null,0]
[null,null,null,null,null,null,null,null,null,null,null,null,null,null,null,null,null,null,null,null,null,null,null,null,null,null,null,null,null,null,null,null,null,null,null,null,null,null,null,null,null,null,null,null,null,null,null,null,null,null,null,null,null,null,null,null,null,null,null,null,null,null,null,null,null,null,null,null,null,null,null,null,null,null,null,null,null,null,null,null,0]
[null,null,null,null,null,null,null,null,null,null,null,null,null,null,null,null,null,null,null,null,null,null,null,null,null,null,null,null,null,null,null,null,null,null,null,null,null,null,null,null,null,null,null,null,null,null,null,null,null,null,null,null,null,null,null,null,null,null,null,null,null,null,null,null,null,null,null,null,null,null,null,null,null,null,null,null,null,null,null,null,0]
[null,null,null,null,null,null,null,null,null,null,null,null,null,null,null,null,null,null,null,null,null,null,null,null,null,null,null,null,null,null,null,null,null,null,null,null,null,null,null,null,null,null,null,null,null,null,null,null,null,null,null,null,null,null,null,null,null,null,null,null,null,null,null,null,null,null,null,null,null,null,null,null,null,null,null,null,null,null,null,null,0]
[null,null,null,null,null,null,null,null,null,null,null,null,null,null,null,null,null,null,null,null,null,null,null,null,null,null,null,null,null,null,null,null,null,null,null,null,null,null,null,null,null,null,null,null,null,null,null,null,null,null,null,null,null,null,null,null,null,null,null,null,null,null,null,null,null,null,null,null,null,null,null,null,null,null,null,null,null,null,null,null,0]
[null,null,null,null,null,null,null,null,null,null,null,null,null,null,null,null,null,null,null,null,null,null,null,null,null,null,null,null,null,null,null,null,null,null,null,null,null,null,null,null,null,null,null,null,null,null,null,null,null,null,null,null,null,null,null,null,null,null,null,null,null,null,null,null,null,null,null,null,null,null,null,null,null,null,null,null,null,null,null,null,0]
[null,null,null,null,null,null,null,null,null,null,null,null,null,null,null,null,null,null,null,null,null,null,null,null,null,null,null,null,null,null,null,null,null,null,null,null,null,null,null,null,null,null,null,null,null,null,null,null,null,null,null,null,null,null,null,null,null,null,null,null,null,null,null,null,null,null,null,null,null,null,null,null,null,null,null,null,null,null,null,null,0]
[null,null,null,null,null,null,null,null,null,null,null,null,null,null,null,null,null,null,null,null,null,null,null,null,null,null,null,null,null,null,null,null,null,null,null,null,null,null,null,null,null,null,null,null,null,null,null,null,null,null,null,null,null,null,null,null,null,null,null,null,null,null,null,null,null,null,null,null,null,null,null,null,null,null,null,null,null,null,null,null,0]
[null,null,null,null,null,null,null,null,null,null,null,null,null,null,null,null,null,null,null,null,null,null,null,null,null,null,null,null,null,null,null,null,null,null,null,null,null,null,null,null,null,null,null,null,null,null,null,null,null,null,null,null,null,null,null,null,null,null,null,null,null,null,null,null,null,null,null,null,null,null,null,null,null,null,null,null,null,null,null,null,0]
[null,null,null,null,null,null,null,null,null,null,null,null,null,null,null,null,null,null,null,null,null,null,null,null,null,null,null,null,null,null,null,null,null,null,null,null,null,null,null,null,null,null,null,null,null,null,null,null,null,null,null,null,null,null,null,null,null,null,null,null,null,null,null,null,null,null,null,null,null,null,null,null,null,null,null,null,null,null,null,null,0]
[null,null,null,null,null,null,null,null,null,null,null,null,null,null,null,null,null,null,null,null,null,null,null,null,null,null,null,null,null,null,null,null,null,null,null,null,null,null,null,null,null,null,null,null,null,null,null,null,null,null,null,null,null,null,null,null,null,null,null,null,null,null,null,null,null,null,null,null,null,null,null,null,null,null,null,null,null,null,null,null,0]
[null,null,null,null,null,null,null,null,null,null,null,null,null,null,null,null,null,null,null,null,null,null,null,null,null,null,null,null,null,null,null,null,null,null,null,null,null,null,null,null,null,null,null,null,null,null,null,null,null,null,null,null,null,null,null,null,null,null,null,null,null,null,null,null,null,null,null,null,null,null,null,null,null,null,null,null,null,null,null,null,0]
[null,null,null,null,null,null,null,null,null,null,null,null,null,null,null,null,null,null,null,null,null,null,null,null,null,null,null,null,null,null,null,null,null,null,null,null,null,null,null,null,null,null,null,null,null,null,null,null,null,null,null,null,null,null,null,null,null,null,null,null,null,null,null,null,null,null,null,null,null,null,null,null,null,null,null,null,null,null,null,null,0]
[null,null,null,null,null,null,null,null,null,null,null,null,null,null,null,null,null,null,null,null,null,null,null,null,null,null,null,null,null,null,null,null,null,null,null,null,null,null,null,null,null,null,null,null,null,null,null,null,null,null,null,null,null,null,null,null,null,null,null,null,null,null,null,null,null,null,null,null,null,null,null,null,null,null,null,null,null,null,null,null,0]
[null,null,null,null,null,null,null,null,null,null,null,null,null,null,null,null,null,null,null,null,null,null,null,null,null,null,null,null,null,null,null,null,null,null,null,null,null,null,null,null,null,null,null,null,null,null,null,null,null,null,null,null,null,null,null,null,null,null,null,null,null,null,null,null,null,null,null,null,null,null,null,null,null,null,null,null,null,null,null,null,0]
[null,null,null,null,null,null,null,null,null,null,null,null,null,null,null,null,null,null,null,null,null,null,null,null,null,null,null,null,null,null,null,null,null,null,null,null,null,null,null,null,null,null,null,null,null,null,null,null,null,null,null,null,null,null,null,null,null,null,null,null,null,null,null,null,null,null,null,null,null,null,null,null,null,null,null,null,null,null,null,null,0]
[null,null,null,null,null,null,null,null,null,null,null,null,null,null,null,null,null,null,null,null,null,null,null,null,null,null,null,null,null,null,null,null,null,null,null,null,null,null,null,null,null,null,null,null,null,null,null,null,null,null,null,null,null,null,null,null,null,null,null,null,null,null,null,null,null,null,null,null,null,null,null,null,null,null,null,null,null,null,null,null,0]
[null,null,null,null,null,null,null,null,null,null,null,null,null,null,null,null,null,null,null,null,null,null,null,null,null,null,null,null,null,null,null,null,null,null,null,null,null,null,null,null,null,null,null,null,null,null,null,null,null,null,null,null,null,null,null,null,null,null,null,null,null,null,null,null,null,null,null,null,null,null,null,null,null,null,null,null,null,null,null,null,0]
[null,null,null,null,null,null,null,null,null,null,null,null,null,null,null,null,null,null,null,null,null,null,null,null,null,null,null,null,null,null,null,null,null,null,null,null,null,null,null,null,null,null,null,null,null,null,null,null,null,null,null,null,null,null,null,null,null,null,null,null,null,null,null,null,null,null,null,null,null,null,null,null,null,null,null,null,null,null,null,null,0]
[null,null,null,null,null,null,null,null,null,null,null,null,null,null,null,null,null,null,null,null,null,null,null,null,null,null,null,null,null,null,null,null,null,null,null,null,null,null,null,null,null,null,null,null,null,null,null,null,null,null,null,null,null,null,null,null,null,null,null,null,null,null,null,null,null,null,null,null,null,null,null,null,null,null,null,null,null,null,null,null,0]
[null,null,null,null,null,null,null,null,null,null,null,null,null,null,null,null,null,null,null,null,null,null,null,null,null,null,null,null,null,null,null,null,null,null,null,null,null,null,null,null,null,null,null,null,null,null,null,null,null,null,null,null,null,null,null,null,null,null,null,null,null,null,null,null,null,null,null,null,null,null,null,null,null,null,null,null,null,null,null,null,0]
[null,null,null,null,null,null,null,null,null,null,null,null,null,null,null,null,null,null,null,null,null,null,null,null,null,null,null,null,null,null,null,null,null,null,null,null,null,null,null,null,null,null,null,null,null,null,null,null,null,null,null,null,null,null,null,null,null,null,null,null,null,null,null,null,null,null,null,null,null,null,null,null,null,null,null,null,null,null,null,null,0]
[null,null,null,null,null,null,null,null,null,null,null,null,null,null,null,null,null,null,null,null,null,null,null,null,null,null,null,null,null,null,null,null,null,null,null,null,null,null,null,null,null,null,null,null,null,null,null,null,null,null,null,null,null,null,null,null,null,null,null,null,null,null,null,null,null,null,null,null,null,null,null,null,null,null,null,null,null,null,null,null,0]
[null,null,null,null,null,null,null,null,null,null,null,null,null,null,null,null,null,null,null,null,null,null,null,null,null,null,null,null,null,null,null,null,null,null,null,null,null,null,null,null,null,null,null,null,null,null,null,null,null,null,null,null,null,null,null,null,null,null,null,null,null,null,null,null,null,null,null,null,null,null,null,null,null,null,null,null,null,null,null,null,0]
[null,null,null,null,null,null,null,null,null,null,null,null,null,null,null,null,null,null,null,null,null,null,null,null,null,null,null,null,null,null,null,null,null,null,null,null,null,null,null,null,null,null,null,null,null,null,null,null,null,null,null,null,null,null,null,null,null,null,null,null,null,null,null,null,null,null,null,null,null,null,null,null,null,null,null,null,null,null,null,null,0]
[null,null,null,null,null,null,null,null,null,null,null,null,null,null,null,null,null,null,null,null,null,null,null,null,null,null,null,null,null,null,null,null,null,null,null,null,null,null,null,null,null,null,null,null,null,null,null,null,null,null,null,null,null,null,null,null,null,null,null,null,null,null,null,null,null,null,null,null,null,null,null,null,null,null,null,null,null,null,null,null,0]
[]
[]
[]
[]
[]
[]
[]
[]
[]
[]
[]
[]
[]
[]
[]
[]
[]
[]
[]
[]
[]
[]
[]
[]
[]
[]
[]
[]
[]
[]
[]
[]
[]
[]
[]
[]
[]
[]
[]
[]
[]
[]
[]
[]
[]
[]
[]
[]
[]
[null,null,null,null,null,null,null,null,null,null,null,null,"+","-",",",",",",",",",",",",",",",3,"F","+","-",",",",",",",",",",",",",",",",",",",",",",",",",",",",",",",",",",",4,"F","+","-",",",",",",",",",",",",",",",",",",",",",",",",",",",",",",",",",",",4,"F","+","-",",",",",",",",",",",",",",",3,"F","+","-"]
[]
[]
[]
[]
[]
[]
[]
[]
[]
[]
[]
[]
[]
[]
[]
[]
[]
[]
[]
[]
[]
[]
[]
[]
[]
[]
[]
[]
[]
[]
[]
[]
[]
[]
[]
[]
[]
[]
[]
[]
[]
[]
[]
[]
[]
[]
[]
[]
[]
[]
[]
[]
[]
[]
[]
[]
[]
[]
[]
[]
[]
[]
[]
[]
[]
[]
[]
[]
[]
[]
[]
[]
[]
[]
[]
[]
[]
[]
[]
[]
[]
[]
[]
[]
[]
[]
[]
[]
[]
[]
[]
[]
[]
[]
[]
[]
[]
[]
[]
[null,null,null,null,null,null,null,null,null,null,null,null,"+","-",",",",",",",",",",",",",",",3,"F","+","-",",",",",",",",",",",",",",",",",",",",",",",",",",",",",",",",",",",4,"F","+","-",",",",",",",",",",",",",",",",",",",",",",",",",",",",",",",",",",",4,"F","+","-",",",",",",",",",",",",",",",3,"F","+","-"]
[]
[]
[]
[]
[]
[]
[]
[]
[]
[]
[]
[]
[]
[]
[]
[]
[]
[]
[]
[]
[]
[]
[]
[]
[]
[]
[]
[]
[]
[]
[]
[]
[]
[]
[]
[]
[]
[]
[]
[]
[]
[]
[]
[]
[]
[]
[]
[]
[]
[]
[]
[]
[]
[]
[]
[]
[]
[]
[]
[]
[]
[]
[]
[]
[]
[]
[]
[]
[]
[]
[]
[]
[]
[]
[]
[]
[]
[]
[]
[]
[]
[]
[]
[]
[]
[]
[null,null,null,null,null,null,null,null,null,null,null,"PROYECTO REMDIZ"]
[]
[]
[]
[]
[]
[]
[]
[]
[]
[]
[]
[]
[null,null,null,null,null,null,null,null,null,null,null,null,"+","-",",",",",",",",",",",",",",",3,"F","+","-",",",",",",",",",",",",",",",",",",",",",",",",",",",",",",",",",",",4,"F","+","-",",",",",",",",",",",",",",",",",",",",",",",",",",",",",",",",",",",4,"F","+","-",",",",",",",",",",",",",",",3,"F","+","-"]
[]
[]
[]
[]
[]
[]
[]
[]
[]
[]
[]
[]
[]
[]
[]
[]
[]
[]
[]
[]
[]
[]
[]
[]
[]
[]
[]
[]
[]
[]
[]
[]
[]
[]
[]
[]
[]
[]
[]
[]
[]
[]
[]
[]
[]
[]
[]
[]
[]
[]
[]
[]
[]
[]
[]
[]
[]
[]
[]
[]
[]
[]
[]
[]
[]
[]
[]
[]
[]
[]
[]
[]
[]
[]
[]
[]
[]
[]
[]
[]
[]
[]
[]
[]
[]
[]
[]
[]
[]
[]
[]
[]
[]
[]
[]
[]
[]
[]
[]
[null,null,null,null,null,null,null,null,null,null,null,null,"+","-",",",",",",",",",",",",",",",3,"F","+","-",",",",",",",",",",",",",",",",",",",",",",",",",",",",",",",",",",",4,"F","+","-",",",",",",",",",",",",",",",",",",",",",",",",",",",",",",",",",",",4,"F","+","-",",",",",",",",",",",",",",",3,"F","+","-"]
[]
[]
[]
[]
[]
[]
[]
[]
[]
[]
[]
[]
[]
[]
[]
[]
[]
[]
[]
[]
[]
[]
[]
[]
[]
[]
[]
[]
[]
[]
[]
[]
[]
[]
[]
[]
[]
[]
[]
[]
[]
[]
[]
[]
[]
[]
[]
[]
[]
[]
[]
[]
[]
[]
[]
[]
[]
[]
[]
[]
[]
[]
[]
[]
[]
[]
[]
[]
[]
[]
[]
[]
[]
[]
[]
[]
[]
[]
[]
[]
[]
[]
[]
[]
[]
[]
[]
[]
[]
[]
[]
[]
[]
[]
[]
[]
[]
[]
[]
[null,null,null,null,null,null,null,null,null,null,null,null,"+","-",",",",",",",",",",",",",",",3,"F","+","-",",",",",",",",",",",",",",",",",",",",",",",",",",",",",",",",",",",4,"F","+","-",",",",",",",",",",",",",",",",",",",",",",",",",",",",",",",",",",",4,"F","+","-",",",",",",",",",",",",",",",3,"F","+","-"]
[]
[]
[]
[]
[]
[]
[]
[]
[]
[]
[]
[]
[]
[]
[]
[]
[]
[]
[]
[]
[]
[]
[]
[]
[]
[]
[]
[]
[]
[]
[]
[]
[]
[]
[]
[]
[]
[]
[]
[]
[]
[]
[]
[]
[]
[]
[]
[]
[]
[]
[]
[]
[]
[]
[]
[]
[]
[]
[]
[]
[]
[]
[]
[]
[]
[]
[]
[]
[]
[]
[]
[]
[]
[]
[]
[]
[]
[]
[]
[]
[]
[]
[]
[]
[]
[]
[]
[]
[]
[]
[]
[]
[]
[]
[]
[]
[]
[]
[]
[null,null,null,null,null,null,null,null,null,null,null,null,"+","-",",",",",",",",",",",",",",",3,"F","+","-",",",",",",",",",",",",",",",",",",",",",",",",",",",",",",",",",",",4,"F","+","-",",",",",",",",",",",",",",",",",",",",",",",",",",",",",",",",",",",4,"F","+","-",",",",",",",",",",",",",",",3,"F","+","-"]
[]
[]
[]
[]
[]
[]
[]
[]
[]
[]
[]
[]
[]
[]
[]
[]
[]
[]
[]
[]
[]
[]
[]
[]
[]
[]
[]
[]
[]
[]
[]
[]
[]
[]
[]
[]
[]
[]
[]
[]
[]
[]
[]
[]
[]
[]
[]
[]
[]
[]
[]
[]
[]
[]
[]
[]
[]
[]
[]
[]
[]
[]
[]
[]
[]
[]
[]
[]
[]
[]
[]
[]
[]
[]
[]
[]
[]
[]
[]
[]
[]
[]
[]
[]
[]
[]
[]
[]
[]
[]
[]
[]
[]
[]
[]
[]
[]
[]
[]
[null,null,null,null,null,null,null,null,null,null,null,null,"+","-",",",",",",",",",",",",",",",3,"F","+","-",",",",",",",",",",",",",",",",",",",",",",",",",",",",",",",",",",",4,"F","+","-",",",",",",",",",",",",",",",",",",",",",",",",",",",",",",",",",",",4,"F","+","-",",",",",",",",",",",",",",",3,"F","+","-"]
[]
[]
[]
[]
[]
[]
[]
[]
[]
[]
[]
[]
[]
[]
[]
[]
[]
[]
[]
[]
[]
[]
[]
[]
[]
[]
[]
[]
[]
[]
[]
[]
[]
[]
[]
[]
[]
[]
[]
[]
[]
[]
[]
[]
[]
[]
[]
[]
[]
[]
[]
[]
[]
[]
[]
[]
[]
[]
[]
[]
[]
[]
[]
[]
[]
[]
[]
[]
[]
[]
[]
[]
[]
[]
[]
[]
[]
[]
[]
[]
[]
[]
[]
[]
[]
[]
[]
[]
[]
[]
[]
[]
[]
[]
[]
[]
[]
[]
[]
[null,null,null,null,null,null,null,null,null,null,null,null,"+","-",",",",",",",",",",",",",",",3,"F","+","-",",",",",",",",",",",",",",",",",",",",",",",",",",",",",",",",",",",4,"F","+","-",",",",",",",",",",",",",",",",",",",",",",",",",",",",",",",",",",",4,"F","+","-",",",",",",",",",",",",",",",3,"F","+","-"]
[]
[]
[]
[]
[]
[]
[]
[]
[]
[]
[]
[]
[]
[]
[]
[]
[]
[]
[]
[]
[]
[]
[]
[]
[]
[]
[]
[]
[]
[]
[]
[]
[]
[]
[]
[]
[]
[]
[]
[]
[]
[]
[]
[]
[]
[]
[]
[]
[]
[]
[]
[]
[]
[]
[]
[]
[]
[]
[]
[]
[]
[]
[]
[]
[]
[]
[]
[]
[]
[]
[]
[]
[]
[]
[]
[]
[]
[]
[]
[]
[]
[]
[]
[]
[]
[]
[]
[]
[]
[]
[]
[]
[]
[]
[]
[]
[]
[]
[]
[null,null,null,null,null,null,null,null,null,null,null,null,"+","-",",",",",",",",",",",",",",",3,"F","+","-",",",",",",",",",",",",",",",",",",",",",",",",",",",",",",",",",",",4,"F","+","-",",",",",",",",",",",",",",",",",",",",",",",",",",",",",",",",",",",4,"F","+","-",",",",",",",",",",",",",",",3,"F","+","-"]
[]
[]
[]
[]
[]
[]
[]
[]
[]
[]
[]
[]
[]
[]
[]
[]
[]
[]
[]
[]
[]
[]
[]
[]
[]
[]
[]
[]
[]
[]
[]
[]
[]
[]
[]
[]
[]
[]
[]
[]
[]
[]
[]
[]
[]
[]
[]
[]
[]
[]
[]
[]
[]
[]
[]
[]
[]
[]
[]
[]
[]
[]
[]
[]
[]
[]
[]
[]
[]
[]
[]
[]
[]
[]
[]
[]
[]
[]
[]
[]
[]
[]
[]
[]
[]
[]
[]
[]
[]
[]
[]
[]
[]
[]
[]
[]
[]
[]
[]
[null,null,null,null,null,null,null,null,null,null,null,null,"+","-",",",",",",",",",",",",",",",3,"F","+","-",",",",",",",",",",",",",",",",",",",",",",",",",",",",",",",",",",",4,"F","+","-",",",",",",",",",",",",",",",",",",",",",",",",",",",",",",",",",",",4,"F","+","-",",",",",",",",",",",",",",",3,"F","+","-"]
[]
[]
[]
[]
[]
[]
[]
[]
[]
[]
[]
[]
[]
[]
[]
[]
[]
[]
[]
[]
[]
[]
[]
[]
[]
[]
[]
[]
[]
[]
[]
[]
[]
[]
[]
[]
[]
[]
[]
[]
[]
[]
[]
[]
[]
[]
[]
[]
[]
[]
[]
[]
[]
[]
[]
[]
[]
[]
[]
[]
[]
[]
[]
[]
[]
[]
[]
[]
[]
[]
[]
[]
[]
[]
[]
[]
[]
[]
[]
[]
[]
[]
[]
[]
[]
[]
[]
[]
[]
[]
[]
[]
[]
[]
[]
[]
[]
[]
[]
[null,null,null,null,null,null,null,null,null,null,null,null,"+","-",",",",",",",",",",",",",",",3,"F","+","-",",",",",",",",",",",",",",",",",",",",",",",",",",",",",",",",",",",4,"F","+","-",",",",",",",",",",",",",",",",",",",",",",",",",",",",",",",",",",",4,"F","+","-",",",",",",",",",",",",",",",3,"F","+","-"]
[]
[]
[]
[]
[]
[]
[]
[]
[]
[]
[]
[]
[]
[]
[]
[]
[]
[]
[]
[]
[]
[]
[]
[]
[]
[]
[]
[]
[]
[]
[]
[]
[]
[]
[]
[]
[]
[]
[]
[]
[]
[]
[]
[]
[]
[]
[]
[]
[]
[]
[]
[]
[]
[]
[]
[]
[]
[]
[]
[]
[]
[]
[]
[]
[]
[]
[]
[]
[]
[]
[]
[]
[]
[]
[]
[]
[]
[]
[]
[]
[]
[]
[]
[]
[]
[]
[]
[]
[]
[]
[]
[]
[]
[]
[]
[]
[]
[]
[]
[null,null,null,null,null,null,null,null,null,null,null,null,"+","-",",",",",",",",",",",",",",",3,"F","+","-",",",",",",",",",",",",",",",",",",",",",",",",",",",",",",",",",",",4,"F","+","-",",",",",",",",",",",",",",",",",",",",",",",",",",",",",",",",",",",4,"F","+","-",",",",",",",",",",",",",",",3,"F","+","-"]
[]
[]
[]
[]
[]
[]
[]
[]
[]
[]
[]
[]
[]
[]
[]
[]
[]
[]
[]
[]
[]
[]
[]
[]
[]
[]
[]
[]
[]
[]
[]
[]
[]
[]
[]
[]
[]
[]
[]
[]
[]
[]
[]
[]
[]
[]
[]
[]
[]
[]
[]
[]
[]
[]
[]
[]
[]
[]
[]
[]
[]
[]
[]
[]
[]
[]
[]
[]
[]
[]
[]
[]
[]
[]
[]
[]
[]
[]
[]
[]
[]
[]
[]
[]
[]
[]
[]
[]
[]
[]
[]
[]
[]
[]
[]
[]
[]
[]
[]
[null,null,null,null,null,null,null,null,null,null,null,null,"+","-",",",",",",",",",",",",",",",3,"F","+","-",",",",",",",",",",",",",",",",",",",",",",",",",",",",",",",",",",",4,"F","+","-",",",",",",",",",",",",",",",",",",",",",",",",",",",",",",",",",",",4,"F","+","-",",",",",",",",",",",",",",",3,"F","+","-"]
[]
[]
[]
[]
[]
[]
[]
[]
[]
[]
[]
[]
[]
[]
[]
[]
[]
[]
[]
[]
[]
[]
[]
[]
[]
[]
[]
[]
[]
[]
[]
[]
[]
[]
[]
[]
[]
[]
[]
[]
[]
[]
[]
[]
[]
[]
[]
[]
[]
[]
[]
[]
[]
[]
[]
[]
[]
[]
[]
[]
[]
[]
[]
[]
[]
[]
[]
[]
[]
[]
[]
[]
[]
[]
[]
[]
[]
[]
[]
[]
[]
[]
[]
[]
[]
[]
[]
[]
[]
[]
[]
[]
[]
[]
[]
[]
[]
[]
[]
[null,null,null,null,null,null,null,null,null,null,null,null,"+","-",",",",",",",",",",",",",",",3,"F","+","-",",",",",",",",",",",",",",",",",",",",",",",",",",",",",",",",",",",4,"F","+","-",",",",",",",",",",",",",",",",",",",",",",",",",",",",",",",",",",",4,"F","+","-",",",",",",",",",",",",",",",3,"F","+","-"]

{"sheet":"valB2","index":5,"n_rows":2120,"n_cols":289,"rows_kept":2120,"cut":false,"hidden":true,"merged":[[1,10,1,74],[1,80,1,81],[2,11,2,47],[2,64,2,67],[3,11,3,47],[3,65,3,66],[4,11,4,47],[4,64,4,67],[5,11,5,47],[5,65,5,66],[5,89,7,89],[6,11,6,47],[6,64,6,67],[7,11,7,47],[7,64,7,65],[7,66,8,67],[8,11,8,47],[8,64,8,65],[15,81,18,81],[17,17,17,21],[17,22,18,22],[17,23,17,27],[17,28,17,32],[15,83,19,83],[15,84,19,84],[15,85,19,85],[15,86,19,86],[16,12,16,22],[16,23,16,43],[16,44,16,64],[16,65,16,75],[16,76,16,79],[17,12,17,16],[15,82,19,82],[17,79,18,79],[17,75,18,75],[17,76,17,78],[15,12,15,79],[15,80,18,80],[24,10,24,11],[17,59,17,63],[17,64,18,64],[17,65,17,69],[17,70,17,74],[17,33,17,37],[17,38,17,42],[17,43,18,43],[17,44,17,48],[17,49,17,53],[17,54,17,58],[20,10,20,11],[21,10,21,11],[22,10,22,11],[23,10,23,11],[36,10,36,11],[25,10,25,11],[26,10,26,11],[27,10,27,11],[28,10,28,11],[29,10,29,11],[30,10,30,11],[31,10,31,11],[32,10,32,11],[33,10,33,11],[34,10,34,11],[35,10,35,11],[48,10,48,11],[37,10,37,11],[38,10,38,11],[39,10,39,11],[40,10,40,11],[41,10,41,11],[42,10,42,11],[43,10,43,11],[44,10,44,11],[45,10,45,11],[46,10,46,11],[47,10,47,11],[60,10,60,11],[49,10,49,11],[50,10,50,11],[51,10,51,11],[52,10,52,11],[53,10,53,11],[54,10,54,11],[55,10,55,11],[56,10,56,11],[57,10,57,11],[58,10,58,11],[59,10,59,11],[67,10,67,11],[68,10,68,11],[69,10,69,11],[61,10,61,11],[62,10,62,11],[63,10,63,11],[64,10,64,11],[65,10,65,11],[66,10,66,11]]}
["S"]
[null,null,null,null,null,"\u0081",null,null,null,null,"REGISTRO DE VALORACIÓN  2do.  TRIMESTRE ",null,null,null,null,null,null,null,null,null,null,null,null,null,null,null,null,null,null,null,null,null,null,null,null,null,null,null,null,null,null,null,null,null,null,null,null,null,null,null,null,null,null,null,null,null,null,null,null,null,null,null,null,null,null,null,null,null,null,null,null,null,null,null,null,"\u0082",null,null,null,null,"GESTION 2023",null,null,null,null,null,null,"Ξ"]
[null,null,null,null,null,null,{"$f":"datpro!$E$6","v":0},"sie",null,null,"UNIDAD EDUCATIVA ",{"$f":"IF(datpro!$E$7=\"\",\"\",datpro!$E$7)","v":""},null,null,null,null,null,null,null,null,null,null,null,null,null,null,null,null,null,null,null,null,null,null,null,null,null,null,null,null,null,null,null,null,null,null,null,null,null,null,null,null,null,null,null,null,null,null,null,null,null,null,null,null,{"$f":"CONCATENATE(datpro!H24,\"S\")","v":"APROBADOS"},null,null,null,null,null,null,null,null,null,null,null,null,null,null,null,null,null,null,null,null,null,null,"Cerrar"]
[null,null,null,null,null,null,{"$f":"datpro!$M$14","v":50},"nroes",null,null,"NIVEL ",{"$f":"datpro!$E$10","v":""},null,null,null,null,null,null,null,null,null,null,null,null,null,null,null,null,null,null,null,null,null,null,null,null,null,null,null,null,null,null,null,null,null,null,null,null,null,null,null,null,null,null,null,null,null,null,null,null,null,null,null,null,{"$f":"COUNTIF(CC21:CC70,\">=50,500\")","v":0},{"$f":"IF(BM4=0,0,ROUND((BM4*100)/(BM4+BM6),0))","v":0},null,"%",null,null,null,null,null,null,null,null,null,null,null,null,null,null,null,null,null,null,null,"u"]
[null,null,null,null,null,null,{"$f":"datpro!$C$12","v":"S"},"curso",null,null,"AÑO DE ESCOLARIDAD",{"$f":"CONCATENATE( datpro!$E$11,\"  -  \",datpro!$E$12)","v":"  -  "},null,null,null,null,null,null,null,null,null,null,null,null,null,null,null,null,null,null,null,null,null,null,null,null,null,null,null,null,null,null,null,null,null,null,null,null,null,null,null,null,null,null,null,null,null,null,null,null,null,null,null,null,{"$f":"CONCATENATE(datpro!H25,\"S\")","v":"RETENIDOS"}]
[null,null,null,null,null,null,{"$f":"DAY(TODAY())","v":6},"dia",null,null,"DIRECTORA/OR",{"$f":"IF(datpro!$E$8=\"\",\"\",datpro!$E$8)","v":""},null,null,null,null,null,null,null,null,null,null,null,null,null,null,null,null,null,null,null,null,null,null,null,null,null,null,null,null,null,null,null,null,null,null,null,null,null,null,null,null,null,null,null,null,null,null,null,null,null,null,null,null,{"$f":"COUNTIFS(CC21:CC70,\">=1\",CC21:CC70,\"<=50,499\")","v":0},{"$f":"IF(BM4=0,0,ROUND((BM6*100)/(BM4+BM6),0))","v":0},null,"%"]
[null,null,null,null,null,null,{"$f":"MONTH(TODAY())","v":3},"mes",null,null,"MAESTRA/O",{"$f":"IF(datpro!$E$9=\"\",\"\",datpro!$E$9)","v":""},null,null,null,null,null,null,null,null,null,null,null,null,null,null,null,null,null,null,null,null,null,null,null,null,null,null,null,null,null,null,null,null,null,null,null,null,null,null,null,null,null,null,null,null,null,null,null,null,null,null,null,null,{"$f":"IF(datpro!$M$4=\"\",\"\",TODAY())","v":"2023-03-06"}]
[null,null,null,null,null,null,"T2","tri",null,null,"CAMPO ",{"$f":"IF(datpro!$E$13=\"\",\"\",datpro!$E$13)","v":""},null,null,null,null,null,null,null,null,null,null,null,null,null,null,null,null,null,null,null,null,null,null,null,null,null,null,null,null,null,null,null,null,null,null,null,null,null,null,null,null,null,null,null,null,null,null,null,null,null,null,null,null,{"$f":"IF(datpro!$M$4=\"\",\"\",datpro!$I$4)","v":"2023-02-01"},null,{"$f":"datpro!$M$4","v":55}]
[null,null,null,null,null,null,{"$f":"datpro!$E$15","v":""},"codarea",null,null,"ÁREA",{"$f":"IF(datpro!$E$14=\"\",\"\",datpro!$E$14)","v":0},null,null,null,null,null,null,null,null,null,null,null,null,null,null,null,null,null,null,null,null,null,null,null,null,null,null,null,null,null,null,null,null,null,null,null,null,null,null,null,null,null,null,null,null,null,null,null,null,null,null,null,null,{"$f":"IF(datpro!$M$4=\"\",\"\",datpro!$K$4)","v":"2023-04-30"}]
[]
[]
[]
[null,null,null,null,null,null,null,null,null,null,null,null,"M","N","O","P","Q","R","S","T","U","V",null,"X","Y","Z","AA","AB","AC","AD","AE","AF","AG","AH","AI","AJ","AK","AL","AM","AN","AO","AP","AQ",null,"AS","AT","AU","AV","AW","AX","AY","AZ","BA","BB","BC","BD","BE","BF","BG","BH","BI","NJ","BK","BL",null,"BN","BO","BP","BQ","BR","BS","BT","BU","BV","BW"]
[]
[null,null,null,null,null,null,"F21:CD70","CD",null,null,null,null,"+","-",",",",",",",",",",",",",",",3,"F","+","-",",",",",",",",",",",",",",",",",",",",",",",",",",",",",",",",",",",4,"F","+","-",",",",",",",",",",",",",",",",",",",",",",",",",",",",",",",",",",",4,"F","+","-",",",",",",",",",",",",",",",3,"F","+","-"]
[null,null,null,null,null,"+",null,null,null,null,null,"+","DIMENSIONES",null,null,null,null,null,null,null,null,null,null,null,null,null,null,null,null,null,null,null,null,null,null,null,null,null,null,null,null,null,null,null,null,null,null,null,null,null,null,null,null,null,null,null,null,null,null,null,null,null,null,null,null,null,null,null,null,null,null,null,null,null,null,null,null,null,null,null,"NOTA TOTAL  DEL TRIMESTRE","SITUACIÓN TRIMESTRAL"]
[null,null,null,null,null,"-",null,null,null,null,null,"-","SER (10)",null,null,null,null,null,null,null,null,null,null,"SABER (35)",null,null,null,null,null,null,null,null,null,null,null,null,null,null,null,null,null,null,null,null,"HACER (35)",null,null,null,null,null,null,null,null,null,null,null,null,null,null,null,null,null,null,null,null,"DEC(10)",null,null,null,null,null,null,null,null,null,null,"AUT(10)"]
[null,null,null,null,null,null,null,null,null,null,null,"CRIT. DE EVALUACION",null,null,null,null,null,null,null,null,null,null,"PROMEDIO SER",null,null,null,null,null,null,null,null,null,null,null,null,null,null,null,null,null,null,null,null,"PROMEDIO SABER",null,null,null,null,null,null,null,null,null,null,null,null,null,null,null,null,null,null,null,null,"PROMEDIO HACER",null,null,null,null,null,null,null,null,null,null,"PROMEDIO SER - DECIDIR",null,null,null,"PROMEDIO AUTO EVALUACION"]
[null,null,null,null,null,null,null,null,null,null,null,"ACTIVIDADES",null,null,null,null,null,null,null,null,null,null,null,null,null,null,null,null,null,null,null,null,null,null,null,null,null,null,null,null,null,null,null,null,null,null,null,null,null,null,null,null,null,null,null,null,null,null,null,null,null,null,null,null,null,null,null,null,null,null,null,null,null,null,null,null,null,null,null,null,null,null,null,null,null,null,null,null,null,null,null,null,{"$f":"X19","v":0},{"$f":"Y19","v":0},0,0,0,0,0,0,0,0,0,0,0,0,0,0,0,0,0,0,0,0,0,0,0,0,0,0,0,0,0,0,0,0,0,0,0,0,0,0,0,0,0,0,0,0,0,0,0,0,0,0,0,0,0,0,0,0,0,0,0,0,0,0,0,{"$f":"CK19","v":0},0,0,0,0,0,0,0,0,0,0,0,0,0,0,0,0,0,0,0,0,0,0,0,0,0,0,0,0,0,0,0,0,0,0,0,0,0,0,0,0,0,0,0,0,0,0,0,0,0,0,0,0,0,0,0,0,0,0,0,0]
[null,null,null,null,null,"Nº","codigo","sexo",null,"COD","APELLIDOS Y NOMBRES","=","+","-",",",",",",",",",",",",",",",3,"Ì","+","-",",",",",",",",",",",",",",",",",",",",",",",",",",",",",",",",",",",4,"Ì","+","-",",",",",",",",",",",",",",",",",",",",",",",",",",",",",",",",",",",4,"Ì","+","-",",",",",",",",",",",",",",",3,"Ì","+","-",".",".","Ì",null,null,null,null,null,null,null,8,"Tamaño de fuente (8..16)",null,null,null,null,null,null,null,null,null,null,null,null,null,null,null,null,null,null,null,null,null,null,null,null,null,null,null,null,null,null,null,null,null,null,null,null,null,null,null,null,null,null,null,null,null,null,null,null,null,null,null,null,null,null,null,null,null,null,null,null,null,null,null,null,null,null,null,null,null,null,null,null,null,null,null,null,null,null,null,null,null,null,null,null,null,null,null,null,null,null,null,null,null,null,null,null,null,null,null,null,null,null,null,null,null,null,null,null,null,null,null,null,null,null,null,null,null,null,null,null,null,null,null,null,null,null,null,null,null,null,null,null,null,null,null,null,null,null,null,null,null,null,null,null,null,null,null,null,null,null,null,null,null,null,null,null,null,null,null,null,null,null,null,null,null,null,null,null,null,null,null,null,null,null,null,null,null,null,null,null,null,null,null,null,null,null,null,null,null,null,null,null,null,null,null,null,null,null,8]
[null,null,null,null,null,null,null,null,null,null,null,null,null,null,null,null,null,null,null,null,null,null,null,null,null,null,null,null,null,null,null,null,null,null,null,null,null,null,null,null,null,null,null,null,null,null,null,null,null,null,null,null,null,null,null,null,null,null,null,null,null,null,null,null,null,null,null,null,null,null,null,null,null,null,null,null,null,null,null,{"$f":"IF(BY21>0,BY21+BZ21,\"\")","v":""},null,{"$f":"IF(CC21=\"\",\"\",IF(CC21<50.5,datpro!$H$25,datpro!$H$24))","v":""},null,null,null,null,null,null,11,"Alto de Fila (10..20)",null,null,null,null,null,null,null,null,null,null,null,null,null,null,null,null,null,null,null,null,null,null,null,null,null,null,null,null,null,null,null,null,null,null,null,null,null,null,null,null,null,null,null,null,null,null,null,null,null,null,null,null,null,null,null,null,null,null,null,null,null,null,null,null,null,null,null,null,null,null,null,null,null,null,null,null,null,null,null,null,null,null,null,null,null,null,null,null,null,null,null,null,null,null,null,null,null,null,null,null,null,null,null,null,null,null,null,null,null,null,null,null,null,null,null,null,null,null,null,null,null,null,null,null,null,null,null,null,null,null,null,null,null,null,null,null,null,null,null,null,null,null,null,null,null,null,null,null,null,null,null,null,null,null,null,null,null,null,null,null,null,null,null,null,null,null,null,null,null,null,null,null,null,null,null,null,null,null,null,null,null,null,null,null,null,null,null,null,null,null,null,null,null,null,null,null,null,null,11]
[null,null,null,null,null,null,null,null,null,null,null,null,null,null,null,null,null,null,null,null,null,null,null,null,null,null,null,null,null,null,null,null,null,null,null,null,null,null,null,null,null,null,null,null,null,null,null,null,null,null,null,null,null,null,null,null,null,null,null,null,null,null,null,null,null,null,null,null,null,null,null,null,null,null,null,null,null,null,null,"",null,{"$f":"IF(CC22=\"\",\"\",IF(CC22<50.5,datpro!$H$25,datpro!$H$24))","v":""},null,null,null,null,null,null,2,"Ancho de Columna (1..7) Modos",null,null,null,null,null,null,null,null,null,null,null,null,null,null,null,null,null,null,null,null,null,null,null,null,null,null,null,null,null,null,null,null,null,null,null,null,null,null,null,null,null,null,null,null,null,null,null,null,null,null,null,null,null,null,null,null,null,null,null,null,null,null,null,null,null,null,null,null,null,null,null,null,null,null,null,null,null,null,null,null,null,null,null,null,null,null,null,null,null,null,null,null,null,null,null,null,null,null,null,null,null,null,null,null,null,null,null,null,null,null,null,null,null,null,null,null,null,null,null,null,null,null,null,null,null,null,null,null,null,null,null,null,null,null,null,null,null,null,null,null,null,null,null,null,null,null,null,null,null,null,null,null,null,null,null,null,null,null,null,null,null,null,null,null,null,null,null,null,null,null,null,null,null,null,null,null,null,null,null,null,null,null,null,null,null,null,null,null,null,null,null,null,null,null,null,null,null,null,1]
[null,null,null,null,null,null,null,null,null,null,null,null,null,null,null,null,null,null,null,null,null,null,null,null,null,null,null,null,null,null,null,null,null,null,null,null,null,null,null,null,null,null,null,null,null,null,null,null,null,null,null,null,null,null,null,null,null,null,null,null,null,null,null,null,null,null,null,null,null,null,null,null,null,null,null,null,null,null,null,"",null,{"$f":"IF(CC23=\"\",\"\",IF(CC23<50.5,datpro!$H$25,datpro!$H$24))","v":""}]
[null,null,null,null,null,null,null,null,null,null,null,null,null,null,null,null,null,null,null,null,null,null,null,null,null,null,null,null,null,null,null,null,null,null,null,null,null,null,null,null,null,null,null,null,null,null,null,null,null,null,null,null,null,null,null,null,null,null,null,null,null,null,null,null,null,null,null,null,null,null,null,null,null,null,null,null,null,null,null,"",null,{"$f":"IF(CC24=\"\",\"\",IF(CC24<50.5,datpro!$H$25,datpro!$H$24))","v":""},null,null,null,null,null,null,null,"©  2023"]
[null,null,null,null,null,null,null,null,null,null,null,null,null,null,null,null,null,null,null,null,null,null,null,null,null,null,null,null,null,null,null,null,null,null,null,null,null,null,null,null,null,null,null,null,null,null,null,null,null,null,null,null,null,null,null,null,null,null,null,null,null,null,null,null,null,null,null,null,null,null,null,null,null,null,null,null,null,null,null,"",null,{"$f":"IF(CC25=\"\",\"\",IF(CC25<50.5,datpro!$H$25,datpro!$H$24))","v":""},null,null,null,null,null,null,null,"PROYECTO REMDIZ"]
[null,null,null,null,null,null,null,null,null,null,null,null,null,null,null,null,null,null,null,null,null,null,null,null,null,null,null,null,null,null,null,null,null,null,null,null,null,null,null,null,null,null,null,null,null,null,null,null,null,null,null,null,null,null,null,null,null,null,null,null,null,null,null,null,null,null,null,null,null,null,null,null,null,null,null,null,null,null,null,"",null,{"$f":"IF(CC26=\"\",\"\",IF(CC26<50.5,datpro!$H$25,datpro!$H$24))","v":""}]
[null,null,null,null,null,null,null,null,null,null,null,null,null,null,null,null,null,null,null,null,null,null,null,null,null,null,null,null,null,null,null,null,null,null,null,null,null,null,null,null,null,null,null,null,null,null,null,null,null,null,null,null,null,null,null,null,null,null,null,null,null,null,null,null,null,null,null,null,null,null,null,null,null,null,null,null,null,null,null,"",null,{"$f":"IF(CC27=\"\",\"\",IF(CC27<50.5,datpro!$H$25,datpro!$H$24))","v":""}]
[null,null,null,null,null,null,null,null,null,null,null,null,null,null,null,null,null,null,null,null,null,null,null,null,null,null,null,null,null,null,null,null,null,null,null,null,null,null,null,null,null,null,null,null,null,null,null,null,null,null,null,null,null,null,null,null,null,null,null,null,null,null,null,null,null,null,null,null,null,null,null,null,null,null,null,null,null,null,null,"",null,{"$f":"IF(CC28=\"\",\"\",IF(CC28<50.5,datpro!$H$25,datpro!$H$24))","v":""}]
[null,null,null,null,null,null,null,null,null,null,null,null,null,null,null,null,null,null,null,null,null,null,null,null,null,null,null,null,null,null,null,null,null,null,null,null,null,null,null,null,null,null,null,null,null,null,null,null,null,null,null,null,null,null,null,null,null,null,null,null,null,null,null,null,null,null,null,null,null,null,null,null,null,null,null,null,null,null,null,"",null,{"$f":"IF(CC29=\"\",\"\",IF(CC29<50.5,datpro!$H$25,datpro!$H$24))","v":""}]
[null,null,null,null,null,null,null,null,null,null,null,null,null,null,null,null,null,null,null,null,null,null,null,null,null,null,null,null,null,null,null,null,null,null,null,null,null,null,null,null,null,null,null,null,null,null,null,null,null,null,null,null,null,null,null,null,null,null,null,null,null,null,null,null,null,null,null,null,null,null,null,null,null,null,null,null,null,null,null,"",null,{"$f":"IF(CC30=\"\",\"\",IF(CC30<50.5,datpro!$H$25,datpro!$H$24))","v":""}]
[null,null,null,null,null,null,null,null,null,null,null,null,null,null,null,null,null,null,null,null,null,null,null,null,null,null,null,null,null,null,null,null,null,null,null,null,null,null,null,null,null,null,null,null,null,null,null,null,null,null,null,null,null,null,null,null,null,null,null,null,null,null,null,null,null,null,null,null,null,null,null,null,null,null,null,null,null,null,null,"",null,{"$f":"IF(CC31=\"\",\"\",IF(CC31<50.5,datpro!$H$25,datpro!$H$24))","v":""}]
[null,null,null,null,null,null,null,null,null,null,null,null,null,null,null,null,null,null,null,null,null,null,null,null,null,null,null,null,null,null,null,null,null,null,null,null,null,null,null,null,null,null,null,null,null,null,null,null,null,null,null,null,null,null,null,null,null,null,null,null,null,null,null,null,null,null,null,null,null,null,null,null,null,null,null,null,null,null,null,"",null,{"$f":"IF(CC32=\"\",\"\",IF(CC32<50.5,datpro!$H$25,datpro!$H$24))","v":""}]
[null,null,null,null,null,null,null,null,null,null,null,null,null,null,null,null,null,null,null,null,null,null,null,null,null,null,null,null,null,null,null,null,null,null,null,null,null,null,null,null,null,null,null,null,null,null,null,null,null,null,null,null,null,null,null,null,null,null,null,null,null,null,null,null,null,null,null,null,null,null,null,null,null,null,null,null,null,null,null,"",null,{"$f":"IF(CC33=\"\",\"\",IF(CC33<50.5,datpro!$H$25,datpro!$H$24))","v":""}]
[null,null,null,null,null,null,null,null,null,null,null,null,null,null,null,null,null,null,null,null,null,null,null,null,null,null,null,null,null,null,null,null,null,null,null,null,null,null,null,null,null,null,null,null,null,null,null,null,null,null,null,null,null,null,null,null,null,null,null,null,null,null,null,null,null,null,null,null,null,null,null,null,null,null,null,null,null,null,null,"",null,{"$f":"IF(CC34=\"\",\"\",IF(CC34<50.5,datpro!$H$25,datpro!$H$24))","v":""}]
[null,null,null,null,null,null,null,null,null,null,null,null,null,null,null,null,null,null,null,null,null,null,null,null,null,null,null,null,null,null,null,null,null,null,null,null,null,null,null,null,null,null,null,null,null,null,null,null,null,null,null,null,null,null,null,null,null,null,null,null,null,null,null,null,null,null,null,null,null,null,null,null,null,null,null,null,null,null,null,"",null,{"$f":"IF(CC35=\"\",\"\",IF(CC35<50.5,datpro!$H$25,datpro!$H$24))","v":""}]
[null,null,null,null,null,null,null,null,null,null,null,null,null,null,null,null,null,null,null,null,null,null,null,null,null,null,null,null,null,null,null,null,null,null,null,null,null,null,null,null,null,null,null,null,null,null,null,null,null,null,null,null,null,null,null,null,null,null,null,null,null,null,null,null,null,null,null,null,null,null,null,null,null,null,null,null,null,null,null,"",null,{"$f":"IF(CC36=\"\",\"\",IF(CC36<50.5,datpro!$H$25,datpro!$H$24))","v":""}]
[null,null,null,null,null,null,null,null,null,null,null,null,null,null,null,null,null,null,null,null,null,null,null,null,null,null,null,null,null,null,null,null,null,null,null,null,null,null,null,null,null,null,null,null,null,null,null,null,null,null,null,null,null,null,null,null,null,null,null,null,null,null,null,null,null,null,null,null,null,null,null,null,null,null,null,null,null,null,null,"",null,{"$f":"IF(CC37=\"\",\"\",IF(CC37<50.5,datpro!$H$25,datpro!$H$24))","v":""}]
[null,null,null,null,null,null,null,null,null,null,null,null,null,null,null,null,null,null,null,null,null,null,null,null,null,null,null,null,null,null,null,null,null,null,null,null,null,null,null,null,null,null,null,null,null,null,null,null,null,null,null,null,null,null,null,null,null,null,null,null,null,null,null,null,null,null,null,null,null,null,null,null,null,null,null,null,null,null,null,"",null,{"$f":"IF(CC38=\"\",\"\",IF(CC38<50.5,datpro!$H$25,datpro!$H$24))","v":""}]
[null,null,null,null,null,null,null,null,null,null,null,null,null,null,null,null,null,null,null,null,null,null,null,null,null,null,null,null,null,null,null,null,null,null,null,null,null,null,null,null,null,null,null,null,null,null,null,null,null,null,null,null,null,null,null,null,null,null,null,null,null,null,null,null,null,null,null,null,null,null,null,null,null,null,null,null,null,null,null,"",null,{"$f":"IF(CC39=\"\",\"\",IF(CC39<50.5,datpro!$H$25,datpro!$H$24))","v":""}]
[null,null,null,null,null,null,null,null,null,null,null,null,null,null,null,null,null,null,null,null,null,null,null,null,null,null,null,null,null,null,null,null,null,null,null,null,null,null,null,null,null,null,null,null,null,null,null,null,null,null,null,null,null,null,null,null,null,null,null,null,null,null,null,null,null,null,null,null,null,null,null,null,null,null,null,null,null,null,null,"",null,{"$f":"IF(CC40=\"\",\"\",IF(CC40<50.5,datpro!$H$25,datpro!$H$24))","v":""}]
[null,null,null,null,null,null,null,null,null,null,null,null,null,null,null,null,null,null,null,null,null,null,null,null,null,null,null,null,null,null,null,null,null,null,null,null,null,null,null,null,null,null,null,null,null,null,null,null,null,null,null,null,null,null,null,null,null,null,null,null,null,null,null,null,null,null,null,null,null,null,null,null,null,null,null,null,null,null,null,"",null,{"$f":"IF(CC41=\"\",\"\",IF(CC41<50.5,datpro!$H$25,datpro!$H$24))","v":""}]
[null,null,null,null,null,null,null,null,null,null,null,null,null,null,null,null,null,null,null,null,null,null,null,null,null,null,null,null,null,null,null,null,null,null,null,null,null,null,null,null,null,null,null,null,null,null,null,null,null,null,null,null,null,null,null,null,null,null,null,null,null,null,null,null,null,null,null,null,null,null,null,null,null,null,null,null,null,null,null,"",null,{"$f":"IF(CC42=\"\",\"\",IF(CC42<50.5,datpro!$H$25,datpro!$H$24))","v":""}]
[null,null,null,null,null,null,null,null,null,null,null,null,null,null,null,null,null,null,null,null,null,null,null,null,null,null,null,null,null,null,null,null,null,null,null,null,null,null,null,null,null,null,null,null,null,null,null,null,null,null,null,null,null,null,null,null,null,null,null,null,null,null,null,null,null,null,null,null,null,null,null,null,null,null,null,null,null,null,null,"",null,{"$f":"IF(CC43=\"\",\"\",IF(CC43<50.5,datpro!$H$25,datpro!$H$24))","v":""}]
[null,null,null,null,null,null,null,null,null,null,null,null,null,null,null,null,null,null,null,null,null,null,null,null,null,null,null,null,null,null,null,null,null,null,null,null,null,null,null,null,null,null,null,null,null,null,null,null,null,null,null,null,null,null,null,null,null,null,null,null,null,null,null,null,null,null,null,null,null,null,null,null,null,null,null,null,null,null,null,"",null,{"$f":"IF(CC44=\"\",\"\",IF(CC44<50.5,datpro!$H$25,datpro!$H$24))","v":""}]
[null,null,null,null,null,null,null,null,null,null,null,null,null,null,null,null,null,null,null,null,null,null,null,null,null,null,null,null,null,null,null,null,null,null,null,null,null,null,null,null,null,null,null,null,null,null,null,null,null,null,null,null,null,null,null,null,null,null,null,null,null,null,null,null,null,null,null,null,null,null,null,null,null,null,null,null,null,null,null,"",null,{"$f":"IF(CC45=\"\",\"\",IF(CC45<50.5,datpro!$H$25,datpro!$H$24))","v":""}]
[null,null,null,null,null,null,null,null,null,null,null,null,null,null,null,null,null,null,null,null,null,null,null,null,null,null,null,null,null,null,null,null,null,null,null,null,null,null,null,null,null,null,null,null,null,null,null,null,null,null,null,null,null,null,null,null,null,null,null,null,null,null,null,null,null,null,null,null,null,null,null,null,null,null,null,null,null,null,null,"",null,{"$f":"IF(CC46=\"\",\"\",IF(CC46<50.5,datpro!$H$25,datpro!$H$24))","v":""}]
[null,null,null,null,null,null,null,null,null,null,null,null,null,null,null,null,null,null,null,null,null,null,null,null,null,null,null,null,null,null,null,null,null,null,null,null,null,null,null,null,null,null,null,null,null,null,null,null,null,null,null,null,null,null,null,null,null,null,null,null,null,null,null,null,null,null,null,null,null,null,null,null,null,null,null,null,null,null,null,"",null,{"$f":"IF(CC47=\"\",\"\",IF(CC47<50.5,datpro!$H$25,datpro!$H$24))","v":""}]
[null,null,null,null,null,null,null,null,null,null,null,null,null,null,null,null,null,null,null,null,null,null,null,null,null,null,null,null,null,null,null,null,null,null,null,null,null,null,null,null,null,null,null,null,null,null,null,null,null,null,null,null,null,null,null,null,null,null,null,null,null,null,null,null,null,null,null,null,null,null,null,null,null,null,null,null,null,null,null,"",null,{"$f":"IF(CC48=\"\",\"\",IF(CC48<50.5,datpro!$H$25,datpro!$H$24))","v":""}]
[null,null,null,null,null,null,null,null,null,null,null,null,null,null,null,null,null,null,null,null,null,null,null,null,null,null,null,null,null,null,null,null,null,null,null,null,null,null,null,null,null,null,null,null,null,null,null,null,null,null,null,null,null,null,null,null,null,null,null,null,null,null,null,null,null,null,null,null,null,null,null,null,null,null,null,null,null,null,null,"",null,{"$f":"IF(CC49=\"\",\"\",IF(CC49<50.5,datpro!$H$25,datpro!$H$24))","v":""}]
[null,null,null,null,null,null,null,null,null,null,null,null,null,null,null,null,null,null,null,null,null,null,null,null,null,null,null,null,null,null,null,null,null,null,null,null,null,null,null,null,null,null,null,null,null,null,null,null,null,null,null,null,null,null,null,null,null,null,null,null,null,null,null,null,null,null,null,null,null,null,null,null,null,null,null,null,null,null,null,"",null,{"$f":"IF(CC50=\"\",\"\",IF(CC50<50.5,datpro!$H$25,datpro!$H$24))","v":""}]
[null,null,null,null,null,null,null,null,null,null,null,null,null,null,null,null,null,null,null,null,null,null,null,null,null,null,null,null,null,null,null,null,null,null,null,null,null,null,null,null,null,null,null,null,null,null,null,null,null,null,null,null,null,null,null,null,null,null,null,null,null,null,null,null,null,null,null,null,null,null,null,null,null,null,null,null,null,null,null,"",null,{"$f":"IF(CC51=\"\",\"\",IF(CC51<50.5,datpro!$H$25,datpro!$H$24))","v":""}]
[null,null,null,null,null,null,null,null,null,null,null,null,null,null,null,null,null,null,null,null,null,null,null,null,null,null,null,null,null,null,null,null,null,null,null,null,null,null,null,null,null,null,null,null,null,null,null,null,null,null,null,null,null,null,null,null,null,null,null,null,null,null,null,null,null,null,null,null,null,null,null,null,null,null,null,null,null,null,null,"",null,{"$f":"IF(CC52=\"\",\"\",IF(CC52<50.5,datpro!$H$25,datpro!$H$24))","v":""}]
[null,null,null,null,null,null,null,null,null,null,null,null,null,null,null,null,null,null,null,null,null,null,null,null,null,null,null,null,null,null,null,null,null,null,null,null,null,null,null,null,null,null,null,null,null,null,null,null,null,null,null,null,null,null,null,null,null,null,null,null,null,null,null,null,null,null,null,null,null,null,null,null,null,null,null,null,null,null,null,"",null,{"$f":"IF(CC53=\"\",\"\",IF(CC53<50.5,datpro!$H$25,datpro!$H$24))","v":""}]
[null,null,null,null,null,null,null,null,null,null,null,null,null,null,null,null,null,null,null,null,null,null,null,null,null,null,null,null,null,null,null,null,null,null,null,null,null,null,null,null,null,null,null,null,null,null,null,null,null,null,null,null,null,null,null,null,null,null,null,null,null,null,null,null,null,null,null,null,null,null,null,null,null,null,null,null,null,null,null,"",null,{"$f":"IF(CC54=\"\",\"\",IF(CC54<50.5,datpro!$H$25,datpro!$H$24))","v":""}]
[null,null,null,null,null,null,null,null,null,null,null,null,null,null,null,null,null,null,null,null,null,null,null,null,null,null,null,null,null,null,null,null,null,null,null,null,null,null,null,null,null,null,null,null,null,null,null,null,null,null,null,null,null,null,null,null,null,null,null,null,null,null,null,null,null,null,null,null,null,null,null,null,null,null,null,null,null,null,null,"",null,{"$f":"IF(CC55=\"\",\"\",IF(CC55<50.5,datpro!$H$25,datpro!$H$24))","v":""}]
[null,null,null,null,null,null,null,null,null,null,null,null,null,null,null,null,null,null,null,null,null,null,null,null,null,null,null,null,null,null,null,null,null,null,null,null,null,null,null,null,null,null,null,null,null,null,null,null,null,null,null,null,null,null,null,null,null,null,null,null,null,null,null,null,null,null,null,null,null,null,null,null,null,null,null,null,null,null,null,"",null,{"$f":"IF(CC56=\"\",\"\",IF(CC56<50.5,datpro!$H$25,datpro!$H$24))","v":""}]
[null,null,null,null,null,null,null,null,null,null,null,null,null,null,null,null,null,null,null,null,null,null,null,null,null,null,null,null,null,null,null,null,null,null,null,null,null,null,null,null,null,null,null,null,null,null,null,null,null,null,null,null,null,null,null,null,null,null,null,null,null,null,null,null,null,null,null,null,null,null,null,null,null,null,null,null,null,null,null,"",null,{"$f":"IF(CC57=\"\",\"\",IF(CC57<50.5,datpro!$H$25,datpro!$H$24))","v":""}]
[null,null,null,null,null,null,null,null,null,null,null,null,null,null,null,null,null,null,null,null,null,null,null,null,null,null,null,null,null,null,null,null,null,null,null,null,null,null,null,null,null,null,null,null,null,null,null,null,null,null,null,null,null,null,null,null,null,null,null,null,null,null,null,null,null,null,null,null,null,null,null,null,null,null,null,null,null,null,null,"",null,{"$f":"IF(CC58=\"\",\"\",IF(CC58<50.5,datpro!$H$25,datpro!$H$24))","v":""}]
[null,null,null,null,null,null,null,null,null,null,null,null,null,null,null,null,null,null,null,null,null,null,null,null,null,null,null,null,null,null,null,null,null,null,null,null,null,null,null,null,null,null,null,null,null,null,null,null,null,null,null,null,null,null,null,null,null,null,null,null,null,null,null,null,null,null,null,null,null,null,null,null,null,null,null,null,null,null,null,"",null,{"$f":"IF(CC59=\"\",\"\",IF(CC59<50.5,datpro!$H$25,datpro!$H$24))","v":""}]
[null,null,null,null,null,null,null,null,null,null,null,null,null,null,null,null,null,null,null,null,null,null,null,null,null,null,null,null,null,null,null,null,null,null,null,null,null,null,null,null,null,null,null,null,null,null,null,null,null,null,null,null,null,null,null,null,null,null,null,null,null,null,null,null,null,null,null,null,null,null,null,null,null,null,null,null,null,null,null,"",null,{"$f":"IF(CC60=\"\",\"\",IF(CC60<50.5,datpro!$H$25,datpro!$H$24))","v":""}]
[null,null,null,null,null,null,null,null,null,null,null,null,null,null,null,null,null,null,null,null,null,null,null,null,null,null,null,null,null,null,null,null,null,null,null,null,null,null,null,null,null,null,null,null,null,null,null,null,null,null,null,null,null,null,null,null,null,null,null,null,null,null,null,null,null,null,null,null,null,null,null,null,null,null,null,null,null,null,null,"",null,{"$f":"IF(CC61=\"\",\"\",IF(CC61<50.5,datpro!$H$25,datpro!$H$24))","v":""}]
[null,null,null,null,null,null,null,null,null,null,null,null,null,null,null,null,null,null,null,null,null,null,null,null,null,null,null,null,null,null,null,null,null,null,null,null,null,null,null,null,null,null,null,null,null,null,null,null,null,null,null,null,null,null,null,null,null,null,null,null,null,null,null,null,null,null,null,null,null,null,null,null,null,null,null,null,null,null,null,"",null,{"$f":"IF(CC62=\"\",\"\",IF(CC62<50.5,datpro!$H$25,datpro!$H$24))","v":""}]
[null,null,null,null,null,null,null,null,null,null,null,null,null,null,null,null,null,null,null,null,null,null,null,null,null,null,null,null,null,null,null,null,null,null,null,null,null,null,null,null,null,null,null,null,null,null,null,null,null,null,null,null,null,null,null,null,null,null,null,null,null,null,null,null,null,null,null,null,null,null,null,null,null,null,null,null,null,null,null,"",null,{"$f":"IF(CC63=\"\",\"\",IF(CC63<50.5,datpro!$H$25,datpro!$H$24))","v":""}]
[null,null,null,null,null,null,null,null,null,null,null,null,null,null,null,null,null,null,null,null,null,null,null,null,null,null,null,null,null,null,null,null,null,null,null,null,null,null,null,null,null,null,null,null,null,null,null,null,null,null,null,null,null,null,null,null,null,null,null,null,null,null,null,null,null,null,null,null,null,null,null,null,null,null,null,null,null,null,null,"",null,{"$f":"IF(CC64=\"\",\"\",IF(CC64<50.5,datpro!$H$25,datpro!$H$24))","v":""}]
[null,null,null,null,null,null,null,null,null,null,null,null,null,null,null,null,null,null,null,null,null,null,null,null,null,null,null,null,null,null,null,null,null,null,null,null,null,null,null,null,null,null,null,null,null,null,null,null,null,null,null,null,null,null,null,null,null,null,null,null,null,null,null,null,null,null,null,null,null,null,null,null,null,null,null,null,null,null,null,"",null,{"$f":"IF(CC65=\"\",\"\",IF(CC65<50.5,datpro!$H$25,datpro!$H$24))","v":""}]
[null,null,null,null,null,null,null,null,null,null,null,null,null,null,null,null,null,null,null,null,null,null,null,null,null,null,null,null,null,null,null,null,null,null,null,null,null,null,null,null,null,null,null,null,null,null,null,null,null,null,null,null,null,null,null,null,null,null,null,null,null,null,null,null,null,null,null,null,null,null,null,null,null,null,null,null,null,null,null,"",null,{"$f":"IF(CC66=\"\",\"\",IF(CC66<50.5,datpro!$H$25,datpro!$H$24))","v":""}]
[null,null,null,null,null,null,null,null,null,null,null,null,null,null,null,null,null,null,null,null,null,null,null,null,null,null,null,null,null,null,null,null,null,null,null,null,null,null,null,null,null,null,null,null,null,null,null,null,null,null,null,null,null,null,null,null,null,null,null,null,null,null,null,null,null,null,null,null,null,null,null,null,null,null,null,null,null,null,null,"",null,{"$f":"IF(CC67=\"\",\"\",IF(CC67<50.5,datpro!$H$25,datpro!$H$24))","v":""}]
[null,null,null,null,null,null,null,null,null,null,null,null,null,null,null,null,null,null,null,null,null,null,null,null,null,null,null,null,null,null,null,null,null,null,null,null,null,null,null,null,null,null,null,null,null,null,null,null,null,null,null,null,null,null,null,null,null,null,null,null,null,null,null,null,null,null,null,null,null,null,null,null,null,null,null,null,null,null,null,"",null,{"$f":"IF(CC68=\"\",\"\",IF(CC68<50.5,datpro!$H$25,datpro!$H$24))","v":""}]
[null,null,null,null,null,null,null,null,null,null,null,null,null,null,null,null,null,null,null,null,null,null,null,null,null,null,null,null,null,null,null,null,null,null,null,null,null,null,null,null,null,null,null,null,null,null,null,null,null,null,null,null,null,null,null,null,null,null,null,null,null,null,null,null,null,null,null,null,null,null,null,null,null,null,null,null,null,null,null,"",null,{"$f":"IF(CC69=\"\",\"\",IF(CC69<50.5,datpro!$H$25,datpro!$H$24))","v":""}]
[null,null,null,null,null,null,null,null,null,null,null,null,null,null,null,null,null,null,null,null,null,null,null,null,null,null,null,null,null,null,null,null,null,null,null,null,null,null,null,null,null,null,null,null,null,null,null,null,null,null,null,null,null,null,null,null,null,null,null,null,null,null,null,null,null,null,null,null,null,null,null,null,null,null,null,null,null,null,null,"",null,{"$f":"IF(CC70=\"\",\"\",IF(CC70<50.5,datpro!$H$25,datpro!$H$24))","v":""}]
[null,null,null,null,null,null,null,null,null,null,null,null,null,null,null,null,null,null,null,null,null,null,{"$f":"datpro!$I$11","v":10},null,null,null,null,null,null,null,null,null,null,null,null,null,null,null,null,null,null,null,null,{"$f":"datpro!$J$11","v":35},null,null,null,null,null,null,null,null,null,null,null,null,null,null,null,null,null,null,null,null,{"$f":"datpro!$K$11","v":35},null,null,null,null,null,null,null,null,null,null,{"$f":"datpro!$L$11","v":10},null,null,null,{"$f":"datpro!$M$11","v":5},null,{"$f":"datpro!H25","v":"RETENIDO"}]
[null,null,null,null,null,null,null,null,null,null,null,null,null,null,null,null,null,null,null,null,null,null,{"$f":"datpro!$I$12","v":1},null,null,null,null,null,null,null,null,null,null,null,null,null,null,null,null,null,null,null,null,{"$f":"datpro!$J$12","v":1},null,null,null,null,null,null,null,null,null,null,null,null,null,null,null,null,null,null,null,null,{"$f":"datpro!$K$12","v":1},null,null,null,null,null,null,null,null,null,null,{"$f":"datpro!$L$12","v":1},null,null,null,{"$f":"datpro!$M$12","v":1}]
[null,null,null,null,null,null,null,null,null,null,null,null,null,null,null,null,null,null,null,null,null,null,{"$f":"datpro!$M$18","v":0},null,null,null,null,null,null,null,null,null,null,null,null,null,null,null,null,null,null,null,null,{"$f":"datpro!$M$18","v":0},null,null,null,null,null,null,null,null,null,null,null,null,null,null,null,null,null,null,null,null,{"$f":"datpro!$M$18","v":0},null,null,null,null,null,null,null,null,null,null,{"$f":"datpro!$M$18","v":0},null,null,null,{"$f":"datpro!$M$18","v":0},{"$f":"datpro!$M$19","v":0}]
[]
[]
[]
[]
[]
[]
[]
[null,null,null,null,null,null,"select_load",{"$f":"main!$AE$10","v":50}]
[null,null,null,null,null,null,"actual_save"]
[]
[]
[]
[]
[]
[]
[]
[]
[]
[]
[]
[]
[]
[]
[]
[]
[1,2,3,4,5,6,7,8,9,10,11,12,13,14,15,16,17,18,19,20,21,22,23,24,25,26,27,28,29,30,31,32,33,34,35,36,37,38,39,40,41,42,43,44,45,46,47,48,49,50,51,52,53,54,55,56,57,58,59,60,61,62,63,64,65,66,67,68,69,70,71,72,73,74,75,76,77,78,79]
[null,null,null,null,null,null,null,null,null,null,null,null,"M","N","O","P","Q","R","S","T","U","V","W","X","Y","Z","AA","AB","AC","AD","AE","AF","AG","AH","AI","AJ","AK","AL","AM","AN","AO","AP","AQ","AR","AS","AT","AU","AV","AW","AX","AY","AZ","BA","BB","BC","BD","BE","BF","BG","BH","BI","BJ","BK","BL","BM","BN","BO","BP","BQ","BR","BS","BT","BU","BV","BW","BX","BY","BZ","CA","CB"]
[null,null,null,null,null,null,"alto de fila",11,null,null,null,null,null,null,null,null,null,null,null,null,null,3,"ser",null,null,null,null,null,null,null,null,null,null,null,null,null,null,null,null,null,null,null,4,"saber",null,null,null,null,null,null,null,null,null,null,null,null,null,null,null,null,null,null,null,4,"hacer",null,null,null,null,null,null,null,null,null,3,"decidir",null,null,3]
[null,null,null,null,null,null,"ancho col nro",2.2999999999999998,null,null,null,null,null,null,null,null,null,null,null,null,null,null,{"$f":"datpro!$H$11","v":0},null,null,null,null,null,null,null,null,null,null,null,null,null,null,null,null,null,null,null,null,{"$f":"datpro!$I$11","v":10},null,null,null,null,null,null,null,null,null,null,null,null,null,null,null,null,null,null,null,null,{"$f":"datpro!$J$11","v":35},null,null,null,null,null,null,null,null,null,null,{"$f":"datpro!$K$11","v":35},null,null,null,{"$f":"datpro!L84","v":85},{"$f":"datpro!$L$11","v":10}]
[null,null,null,null,null,null,"ancho col est",27,null,null,null,null,null,null,null,null,null,null,null,null,null,{"$f":"datpro!H12","v":0},null,null,null,null,null,null,null,null,null,null,null,null,null,null,null,null,null,null,null,null,{"$f":"datpro!I12","v":1},null,null,null,null,null,null,null,null,null,null,null,null,null,null,null,null,null,null,null,null,{"$f":"datpro!J12","v":1},null,null,null,null,null,null,null,null,null,null,{"$f":"datpro!K12","v":1}]
[null,null,null,null,null,null,"ancho col indicadores",2.29,null,null,null,null,"val","est","dim","tri","obs"]
[null,null,null,null,null,null,"ancho col prom ind",2.5,null,null,null,null,0,0,0,0,0]
[null,null,null,null,null,null,"ancho nota prof",3.3,null,null,null,null,2,27,2.29,2.57,8]
[null,null,null,null,null,null,"ancho nota bim",2.5,null,null,null,null,2.29,29,2.57,2.86,10]
[null,null,null,null,null,null,"tamaño fuente",8,null,null,null,null,2.57,31,2.86,3.14,12]
[null,null,null,null,null,null,"alto indicador",120,null,null,null,null,2.86,33,3.14,3.43,14]
[null,null,null,null,null,null,"bimestre",1,null,null,null,null,3.14,35,3.43,3.71,16]
[null,null,null,null,null,null,"nroest",{"$f":"datpro!$M$14","v":50},null,null,null,null,3.43,37,3.71,4,18]
[null,null,null,null,null,null,"hiden_cri_eva",0,null,null,null,null,3.71,39,4,4.29,20]
[null,null,null,null,null,null,"alto fila crieva",80]
[null,null,null,null,null,null,"alto fila actv",80]
[null,null,null,null,null,null,"paneles",0]
[null,null,null,null,null,null,"sit_bim_comp",1]
[null,null,null,null,null,null,"sit_bim_abrv",0.5]
[null,null,null,null,null,null,"cod_area",{"$f":"datpro!$E$15","v":""}]
[null,null,null,null,null,null,"hiden_actividedes",1]
[null,null,null,null,null,null,null,null,null,null,null,null,"+","-",",",",",",",",",",",",",",",3,"F","+","-",",",",",",",",",",",",",",",",",",",",",",",",",",",",",",",",",",",4,"F","+","-",",",",",",",",",",",",",",",",",",",",",",",",",",",",",",",",",",",4,"F","+","-",",",",",",",",",",",",",",",3,"F","+","-"]
[]
[]
[]
[]
[]
[]
[]
[]
[]
[]
[]
[]
[]
[]
[]
[]
[]
[]
[]
[]
[]
[]
[]
[]
[]
[]
[]
[]
[]
[]
[]
[]
[]
[]
[]
[]
[]
[]
[]
[]
[]
[]
[]
[]
[]
[]
[]
[]
[]
[]
[]
[]
[]
[]
[]
[]
[]
[]
[]
[]
[]
[]
[]
[]
[]
[]
[]
[]
[]
[]
[]
[]
[]
[]
[]
[]
[]
[]
[]
[]
[]
[]
[]
[]
[]
[]
[]
[]
[]
[]
[]
[]
[]
[]
[]
[]
[]
[]
[]
[null,null,null,null,null,null,null,null,null,null,null,null,"+","-",",",",",",",",",",",",",",",3,"F","+","-",",",",",",",",",",",",",",",",",",",",",",",",",",",",",",",",",",",4,"F","+","-",",",",",",",",",",",",",",",",",",",",",",",",",",",",",",",",",",",4,"F","+","-",",",",",",",",",",",",",",",3,"F","+","-"]
[]
[]
[]
[]
[]
[]
[]
[]
[]
[]
[]
[]
[]
[]
[]
[]
[]
[]
[]
[]
[]
[]
[]
[]
[]
[]
[]
[]
[]
[]
[]
[]
[]
[]
[]
[]
[]
[]
[]
[]
[]
[]
[]
[]
[]
[]
[]
[]
[]
[]
[]
[]
[]
[]
[]
[]
[]
[]
[]
[]
[]
[]
[]
[]
[]
[]
[]
[]
[]
[]
[]
[]
[]
[]
[]
[]
[]
[]
[]
[]
[]
[]
[]
[]
[]
[]
[]
[]
[]
[]
[]
[]
[]
[]
[]
[]
[]
[]
[]
[null,null,null,null,null,null,null,null,null,null,null,null,"+","-",",",",",",",",",",",",",",",3,"F","+","-",",",",",",",",",",",",",",",",",",",",",",",",",",",",",",",",",",",4,"F","+","-",",",",",",",",",",",",",",",",",",",",",",",",",",",",",",",",",",",4,"F","+","-",",",",",",",",",",",",",",",3,"F","+","-"]
[]
[]
[]
[]
[]
[]
[]
[]
[]
[]
[]
[]
[]
[]
[]
[]
[]
[]
[]
[]
[]
[]
[]
[]
[]
[]
[]
[]
[]
[]
[]
[]
[]
[]
[]
[]
[]
[]
[]
[]
[]
[]
[]
[]
[]
[]
[]
[]
[]
[]
[]
[]
[]
[]
[]
[]
[]
[]
[]
[]
[]
[]
[]
[]
[]
[]
[]
[]
[]
[]
[]
[]
[]
[]
[]
[]
[]
[]
[]
[]
[]
[]
[]
[]
[]
[]
[]
[]
[]
[]
[]
[]
[]
[]
[]
[]
[]
[]
[]
[null,null,null,null,null,null,null,null,null,null,null,null,"+","-",",",",",",",",",",",",",",",3,"F","+","-",",",",",",",",",",",",",",",",",",",",",",",",",",",",",",",",",",",4,"F","+","-",",",",",",",",",",",",",",",",",",",",",",",",",",",",",",",",",",",4,"F","+","-",",",",",",",",",",",",",",",3,"F","+","-"]
[]
[]
[]
[]
[]
[]
[]
[]
[]
[]
[]
[]
[]
[]
[]
[]
[]
[]
[]
[]
[]
[]
[]
[]
[]
[]
[]
[]
[]
[]
[]
[]
[]
[]
[]
[]
[]
[]
[]
[]
[]
[]
[]
[]
[]
[]
[]
[]
[]
[]
[]
[]
[]
[]
[]
[]
[]
[]
[]
[]
[]
[]
[]
[]
[]
[]
[]
[]
[]
[]
[]
[]
[]
[]
[]
[]
[]
[]
[]
[]
[]
[]
[]
[]
[]
[]
[]
[]
[]
[]
[]
[]
[]
[]
[]
[]
[]
[]
[]
[null,null,null,null,null,null,null,null,null,null,null,null,"+","-",",",",",",",",",",",",",",",3,"F","+","-",",",",",",",",",",",",",",",",",",",",",",",",",",",",",",",",",",",4,"F","+","-",",",",",",",",",",",",",",",",",",",",",",",",",",",",",",",",",",",4,"F","+","-",",",",",",",",",",",",",",",3,"F","+","-"]
[]
[]
[]
[]
[]
[]
[]
[]
[]
[]
[]
[]
[]
[]
[]
[]
[]
[]
[]
[]
[]
[]
[]
[]
[]
[]
[]
[]
[]
[]
[]
[]
[]
[]
[]
[]
[]
[]
[]
[]
[]
[]
[]
[]
[]
[]
[]
[]
[]
[]
[]
[]
[]
[]
[]
[]
[]
[]
[]
[]
[]
[]
[]
[]
[]
[]
[]
[]
[]
[]
[]
[]
[]
[]
[]
[]
[]
[]
[]
[]
[]
[]
[]
[]
[]
[]
[]
[]
[]
[]
[]
[]
[]
[]
[]
[]
[]
[]
[]
[null,null,null,null,null,null,null,null,null,null,null,null,"+","-",",",",",",",",",",",",",",",3,"F","+","-",",",",",",",",",",",",",",",",",",",",",",",",",",",",",",",",",",",4,"F","+","-",",",",",",",",",",",",",",",",",",",",",",",",",",",",",",",",",",",4,"F","+","-",",",",",",",",",",",",",",",3,"F","+","-"]
[]
[]
[]
[]
[]
[]
[]
[]
[]
[]
[]
[]
[]
[]
[]
[]
[]
[]
[]
[]
[]
[]
[]
[]
[]
[]
[]
[]
[]
[]
[]
[]
[]
[]
[]
[]
[]
[]
[]
[]
[]
[]
[]
[]
[]
[]
[]
[]
[]
[]
[]
[]
[]
[]
[]
[]
[]
[]
[]
[]
[]
[]
[]
[]
[]
[]
[]
[]
[]
[]
[]
[]
[]
[]
[]
[]
[]
[]
[]
[]
[]
[]
[]
[]
[]
[]
[]
[]
[]
[]
[]
[]
[]
[]
[]
[]
[]
[]
[]
[null,null,null,null,null,null,null,null,null,null,null,null,"+","-",",",",",",",",",",",",",",",3,"F","+","-",",",",",",",",",",",",",",",",",",",",",",",",",",",",",",",",",",",4,"F","+","-",",",",",",",",",",",",",",",",",",",",",",",",",",",",",",",",",",",4,"F","+","-",",",",",",",",",",",",",",",3,"F","+","-"]
[]
[]
[]
[]
[]
[]
[]
[]
[]
[]
[]
[]
[]
[]
[]
[]
[]
[]
[]
[]
[]
[]
[]
[]
[]
[]
[]
[]
[]
[]
[]
[]
[]
[]
[]
[]
[]
[]
[]
[]
[]
[]
[]
[]
[]
[]
[]
[]
[]
[]
[]
[]
[]
[]
[]
[]
[]
[]
[]
[]
[]
[]
[]
[]
[]
[]
[]
[]
[]
[]
[]
[]
[]
[]
[]
[]
[]
[]
[]
[]
[]
[]
[]
[]
[]
[]
[]
[]
[]
[]
[]
[]
[]
[]
[]
[]
[]
[]
[]
[null,null,null,null,null,null,null,null,null,null,null,null,"+","-",",",",",",",",",",",",",",",3,"F","+","-",",",",",",",",",",",",",",",",",",",",",",",",",",",",",",",",",",",4,"F","+","-",",",",",",",",",",",",",",",",",",",",",",",",",",",",",",",",",",",4,"F","+","-",",",",",",",",",",",",",",",3,"F","+","-"]
[]
[]
[]
[]
[]
[]
[]
[]
[]
[]
[]
[]
[]
[]
[]
[]
[]
[]
[]
[]
[]
[]
[]
[]
[]
[]
[]
[]
[]
[]
[]
[]
[]
[]
[]
[]
[]
[]
[]
[]
[]
[]
[]
[]
[]
[]
[]
[]
[]
[]
[]
[]
[]
[]
[]
[]
[]
[]
[]
[]
[]
[]
[]
[]
[]
[]
[]
[]
[]
[]
[]
[]
[]
[]
[]
[]
[]
[]
[]
[]
[]
[]
[]
[]
[]
[]
[]
[]
[]
[]
[]
[]
[]
[]
[]
[]
[]
[]
[]
[null,null,null,null,null,null,null,null,null,null,null,null,"+","-",",",",",",",",",",",",",",",3,"F","+","-",",",",",",",",",",",",",",",",",",",",",",",",",",",",",",",",",",",4,"F","+","-",",",",",",",",",",",",",",",",",",",",",",",",",",",",",",",",",",",4,"F","+","-",",",",",",",",",",",",",",",3,"F","+","-"]
[]
[]
[]
[]
[]
[]
[]
[]
[]
[]
[]
[]
[]
[]
[]
[]
[]
[]
[]
[]
[]
[]
[]
[]
[]
[]
[]
[]
[]
[]
[]
[]
[]
[]
[]
[]
[]
[]
[]
[]
[]
[]
[]
[]
[]
[]
[]
[]
[]
[]
[]
[]
[]
[]
[]
[]
[]
[]
[]
[]
[]
[]
[]
[]
[]
[]
[]
[]
[]
[]
[]
[]
[]
[]
[]
[]
[]
[]
[]
[]
[]
[]
[]
[]
[]
[]
[null,null,null,null,null,null,null,null,null,null,null,"PROYECTO REMDIZ"]
[]
[]
[]
[]
[]
[]
[]
[]
[]
[]
[]
[]
[null,null,null,null,null,null,null,null,null,null,null,null,"+","-",",",",",",",",",",",",",",",3,"F","+","-",",",",",",",",",",",",",",",",",",",",",",",",",",",",",",",",",",",4,"F","+","-",",",",",",",",",",",",",",",",",",",",",",",",",",",",",",",",",",",4,"F","+","-",",",",",",",",",",",",",",",3,"F","+","-"]
[]
[]
[]
[]
[]
[]
[]
[]
[]
[]
[]
[]
[]
[]
[]
[]
[]
[]
[]
[]
[]
[]
[]
[]
[]
[]
[]
[]
[]
[]
[]
[]
[]
[]
[]
[]
[]
[]
[]
[]
[]
[]
[]
[]
[]
[]
[]
[]
[]
[]
[]
[]
[]
[]
[]
[]
[]
[]
[]
[]
[]
[]
[]
[]
[]
[]
[]
[]
[]
[]
[]
[]
[]
[]
[]
[]
[]
[]
[]
[]
[]
[]
[]
[]
[]
[]
[]
[]
[]
[]
[]
[]
[]
[]
[]
[]
[]
[]
[]
[null,null,null,null,null,null,null,null,null,null,null,null,"+","-",",",",",",",",",",",",",",",3,"F","+","-",",",",",",",",",",",",",",",",",",",",",",",",",",",",",",",",",",",4,"F","+","-",",",",",",",",",",",",",",",",",",",",",",",",",",",",",",",",",",",4,"F","+","-",",",",",",",",",",",",",",",3,"F","+","-"]
[]
[]
[]
[]
[]
[]
[]
[]
[]
[]
[]
[]
[]
[]
[]
[]
[]
[]
[]
[]
[]
[]
[]
[]
[]
[]
[]
[]
[]
[]
[]
[]
[]
[]
[]
[]
[]
[]
[]
[]
[]
[]
[]
[]
[]
[]
[]
[]
[]
[]
[]
[]
[]
[]
[]
[]
[]
[]
[]
[]
[]
[]
[]
[]
[]
[]
[]
[]
[]
[]
[]
[]
[]
[]
[]
[]
[]
[]
[]
[]
[]
[]
[]
[]
[]
[]
[]
[]
[]
[]
[]
[]
[]
[]
[]
[]
[]
[]
[]
[null,null,null,null,null,null,null,null,null,null,null,null,"+","-",",",",",",",",",",",",",",",3,"F","+","-",",",",",",",",",",",",",",",",",",",",",",",",",",",",",",",",",",",4,"F","+","-",",",",",",",",",",",",",",",",",",",",",",",",",",",",",",",",",",",4,"F","+","-",",",",",",",",",",",",",",",3,"F","+","-"]
[]
[]
[]
[]
[]
[]
[]
[]
[]
[]
[]
[]
[]
[]
[]
[]
[]
[]
[]
[]
[]
[]
[]
[]
[]
[]
[]
[]
[]
[]
[]
[]
[]
[]
[]
[]
[]
[]
[]
[]
[]
[]
[]
[]
[]
[]
[]
[]
[]
[]
[]
[]
[]
[]
[]
[]
[]
[]
[]
[]
[]
[]
[]
[]
[]
[]
[]
[]
[]
[]
[]
[]
[]
[]
[]
[]
[]
[]
[]
[]
[]
[]
[]
[]
[]
[]
[]
[]
[]
[]
[]
[]
[]
[]
[]
[]
[]
[]
[]
[null,null,null,null,null,null,null,null,null,null,null,null,"+","-",",",",",",",",",",",",",",",3,"F","+","-",",",",",",",",",",",",",",",",",",",",",",",",",",",",",",",",",",",4,"F","+","-",",",",",",",",",",",",",",",",",",",",",",",",",",",",",",",",",",",4,"F","+","-",",",",",",",",",",",",",",",3,"F","+","-"]
[]
[]
[]
[]
[]
[]
[]
[]
[]
[]
[]
[]
[]
[]
[]
[]
[]
[]
[]
[]
[]
[]
[]
[]
[]
[]
[]
[]
[]
[]
[]
[]
[]
[]
[]
[]
[]
[]
[]
[]
[]
[]
[]
[]
[]
[]
[]
[]
[]
[]
[]
[]
[]
[]
[]
[]
[]
[]
[]
[]
[]
[]
[]
[]
[]
[]
[]
[]
[]
[]
[]
[]
[]
[]
[]
[]
[]
[]
[]
[]
[]
[]
[]
[]
[]
[]
[]
[]
[]
[]
[]
[]
[]
[]
[]
[]
[]
[]
[]
[null,null,null,null,null,null,null,null,null,null,null,null,"+","-",",",",",",",",",",",",",",",3,"F","+","-",",",",",",",",",",",",",",",",",",",",",",",",",",",",",",",",",",",4,"F","+","-",",",",",",",",",",",",",",",",",",",",",",",",",",",",",",",",",",",4,"F","+","-",",",",",",",",",",",",",",",3,"F","+","-"]
[]
[]
[]
[]
[]
[]
[]
[]
[]
[]
[]
[]
[]
[]
[]
[]
[]
[]
[]
[]
[]
[]
[]
[]
[]
[]
[]
[]
[]
[]
[]
[]
[]
[]
[]
[]
[]
[]
[]
[]
[]
[]
[]
[]
[]
[]
[]
[]
[]
[]
[]
[]
[]
[]
[]
[]
[]
[]
[]
[]
[]
[]
[]
[]
[]
[]
[]
[]
[]
[]
[]
[]
[]
[]
[]
[]
[]
[]
[]
[]
[]
[]
[]
[]
[]
[]
[]
[]
[]
[]
[]
[]
[]
[]
[]
[]
[]
[]
[]
[null,null,null,null,null,null,null,null,null,null,null,null,"+","-",",",",",",",",",",",",",",",3,"F","+","-",",",",",",",",",",",",",",",",",",",",",",",",",",",",",",",",",",",4,"F","+","-",",",",",",",",",",",",",",",",",",",",",",",",",",",",",",",",",",",4,"F","+","-",",",",",",",",",",",",",",",3,"F","+","-"]
[]
[]
[]
[]
[]
[]
[]
[]
[]
[]
[]
[]
[]
[]
[]
[]
[]
[]
[]
[]
[]
[]
[]
[]
[]
[]
[]
[]
[]
[]
[]
[]
[]
[]
[]
[]
[]
[]
[]
[]
[]
[]
[]
[]
[]
[]
[]
[]
[]
[]
[]
[]
[]
[]
[]
[]
[]
[]
[]
[]
[]
[]
[]
[]
[]
[]
[]
[]
[]
[]
[]
[]
[]
[]
[]
[]
[]
[]
[]
[]
[]
[]
[]
[]
[]
[]
[]
[]
[]
[]
[]
[]
[]
[]
[]
[]
[]
[]
[]
[null,null,null,null,null,null,null,null,null,null,null,null,"+","-",",",",",",",",",",",",",",",3,"F","+","-",",",",",",",",",",",",",",",",",",",",",",",",",",",",",",",",",",",4,"F","+","-",",",",",",",",",",",",",",",",",",",",",",",",",",",",",",",",",",",4,"F","+","-",",",",",",",",",",",",",",",3,"F","+","-"]
[]
[]
[]
[]
[]
[]
[]
[]
[]
[]
[]
[]
[]
[]
[]
[]
[]
[]
[]
[]
[]
[]
[]
[]
[]
[]
[]
[]
[]
[]
[]
[]
[]
[]
[]
[]
[]
[]
[]
[]
[]
[]
[]
[]
[]
[]
[]
[]
[]
[]
[]
[]
[]
[]
[]
[]
[]
[]
[]
[]
[]
[]
[]
[]
[]
[]
[]
[]
[]
[]
[]
[]
[]
[]
[]
[]
[]
[]
[]
[]
[]
[]
[]
[]
[]
[]
[]
[]
[]
[]
[]
[]
[]
[]
[]
[]
[]
[]
[]
[null,null,null,null,null,null,null,null,null,null,null,null,"+","-",",",",",",",",",",",",",",",3,"F","+","-",",",",",",",",",",",",",",",",",",",",",",",",",",",",",",",",",",",4,"F","+","-",",",",",",",",",",",",",",",",",",",",",",",",",",",",",",",",",",",4,"F","+","-",",",",",",",",",",",",",",",3,"F","+","-"]
[]
[]
[]
[]
[]
[]
[]
[]
[]
[]
[]
[]
[]
[]
[]
[]
[]
[]
[]
[]
[]
[]
[]
[]
[]
[]
[]
[]
[]
[]
[]
[]
[]
[]
[]
[]
[]
[]
[]
[]
[]
[]
[]
[]
[]
[]
[]
[]
[]
[]
[]
[]
[]
[]
[]
[]
[]
[]
[]
[]
[]
[]
[]
[]
[]
[]
[]
[]
[]
[]
[]
[]
[]
[]
[]
[]
[]
[]
[]
[]
[]
[]
[]
[]
[]
[]
[]
[]
[]
[]
[]
[]
[]
[]
[]
[]
[]
[]
[]
[null,null,null,null,null,null,null,null,null,null,null,null,"+","-",",",",",",",",",",",",",",",3,"F","+","-",",",",",",",",",",",",",",",",",",",",",",",",",",",",",",",",",",",4,"F","+","-",",",",",",",",",",",",",",",",",",",",",",",",",",",",",",",",",",",4,"F","+","-",",",",",",",",",",",",",",",3,"F","+","-"]
[]
[]
[]
[]
[]
[]
[]
[]
[]
[]
[]
[]
[]
[]
[]
[]
[]
[]
[]
[]
[]
[]
[]
[]
[]
[]
[]
[]
[]
[]
[]
[]
[]
[]
[]
[]
[]
[]
[]
[]
[]
[]
[]
[]
[]
[]
[]
[]
[]
[]
[]
[]
[]
[]
[]
[]
[]
[]
[]
[]
[]
[]
[]
[]
[]
[]
[]
[]
[]
[]
[]
[]
[]
[]
[]
[]
[]
[]
[]
[]
[]
[]
[]
[]
[]
[]
[]
[]
[]
[]
[]
[]
[]
[]
[]
[]
[]
[]
[]
[null,null,null,null,null,null,null,null,null,null,null,null,"+","-",",",",",",",",",",",",",",",3,"F","+","-",",",",",",",",",",",",",",",",",",",",",",",",",",",",",",",",",",",4,"F","+","-",",",",",",",",",",",",",",",",",",",",",",",",",",",",",",",",",",",4,"F","+","-",",",",",",",",",",",",",",",3,"F","+","-"]
[]
[]
[]
[]
[]
[]
[]
[]
[]
[]
[]
[]
[]
[]
[]
[]
[]
[]
[]
[]
[]
[]
[]
[]
[]
[]
[]
[]
[]
[]
[]
[]
[]
[]
[]
[]
[]
[]
[]
[]
[]
[]
[]
[]
[]
[]
[]
[]
[]
[]
[]
[]
[]
[]
[]
[]
[]
[]
[]
[]
[]
[]
[]
[]
[]
[]
[]
[]
[]
[]
[]
[]
[]
[]
[]
[]
[]
[]
[]
[]
[]
[]
[]
[]
[]
[]
[]
[]
[]
[]
[]
[]
[]
[]
[]
[]
[]
[]
[]
[null,null,null,null,null,null,null,null,null,null,null,null,"+","-",",",",",",",",",",",",",",",3,"F","+","-",",",",",",",",",",",",",",",",",",",",",",",",",",",",",",",",",",",4,"F","+","-",",",",",",",",",",",",",",",",",",",",",",",",",",",",",",",",",",",4,"F","+","-",",",",",",",",",",",",",",",3,"F","+","-"]
[]
[]
[]
[]
[]
[]
[]
[]
[]
[]
[]
[]
[]
[]
[]
[]
[]
[]
[]
[]
[]
[]
[]
[]
[]
[]
[]
[]
[]
[]
[]
[]
[]
[]
[]
[]
[]
[]
[]
[]
[]
[]
[]
[]
[]
[]
[]
[]
[]
[]
[]
[]
[]
[]
[]
[]
[]
[]
[]
[]
[]
[]
[]
[]
[]
[]
[]
[]
[]
[]
[]
[]
[]
[]
[]
[]
[]
[]
[]
[]
[]
[]
[]
[]
[]
[]
[]
[]
[]
[]
[]
[]
[]
[]
[]
[]
[]
[]
[]
[null,null,null,null,null,null,null,null,null,null,null,null,"+","-",",",",",",",",",",",",",",",3,"F","+","-",",",",",",",",",",",",",",",",",",",",",",",",",",",",",",",",",",",4,"F","+","-",",",",",",",",",",",",",",",",",",",",",",",",",",",",",",",",",",",4,"F","+","-",",",",",",",",",",",",",",",3,"F","+","-"]

{"sheet":"valB3","index":6,"n_rows":2120,"n_cols":289,"rows_kept":2120,"cut":false,"hidden":true,"merged":[[1,10,1,74],[1,80,1,81],[2,11,2,47],[2,64,2,67],[3,11,3,47],[3,65,3,66],[4,11,4,47],[4,64,4,67],[5,11,5,47],[5,65,5,66],[5,89,7,89],[6,11,6,47],[6,64,6,67],[7,11,7,47],[7,64,7,65],[7,66,8,67],[8,11,8,47],[8,64,8,65],[15,81,18,81],[17,17,17,21],[17,22,18,22],[17,23,17,27],[17,28,17,32],[15,83,19,83],[15,84,19,84],[15,85,19,85],[15,86,19,86],[16,12,16,22],[16,23,16,43],[16,44,16,64],[16,65,16,75],[16,76,16,79],[17,12,17,16],[15,82,19,82],[17,79,18,79],[17,75,18,75],[17,76,17,78],[15,12,15,79],[15,80,18,80],[24,10,24,11],[17,59,17,63],[17,64,18,64],[17,65,17,69],[17,70,17,74],[17,33,17,37],[17,38,17,42],[17,43,18,43],[17,44,17,48],[17,49,17,53],[17,54,17,58],[20,10,20,11],[21,10,21,11],[22,10,22,11],[23,10,23,11],[36,10,36,11],[25,10,25,11],[26,10,26,11],[27,10,27,11],[28,10,28,11],[29,10,29,11],[30,10,30,11],[31,10,31,11],[32,10,32,11],[33,10,33,11],[34,10,34,11],[35,10,35,11],[48,10,48,11],[37,10,37,11],[38,10,38,11],[39,10,39,11],[40,10,40,11],[41,10,41,11],[42,10,42,11],[43,10,43,11],[44,10,44,11],[45,10,45,11],[46,10,46,11],[47,10,47,11],[60,10,60,11],[49,10,49,11],[50,10,50,11],[51,10,51,11],[52,10,52,11],[53,10,53,11],[54,10,54,11],[55,10,55,11],[56,10,56,11],[57,10,57,11],[58,10,58,11],[59,10,59,11],[67,10,67,11],[68,10,68,11],[69,10,69,11],[61,10,61,11],[62,10,62,11],[63,10,63,11],[64,10,64,11],[65,10,65,11],[66,10,66,11]]}
["O"]
[null,null,null,null,null,"\u0081",null,null,null,null,"REGISTRO DE VALORACIÓN  3er.  TRIMESTRE ",null,null,null,null,null,null,null,null,null,null,null,null,null,null,null,null,null,null,null,null,null,null,null,null,null,null,null,null,null,null,null,null,null,null,null,null,null,null,null,null,null,null,null,null,null,null,null,null,null,null,null,null,null,null,null,null,null,null,null,null,null,null,null,null,"\u0082",null,null,null,null,"GESTION 2023",null,null,null,null,null,null,null,"Ξ"]
[null,null,null,null,null,null,{"$f":"datpro!$E$6","v":0},"sie",null,null,"UNIDAD EDUCATIVA ",{"$f":"IF(datpro!$E$7=\"\",\"\",datpro!$E$7)","v":""},null,null,null,null,null,null,null,null,null,null,null,null,null,null,null,null,null,null,null,null,null,null,null,null,null,null,null,null,null,null,null,null,null,null,null,null,null,null,null,null,null,null,null,null,null,null,null,null,null,null,null,null,{"$f":"CONCATENATE(datpro!H24,\"S\")","v":"APROBADOS"},null,null,null,null,null,null,null,null,null,null,null,null,null,null,null,null,null,null,null,null,null,null,null,"Cerrar"]
[null,null,null,null,null,null,{"$f":"datpro!$M$14","v":50},"nroes",null,null,"NIVEL ",{"$f":"datpro!$E$10","v":""},null,null,null,null,null,null,null,null,null,null,null,null,null,null,null,null,null,null,null,null,null,null,null,null,null,null,null,null,null,null,null,null,null,null,null,null,null,null,null,null,null,null,null,null,null,null,null,null,null,null,null,null,{"$f":"COUNTIF(CC21:CC70,\">=50,500\")","v":0},{"$f":"IF(BM4=0,0,ROUND((BM4*100)/(BM4+BM6),0))","v":0},null,"%",null,null,null,null,null,null,null,null,null,null,null,null,null,null,null,null,null,null,null,null,"u"]
[null,null,null,null,null,null,{"$f":"datpro!$C$12","v":"S"},"curso",null,null,"AÑO DE ESCOLARIDAD",{"$f":"CONCATENATE( datpro!$E$11,\"  -  \",datpro!$E$12)","v":"  -  "},null,null,null,null,null,null,null,null,null,null,null,null,null,null,null,null,null,null,null,null,null,null,null,null,null,null,null,null,null,null,null,null,null,null,null,null,null,null,null,null,null,null,null,null,null,null,null,null,null,null,null,null,{"$f":"CONCATENATE(datpro!H25,\"S\")","v":"RETENIDOS"}]
[null,null,null,null,null,null,{"$f":"DAY(TODAY())","v":6},"dia",null,null,"DIRECTORA/OR",{"$f":"IF(datpro!$E$8=\"\",\"\",datpro!$E$8)","v":""},null,null,null,null,null,null,null,null,null,null,null,null,null,null,null,null,null,null,null,null,null,null,null,null,null,null,null,null,null,null,null,null,null,null,null,null,null,null,null,null,null,null,null,null,null,null,null,null,null,null,null,null,{"$f":"COUNTIFS(CC21:CC70,\">=1\",CC21:CC70,\"<=50,499\")","v":0},{"$f":"IF(BM4=0,0,ROUND((BM6*100)/(BM4+BM6),0))","v":0},null,"%"]
[null,null,null,null,null,null,{"$f":"MONTH(TODAY())","v":3},"mes",null,null,"MAESTRA/O",{"$f":"IF(datpro!$E$9=\"\",\"\",datpro!$E$9)","v":""},null,null,null,null,null,null,null,null,null,null,null,null,null,null,null,null,null,null,null,null,null,null,null,null,null,null,null,null,null,null,null,null,null,null,null,null,null,null,null,null,null,null,null,null,null,null,null,null,null,null,null,null,{"$f":"IF(datpro!$M$4=\"\",\"\",TODAY())","v":"2023-03-06"}]
[null,null,null,null,null,null,"T3","tri",null,null,"CAMPO ",{"$f":"IF(datpro!$E$13=\"\",\"\",datpro!$E$13)","v":""},null,null,null,null,null,null,null,null,null,null,null,null,null,null,null,null,null,null,null,null,null,null,null,null,null,null,null,null,null,null,null,null,null,null,null,null,null,null,null,null,null,null,null,null,null,null,null,null,null,null,null,null,{"$f":"IF(datpro!$M$4=\"\",\"\",datpro!$I$4)","v":"2023-02-01"},null,{"$f":"datpro!$M$4","v":55}]
[null,null,null,null,null,null,{"$f":"datpro!$E$15","v":""},"codarea",null,null,"ÁREA",{"$f":"IF(datpro!$E$14=\"\",\"\",datpro!$E$14)","v":0},null,null,null,null,null,null,null,null,null,null,null,null,null,null,null,null,null,null,null,null,null,null,null,null,null,null,null,null,null,null,null,null,null,null,null,null,null,null,null,null,null,null,null,null,null,null,null,null,null,null,null,null,{"$f":"IF(datpro!$M$4=\"\",\"\",datpro!$K$4)","v":"2023-04-30"}]
[]
[]
[]
[null,null,null,null,null,null,null,null,null,null,null,null,"M","N","O","P","Q","R","S","T","U","V",null,"X","Y","Z","AA","AB","AC","AD","AE","AF","AG","AH","AI","AJ","AK","AL","AM","AN","AO","AP","AQ",null,"AS","AT","AU","AV","AW","AX","AY","AZ","BA","BB","BC","BD","BE","BF","BG","BH","BI","NJ","BK","BL",null,"BN","BO","BP","BQ","BR","BS","BT","BU","BV","BW"]
[]
[null,null,null,null,null,null,"F21:CD70","CD",null,null,null,null,"+","-",",",",",",",",",",",",",",",3,"F","+","-",",",",",",",",",",",",",",",",",",",",",",",",",",",",",",",",",",",4,"F","+","-",",",",",",",",",",",",",",",",",",",",",",",",",",",",",",",",",",",4,"F","+","-",",",",",",",",",",",",",",",3,"F","+","-"]
[null,null,null,null,null,"+",null,null,null,null,null,"+","DIMENSIONES",null,null,null,null,null,null,null,null,null,null,null,null,null,null,null,null,null,null,null,null,null,null,null,null,null,null,null,null,null,null,null,null,null,null,null,null,null,null,null,null,null,null,null,null,null,null,null,null,null,null,null,null,null,null,null,null,null,null,null,null,null,null,null,null,null,null,null,"NOTA TOTAL  DEL TRIMESTRE","SITUACIÓN TRIMESTRAL"]
[null,null,null,null,null,"-",null,null,null,null,null,"-","SER (10)",null,null,null,null,null,null,null,null,null,null,"SABER (35)",null,null,null,null,null,null,null,null,null,null,null,null,null,null,null,null,null,null,null,null,"HACER (35)",null,null,null,null,null,null,null,null,null,null,null,null,null,null,null,null,null,null,null,null,"DEC(10)",null,null,null,null,null,null,null,null,null,null,"AUT(10)"]
[null,null,null,null,null,null,null,null,null,null,null,"CRIT. DE EVALUACION",null,null,null,null,null,null,null,null,null,null,"PROMEDIO SER",null,null,null,null,null,null,null,null,null,null,null,null,null,null,null,null,null,null,null,null,"PROMEDIO SABER",null,null,null,null,null,null,null,null,null,null,null,null,null,null,null,null,null,null,null,null,"PROMEDIO HACER",null,null,null,null,null,null,null,null,null,null,"PROMEDIO SER - DECIDIR",null,null,null,"PROMEDIO AUTO EVALUACION"]
[null,null,null,null,null,null,null,null,null,null,null,"ACTIVIDADES",null,null,null,null,null,null,null,null,null,null,null,null,null,null,null,null,null,null,null,null,null,null,null,null,null,null,null,null,null,null,null,null,null,null,null,null,null,null,null,null,null,null,null,null,null,null,null,null,null,null,null,null,null,null,null,null,null,null,null,null,null,null,null,null,null,null,null,null,null,null,null,null,null,null,null,null,null,null,null,null,{"$f":"X19","v":0},{"$f":"Y19","v":0},0,0,0,0,0,0,0,0,0,0,0,0,0,0,0,0,0,0,0,0,0,0,0,0,0,0,0,0,0,0,0,0,0,0,0,0,0,0,0,0,0,0,0,0,0,0,0,0,0,0,0,0,0,0,0,0,0,0,0,0,0,0,0,{"$f":"CK19","v":0},0,0,0,0,0,0,0,0,0,0,0,0,0,0,0,0,0,0,0,0,0,0,0,0,0,0,0,0,0,0,0,0,0,0,0,0,0,0,0,0,0,0,0,0,0,0,0,0,0,0,0,0,0,0,0,0,0,0,0,0]
[null,null,null,null,null,"Nº","codigo","sexo",null,"COD","APELLIDOS Y NOMBRES","=","+","-",",",",",",",",",",",",",",",3,"Ì","+","-",",",",",",",",",",",",",",",",",",",",",",",",",",",",",",",",",",",4,"Ì","+","-",",",",",",",",",",",",",",",",",",",",",",",",",",",",",",",",",",",3,"Ì","+","-",",",",",",",",",",",",",",",3,"Ì","+","-",".",".","Ì",null,null,null,null,null,null,null,8,"Tamaño de fuente (8..16)",null,null,null,null,null,null,null,null,null,null,null,null,null,null,null,null,null,null,null,null,null,null,null,null,null,null,null,null,null,null,null,null,null,null,null,null,null,null,null,null,null,null,null,null,null,null,null,null,null,null,null,null,null,null,null,null,null,null,null,null,null,null,null,null,null,null,null,null,null,null,null,null,null,null,null,null,null,null,null,null,null,null,null,null,null,null,null,null,null,null,null,null,null,null,null,null,null,null,null,null,null,null,null,null,null,null,null,null,null,null,null,null,null,null,null,null,null,null,null,null,null,null,null,null,null,null,null,null,null,null,null,null,null,null,null,null,null,null,null,null,null,null,null,null,null,null,null,null,null,null,null,null,null,null,null,null,null,null,null,null,null,null,null,null,null,null,null,null,null,null,null,null,null,null,null,null,null,null,null,null,null,null,null,null,null,null,null,null,null,null,null,null,null,null,null,null,null,null,8]
[null,null,null,null,null,null,null,null,null,null,null,null,null,null,null,null,null,null,null,null,null,null,null,null,null,null,null,null,null,null,null,null,null,null,null,null,null,null,null,null,null,null,null,null,null,null,null,null,null,null,null,null,null,null,null,null,null,null,null,null,null,null,null,null,null,null,null,null,null,null,null,null,null,null,null,null,null,null,null,{"$f":"IF(BY21>0,BY21+BZ21,\"\")","v":""},null,{"$f":"IF(CC21=\"\",\"\",IF(CC21<50.5,datpro!$H$25,datpro!$H$24))","v":""},null,null,null,null,null,null,11,"Alto de Fila (10..20)",null,null,null,null,null,null,null,null,null,null,null,null,null,null,null,null,null,null,null,null,null,null,null,null,null,null,null,null,null,null,null,null,null,null,null,null,null,null,null,null,null,null,null,null,null,null,null,null,null,null,null,null,null,null,null,null,null,null,null,null,null,null,null,null,null,null,null,null,null,null,null,null,null,null,null,null,null,null,null,null,null,null,null,null,null,null,null,null,null,null,null,null,null,null,null,null,null,null,null,null,null,null,null,null,null,null,null,null,null,null,null,null,null,null,null,null,null,null,null,null,null,null,null,null,null,null,null,null,null,null,null,null,null,null,null,null,null,null,null,null,null,null,null,null,null,null,null,null,null,null,null,null,null,null,null,null,null,null,null,null,null,null,null,null,null,null,null,null,null,null,null,null,null,null,null,null,null,null,null,null,null,null,null,null,null,null,null,null,null,null,null,null,null,null,null,null,null,null,11]
[null,null,null,null,null,null,null,null,null,null,null,null,null,null,null,null,null,null,null,null,null,null,null,null,null,null,null,null,null,null,null,null,null,null,null,null,null,null,null,null,null,null,null,null,null,null,null,null,null,null,null,null,null,null,null,null,null,null,null,null,null,null,null,null,null,null,null,null,null,null,null,null,null,null,null,null,null,null,null,{"$f":"IF(BY22>0,BY22+BZ22,\"\")","v":""},null,{"$f":"IF(CC22=\"\",\"\",IF(CC22<50.5,datpro!$H$25,datpro!$H$24))","v":""},null,null,null,null,null,null,2,"Ancho de Columna (1..7) Modos",null,null,null,null,null,null,null,null,null,null,null,null,null,null,null,null,null,null,null,null,null,null,null,null,null,null,null,null,null,null,null,null,null,null,null,null,null,null,null,null,null,null,null,null,null,null,null,null,null,null,null,null,null,null,null,null,null,null,null,null,null,null,null,null,null,null,null,null,null,null,null,null,null,null,null,null,null,null,null,null,null,null,null,null,null,null,null,null,null,null,null,null,null,null,null,null,null,null,null,null,null,null,null,null,null,null,null,null,null,null,null,null,null,null,null,null,null,null,null,null,null,null,null,null,null,null,null,null,null,null,null,null,null,null,null,null,null,null,null,null,null,null,null,null,null,null,null,null,null,null,null,null,null,null,null,null,null,null,null,null,null,null,null,null,null,null,null,null,null,null,null,null,null,null,null,null,null,null,null,null,null,null,null,null,null,null,null,null,null,null,null,null,null,null,null,null,null,null,1]
[null,null,null,null,null,null,null,null,null,null,null,null,null,null,null,null,null,null,null,null,null,null,null,null,null,null,null,null,null,null,null,null,null,null,null,null,null,null,null,null,null,null,null,null,null,null,null,null,null,null,null,null,null,null,null,null,null,null,null,null,null,null,null,null,null,null,null,null,null,null,null,null,null,null,null,null,null,null,null,"",null,{"$f":"IF(CC23=\"\",\"\",IF(CC23<50.5,datpro!$H$25,datpro!$H$24))","v":""}]
[null,null,null,null,null,null,null,null,null,null,null,null,null,null,null,null,null,null,null,null,null,null,null,null,null,null,null,null,null,null,null,null,null,null,null,null,null,null,null,null,null,null,null,null,null,null,null,null,null,null,null,null,null,null,null,null,null,null,null,null,null,null,null,null,null,null,null,null,null,null,null,null,null,null,null,null,null,null,null,"",null,{"$f":"IF(CC24=\"\",\"\",IF(CC24<50.5,datpro!$H$25,datpro!$H$24))","v":""},null,null,null,null,null,null,null,"©  2023"]
[null,null,null,null,null,null,null,null,null,null,null,null,null,null,null,null,null,null,null,null,null,null,null,null,null,null,null,null,null,null,null,null,null,null,null,null,null,null,null,null,null,null,null,null,null,null,null,null,null,null,null,null,null,null,null,null,null,null,null,null,null,null,null,null,null,null,null,null,null,null,null,null,null,null,null,null,null,null,null,"",null,{"$f":"IF(CC25=\"\",\"\",IF(CC25<50.5,datpro!$H$25,datpro!$H$24))","v":""},null,null,null,null,null,null,null,"PROYECTO REMDIZ"]
[null,null,null,null,null,null,null,null,null,null,null,null,null,null,null,null,null,null,null,null,null,null,null,null,null,null,null,null,null,null,null,null,null,null,null,null,null,null,null,null,null,null,null,null,null,null,null,null,null,null,null,null,null,null,null,null,null,null,null,null,null,null,null,null,null,null,null,null,null,null,null,null,null,null,null,null,null,null,null,"",null,{"$f":"IF(CC26=\"\",\"\",IF(CC26<50.5,datpro!$H$25,datpro!$H$24))","v":""}]
[null,null,null,null,null,null,null,null,null,null,null,null,null,null,null,null,null,null,null,null,null,null,null,null,null,null,null,null,null,null,null,null,null,null,null,null,null,null,null,null,null,null,null,null,null,null,null,null,null,null,null,null,null,null,null,null,null,null,null,null,null,null,null,null,null,null,null,null,null,null,null,null,null,null,null,null,null,null,null,"",null,{"$f":"IF(CC27=\"\",\"\",IF(CC27<50.5,datpro!$H$25,datpro!$H$24))","v":""}]
[null,null,null,null,null,null,null,null,null,null,null,null,null,null,null,null,null,null,null,null,null,null,null,null,null,null,null,null,null,null,null,null,null,null,null,null,null,null,null,null,null,null,null,null,null,null,null,null,null,null,null,null,null,null,null,null,null,null,null,null,null,null,null,null,null,null,null,null,null,null,null,null,null,null,null,null,null,null,null,"",null,{"$f":"IF(CC28=\"\",\"\",IF(CC28<50.5,datpro!$H$25,datpro!$H$24))","v":""}]
[null,null,null,null,null,null,null,null,null,null,null,null,null,null,null,null,null,null,null,null,null,null,null,null,null,null,null,null,null,null,null,null,null,null,null,null,null,null,null,null,null,null,null,null,null,null,null,null,null,null,null,null,null,null,null,null,null,null,null,null,null,null,null,null,null,null,null,null,null,null,null,null,null,null,null,null,null,null,null,"",null,{"$f":"IF(CC29=\"\",\"\",IF(CC29<50.5,datpro!$H$25,datpro!$H$24))","v":""}]
[null,null,null,null,null,null,null,null,null,null,null,null,null,null,null,null,null,null,null,null,null,null,null,null,null,null,null,null,null,null,null,null,null,null,null,null,null,null,null,null,null,null,null,null,null,null,null,null,null,null,null,null,null,null,null,null,null,null,null,null,null,null,null,null,null,null,null,null,null,null,null,null,null,null,null,null,null,null,null,"",null,{"$f":"IF(CC30=\"\",\"\",IF(CC30<50.5,datpro!$H$25,datpro!$H$24))","v":""}]
[null,null,null,null,null,null,null,null,null,null,null,null,null,null,null,null,null,null,null,null,null,null,null,null,null,null,null,null,null,null,null,null,null,null,null,null,null,null,null,null,null,null,null,null,null,null,null,null,null,null,null,null,null,null,null,null,null,null,null,null,null,null,null,null,null,null,null,null,null,null,null,null,null,null,null,null,null,null,null,"",null,{"$f":"IF(CC31=\"\",\"\",IF(CC31<50.5,datpro!$H$25,datpro!$H$24))","v":""}]
[null,null,null,null,null,null,null,null,null,null,null,null,null,null,null,null,null,null,null,null,null,null,null,null,null,null,null,null,null,null,null,null,null,null,null,null,null,null,null,null,null,null,null,null,null,null,null,null,null,null,null,null,null,null,null,null,null,null,null,null,null,null,null,null,null,null,null,null,null,null,null,null,null,null,null,null,null,null,null,"",null,{"$f":"IF(CC32=\"\",\"\",IF(CC32<50.5,datpro!$H$25,datpro!$H$24))","v":""}]
[null,null,null,null,null,null,null,null,null,null,null,null,null,null,null,null,null,null,null,null,null,null,null,null,null,null,null,null,null,null,null,null,null,null,null,null,null,null,null,null,null,null,null,null,null,null,null,null,null,null,null,null,null,null,null,null,null,null,null,null,null,null,null,null,null,null,null,null,null,null,null,null,null,null,null,null,null,null,null,"",null,{"$f":"IF(CC33=\"\",\"\",IF(CC33<50.5,datpro!$H$25,datpro!$H$24))","v":""}]
[null,null,null,null,null,null,null,null,null,null,null,null,null,null,null,null,null,null,null,null,null,null,null,null,null,null,null,null,null,null,null,null,null,null,null,null,null,null,null,null,null,null,null,null,null,null,null,null,null,null,null,null,null,null,null,null,null,null,null,null,null,null,null,null,null,null,null,null,null,null,null,null,null,null,null,null,null,null,null,"",null,{"$f":"IF(CC34=\"\",\"\",IF(CC34<50.5,datpro!$H$25,datpro!$H$24))","v":""}]
[null,null,null,null,null,null,null,null,null,null,null,null,null,null,null,null,null,null,null,null,null,null,null,null,null,null,null,null,null,null,null,null,null,null,null,null,null,null,null,null,null,null,null,null,null,null,null,null,null,null,null,null,null,null,null,null,null,null,null,null,null,null,null,null,null,null,null,null,null,null,null,null,null,null,null,null,null,null,null,"",null,{"$f":"IF(CC35=\"\",\"\",IF(CC35<50.5,datpro!$H$25,datpro!$H$24))","v":""}]
[null,null,null,null,null,null,null,null,null,null,null,null,null,null,null,null,null,null,null,null,null,null,null,null,null,null,null,null,null,null,null,null,null,null,null,null,null,null,null,null,null,null,null,null,null,null,null,null,null,null,null,null,null,null,null,null,null,null,null,null,null,null,null,null,null,null,null,null,null,null,null,null,null,null,null,null,null,null,null,"",null,{"$f":"IF(CC36=\"\",\"\",IF(CC36<50.5,datpro!$H$25,datpro!$H$24))","v":""}]
[null,null,null,null,null,null,null,null,null,null,null,null,null,null,null,null,null,null,null,null,null,null,null,null,null,null,null,null,null,null,null,null,null,null,null,null,null,null,null,null,null,null,null,null,null,null,null,null,null,null,null,null,null,null,null,null,null,null,null,null,null,null,null,null,null,null,null,null,null,null,null,null,null,null,null,null,null,null,null,"",null,{"$f":"IF(CC37=\"\",\"\",IF(CC37<50.5,datpro!$H$25,datpro!$H$24))","v":""}]
[null,null,null,null,null,null,null,null,null,null,null,null,null,null,null,null,null,null,null,null,null,null,null,null,null,null,null,null,null,null,null,null,null,null,null,null,null,null,null,null,null,null,null,null,null,null,null,null,null,null,null,null,null,null,null,null,null,null,null,null,null,null,null,null,null,null,null,null,null,null,null,null,null,null,null,null,null,null,null,"",null,{"$f":"IF(CC38=\"\",\"\",IF(CC38<50.5,datpro!$H$25,datpro!$H$24))","v":""}]
[null,null,null,null,null,null,null,null,null,null,null,null,null,null,null,null,null,null,null,null,null,null,null,null,null,null,null,null,null,null,null,null,null,null,null,null,null,null,null,null,null,null,null,null,null,null,null,null,null,null,null,null,null,null,null,null,null,null,null,null,null,null,null,null,null,null,null,null,null,null,null,null,null,null,null,null,null,null,null,"",null,{"$f":"IF(CC39=\"\",\"\",IF(CC39<50.5,datpro!$H$25,datpro!$H$24))","v":""}]
[null,null,null,null,null,null,null,null,null,null,null,null,null,null,null,null,null,null,null,null,null,null,null,null,null,null,null,null,null,null,null,null,null,null,null,null,null,null,null,null,null,null,null,null,null,null,null,null,null,null,null,null,null,null,null,null,null,null,null,null,null,null,null,null,null,null,null,null,null,null,null,null,null,null,null,null,null,null,null,"",null,{"$f":"IF(CC40=\"\",\"\",IF(CC40<50.5,datpro!$H$25,datpro!$H$24))","v":""}]
[null,null,null,null,null,null,null,null,null,null,null,null,null,null,null,null,null,null,null,null,null,null,null,null,null,null,null,null,null,null,null,null,null,null,null,null,null,null,null,null,null,null,null,null,null,null,null,null,null,null,null,null,null,null,null,null,null,null,null,null,null,null,null,null,null,null,null,null,null,null,null,null,null,null,null,null,null,null,null,"",null,{"$f":"IF(CC41=\"\",\"\",IF(CC41<50.5,datpro!$H$25,datpro!$H$24))","v":""}]
[null,null,null,null,null,null,null,null,null,null,null,null,null,null,null,null,null,null,null,null,null,null,null,null,null,null,null,null,null,null,null,null,null,null,null,null,null,null,null,null,null,null,null,null,null,null,null,null,null,null,null,null,null,null,null,null,null,null,null,null,null,null,null,null,null,null,null,null,null,null,null,null,null,null,null,null,null,null,null,"",null,{"$f":"IF(CC42=\"\",\"\",IF(CC42<50.5,datpro!$H$25,datpro!$H$24))","v":""}]
[null,null,null,null,null,null,null,null,null,null,null,null,null,null,null,null,null,null,null,null,null,null,null,null,null,null,null,null,null,null,null,null,null,null,null,null,null,null,null,null,null,null,null,null,null,null,null,null,null,null,null,null,null,null,null,null,null,null,null,null,null,null,null,null,null,null,null,null,null,null,null,null,null,null,null,null,null,null,null,"",null,{"$f":"IF(CC43=\"\",\"\",IF(CC43<50.5,datpro!$H$25,datpro!$H$24))","v":""}]
[null,null,null,null,null,null,null,null,null,null,null,null,null,null,null,null,null,null,null,null,null,null,null,null,null,null,null,null,null,null,null,null,null,null,null,null,null,null,null,null,null,null,null,null,null,null,null,null,null,null,null,null,null,null,null,null,null,null,null,null,null,null,null,null,null,null,null,null,null,null,null,null,null,null,null,null,null,null,null,"",null,{"$f":"IF(CC44=\"\",\"\",IF(CC44<50.5,datpro!$H$25,datpro!$H$24))","v":""}]
[null,null,null,null,null,null,null,null,null,null,null,null,null,null,null,null,null,null,null,null,null,null,null,null,null,null,null,null,null,null,null,null,null,null,null,null,null,null,null,null,null,null,null,null,null,null,null,null,null,null,null,null,null,null,null,null,null,null,null,null,null,null,null,null,null,null,null,null,null,null,null,null,null,null,null,null,null,null,null,"",null,{"$f":"IF(CC45=\"\",\"\",IF(CC45<50.5,datpro!$H$25,datpro!$H$24))","v":""}]
[null,null,null,null,null,null,null,null,null,null,null,null,null,null,null,null,null,null,null,null,null,null,null,null,null,null,null,null,null,null,null,null,null,null,null,null,null,null,null,null,null,null,null,null,null,null,null,null,null,null,null,null,null,null,null,null,null,null,null,null,null,null,null,null,null,null,null,null,null,null,null,null,null,null,null,null,null,null,null,"",null,{"$f":"IF(CC46=\"\",\"\",IF(CC46<50.5,datpro!$H$25,datpro!$H$24))","v":""}]
[null,null,null,null,null,null,null,null,null,null,null,null,null,null,null,null,null,null,null,null,null,null,null,null,null,null,null,null,null,null,null,null,null,null,null,null,null,null,null,null,null,null,null,null,null,null,null,null,null,null,null,null,null,null,null,null,null,null,null,null,null,null,null,null,null,null,null,null,null,null,null,null,null,null,null,null,null,null,null,"",null,{"$f":"IF(CC47=\"\",\"\",IF(CC47<50.5,datpro!$H$25,datpro!$H$24))","v":""}]
[null,null,null,null,null,null,null,null,null,null,null,null,null,null,null,null,null,null,null,null,null,null,null,null,null,null,null,null,null,null,null,null,null,null,null,null,null,null,null,null,null,null,null,null,null,null,null,null,null,null,null,null,null,null,null,null,null,null,null,null,null,null,null,null,null,null,null,null,null,null,null,null,null,null,null,null,null,null,null,"",null,{"$f":"IF(CC48=\"\",\"\",IF(CC48<50.5,datpro!$H$25,datpro!$H$24))","v":""}]
[null,null,null,null,null,null,null,null,null,null,null,null,null,null,null,null,null,null,null,null,null,null,null,null,null,null,null,null,null,null,null,null,null,null,null,null,null,null,null,null,null,null,null,null,null,null,null,null,null,null,null,null,null,null,null,null,null,null,null,null,null,null,null,null,null,null,null,null,null,null,null,null,null,null,null,null,null,null,null,"",null,{"$f":"IF(CC49=\"\",\"\",IF(CC49<50.5,datpro!$H$25,datpro!$H$24))","v":""}]
[null,null,null,null,null,null,null,null,null,null,null,null,null,null,null,null,null,null,null,null,null,null,null,null,null,null,null,null,null,null,null,null,null,null,null,null,null,null,null,null,null,null,null,null,null,null,null,null,null,null,null,null,null,null,null,null,null,null,null,null,null,null,null,null,null,null,null,null,null,null,null,null,null,null,null,null,null,null,null,"",null,{"$f":"IF(CC50=\"\",\"\",IF(CC50<50.5,datpro!$H$25,datpro!$H$24))","v":""}]
[null,null,null,null,null,null,null,null,null,null,null,null,null,null,null,null,null,null,null,null,null,null,null,null,null,null,null,null,null,null,null,null,null,null,null,null,null,null,null,null,null,null,null,null,null,null,null,null,null,null,null,null,null,null,null,null,null,null,null,null,null,null,null,null,null,null,null,null,null,null,null,null,null,null,null,null,null,null,null,"",null,{"$f":"IF(CC51=\"\",\"\",IF(CC51<50.5,datpro!$H$25,datpro!$H$24))","v":""}]
[null,null,null,null,null,null,null,null,null,null,null,null,null,null,null,null,null,null,null,null,null,null,null,null,null,null,null,null,null,null,null,null,null,null,null,null,null,null,null,null,null,null,null,null,null,null,null,null,null,null,null,null,null,null,null,null,null,null,null,null,null,null,null,null,null,null,null,null,null,null,null,null,null,null,null,null,null,null,null,"",null,{"$f":"IF(CC52=\"\",\"\",IF(CC52<50.5,datpro!$H$25,datpro!$H$24))","v":""}]
[null,null,null,null,null,null,null,null,null,null,null,null,null,null,null,null,null,null,null,null,null,null,null,null,null,null,null,null,null,null,null,null,null,null,null,null,null,null,null,null,null,null,null,null,null,null,null,null,null,null,null,null,null,null,null,null,null,null,null,null,null,null,null,null,null,null,null,null,null,null,null,null,null,null,null,null,null,null,null,"",null,{"$f":"IF(CC53=\"\",\"\",IF(CC53<50.5,datpro!$H$25,datpro!$H$24))","v":""}]
[null,null,null,null,null,null,null,null,null,null,null,null,null,null,null,null,null,null,null,null,null,null,null,null,null,null,null,null,null,null,null,null,null,null,null,null,null,null,null,null,null,null,null,null,null,null,null,null,null,null,null,null,null,null,null,null,null,null,null,null,null,null,null,null,null,null,null,null,null,null,null,null,null,null,null,null,null,null,null,"",null,{"$f":"IF(CC54=\"\",\"\",IF(CC54<50.5,datpro!$H$25,datpro!$H$24))","v":""}]
[null,null,null,null,null,null,null,null,null,null,null,null,null,null,null,null,null,null,null,null,null,null,null,null,null,null,null,null,null,null,null,null,null,null,null,null,null,null,null,null,null,null,null,null,null,null,null,null,null,null,null,null,null,null,null,null,null,null,null,null,null,null,null,null,null,null,null,null,null,null,null,null,null,null,null,null,null,null,null,"",null,{"$f":"IF(CC55=\"\",\"\",IF(CC55<50.5,datpro!$H$25,datpro!$H$24))","v":""}]
[null,null,null,null,null,null,null,null,null,null,null,null,null,null,null,null,null,null,null,null,null,null,null,null,null,null,null,null,null,null,null,null,null,null,null,null,null,null,null,null,null,null,null,null,null,null,null,null,null,null,null,null,null,null,null,null,null,null,null,null,null,null,null,null,null,null,null,null,null,null,null,null,null,null,null,null,null,null,null,"",null,{"$f":"IF(CC56=\"\",\"\",IF(CC56<50.5,datpro!$H$25,datpro!$H$24))","v":""}]
[null,null,null,null,null,null,null,null,null,null,null,null,null,null,null,null,null,null,null,null,null,null,null,null,null,null,null,null,null,null,null,null,null,null,null,null,null,null,null,null,null,null,null,null,null,null,null,null,null,null,null,null,null,null,null,null,null,null,null,null,null,null,null,null,null,null,null,null,null,null,null,null,null,null,null,null,null,null,null,"",null,{"$f":"IF(CC57=\"\",\"\",IF(CC57<50.5,datpro!$H$25,datpro!$H$24))","v":""}]
[null,null,null,null,null,null,null,null,null,null,null,null,null,null,null,null,null,null,null,null,null,null,null,null,null,null,null,null,null,null,null,null,null,null,null,null,null,null,null,null,null,null,null,null,null,null,null,null,null,null,null,null,null,null,null,null,null,null,null,null,null,null,null,null,null,null,null,null,null,null,null,null,null,null,null,null,null,null,null,"",null,{"$f":"IF(CC58=\"\",\"\",IF(CC58<50.5,datpro!$H$25,datpro!$H$24))","v":""}]
[null,null,null,null,null,null,null,null,null,null,null,null,null,null,null,null,null,null,null,null,null,null,null,null,null,null,null,null,null,null,null,null,null,null,null,null,null,null,null,null,null,null,null,null,null,null,null,null,null,null,null,null,null,null,null,null,null,null,null,null,null,null,null,null,null,null,null,null,null,null,null,null,null,null,null,null,null,null,null,"",null,{"$f":"IF(CC59=\"\",\"\",IF(CC59<50.5,datpro!$H$25,datpro!$H$24))","v":""}]
[null,null,null,null,null,null,null,null,null,null,null,null,null,null,null,null,null,null,null,null,null,null,null,null,null,null,null,null,null,null,null,null,null,null,null,null,null,null,null,null,null,null,null,null,null,null,null,null,null,null,null,null,null,null,null,null,null,null,null,null,null,null,null,null,null,null,null,null,null,null,null,null,null,null,null,null,null,null,null,"",null,{"$f":"IF(CC60=\"\",\"\",IF(CC60<50.5,datpro!$H$25,datpro!$H$24))","v":""}]
[null,null,null,null,null,null,null,null,null,null,null,null,null,null,null,null,null,null,null,null,null,null,null,null,null,null,null,null,null,null,null,null,null,null,null,null,null,null,null,null,null,null,null,null,null,null,null,null,null,null,null,null,null,null,null,null,null,null,null,null,null,null,null,null,null,null,null,null,null,null,null,null,null,null,null,null,null,null,null,"",null,{"$f":"IF(CC61=\"\",\"\",IF(CC61<50.5,datpro!$H$25,datpro!$H$24))","v":""}]
[null,null,null,null,null,null,null,null,null,null,null,null,null,null,null,null,null,null,null,null,null,null,null,null,null,null,null,null,null,null,null,null,null,null,null,null,null,null,null,null,null,null,null,null,null,null,null,null,null,null,null,null,null,null,null,null,null,null,null,null,null,null,null,null,null,null,null,null,null,null,null,null,null,null,null,null,null,null,null,"",null,{"$f":"IF(CC62=\"\",\"\",IF(CC62<50.5,datpro!$H$25,datpro!$H$24))","v":""}]
[null,null,null,null,null,null,null,null,null,null,null,null,null,null,null,null,null,null,null,null,null,null,null,null,null,null,null,null,null,null,null,null,null,null,null,null,null,null,null,null,null,null,null,null,null,null,null,null,null,null,null,null,null,null,null,null,null,null,null,null,null,null,null,null,null,null,null,null,null,null,null,null,null,null,null,null,null,null,null,"",null,{"$f":"IF(CC63=\"\",\"\",IF(CC63<50.5,datpro!$H$25,datpro!$H$24))","v":""}]
[null,null,null,null,null,null,null,null,null,null,null,null,null,null,null,null,null,null,null,null,null,null,null,null,null,null,null,null,null,null,null,null,null,null,null,null,null,null,null,null,null,null,null,null,null,null,null,null,null,null,null,null,null,null,null,null,null,null,null,null,null,null,null,null,null,null,null,null,null,null,null,null,null,null,null,null,null,null,null,"",null,{"$f":"IF(CC64=\"\",\"\",IF(CC64<50.5,datpro!$H$25,datpro!$H$24))","v":""}]
[null,null,null,null,null,null,null,null,null,null,null,null,null,null,null,null,null,null,null,null,null,null,null,null,null,null,null,null,null,null,null,null,null,null,null,null,null,null,null,null,null,null,null,null,null,null,null,null,null,null,null,null,null,null,null,null,null,null,null,null,null,null,null,null,null,null,null,null,null,null,null,null,null,null,null,null,null,null,null,"",null,{"$f":"IF(CC65=\"\",\"\",IF(CC65<50.5,datpro!$H$25,datpro!$H$24))","v":""}]
[null,null,null,null,null,null,null,null,null,null,null,null,null,null,null,null,null,null,null,null,null,null,null,null,null,null,null,null,null,null,null,null,null,null,null,null,null,null,null,null,null,null,null,null,null,null,null,null,null,null,null,null,null,null,null,null,null,null,null,null,null,null,null,null,null,null,null,null,null,null,null,null,null,null,null,null,null,null,null,"",null,{"$f":"IF(CC66=\"\",\"\",IF(CC66<50.5,datpro!$H$25,datpro!$H$24))","v":""}]
[null,null,null,null,null,null,null,null,null,null,null,null,null,null,null,null,null,null,null,null,null,null,null,null,null,null,null,null,null,null,null,null,null,null,null,null,null,null,null,null,null,null,null,null,null,null,null,null,null,null,null,null,null,null,null,null,null,null,null,null,null,null,null,null,null,null,null,null,null,null,null,null,null,null,null,null,null,null,null,"",null,{"$f":"IF(CC67=\"\",\"\",IF(CC67<50.5,datpro!$H$25,datpro!$H$24))","v":""}]
[null,null,null,null,null,null,null,null,null,null,null,null,null,null,null,null,null,null,null,null,null,null,null,null,null,null,null,null,null,null,null,null,null,null,null,null,null,null,null,null,null,null,null,null,null,null,null,null,null,null,null,null,null,null,null,null,null,null,null,null,null,null,null,null,null,null,null,null,null,null,null,null,null,null,null,null,null,null,null,"",null,{"$f":"IF(CC68=\"\",\"\",IF(CC68<50.5,datpro!$H$25,datpro!$H$24))","v":""}]
[null,null,null,null,null,null,null,null,null,null,null,null,null,null,null,null,null,null,null,null,null,null,null,null,null,null,null,null,null,null,null,null,null,null,null,null,null,null,null,null,null,null,null,null,null,null,null,null,null,null,null,null,null,null,null,null,null,null,null,null,null,null,null,null,null,null,null,null,null,null,null,null,null,null,null,null,null,null,null,"",null,{"$f":"IF(CC69=\"\",\"\",IF(CC69<50.5,datpro!$H$25,datpro!$H$24))","v":""}]
[null,null,null,null,null,null,null,null,null,null,null,null,null,null,null,null,null,null,null,null,null,null,null,null,null,null,null,null,null,null,null,null,null,null,null,null,null,null,null,null,null,null,null,null,null,null,null,null,null,null,null,null,null,null,null,null,null,null,null,null,null,null,null,null,null,null,null,null,null,null,null,null,null,null,null,null,null,null,null,"",null,{"$f":"IF(CC70=\"\",\"\",IF(CC70<50.5,datpro!$H$25,datpro!$H$24))","v":""}]
[null,null,null,null,null,null,null,null,null,null,null,null,null,null,null,null,null,null,null,null,null,null,"a12",null,null,null,null,null,null,null,null,null,null,null,null,null,null,null,null,null,null,null,null,{"$f":"datpro!$J$11","v":35},null,null,null,null,null,null,null,null,null,null,null,null,null,null,null,null,null,null,null,null,{"$f":"datpro!$K$11","v":35},null,null,null,null,null,null,null,null,null,null,{"$f":"datpro!$L$11","v":10},null,null,null,{"$f":"datpro!$M$11","v":5},null,{"$f":"datpro!H25","v":"RETENIDO"}]
[null,null,null,null,null,null,null,null,null,null,null,null,null,null,null,null,null,null,null,null,null,null,{"$f":"datpro!$I$12","v":1},null,null,null,null,null,null,null,null,null,null,null,null,null,null,null,null,null,null,null,null,{"$f":"datpro!$J$12","v":1},null,null,null,null,null,null,null,null,null,null,null,null,null,null,null,null,null,null,null,null,{"$f":"datpro!$K$12","v":1},null,null,null,null,null,null,null,null,null,null,{"$f":"datpro!$L$12","v":1},null,null,null,{"$f":"datpro!$M$12","v":1}]
[null,null,null,null,null,null,null,null,null,null,null,null,null,null,null,null,null,null,null,null,null,null,{"$f":"datpro!$M$18","v":0},null,null,null,null,null,null,null,null,null,null,null,null,null,null,null,null,null,null,null,null,{"$f":"datpro!$M$18","v":0},null,null,null,null,null,null,null,null,null,null,null,null,null,null,null,null,null,null,null,null,{"$f":"datpro!$M$18","v":0},null,null,null,null,null,null,null,null,null,null,{"$f":"datpro!$M$18","v":0},null,null,null,{"$f":"datpro!$M$18","v":0},{"$f":"datpro!$M$19","v":0}]
[]
[]
[]
[]
[]
[]
[]
[null,null,null,null,null,null,"select_load",{"$f":"main!$AE$10","v":50}]
[null,null,null,null,null,null,"actual_save"]
[]
[]
[]
[]
[]
[]
[]
[]
[]
[]
[]
[]
[]
[]
[]
[]
[1,2,3,4,5,6,7,8,9,10,11,12,13,14,15,16,17,18,19,20,21,22,23,24,25,26,27,28,29,30,31,32,33,34,35,36,37,38,39,40,41,42,43,44,45,46,47,48,49,50,51,52,53,54,55,56,57,58,59,60,61,62,63,64,65,66,67,68,69,70,71,72,73,74,75,76,77,78,79]
[null,null,null,null,null,null,null,null,null,null,null,null,"M","N","O","P","Q","R","S","T","U","V","W","X","Y","Z","AA","AB","AC","AD","AE","AF","AG","AH","AI","AJ","AK","AL","AM","AN","AO","AP","AQ","AR","AS","AT","AU","AV","AW","AX","AY","AZ","BA","BB","BC","BD","BE","BF","BG","BH","BI","BJ","BK","BL","BM","BN","BO","BP","BQ","BR","BS","BT","BU","BV","BW","BX","BY","BZ","CA","CB"]
[null,null,null,null,null,null,"alto de fila",11,null,null,null,null,null,null,null,null,null,null,null,null,null,3,"ser",null,null,null,null,null,null,null,null,null,null,null,null,null,null,null,null,null,null,null,4,"saber",null,null,null,null,null,null,null,null,null,null,null,null,null,null,null,null,null,null,null,4,"hacer",null,null,null,null,null,null,null,null,null,3,"decidir",null,null,3]
[null,null,null,null,null,null,"ancho col nro",2.2999999999999998,null,null,null,null,null,null,null,null,null,null,null,null,null,null,{"$f":"datpro!$H$11","v":0},null,null,null,null,null,null,null,null,null,null,null,null,null,null,null,null,null,null,null,null,{"$f":"datpro!$I$11","v":10},null,null,null,null,null,null,null,null,null,null,null,null,null,null,null,null,null,null,null,null,{"$f":"datpro!$J$11","v":35},null,null,null,null,null,null,null,null,null,null,{"$f":"datpro!$K$11","v":35},null,null,null,{"$f":"datpro!L84","v":85},{"$f":"datpro!$L$11","v":10}]
[null,null,null,null,null,null,"ancho col est",27,null,null,null,null,null,null,null,null,null,null,null,null,null,{"$f":"datpro!H12","v":0},null,null,null,null,null,null,null,null,null,null,null,null,null,null,null,null,null,null,null,null,{"$f":"datpro!I12","v":1},null,null,null,null,null,null,null,null,null,null,null,null,null,null,null,null,null,null,null,null,{"$f":"datpro!J12","v":1},null,null,null,null,null,null,null,null,null,null,{"$f":"datpro!K12","v":1}]
[null,null,null,null,null,null,"ancho col indicadores",2.29,null,null,null,null,"val","est","dim","tri","obs"]
[null,null,null,null,null,null,"ancho col prom ind",2.5,null,null,null,null,0,0,0,0,0]
[null,null,null,null,null,null,"ancho nota prof",3.3,null,null,null,null,2,27,2.29,2.57,8]
[null,null,null,null,null,null,"ancho nota bim",2.5,null,null,null,null,2.29,29,2.57,2.86,10]
[null,null,null,null,null,null,"tamaño fuente",8,null,null,null,null,2.57,31,2.86,3.14,12]
[null,null,null,null,null,null,"alto indicador",120,null,null,null,null,2.86,33,3.14,3.43,14]
[null,null,null,null,null,null,"bimestre",1,null,null,null,null,3.14,35,3.43,3.71,16]
[null,null,null,null,null,null,"nroest",{"$f":"datpro!$M$14","v":50},null,null,null,null,3.43,37,3.71,4,18]
[null,null,null,null,null,null,"hiden_cri_eva",0,null,null,null,null,3.71,39,4,4.29,20]
[null,null,null,null,null,null,"alto fila crieva",80]
[null,null,null,null,null,null,"alto fila actv",80]
[null,null,null,null,null,null,"paneles",0]
[null,null,null,null,null,null,"sit_bim_comp",1]
[null,null,null,null,null,null,"sit_bim_abrv",0.5]
[null,null,null,null,null,null,"cod_area",{"$f":"datpro!$E$15","v":""}]
[null,null,null,null,null,null,"hiden_actividedes",1]
[null,null,null,null,null,null,null,null,null,null,null,null,"+","-",",",",",",",",",",",",",",",3,"F","+","-",",",",",",",",",",",",",",",",",",",",",",",",",",",",",",",",",",",4,"F","+","-",",",",",",",",",",",",",",",",",",",",",",",",",",",",",",",",",",",4,"F","+","-",",",",",",",",",",",",",",",3,"F","+","-"]
[]
[]
[]
[]
[]
[]
[]
[]
[]
[]
[]
[]
[]
[]
[]
[]
[]
[]
[]
[]
[]
[]
[]
[]
[]
[]
[]
[]
[]
[]
[]
[]
[]
[]
[]
[]
[]
[]
[]
[]
[]
[]
[]
[]
[]
[]
[]
[]
[]
[]
[]
[]
[]
[]
[]
[]
[]
[]
[]
[]
[]
[]
[]
[]
[]
[]
[]
[]
[]
[]
[]
[]
[]
[]
[]
[]
[]
[]
[]
[]
[]
[]
[]
[]
[]
[]
[]
[]
[]
[]
[]
[]
[]
[]
[]
[]
[]
[]
[]
[null,null,null,null,null,null,null,null,null,null,null,null,"+","-",",",",",",",",",",",",",",",3,"F","+","-",",",",",",",",",",",",",",",",",",",",",",",",",",",",",",",",",",",4,"F","+","-",",",",",",",",",",",",",",",",",",",",",",",",",",",",",",",",",",",4,"F","+","-",",",",",",",",",",",",",",",3,"F","+","-"]
[]
[]
[]
[]
[]
[]
[]
[]
[]
[]
[]
[]
[]
[]
[]
[]
[]
[]
[]
[]
[]
[]
[]
[]
[]
[]
[]
[]
[]
[]
[]
[]
[]
[]
[]
[]
[]
[]
[]
[]
[]
[]
[]
[]
[]
[]
[]
[]
[]
[]
[]
[]
[]
[]
[]
[]
[]
[]
[]
[]
[]
[]
[]
[]
[]
[]
[]
[]
[]
[]
[]
[]
[]
[]
[]
[]
[]
[]
[]
[]
[]
[]
[]
[]
[]
[]
[]
[]
[]
[]
[]
[]
[]
[]
[]
[]
[]
[]
[]
[null,null,null,null,null,null,null,null,null,null,null,null,"+","-",",",",",",",",",",",",",",",3,"F","+","-",",",",",",",",",",",",",",",",",",",",",",",",",",",",",",",",",",",4,"F","+","-",",",",",",",",",",",",",",",",",",",",",",",",",",",",",",",",",",",4,"F","+","-",",",",",",",",",",",",",",",3,"F","+","-"]
[]
[]
[]
[]
[]
[]
[]
[]
[]
[]
[]
[]
[]
[]
[]
[]
[]
[]
[]
[]
[]
[]
[]
[]
[]
[]
[]
[]
[]
[]
[]
[]
[]
[]
[]
[]
[]
[]
[]
[]
[]
[]
[]
[]
[]
[]
[]
[]
[]
[]
[]
[]
[]
[]
[]
[]
[]
[]
[]
[]
[]
[]
[]
[]
[]
[]
[]
[]
[]
[]
[]
[]
[]
[]
[]
[]
[]
[]
[]
[]
[]
[]
[]
[]
[]
[]
[]
[]
[]
[]
[]
[]
[]
[]
[]
[]
[]
[]
[]
[null,null,null,null,null,null,null,null,null,null,null,null,"+","-",",",",",",",",",",",",",",",3,"F","+","-",",",",",",",",",",",",",",",",",",",",",",",",",",",",",",",",",",",4,"F","+","-",",",",",",",",",",",",",",",",",",",",",",",",",",",",",",",",",",",4,"F","+","-",",",",",",",",",",",",",",",3,"F","+","-"]
[]
[]
[]
[]
[]
[]
[]
[]
[]
[]
[]
[]
[]
[]
[]
[]
[]
[]
[]
[]
[]
[]
[]
[]
[]
[]
[]
[]
[]
[]
[]
[]
[]
[]
[]
[]
[]
[]
[]
[]
[]
[]
[]
[]
[]
[]
[]
[]
[]
[]
[]
[]
[]
[]
[]
[]
[]
[]
[]
[]
[]
[]
[]
[]
[]
[]
[]
[]
[]
[]
[]
[]
[]
[]
[]
[]
[]
[]
[]
[]
[]
[]
[]
[]
[]
[]
[]
[]
[]
[]
[]
[]
[]
[]
[]
[]
[]
[]
[]
[null,null,null,null,null,null,null,null,null,null,null,null,"+","-",",",",",",",",",",",",",",",3,"F","+","-",",",",",",",",",",",",",",",",",",",",",",",",",",",",",",",",",",",4,"F","+","-",",",",",",",",",",",",",",",",",",",",",",",",",",",",",",",",",",",4,"F","+","-",",",",",",",",",",",",",",",3,"F","+","-"]
[]
[]
[]
[]
[]
[]
[]
[]
[]
[]
[]
[]
[]
[]
[]
[]
[]
[]
[]
[]
[]
[]
[]
[]
[]
[]
[]
[]
[]
[]
[]
[]
[]
[]
[]
[]
[]
[]
[]
[]
[]
[]
[]
[]
[]
[]
[]
[]
[]
[]
[]
[]
[]
[]
[]
[]
[]
[]
[]
[]
[]
[]
[]
[]
[]
[]
[]
[]
[]
[]
[]
[]
[]
[]
[]
[]
[]
[]
[]
[]
[]
[]
[]
[]
[]
[]
[]
[]
[]
[]
[]
[]
[]
[]
[]
[]
[]
[]
[]
[null,null,null,null,null,null,null,null,null,null,null,null,"+","-",",",",",",",",",",",",",",",3,"F","+","-",",",",",",",",",",",",",",",",",",",",",",",",",",",",",",",",",",",4,"F","+","-",",",",",",",",",",",",",",",",",",",",",",",",",",",",",",",",",",",4,"F","+","-",",",",",",",",",",",",",",",3,"F","+","-"]
[]
[]
[]
[]
[]
[]
[]
[]
[]
[]
[]
[]
[]
[]
[]
[]
[]
[]
[]
[]
[]
[]
[]
[]
[]
[]
[]
[]
[]
[]
[]
[]
[]
[]
[]
[]
[]
[]
[]
[]
[]
[]
[]
[]
[]
[]
[]
[]
[]
[]
[]
[]
[]
[]
[]
[]
[]
[]
[]
[]
[]
[]
[]
[]
[]
[]
[]
[]
[]
[]
[]
[]
[]
[]
[]
[]
[]
[]
[]
[]
[]
[]
[]
[]
[]
[]
[]
[]
[]
[]
[]
[]
[]
[]
[]
[]
[]
[]
[]
[null,null,null,null,null,null,null,null,null,null,null,null,"+","-",",",",",",",",",",",",",",",3,"F","+","-",",",",",",",",",",",",",",",",",",",",",",",",",",",",",",",",",",",4,"F","+","-",",",",",",",",",",",",",",",",",",",",",",",",",",",",",",",",",",",4,"F","+","-",",",",",",",",",",",",",",",3,"F","+","-"]
[]
[]
[]
[]
[]
[]
[]
[]
[]
[]
[]
[]
[]
[]
[]
[]
[]
[]
[]
[]
[]
[]
[]
[]
[]
[]
[]
[]
[]
[]
[]
[]
[]
[]
[]
[]
[]
[]
[]
[]
[]
[]
[]
[]
[]
[]
[]
[]
[]
[]
[]
[]
[]
[]
[]
[]
[]
[]
[]
[]
[]
[]
[]
[]
[]
[]
[]
[]
[]
[]
[]
[]
[]
[]
[]
[]
[]
[]
[]
[]
[]
[]
[]
[]
[]
[]
[]
[]
[]
[]
[]
[]
[]
[]
[]
[]
[]
[]
[]
[null,null,null,null,null,null,null,null,null,null,null,null,"+","-",",",",",",",",",",",",",",",3,"F","+","-",",",",",",",",",",",",",",",",",",",",",",",",",",",",",",",",",",",4,"F","+","-",",",",",",",",",",",",",",",",",",",",",",",",",",",",",",",",",",",4,"F","+","-",",",",",",",",",",",",",",",3,"F","+","-"]
[]
[]
[]
[]
[]
[]
[]
[]
[]
[]
[]
[]
[]
[]
[]
[]
[]
[]
[]
[]
[]
[]
[]
[]
[]
[]
[]
[]
[]
[]
[]
[]
[]
[]
[]
[]
[]
[]
[]
[]
[]
[]
[]
[]
[]
[]
[]
[]
[]
[]
[]
[]
[]
[]
[]
[]
[]
[]
[]
[]
[]
[]
[]
[]
[]
[]
[]
[]
[]
[]
[]
[]
[]
[]
[]
[]
[]
[]
[]
[]
[]
[]
[]
[]
[]
[]
[]
[]
[]
[]
[]
[]
[]
[]
[]
[]
[]
[]
[]
[null,null,null,null,null,null,null,null,null,null,null,null,"+","-",",",",",",",",",",",",",",",3,"F","+","-",",",",",",",",",",",",",",",",",",",",",",",",",",",",",",",",",",",4,"F","+","-",",",",",",",",",",",",",",",",",",",",",",",",",",",",",",",",",",",4,"F","+","-",",",",",",",",",",",",",",",3,"F","+","-"]
[]
[]
[]
[]
[]
[]
[]
[]
[]
[]
[]
[]
[]
[]
[]
[]
[]
[]
[]
[]
[]
[]
[]
[]
[]
[]
[]
[]
[]
[]
[]
[]
[]
[]
[]
[]
[]
[]
[]
[]
[]
[]
[]
[]
[]
[]
[]
[]
[]
[]
[]
[]
[]
[]
[]
[]
[]
[]
[]
[]
[]
[]
[]
[]
[]
[]
[]
[]
[]
[]
[]
[]
[]
[]
[]
[]
[]
[]
[]
[]
[]
[]
[]
[]
[]
[]
[null,null,null,null,null,null,null,null,null,null,null,"PROYECTO REMDIZ"]
[]
[]
[]
[]
[]
[]
[]
[]
[]
[]
[]
[]
[null,null,null,null,null,null,null,null,null,null,null,null,"+","-",",",",",",",",",",",",",",",3,"F","+","-",",",",",",",",",",",",",",",",",",",",",",",",",",",",",",",",",",",4,"F","+","-",",",",",",",",",",",",",",",",",",",",",",",",",",",",",",",",",",",4,"F","+","-",",",",",",",",",",",",",",",3,"F","+","-"]
[]
[]
[]
[]
[]
[]
[]
[]
[]
[]
[]
[]
[]
[]
[]
[]
[]
[]
[]
[]
[]
[]
[]
[]
[]
[]
[]
[]
[]
[]
[]
[]
[]
[]
[]
[]
[]
[]
[]
[]
[]
[]
[]
[]
[]
[]
[]
[]
[]
[]
[]
[]
[]
[]
[]
[]
[]
[]
[]
[]
[]
[]
[]
[]
[]
[]
[]
[]
[]
[]
[]
[]
[]
[]
[]
[]
[]
[]
[]
[]
[]
[]
[]
[]
[]
[]
[]
[]
[]
[]
[]
[]
[]
[]
[]
[]
[]
[]
[]
[null,null,null,null,null,null,null,null,null,null,null,null,"+","-",",",",",",",",",",",",",",",3,"F","+","-",",",",",",",",",",",",",",",",",",",",",",",",",",",",",",",",",",",4,"F","+","-",",",",",",",",",",",",",",",",",",",",",",",",",",",",",",",",",",",4,"F","+","-",",",",",",",",",",",",",",",3,"F","+","-"]
[]
[]
[]
[]
[]
[]
[]
[]
[]
[]
[]
[]
[]
[]
[]
[]
[]
[]
[]
[]
[]
[]
[]
[]
[]
[]
[]
[]
[]
[]
[]
[]
[]
[]
[]
[]
[]
[]
[]
[]
[]
[]
[]
[]
[]
[]
[]
[]
[]
[]
[]
[]
[]
[]
[]
[]
[]
[]
[]
[]
[]
[]
[]
[]
[]
[]
[]
[]
[]
[]
[]
[]
[]
[]
[]
[]
[]
[]
[]
[]
[]
[]
[]
[]
[]
[]
[]
[]
[]
[]
[]
[]
[]
[]
[]
[]
[]
[]
[]
[null,null,null,null,null,null,null,null,null,null,null,null,"+","-",",",",",",",",",",",",",",",3,"F","+","-",",",",",",",",",",",",",",",",",",",",",",",",",",",",",",",",",",",4,"F","+","-",",",",",",",",",",",",",",",",",",",",",",",",",",",",",",",",",",",4,"F","+","-",",",",",",",",",",",",",",",3,"F","+","-"]
[]
[]
[]
[]
[]
[]
[]
[]
[]
[]
[]
[]
[]
[]
[]
[]
[]
[]
[]
[]
[]
[]
[]
[]
[]
[]
[]
[]
[]
[]
[]
[]
[]
[]
[]
[]
[]
[]
[]
[]
[]
[]
[]
[]
[]
[]
[]
[]
[]
[]
[]
[]
[]
[]
[]
[]
[]
[]
[]
[]
[]
[]
[]
[]
[]
[]
[]
[]
[]
[]
[]
[]
[]
[]
[]
[]
[]
[]
[]
[]
[]
[]
[]
[]
[]
[]
[]
[]
[]
[]
[]
[]
[]
[]
[]
[]
[]
[]
[]
[null,null,null,null,null,null,null,null,null,null,null,null,"+","-",",",",",",",",",",",",",",",3,"F","+","-",",",",",",",",",",",",",",",",",",",",",",",",",",",",",",",",",",",4,"F","+","-",",",",",",",",",",",",",",",",",",",",",",",",",",",",",",",",",",",4,"F","+","-",",",",",",",",",",",",",",",3,"F","+","-"]
[]
[]
[]
[]
[]
[]
[]
[]
[]
[]
[]
[]
[]
[]
[]
[]
[]
[]
[]
[]
[]
[]
[]
[]
[]
[]
[]
[]
[]
[]
[]
[]
[]
[]
[]
[]
[]
[]
[]
[]
[]
[]
[]
[]
[]
[]
[]
[]
[]
[]
[]
[]
[]
[]
[]
[]
[]
[]
[]
[]
[]
[]
[]
[]
[]
[]
[]
[]
[]
[]
[]
[]
[]
[]
[]
[]
[]
[]
[]
[]
[]
[]
[]
[]
[]
[]
[]
[]
[]
[]
[]
[]
[]
[]
[]
[]
[]
[]
[]
[null,null,null,null,null,null,null,null,null,null,null,null,"+","-",",",",",",",",",",",",",",",3,"F","+","-",",",",",",",",",",",",",",",",",",",",",",",",",",",",",",",",",",",4,"F","+","-",",",",",",",",",",",",",",",",",",",",",",",",",",",",",",",",",",",4,"F","+","-",",",",",",",",",",",",",",",3,"F","+","-"]
[]
[]
[]
[]
[]
[]
[]
[]
[]
[]
[]
[]
[]
[]
[]
[]
[]
[]
[]
[]
[]
[]
[]
[]
[]
[]
[]
[]
[]
[]
[]
[]
[]
[]
[]
[]
[]
[]
[]
[]
[]
[]
[]
[]
[]
[]
[]
[]
[]
[]
[]
[]
[]
[]
[]
[]
[]
[]
[]
[]
[]
[]
[]
[]
[]
[]
[]
[]
[]
[]
[]
[]
[]
[]
[]
[]
[]
[]
[]
[]
[]
[]
[]
[]
[]
[]
[]
[]
[]
[]
[]
[]
[]
[]
[]
[]
[]
[]
[]
[null,null,null,null,null,null,null,null,null,null,null,null,"+","-",",",",",",",",",",",",",",",3,"F","+","-",",",",",",",",",",",",",",",",",",",",",",",",",",",",",",",",",",",4,"F","+","-",",",",",",",",",",",",",",",",",",",",",",",",",",",",",",",",",",",4,"F","+","-",",",",",",",",",",",",",",",3,"F","+","-"]
[]
[]
[]
[]
[]
[]
[]
[]
[]
[]
[]
[]
[]
[]
[]
[]
[]
[]
[]
[]
[]
[]
[]
[]
[]
[]
[]
[]
[]
[]
[]
[]
[]
[]
[]
[]
[]
[]
[]
[]
[]
[]
[]
[]
[]
[]
[]
[]
[]
[]
[]
[]
[]
[]
[]
[]
[]
[]
[]
[]
[]
[]
[]
[]
[]
[]
[]
[]
[]
[]
[]
[]
[]
[]
[]
[]
[]
[]
[]
[]
[]
[]
[]
[]
[]
[]
[]
[]
[]
[]
[]
[]
[]
[]
[]
[]
[]
[]
[]
[null,null,null,null,null,null,null,null,null,null,null,null,"+","-",",",",",",",",",",",",",",",3,"F","+","-",",",",",",",",",",",",",",",",",",",",",",",",",",",",",",",",",",",4,"F","+","-",",",",",",",",",",",",",",",",",",",",",",",",",",",",",",",",",",",4,"F","+","-",",",",",",",",",",",",",",",3,"F","+","-"]
[]
[]
[]
[]
[]
[]
[]
[]
[]
[]
[]
[]
[]
[]
[]
[]
[]
[]
[]
[]
[]
[]
[]
[]
[]
[]
[]
[]
[]
[]
[]
[]
[]
[]
[]
[]
[]
[]
[]
[]
[]
[]
[]
[]
[]
[]
[]
[]
[]
[]
[]
[]
[]
[]
[]
[]
[]
[]
[]
[]
[]
[]
[]
[]
[]
[]
[]
[]
[]
[]
[]
[]
[]
[]
[]
[]
[]
[]
[]
[]
[]
[]
[]
[]
[]
[]
[]
[]
[]
[]
[]
[]
[]
[]
[]
[]
[]
[]
[]
[null,null,null,null,null,null,null,null,null,null,null,null,"+","-",",",",",",",",",",",",",",",3,"F","+","-",",",",",",",",",",",",",",",",",",",",",",",",",",",",",",",",",",",4,"F","+","-",",",",",",",",",",",",",",",",",",",",",",",",",",",",",",",",",",",4,"F","+","-",",",",",",",",",",",",",",",3,"F","+","-"]
[]
[]
[]
[]
[]
[]
[]
[]
[]
[]
[]
[]
[]
[]
[]
[]
[]
[]
[]
[]
[]
[]
[]
[]
[]
[]
[]
[]
[]
[]
[]
[]
[]
[]
[]
[]
[]
[]
[]
[]
[]
[]
[]
[]
[]
[]
[]
[]
[]
[]
[]
[]
[]
[]
[]
[]
[]
[]
[]
[]
[]
[]
[]
[]
[]
[]
[]
[]
[]
[]
[]
[]
[]
[]
[]
[]
[]
[]
[]
[]
[]
[]
[]
[]
[]
[]
[]
[]
[]
[]
[]
[]
[]
[]
[]
[]
[]
[]
[]
[null,null,null,null,null,null,null,null,null,null,null,null,"+","-",",",",",",",",",",",",",",",3,"F","+","-",",",",",",",",",",",",",",",",",",",",",",",",",",",",",",",",",",",4,"F","+","-",",",",",",",",",",",",",",",",",",",",",",",",",",",",",",",",",",",4,"F","+","-",",",",",",",",",",",",",",",3,"F","+","-"]
[]
[]
[]
[]
[]
[]
[]
[]
[]
[]
[]
[]
[]
[]
[]
[]
[]
[]
[]
[]
[]
[]
[]
[]
[]
[]
[]
[]
[]
[]
[]
[]
[]
[]
[]
[]
[]
[]
[]
[]
[]
[]
[]
[]
[]
[]
[]
[]
[]
[]
[]
[]
[]
[]
[]
[]
[]
[]
[]
[]
[]
[]
[]
[]
[]
[]
[]
[]
[]
[]
[]
[]
[]
[]
[]
[]
[]
[]
[]
[]
[]
[]
[]
[]
[]
[]
[]
[]
[]
[]
[]
[]
[]
[]
[]
[]
[]
[]
[]
[null,null,null,null,null,null,null,null,null,null,null,null,"+","-",",",",",",",",",",",",",",",3,"F","+","-",",",",",",",",",",",",",",",",",",",",",",",",",",",",",",",",",",",4,"F","+","-",",",",",",",",",",",",",",",",",",",",",",",",",",",",",",",",",",",4,"F","+","-",",",",",",",",",",",",",",",3,"F","+","-"]
[]
[]
[]
[]
[]
[]
[]
[]
[]
[]
[]
[]
[]
[]
[]
[]
[]
[]
[]
[]
[]
[]
[]
[]
[]
[]
[]
[]
[]
[]
[]
[]
[]
[]
[]
[]
[]
[]
[]
[]
[]
[]
[]
[]
[]
[]
[]
[]
[]
[]
[]
[]
[]
[]
[]
[]
[]
[]
[]
[]
[]
[]
[]
[]
[]
[]
[]
[]
[]
[]
[]
[]
[]
[]
[]
[]
[]
[]
[]
[]
[]
[]
[]
[]
[]
[]
[]
[]
[]
[]
[]
[]
[]
[]
[]
[]
[]
[]
[]
[null,null,null,null,null,null,null,null,null,null,null,null,"+","-",",",",",",",",",",",",",",",3,"F","+","-",",",",",",",",",",",",",",",",",",",",",",",",",",",",",",",",",",",4,"F","+","-",",",",",",",",",",",",",",",",",",",",",",",",",",",",",",",",",",",4,"F","+","-",",",",",",",",",",",",",",",3,"F","+","-"]
[]
[]
[]
[]
[]
[]
[]
[]
[]
[]
[]
[]
[]
[]
[]
[]
[]
[]
[]
[]
[]
[]
[]
[]
[]
[]
[]
[]
[]
[]
[]
[]
[]
[]
[]
[]
[]
[]
[]
[]
[]
[]
[]
[]
[]
[]
[]
[]
[]
[]
[]
[]
[]
[]
[]
[]
[]
[]
[]
[]
[]
[]
[]
[]
[]
[]
[]
[]
[]
[]
[]
[]
[]
[]
[]
[]
[]
[]
[]
[]
[]
[]
[]
[]
[]
[]
[]
[]
[]
[]
[]
[]
[]
[]
[]
[]
[]
[]
[]
[null,null,null,null,null,null,null,null,null,null,null,null,"+","-",",",",",",",",",",",",",",",3,"F","+","-",",",",",",",",",",",",",",",",",",",",",",",",",",",",",",",",",",",4,"F","+","-",",",",",",",",",",",",",",",",",",",",",",",",",",",",",",",",",",",4,"F","+","-",",",",",",",",",",",",",",",3,"F","+","-"]

{"sheet":"valB23","index":7,"n_rows":19,"n_cols":233,"rows_kept":19,"cut":false,"hidden":false,"merged":[[15,6,15,7],[14,6,14,7],[61,6,61,7],[62,6,62,7],[63,6,63,7],[18,6,18,7],[17,6,17,7],[16,6,16,7],[55,6,55,7],[56,6,56,7],[57,6,57,7],[58,6,58,7],[59,6,59,7],[60,6,60,7],[49,6,49,7],[50,6,50,7],[51,6,51,7],[52,6,52,7],[53,6,53,7],[54,6,54,7],[43,6,43,7],[44,6,44,7],[45,6,45,7],[46,6,46,7],[47,6,47,7],[48,6,48,7],[42,6,42,7],[31,6,31,7],[32,6,32,7],[33,6,33,7],[34,6,34,7],[35,6,35,7],[36,6,36,7],[37,6,37,7],[38,6,38,7],[39,6,39,7],[40,6,40,7],[41,6,41,7],[30,6,30,7],[19,6,19,7],[20,6,20,7],[21,6,21,7],[22,6,22,7],[23,6,23,7],[24,6,24,7],[25,6,25,7],[26,6,26,7],[27,6,27,7],[28,6,28,7],[29,6,29,7],[10,8,10,11],[10,12,10,16],[10,17,10,21],[11,28,12,28],[11,21,12,21],[11,22,11,24],[11,25,12,25],[11,26,11,27],[9,29,12,29],[9,30,12,30],[11,11,12,11],[11,12,11,15],[4,7,4,20],[4,21,4,24],[5,7,5,20],[5,22,5,23],[10,22,10,25],[10,26,10,28],[11,8,11,10],[8,7,8,20],[8,21,8,22],[9,8,9,28],[11,16,12,16],[11,17,11,20],[5,33,7,33],[6,7,6,20],[6,21,6,24],[7,7,7,20],[7,21,7,22],[7,23,8,24],[1,6,1,24],[1,29,1,30],[2,7,2,20],[2,21,2,24],[3,7,3,20],[3,22,3,23]]}
[]
[null,null,null,null,null,"\u0081","REGISTRO DE VALORACIÓN  ",null,null,null,null,null,null,null,null,null,null,null,null,null,null,null,null,null,null,"\u0082",null,null,null,"GESTION 2023",null,"Ξ"]
[null,null,null,null,null,null,"UNIDAD EDUCATIVA ",null,null,null,null,null,null,null,null,null,null,null,null,null,null,{"$f":"CONCATENATE(datpro!H24,\"S\")","v":"APROBADOS"},null,null,null,null,null,null,null,null,null,"Cerrar"]
[null,null,null,null,null,null,"NIVEL ",null,null,null,null,null,null,null,null,null,null,null,null,null,null,null,null,null,"%",null,null,null,null,null,null,"u"]
[null,null,null,null,null,null,"AÑO DE ESCOLARIDAD",null,null,null,null,null,null,null,null,null,null,null,null,null,null,{"$f":"CONCATENATE(datpro!H25,\"S\")","v":"RETENIDOS"}]
[null,null,null,null,null,null,"DIRECTORA/OR",null,null,null,null,null,null,null,null,null,null,null,null,null,null,null,null,null,"%"]
[null,null,null,null,null,null,"MAESTRA/O"]
[null,null,null,null,null,null,"CAMPO "]
[null,null,null,null,null,null,"ÁREA"]
[null,null,null,null,null,"+",null,"+","DIMENSIONES",null,null,null,null,null,null,null,null,null,null,null,null,null,null,null,null,null,null,null,null,"NOTA TOTAL  DEL TRIMESTRE","SITUACIÓN TRIMESTRAL"]
[null,null,null,null,null,"-",null,"-","SER (10)",null,null,null,"SABER (35)",null,null,null,null,"HACER (35)",null,null,null,null,"DEC(10)",null,null,null,"AUT(10)"]
[null,null,null,null,null,null,null,"CRIT. DE EVALUACION",null,null,null,"PROMEDIO SER",null,null,null,null,"PROMEDIO SABER",null,null,null,null,"PROMEDIO HACER",null,null,null,"PROMEDIO SER - DECIDIR",null,null,"SUMA AUTO EVALUACION"]
[null,null,null,null,null,null,null,"ACTIVIDADES"]
[null,null,null,null,null,"Nº","APELLIDOS Y NOMBRES","=",null,null,null,"Ì",null,null,null,null,"Ì",null,null,null,null,"Ì",null,null,null,"Ì",null,null,".","Ì",null,null,8,"Tamaño de fuente (8..16)",null,null,null,null,null,null,null,null,null,null,null,null,null,null,null,null,null,null,null,null,null,null,null,null,null,null,null,null,null,null,null,null,null,null,null,null,null,null,null,null,null,null,null,null,null,null,null,null,null,null,null,null,null,null,null,null,null,null,null,null,null,null,null,null,null,null,null,null,null,null,null,null,null,null,null,null,null,null,null,null,null,null,null,null,null,null,null,null,null,null,null,null,null,null,null,null,null,null,null,null,null,null,null,null,null,null,null,null,null,null,null,null,null,null,null,null,null,null,null,null,null,null,null,null,null,null,null,null,null,null,null,null,null,null,null,null,null,null,null,null,null,null,null,null,null,null,null,null,null,null,null,null,null,null,null,null,null,null,null,null,null,null,null,null,null,null,null,null,null,null,null,null,null,null,null,null,null,null,null,null,null,null,null,null,null,null,null,null,null,null,null,null,null,null,null,null,null,null,8]
[null,null,null,null,null,null,null,null,null,null,null,null,null,null,null,null,null,null,null,null,null,null,null,null,null,null,null,null,null,null,null,null,11,"Alto de Fila (10..20)",null,null,null,null,null,null,null,null,null,null,null,null,null,null,null,null,null,null,null,null,null,null,null,null,null,null,null,null,null,null,null,null,null,null,null,null,null,null,null,null,null,null,null,null,null,null,null,null,null,null,null,null,null,null,null,null,null,null,null,null,null,null,null,null,null,null,null,null,null,null,null,null,null,null,null,null,null,null,null,null,null,null,null,null,null,null,null,null,null,null,null,null,null,null,null,null,null,null,null,null,null,null,null,null,null,null,null,null,null,null,null,null,null,null,null,null,null,null,null,null,null,null,null,null,null,null,null,null,null,null,null,null,null,null,null,null,null,null,null,null,null,null,null,null,null,null,null,null,null,null,null,null,null,null,null,null,null,null,null,null,null,null,null,null,null,null,null,null,null,null,null,null,null,null,null,null,null,null,null,null,null,null,null,null,null,null,null,null,null,null,null,null,null,null,null,null,null,null,11]
[null,null,null,null,null,null,null,null,null,null,null,null,null,null,null,null,null,null,null,null,null,null,null,null,null,null,null,null,null,null,null,null,2,"Ancho de Columna (1..7) Modos",null,null,null,null,null,null,null,null,null,null,null,null,null,null,null,null,null,null,null,null,null,null,null,null,null,null,null,null,null,null,null,null,null,null,null,null,null,null,null,null,null,null,null,null,null,null,null,null,null,null,null,null,null,null,null,null,null,null,null,null,null,null,null,null,null,null,null,null,null,null,null,null,null,null,null,null,null,null,null,null,null,null,null,null,null,null,null,null,null,null,null,null,null,null,null,null,null,null,null,null,null,null,null,null,null,null,null,null,null,null,null,null,null,null,null,null,null,null,null,null,null,null,null,null,null,null,null,null,null,null,null,null,null,null,null,null,null,null,null,null,null,null,null,null,null,null,null,null,null,null,null,null,null,null,null,null,null,null,null,null,null,null,null,null,null,null,null,null,null,null,null,null,null,null,null,null,null,null,null,null,null,null,null,null,null,null,null,null,null,null,null,null,null,null,null,null,null,null,1]
[]
[null,null,null,null,null,null,null,null,null,null,null,null,null,null,null,null,null,null,null,null,null,null,null,null,null,null,null,null,null,null,null,null,null,"©  2023"]
[null,null,null,null,null,null,null,null,null,null,null,null,null,null,null,null,null,null,null,null,null,null,null,null,null,null,null,null,null,null,null,null,null,"PROYECTO REMDIZ"]

{"sheet":"asisB1","index":8,"n_rows":2120,"n_cols":80,"rows_kept":2120,"cut":false,"hidden":false,"merged":[[17,63,19,63],[1,5,1,56],[17,15,17,56],[7,57,7,59],[8,57,8,59],[7,60,8,62],[1,57,1,62],[17,61,19,61],[17,62,19,62],[6,57,6,62],[17,60,19,60],[17,59,19,59],[17,58,19,58],[17,57,19,57],[17,11,18,11],[8,11,8,47],[20,10,20,11],[21,10,21,11],[22,10,22,11],[23,10,23,11],[19,10,19,11],[24,10,24,11],[25,10,25,11],[26,10,26,11],[27,10,27,11],[28,10,28,11],[29,10,29,11],[30,10,30,11],[31,10,31,11],[32,10,32,11],[33,10,33,11],[34,10,34,11],[35,10,35,11],[36,10,36,11],[37,10,37,11],[38,10,38,11],[39,10,39,11],[40,10,40,11],[41,10,41,11],[42,10,42,11],[43,10,43,11],[44,10,44,11],[45,10,45,11],[46,10,46,11],[47,10,47,11],[48,10,48,11],[49,10,49,11],[50,10,50,11],[51,10,51,11],[52,10,52,11],[53,10,53,11],[63,10,63,11],[54,10,54,11],[55,10,55,11],[56,10,56,11],[57,10,57,11],[58,10,58,11],[69,10,69,11],[7,11,7,47],[2,11,2,47],[3,11,3,47],[4,11,4,47],[5,11,5,47],[6,11,6,47],[64,10,64,11],[65,10,65,11],[66,10,66,11],[67,10,67,11],[68,10,68,11],[59,10,59,11],[60,10,60,11],[61,10,61,11],[62,10,62,11]]}
[null,null,null,null,null,null,null,null,null,null,null,null,0]
[null,null,null,null,null,"REGISTRO DE ASISTENCIA",null,null,null,null,null,null,null,null,null,null,null,null,null,null,null,null,null,null,null,null,null,null,null,null,null,null,null,null,null,null,null,null,null,null,null,null,null,null,null,null,null,null,null,null,null,null,null,null,null,null,null,"GESTION 2023",null,null,null,null,null,null,null,"Ξ"]
[null,null,null,null,null,null,{"$f":"datpro!$E$6","v":0},"sie",null,null,"UNIDAD EDUCATIVA ",{"$f":"IF(datpro!$E$7=\"\",\"\",datpro!$E$7)","v":""},null,null,null,null,null,null,null,null,null,null,null,null,null,null,null,null,null,null,null,null,null,null,null,null,null,null,null,null,null,null,null,null,null,null,null,null,null,null,null,null,null,null,null,null,null,null,null,null,null,null,null,null,null,"Cerrar"]
[null,null,null,null,null,null,{"$f":"datpro!$M$14","v":50},"nroes",null,null,"NIVEL ",{"$f":"datpro!$E$10","v":""},null,null,null,null,null,null,null,null,null,null,null,null,null,null,null,null,null,null,null,null,null,null,null,null,null,null,null,null,null,null,null,null,null,null,null,null,null,null,null,null,null,null,null,null,null,null,null,null,null,null,null,null,null,"u"]
[null,null,null,null,null,null,{"$f":"datpro!$C$12","v":"S"},"curso",null,null,"AÑO DE ESCOLARIDAD",{"$f":"CONCATENATE( datpro!$E$11,\"  -  \",datpro!$E$12)","v":"  -  "}]
[null,null,null,null,null,null,{"$f":"DAY(TODAY())","v":6},"dia",null,null,"DIRECTOR/A",{"$f":"IF(datpro!$E$8=\"\",\"\",datpro!$E$8)","v":""}]
[null,null,null,null,null,null,{"$f":"MONTH(TODAY())","v":3},"mes",null,null,"MAESTRO/A",{"$f":"IF(datpro!$E$9=\"\",\"\",datpro!$E$9)","v":""},null,null,null,null,null,null,null,null,null,null,null,null,null,null,null,null,null,null,null,null,null,null,null,null,null,null,null,null,null,null,null,null,null,null,null,null,null,null,null,null,null,null,null,null,null,{"$f":"IF(datpro!$M$4=\"\",\"\",TODAY())","v":"2023-03-06"}]
[null,null,null,null,null,null,"T1","bim",null,null,"CAMPO ",{"$f":"IF(datpro!$E$13=\"\",\"\",datpro!$E$13)","v":""},null,null,null,null,null,null,null,null,null,null,null,null,null,null,null,null,null,null,null,null,null,null,null,null,null,null,null,null,null,null,null,null,null,null,null,null,null,null,null,null,null,null,null,null,null,{"$f":"IF(datpro!$M$4=\"\",\"\",datpro!$I$4)","v":"2023-02-01"},null,null,{"$f":"datpro!$M$4","v":55}]
[null,null,null,null,null,null,{"$f":"datpro!$E$15","v":""},"codarea",null,null,"ÁREA",{"$f":"IF(datpro!$E$14=\"\",\"\",datpro!$E$14)","v":0},null,null,null,null,null,null,null,null,null,null,null,null,null,null,null,null,null,null,null,null,null,null,null,null,null,null,null,null,null,null,null,null,null,null,null,null,null,null,null,null,null,null,null,null,null,{"$f":"IF(datpro!$M$4=\"\",\"\",datpro!$K$4)","v":"2023-04-30"}]
[]
[]
[1,2,3,4,5,6,7,8,9,10,11,12,13,14,15,16,17,18,19,20,21,22,23,24,25,26,27,28,29,30,31,32,33,34,35,36,37,38,39,40,41,42,43,44,45,46,47,48,49,50,51,52,53,54,55,56,57]
[null,null,null,null,null,null,null,null,null,null,null,null,null,"N","O","P","Q","R","S","T","U","V","W","X","Y","Z","AA","AB","AC","AD","AE","AF","AG","AH","AI","AJ","AK","AL","AM","AN","AO","AP","AQ","AR","AS","AT","AU","AV","AW","AX","AY","AZ","BA","BB","BC","BD","BE"]
[]
[null,null,null,null,null,null,"F21:BK70","BK",null,null,null,null,"Nro",null,null,null,null,null,null,null,null,null,null,null,null,null,null,null,null,null,null,null,null,null,null,null,null,null,null,null,null,null,null,null,null,null,null,null,null,null,null,null,null,null,null,null,25]
[]
[]
[null,null,null,null,null,null,null,null,null,null,null,"FECHAS",null,"+","-","1er. TRIMESTRE",null,null,null,null,null,null,null,null,null,null,null,null,null,null,null,null,null,null,null,null,null,null,null,null,null,null,null,null,null,null,null,null,null,null,null,null,null,null,null,null,null,"ASISTENCIA","FALTAS","RETRASOS","LICENCIAS","DIAS TRABAJADOS","DIAS NO TRABAJADOS","DIAS NO TRABAJADOS"]
[null,null,null,null,null,null,"679S2D05"]
[null,null,null,null,null,"Nº","B1",null,null,null,"APELLIDOS Y NOMBRES",null,"Nro",null,null,null,null,null,null,null,null,null,null,null,null,null,null,null,null,null,null,null,null,null,null,null,null,null,null,null,null,null,null,null,null,null,null,null,null,null,null,null,null,null,null,null,25,null,null,null,null,null,null,null,null,null,8,"Tamaño de fuente (8..16)"]
[null,null,null,null,null,{"$f":"IF(filEst!F21=\"\",\"\",filEst!F21)","v":""},{"$f":"IF(filEst!G21=\"\",\"\",filEst!G21)","v":""},{"$f":"IF(filEst!L21=\"\",\"\",filEst!L21)","v":""},null,{"$f":"G21","v":""},{"$f":"IF(filEst!K21=\"\",\"\",filEst!K21)","v":""},null,null,null,null,null,null,null,null,null,null,null,null,null,null,null,null,null,null,null,null,null,null,null,null,null,null,null,null,null,null,null,null,null,null,null,null,null,null,null,null,null,null,null,null,null,null,{"$f":"IF(COUNTIF($N21:$BE21,\".\")=0,\"\",COUNTIF($N21:$BE21,\".\"))","v":""},{"$f":"IF(COUNTIF($N21:$BE21,\"F\")=0,\"\",COUNTIF($N21:$BE21,\"F\"))","v":""},{"$f":"IF(COUNTIF($N21:$BE21,\"R\")=0,\"\",COUNTIF($N21:$BE21,\"R\"))","v":""},{"$f":"IF(COUNTIF($N21:$BE21,\"L\")=0,\"\",COUNTIF($N21:$BE21,\"L\"))","v":""},{"$f":"IF(BF21=\"\",\"\",(SUM(BF21,BH21)))","v":""},{"$f":"IFERROR(SUM(BG21,BI21),\"\")","v":0},{"$f":"SUM(BF21:BI21)","v":0},null,null,12,"Alto de Fila (10..20)"]
[null,null,null,null,null,{"$f":"IF(filEst!F22=\"\",\"\",filEst!F22)","v":""},{"$f":"IF(filEst!G22=\"\",\"\",filEst!G22)","v":""},{"$f":"IF(filEst!L22=\"\",\"\",filEst!L22)","v":""},null,{"$f":"G22","v":""},{"$f":"IF(filEst!K22=\"\",\"\",filEst!K22)","v":""},null,null,null,null,null,null,null,null,null,null,null,null,null,null,null,null,null,null,null,null,null,null,null,null,null,null,null,null,null,null,null,null,null,null,null,null,null,null,null,null,null,null,null,null,null,null,{"$f":"IF(COUNTIF($N22:$BE22,\".\")=0,\"\",COUNTIF($N22:$BE22,\".\"))","v":""},"","","","",{"$f":"IFERROR(SUM(BG22,BI22),\"\")","v":0},{"$f":"SUM(BJ22:BK22)","v":0},null,null,2,"Ancho de Columna (1..5) Modos"]
[null,null,null,null,null,{"$f":"IF(filEst!F23=\"\",\"\",filEst!F23)","v":""},{"$f":"IF(filEst!G23=\"\",\"\",filEst!G23)","v":""},{"$f":"IF(filEst!L23=\"\",\"\",filEst!L23)","v":""},null,"",{"$f":"IF(filEst!K23=\"\",\"\",filEst!K23)","v":""},null,null,null,null,null,null,null,null,null,null,null,null,null,null,null,null,null,null,null,null,null,null,null,null,null,null,null,null,null,null,null,null,null,null,null,null,null,null,null,null,null,null,null,null,null,null,"","","","","",{"$f":"IFERROR(SUM(BG23,BI23),\"\")","v":0},{"$f":"SUM(BJ23:BK23)","v":0}]
[null,null,null,null,null,{"$f":"IF(filEst!F24=\"\",\"\",filEst!F24)","v":""},{"$f":"IF(filEst!G24=\"\",\"\",filEst!G24)","v":""},{"$f":"IF(filEst!L24=\"\",\"\",filEst!L24)","v":""},null,"",{"$f":"IF(filEst!K24=\"\",\"\",filEst!K24)","v":""},null,null,null,null,null,null,null,null,null,null,null,null,null,null,null,null,null,null,null,null,null,null,null,null,null,null,null,null,null,null,null,null,null,null,null,null,null,null,null,null,null,null,null,null,null,null,"","","","","",0,0,null,null,".","= Asistencias"]
[null,null,null,null,null,{"$f":"IF(filEst!F25=\"\",\"\",filEst!F25)","v":""},{"$f":"IF(filEst!G25=\"\",\"\",filEst!G25)","v":""},{"$f":"IF(filEst!L25=\"\",\"\",filEst!L25)","v":""},null,"",{"$f":"IF(filEst!K25=\"\",\"\",filEst!K25)","v":""},null,null,null,null,null,null,null,null,null,null,null,null,null,null,null,null,null,null,null,null,null,null,null,null,null,null,null,null,null,null,null,null,null,null,null,null,null,null,null,null,null,null,null,null,null,null,"","","","","",0,0,null,null,"F","= Faltas"]
[null,null,null,null,null,{"$f":"IF(filEst!F26=\"\",\"\",filEst!F26)","v":""},{"$f":"IF(filEst!G26=\"\",\"\",filEst!G26)","v":""},{"$f":"IF(filEst!L26=\"\",\"\",filEst!L26)","v":""},null,"",{"$f":"IF(filEst!K26=\"\",\"\",filEst!K26)","v":""},null,null,null,null,null,null,null,null,null,null,null,null,null,null,null,null,null,null,null,null,null,null,null,null,null,null,null,null,null,null,null,null,null,null,null,null,null,null,null,null,null,null,null,null,null,null,"","","","","",0,0,null,null,"R","= Retrasos"]
[null,null,null,null,null,{"$f":"IF(filEst!F27=\"\",\"\",filEst!F27)","v":""},{"$f":"IF(filEst!G27=\"\",\"\",filEst!G27)","v":""},{"$f":"IF(filEst!L27=\"\",\"\",filEst!L27)","v":""},null,"",{"$f":"IF(filEst!K27=\"\",\"\",filEst!K27)","v":""},null,null,null,null,null,null,null,null,null,null,null,null,null,null,null,null,null,null,null,null,null,null,null,null,null,null,null,null,null,null,null,null,null,null,null,null,null,null,null,null,null,null,null,null,null,null,"","","","","",0,0,null,null,"L","= Licencias"]
[null,null,null,null,null,{"$f":"IF(filEst!F28=\"\",\"\",filEst!F28)","v":""},{"$f":"IF(filEst!G28=\"\",\"\",filEst!G28)","v":""},{"$f":"IF(filEst!L28=\"\",\"\",filEst!L28)","v":""},null,"",{"$f":"IF(filEst!K28=\"\",\"\",filEst!K28)","v":""},null,null,null,null,null,null,null,null,null,null,null,null,null,null,null,null,null,null,null,null,null,null,null,null,null,null,null,null,null,null,null,null,null,null,null,null,null,null,null,null,null,null,null,null,null,null,"","","","","",0,0]
[null,null,null,null,null,{"$f":"IF(filEst!F29=\"\",\"\",filEst!F29)","v":""},{"$f":"IF(filEst!G29=\"\",\"\",filEst!G29)","v":""},{"$f":"IF(filEst!L29=\"\",\"\",filEst!L29)","v":""},null,"",{"$f":"IF(filEst!K29=\"\",\"\",filEst!K29)","v":""},null,null,null,null,null,null,null,null,null,null,null,null,null,null,null,null,null,null,null,null,null,null,null,null,null,null,null,null,null,null,null,null,null,null,null,null,null,null,null,null,null,null,null,null,null,null,"","","","","",0,0,null,null,null,"©  2023"]
[null,null,null,null,null,{"$f":"IF(filEst!F30=\"\",\"\",filEst!F30)","v":""},{"$f":"IF(filEst!G30=\"\",\"\",filEst!G30)","v":""},{"$f":"IF(filEst!L30=\"\",\"\",filEst!L30)","v":""},null,"",{"$f":"IF(filEst!K30=\"\",\"\",filEst!K30)","v":""},null,null,null,null,null,null,null,null,null,null,null,null,null,null,null,null,null,null,null,null,null,null,null,null,null,null,null,null,null,null,null,null,null,null,null,null,null,null,null,null,null,null,null,null,null,null,"","","","","",0,0,null,null,null,"PROYECTO REMDIZ"]
[null,null,null,null,null,{"$f":"IF(filEst!F31=\"\",\"\",filEst!F31)","v":""},{"$f":"IF(filEst!G31=\"\",\"\",filEst!G31)","v":""},{"$f":"IF(filEst!L31=\"\",\"\",filEst!L31)","v":""},null,"",{"$f":"IF(filEst!K31=\"\",\"\",filEst!K31)","v":""},null,null,null,null,null,null,null,null,null,null,null,null,null,null,null,null,null,null,null,null,null,null,null,null,null,null,null,null,null,null,null,null,null,null,null,null,null,null,null,null,null,null,null,null,null,null,"","","","","",0,0]
[null,null,null,null,null,{"$f":"IF(filEst!F32=\"\",\"\",filEst!F32)","v":""},{"$f":"IF(filEst!G32=\"\",\"\",filEst!G32)","v":""},{"$f":"IF(filEst!L32=\"\",\"\",filEst!L32)","v":""},null,"",{"$f":"IF(filEst!K32=\"\",\"\",filEst!K32)","v":""},null,null,null,null,null,null,null,null,null,null,null,null,null,null,null,null,null,null,null,null,null,null,null,null,null,null,null,null,null,null,null,null,null,null,null,null,null,null,null,null,null,null,null,null,null,null,"","","","","",0,0]
[null,null,null,null,null,{"$f":"IF(filEst!F33=\"\",\"\",filEst!F33)","v":""},{"$f":"IF(filEst!G33=\"\",\"\",filEst!G33)","v":""},{"$f":"IF(filEst!L33=\"\",\"\",filEst!L33)","v":""},null,"",{"$f":"IF(filEst!K33=\"\",\"\",filEst!K33)","v":""},null,null,null,null,null,null,null,null,null,null,null,null,null,null,null,null,null,null,null,null,null,null,null,null,null,null,null,null,null,null,null,null,null,null,null,null,null,null,null,null,null,null,null,null,null,null,"","","","","",0,0]
[null,null,null,null,null,{"$f":"IF(filEst!F34=\"\",\"\",filEst!F34)","v":""},{"$f":"IF(filEst!G34=\"\",\"\",filEst!G34)","v":""},{"$f":"IF(filEst!L34=\"\",\"\",filEst!L34)","v":""},null,"",{"$f":"IF(filEst!K34=\"\",\"\",filEst!K34)","v":""},null,null,null,null,null,null,null,null,null,null,null,null,null,null,null,null,null,null,null,null,null,null,null,null,null,null,null,null,null,null,null,null,null,null,null,null,null,null,null,null,null,null,null,null,null,null,"","","","","",0,0]
[null,null,null,null,null,{"$f":"IF(filEst!F35=\"\",\"\",filEst!F35)","v":""},{"$f":"IF(filEst!G35=\"\",\"\",filEst!G35)","v":""},{"$f":"IF(filEst!L35=\"\",\"\",filEst!L35)","v":""},null,"",{"$f":"IF(filEst!K35=\"\",\"\",filEst!K35)","v":""},null,null,null,null,null,null,null,null,null,null,null,null,null,null,null,null,null,null,null,null,null,null,null,null,null,null,null,null,null,null,null,null,null,null,null,null,null,null,null,null,null,null,null,null,null,null,"","","","","",0,0]
[null,null,null,null,null,{"$f":"IF(filEst!F36=\"\",\"\",filEst!F36)","v":""},{"$f":"IF(filEst!G36=\"\",\"\",filEst!G36)","v":""},{"$f":"IF(filEst!L36=\"\",\"\",filEst!L36)","v":""},null,"",{"$f":"IF(filEst!K36=\"\",\"\",filEst!K36)","v":""},null,null,null,null,null,null,null,null,null,null,null,null,null,null,null,null,null,null,null,null,null,null,null,null,null,null,null,null,null,null,null,null,null,null,null,null,null,null,null,null,null,null,null,null,null,null,"","","","","",0,0]
[null,null,null,null,null,{"$f":"IF(filEst!F37=\"\",\"\",filEst!F37)","v":""},{"$f":"IF(filEst!G37=\"\",\"\",filEst!G37)","v":""},{"$f":"IF(filEst!L37=\"\",\"\",filEst!L37)","v":""},null,"",{"$f":"IF(filEst!K37=\"\",\"\",filEst!K37)","v":""},null,null,null,null,null,null,null,null,null,null,null,null,null,null,null,null,null,null,null,null,null,null,null,null,null,null,null,null,null,null,null,null,null,null,null,null,null,null,null,null,null,null,null,null,null,null,"","","","","",0,0]
[null,null,null,null,null,{"$f":"IF(filEst!F38=\"\",\"\",filEst!F38)","v":""},{"$f":"IF(filEst!G38=\"\",\"\",filEst!G38)","v":""},{"$f":"IF(filEst!L38=\"\",\"\",filEst!L38)","v":""},null,"",{"$f":"IF(filEst!K38=\"\",\"\",filEst!K38)","v":""},null,null,null,null,null,null,null,null,null,null,null,null,null,null,null,null,null,null,null,null,null,null,null,null,null,null,null,null,null,null,null,null,null,null,null,null,null,null,null,null,null,null,null,null,null,null,"","","","","",0,0]
[null,null,null,null,null,{"$f":"IF(filEst!F39=\"\",\"\",filEst!F39)","v":""},{"$f":"IF(filEst!G39=\"\",\"\",filEst!G39)","v":""},{"$f":"IF(filEst!L39=\"\",\"\",filEst!L39)","v":""},null,"",{"$f":"IF(filEst!K39=\"\",\"\",filEst!K39)","v":""},null,null,null,null,null,null,null,null,null,null,null,null,null,null,null,null,null,null,null,null,null,null,null,null,null,null,null,null,null,null,null,null,null,null,null,null,null,null,null,null,null,null,null,null,null,null,"","","","","",0,0]
[null,null,null,null,null,{"$f":"IF(filEst!F40=\"\",\"\",filEst!F40)","v":""},{"$f":"IF(filEst!G40=\"\",\"\",filEst!G40)","v":""},{"$f":"IF(filEst!L40=\"\",\"\",filEst!L40)","v":""},null,"",{"$f":"IF(filEst!K40=\"\",\"\",filEst!K40)","v":""},null,null,null,null,null,null,null,null,null,null,null,null,null,null,null,null,null,null,null,null,null,null,null,null,null,null,null,null,null,null,null,null,null,null,null,null,null,null,null,null,null,null,null,null,null,null,"","","","","",0,0]
[null,null,null,null,null,{"$f":"IF(filEst!F41=\"\",\"\",filEst!F41)","v":""},{"$f":"IF(filEst!G41=\"\",\"\",filEst!G41)","v":""},{"$f":"IF(filEst!L41=\"\",\"\",filEst!L41)","v":""},null,"",{"$f":"IF(filEst!K41=\"\",\"\",filEst!K41)","v":""},null,null,null,null,null,null,null,null,null,null,null,null,null,null,null,null,null,null,null,null,null,null,null,null,null,null,null,null,null,null,null,null,null,null,null,null,null,null,null,null,null,null,null,null,null,null,"","","","","",0,0]
[null,null,null,null,null,{"$f":"IF(filEst!F42=\"\",\"\",filEst!F42)","v":""},{"$f":"IF(filEst!G42=\"\",\"\",filEst!G42)","v":""},{"$f":"IF(filEst!L42=\"\",\"\",filEst!L42)","v":""},null,"",{"$f":"IF(filEst!K42=\"\",\"\",filEst!K42)","v":""},null,null,null,null,null,null,null,null,null,null,null,null,null,null,null,null,null,null,null,null,null,null,null,null,null,null,null,null,null,null,null,null,null,null,null,null,null,null,null,null,null,null,null,null,null,null,"","","","","",0,0]
[null,null,null,null,null,{"$f":"IF(filEst!F43=\"\",\"\",filEst!F43)","v":""},{"$f":"IF(filEst!G43=\"\",\"\",filEst!G43)","v":""},{"$f":"IF(filEst!L43=\"\",\"\",filEst!L43)","v":""},null,"",{"$f":"IF(filEst!K43=\"\",\"\",filEst!K43)","v":""},null,null,null,null,null,null,null,null,null,null,null,null,null,null,null,null,null,null,null,null,null,null,null,null,null,null,null,null,null,null,null,null,null,null,null,null,null,null,null,null,null,null,null,null,null,null,"","","","","",0,0]
[null,null,null,null,null,{"$f":"IF(filEst!F44=\"\",\"\",filEst!F44)","v":""},{"$f":"IF(filEst!G44=\"\",\"\",filEst!G44)","v":""},{"$f":"IF(filEst!L44=\"\",\"\",filEst!L44)","v":""},null,"",{"$f":"IF(filEst!K44=\"\",\"\",filEst!K44)","v":""},null,null,null,null,null,null,null,null,null,null,null,null,null,null,null,null,null,null,null,null,null,null,null,null,null,null,null,null,null,null,null,null,null,null,null,null,null,null,null,null,null,null,null,null,null,null,"","","","","",0,0]
[null,null,null,null,null,{"$f":"IF(filEst!F45=\"\",\"\",filEst!F45)","v":""},{"$f":"IF(filEst!G45=\"\",\"\",filEst!G45)","v":""},{"$f":"IF(filEst!L45=\"\",\"\",filEst!L45)","v":""},null,"",{"$f":"IF(filEst!K45=\"\",\"\",filEst!K45)","v":""},null,null,null,null,null,null,null,null,null,null,null,null,null,null,null,null,null,null,null,null,null,null,null,null,null,null,null,null,null,null,null,null,null,null,null,null,null,null,null,null,null,null,null,null,null,null,"","","","","",0,0]
[null,null,null,null,null,{"$f":"IF(filEst!F46=\"\",\"\",filEst!F46)","v":""},{"$f":"IF(filEst!G46=\"\",\"\",filEst!G46)","v":""},{"$f":"IF(filEst!L46=\"\",\"\",filEst!L46)","v":""},null,"",{"$f":"IF(filEst!K46=\"\",\"\",filEst!K46)","v":""},null,null,null,null,null,null,null,null,null,null,null,null,null,null,null,null,null,null,null,null,null,null,null,null,null,null,null,null,null,null,null,null,null,null,null,null,null,null,null,null,null,null,null,null,null,null,"","","","","",0,0]
[null,null,null,null,null,{"$f":"IF(filEst!F47=\"\",\"\",filEst!F47)","v":""},{"$f":"IF(filEst!G47=\"\",\"\",filEst!G47)","v":""},{"$f":"IF(filEst!L47=\"\",\"\",filEst!L47)","v":""},null,"",{"$f":"IF(filEst!K47=\"\",\"\",filEst!K47)","v":""},null,null,null,null,null,null,null,null,null,null,null,null,null,null,null,null,null,null,null,null,null,null,null,null,null,null,null,null,null,null,null,null,null,null,null,null,null,null,null,null,null,null,null,null,null,null,"","","","","",0,0]
[null,null,null,null,null,{"$f":"IF(filEst!F48=\"\",\"\",filEst!F48)","v":""},{"$f":"IF(filEst!G48=\"\",\"\",filEst!G48)","v":""},{"$f":"IF(filEst!L48=\"\",\"\",filEst!L48)","v":""},null,"",{"$f":"IF(filEst!K48=\"\",\"\",filEst!K48)","v":""},null,null,null,null,null,null,null,null,null,null,null,null,null,null,null,null,null,null,null,null,null,null,null,null,null,null,null,null,null,null,null,null,null,null,null,null,null,null,null,null,null,null,null,null,null,null,"","","","","",0,0]
[null,null,null,null,null,{"$f":"IF(filEst!F49=\"\",\"\",filEst!F49)","v":""},{"$f":"IF(filEst!G49=\"\",\"\",filEst!G49)","v":""},{"$f":"IF(filEst!L49=\"\",\"\",filEst!L49)","v":""},null,"",{"$f":"IF(filEst!K49=\"\",\"\",filEst!K49)","v":""},null,null,null,null,null,null,null,null,null,null,null,null,null,null,null,null,null,null,null,null,null,null,null,null,null,null,null,null,null,null,null,null,null,null,null,null,null,null,null,null,null,null,null,null,null,null,"","","","","",0,0]
[null,null,null,null,null,{"$f":"IF(filEst!F50=\"\",\"\",filEst!F50)","v":""},{"$f":"IF(filEst!G50=\"\",\"\",filEst!G50)","v":""},{"$f":"IF(filEst!L50=\"\",\"\",filEst!L50)","v":""},null,"",{"$f":"IF(filEst!K50=\"\",\"\",filEst!K50)","v":""},null,null,null,null,null,null,null,null,null,null,null,null,null,null,null,null,null,null,null,null,null,null,null,null,null,null,null,null,null,null,null,null,null,null,null,null,null,null,null,null,null,null,null,null,null,null,"","","","","",0,0]
[null,null,null,null,null,{"$f":"IF(filEst!F51=\"\",\"\",filEst!F51)","v":""},{"$f":"IF(filEst!G51=\"\",\"\",filEst!G51)","v":""},{"$f":"IF(filEst!L51=\"\",\"\",filEst!L51)","v":""},null,"",{"$f":"IF(filEst!K51=\"\",\"\",filEst!K51)","v":""},null,null,null,null,null,null,null,null,null,null,null,null,null,null,null,null,null,null,null,null,null,null,null,null,null,null,null,null,null,null,null,null,null,null,null,null,null,null,null,null,null,null,null,null,null,null,"","","","","",0,0]
[null,null,null,null,null,{"$f":"IF(filEst!F52=\"\",\"\",filEst!F52)","v":""},{"$f":"IF(filEst!G52=\"\",\"\",filEst!G52)","v":""},{"$f":"IF(filEst!L52=\"\",\"\",filEst!L52)","v":""},null,"",{"$f":"IF(filEst!K52=\"\",\"\",filEst!K52)","v":""},null,null,null,null,null,null,null,null,null,null,null,null,null,null,null,null,null,null,null,null,null,null,null,null,null,null,null,null,null,null,null,null,null,null,null,null,null,null,null,null,null,null,null,null,null,null,"","","","","",0,0]
[null,null,null,null,null,{"$f":"IF(filEst!F53=\"\",\"\",filEst!F53)","v":""},{"$f":"IF(filEst!G53=\"\",\"\",filEst!G53)","v":""},{"$f":"IF(filEst!L53=\"\",\"\",filEst!L53)","v":""},null,"",{"$f":"IF(filEst!K53=\"\",\"\",filEst!K53)","v":""},null,null,null,null,null,null,null,null,null,null,null,null,null,null,null,null,null,null,null,null,null,null,null,null,null,null,null,null,null,null,null,null,null,null,null,null,null,null,null,null,null,null,null,null,null,null,{"$f":"IF(COUNTIF($N53:$BE53,\".\")=0,\"\",COUNTIF($N53:$BE53,\".\"))","v":""},{"$f":"IF(COUNTIF($N53:$BE53,\"F\")=0,\"\",COUNTIF($N53:$BE53,\"F\"))","v":""},{"$f":"IF(COUNTIF($N53:$BE53,\"R\")=0,\"\",COUNTIF($N53:$BE53,\"R\"))","v":""},{"$f":"IF(COUNTIF($N53:$BE53,\"L\")=0,\"\",COUNTIF($N53:$BE53,\"L\"))","v":""},{"$f":"IF(BF53=\"\",\"\",(SUM(BF53,BH53)))","v":""},0,0]
[null,null,null,null,null,{"$f":"IF(filEst!F54=\"\",\"\",filEst!F54)","v":""},{"$f":"IF(filEst!G54=\"\",\"\",filEst!G54)","v":""},{"$f":"IF(filEst!L54=\"\",\"\",filEst!L54)","v":""},null,"",{"$f":"IF(filEst!K54=\"\",\"\",filEst!K54)","v":""},null,null,null,null,null,null,null,null,null,null,null,null,null,null,null,null,null,null,null,null,null,null,null,null,null,null,null,null,null,null,null,null,null,null,null,null,null,null,null,null,null,null,null,null,null,null,"","","","","",0,0]
[null,null,null,null,null,{"$f":"IF(filEst!F55=\"\",\"\",filEst!F55)","v":""},{"$f":"IF(filEst!G55=\"\",\"\",filEst!G55)","v":""},{"$f":"IF(filEst!L55=\"\",\"\",filEst!L55)","v":""},null,"",{"$f":"IF(filEst!K55=\"\",\"\",filEst!K55)","v":""},null,null,null,null,null,null,null,null,null,null,null,null,null,null,null,null,null,null,null,null,null,null,null,null,null,null,null,null,null,null,null,null,null,null,null,null,null,null,null,null,null,null,null,null,null,null,"","","","","",0,0]
[null,null,null,null,null,{"$f":"IF(filEst!F56=\"\",\"\",filEst!F56)","v":""},{"$f":"IF(filEst!G56=\"\",\"\",filEst!G56)","v":""},{"$f":"IF(filEst!L56=\"\",\"\",filEst!L56)","v":""},null,"",{"$f":"IF(filEst!K56=\"\",\"\",filEst!K56)","v":""},null,null,null,null,null,null,null,null,null,null,null,null,null,null,null,null,null,null,null,null,null,null,null,null,null,null,null,null,null,null,null,null,null,null,null,null,null,null,null,null,null,null,null,null,null,null,"","","","","",0,0]
[null,null,null,null,null,{"$f":"IF(filEst!F57=\"\",\"\",filEst!F57)","v":""},{"$f":"IF(filEst!G57=\"\",\"\",filEst!G57)","v":""},{"$f":"IF(filEst!L57=\"\",\"\",filEst!L57)","v":""},null,"",{"$f":"IF(filEst!K57=\"\",\"\",filEst!K57)","v":""},null,null,null,null,null,null,null,null,null,null,null,null,null,null,null,null,null,null,null,null,null,null,null,null,null,null,null,null,null,null,null,null,null,null,null,null,null,null,null,null,null,null,null,null,null,null,"","","","","",0,0]
[null,null,null,null,null,{"$f":"IF(filEst!F58=\"\",\"\",filEst!F58)","v":""},{"$f":"IF(filEst!G58=\"\",\"\",filEst!G58)","v":""},{"$f":"IF(filEst!L58=\"\",\"\",filEst!L58)","v":""},null,"",{"$f":"IF(filEst!K58=\"\",\"\",filEst!K58)","v":""},null,null,null,null,null,null,null,null,null,null,null,null,null,null,null,null,null,null,null,null,null,null,null,null,null,null,null,null,null,null,null,null,null,null,null,null,null,null,null,null,null,null,null,null,null,null,"","","","","",0,0]
[null,null,null,null,null,{"$f":"IF(filEst!F59=\"\",\"\",filEst!F59)","v":""},{"$f":"IF(filEst!G59=\"\",\"\",filEst!G59)","v":""},{"$f":"IF(filEst!L59=\"\",\"\",filEst!L59)","v":""},null,"",{"$f":"IF(filEst!K59=\"\",\"\",filEst!K59)","v":""},null,null,null,null,null,null,null,null,null,null,null,null,null,null,null,null,null,null,null,null,null,null,null,null,null,null,null,null,null,null,null,null,null,null,null,null,null,null,null,null,null,null,null,null,null,null,"","","","","",0,0]
[null,null,null,null,null,{"$f":"IF(filEst!F60=\"\",\"\",filEst!F60)","v":""},{"$f":"IF(filEst!G60=\"\",\"\",filEst!G60)","v":""},{"$f":"IF(filEst!L60=\"\",\"\",filEst!L60)","v":""},null,"",{"$f":"IF(filEst!K60=\"\",\"\",filEst!K60)","v":""},null,null,null,null,null,null,null,null,null,null,null,null,null,null,null,null,null,null,null,null,null,null,null,null,null,null,null,null,null,null,null,null,null,null,null,null,null,null,null,null,null,null,null,null,null,null,"","","","","",0,0]
[null,null,null,null,null,{"$f":"IF(filEst!F61=\"\",\"\",filEst!F61)","v":""},{"$f":"IF(filEst!G61=\"\",\"\",filEst!G61)","v":""},{"$f":"IF(filEst!L61=\"\",\"\",filEst!L61)","v":""},null,"",{"$f":"IF(filEst!K61=\"\",\"\",filEst!K61)","v":""},null,null,null,null,null,null,null,null,null,null,null,null,null,null,null,null,null,null,null,null,null,null,null,null,null,null,null,null,null,null,null,null,null,null,null,null,null,null,null,null,null,null,null,null,null,null,"","","","","",0,0]
[null,null,null,null,null,{"$f":"IF(filEst!F62=\"\",\"\",filEst!F62)","v":""},{"$f":"IF(filEst!G62=\"\",\"\",filEst!G62)","v":""},{"$f":"IF(filEst!L62=\"\",\"\",filEst!L62)","v":""},null,"",{"$f":"IF(filEst!K62=\"\",\"\",filEst!K62)","v":""},null,null,null,null,null,null,null,null,null,null,null,null,null,null,null,null,null,null,null,null,null,null,null,null,null,null,null,null,null,null,null,null,null,null,null,null,null,null,null,null,null,null,null,null,null,null,"","","","","",0,0]
[null,null,null,null,null,{"$f":"IF(filEst!F63=\"\",\"\",filEst!F63)","v":""},{"$f":"IF(filEst!G63=\"\",\"\",filEst!G63)","v":""},{"$f":"IF(filEst!L63=\"\",\"\",filEst!L63)","v":""},null,"",{"$f":"IF(filEst!K63=\"\",\"\",filEst!K63)","v":""},null,null,null,null,null,null,null,null,null,null,null,null,null,null,null,null,null,null,null,null,null,null,null,null,null,null,null,null,null,null,null,null,null,null,null,null,null,null,null,null,null,null,null,null,null,null,"","","","","",0,0]
[null,null,null,null,null,{"$f":"IF(filEst!F64=\"\",\"\",filEst!F64)","v":""},{"$f":"IF(filEst!G64=\"\",\"\",filEst!G64)","v":""},{"$f":"IF(filEst!L64=\"\",\"\",filEst!L64)","v":""},null,"",{"$f":"IF(filEst!K64=\"\",\"\",filEst!K64)","v":""},null,null,null,null,null,null,null,null,null,null,null,null,null,null,null,null,null,null,null,null,null,null,null,null,null,null,null,null,null,null,null,null,null,null,null,null,null,null,null,null,null,null,null,null,null,null,"","","","","",0,0]
[null,null,null,null,null,{"$f":"IF(filEst!F65=\"\",\"\",filEst!F65)","v":""},{"$f":"IF(filEst!G65=\"\",\"\",filEst!G65)","v":""},{"$f":"IF(filEst!L65=\"\",\"\",filEst!L65)","v":""},null,"",{"$f":"IF(filEst!K65=\"\",\"\",filEst!K65)","v":""},null,null,null,null,null,null,null,null,null,null,null,null,null,null,null,null,null,null,null,null,null,null,null,null,null,null,null,null,null,null,null,null,null,null,null,null,null,null,null,null,null,null,null,null,null,null,"","","","","",0,0]
[null,null,null,null,null,{"$f":"IF(filEst!F66=\"\",\"\",filEst!F66)","v":""},{"$f":"IF(filEst!G66=\"\",\"\",filEst!G66)","v":""},{"$f":"IF(filEst!L66=\"\",\"\",filEst!L66)","v":""},null,"",{"$f":"IF(filEst!K66=\"\",\"\",filEst!K66)","v":""},null,null,null,null,null,null,null,null,null,null,null,null,null,null,null,null,null,null,null,null,null,null,null,null,null,null,null,null,null,null,null,null,null,null,null,null,null,null,null,null,null,null,null,null,null,null,"","","","","",0,0]
[null,null,null,null,null,{"$f":"IF(filEst!F67=\"\",\"\",filEst!F67)","v":""},{"$f":"IF(filEst!G67=\"\",\"\",filEst!G67)","v":""},{"$f":"IF(filEst!L67=\"\",\"\",filEst!L67)","v":""},null,"",{"$f":"IF(filEst!K67=\"\",\"\",filEst!K67)","v":""},null,null,null,null,null,null,null,null,null,null,null,null,null,null,null,null,null,null,null,null,null,null,null,null,null,null,null,null,null,null,null,null,null,null,null,null,null,null,null,null,null,null,null,null,null,null,"","","","","",0,0]
[null,null,null,null,null,{"$f":"IF(filEst!F68=\"\",\"\",filEst!F68)","v":""},{"$f":"IF(filEst!G68=\"\",\"\",filEst!G68)","v":""},{"$f":"IF(filEst!L68=\"\",\"\",filEst!L68)","v":""},null,"",{"$f":"IF(filEst!K68=\"\",\"\",filEst!K68)","v":""},null,null,null,null,null,null,null,null,null,null,null,null,null,null,null,null,null,null,null,null,null,null,null,null,null,null,null,null,null,null,null,null,null,null,null,null,null,null,null,null,null,null,null,null,null,null,"","","","","",0,0]
[null,null,null,null,null,{"$f":"IF(filEst!F69=\"\",\"\",filEst!F69)","v":""},{"$f":"IF(filEst!G69=\"\",\"\",filEst!G69)","v":""},{"$f":"IF(filEst!L69=\"\",\"\",filEst!L69)","v":""},null,"",{"$f":"IF(filEst!K69=\"\",\"\",filEst!K69)","v":""},null,null,null,null,null,null,null,null,null,null,null,null,null,null,null,null,null,null,null,null,null,null,null,null,null,null,null,null,null,null,null,null,null,null,null,null,null,null,null,null,null,null,null,null,null,null,"","","","","",0,0]
[null,null,null,null,null,{"$f":"IF(filEst!F70=\"\",\"\",filEst!F70)","v":""},{"$f":"IF(filEst!G70=\"\",\"\",filEst!G70)","v":""},{"$f":"IF(filEst!L70=\"\",\"\",filEst!L70)","v":""},null,"",{"$f":"IF(filEst!K70=\"\",\"\",filEst!K70)","v":""},null,null,null,null,null,null,null,null,null,null,null,null,null,null,null,null,null,null,null,null,null,null,null,null,null,null,null,null,null,null,null,null,null,null,null,null,null,null,null,null,null,null,null,null,null,null,"","","","","",0,0]
[null,null,null,null,null,null,null,null,null,null,null,null,null,null,null,null,null,null,null,null,null,null,null,null,null,null,null,null,null,null,null,null,null,null,null,null,null,null,null,null,null,null,null,null,null,null,null,null,null,null,null,null,null,null,null,null,null,{"$f":"SUM(BF21:BF70)","v":0},0,0,0,0,0,{"$f":"MAX(BL21:BL70)","v":0}]
[]
[]
[]
[]
[]
[]
[]
[]
[]
[null,null,null,null,null,null,"select_load",{"$f":"main!$AE$10","v":50}]
[null,null,null,null,null,null,"actual_save"]
[]
[]
[]
[]
[]
[]
[]
[]
[]
[]
[]
[]
[]
[]
[]
[]
[1,2,3,4,5,6,7,8,9,10,11,12,13,14,15,16,17,18,19,20,21,22,23,24,25,26,27,28,29,30,31,32,33,34,35,36,37,38,39,40,41,42,43,44,45,46,47,48,49,50,51,52,53,54,55,56,57,58,59,60,61,62,63,64,65,66,67,68,69,70,71,72,73,74,75,76,77,78,79]
[null,null,null,null,null,null,null,null,null,null,null,null,"M","N","O","P","Q","R","S","T","U","V","W","X","Y","Z","AA","AB","AC","AD","AE","AF","AG","AH","AI","AJ","AK","AL","AM","AN","AO","AP","AQ","AR","AS","AT","AU","AV","AW","AX","AY","AZ","BA","BB","BC","BD","BE","BF","BG","BH","BI","BJ","BK","BL","BM","BN","BO","BP","BQ","BR","BS","BT","BU","BV","BW","BX","BY","BZ","CA","CB"]
[null,null,null,null,null,null,"alto de fila",12,null,null,null,null,null,null,null,null,null,null,null,null,null,null,null,null,null,null,null,null,null,null,null,null,null,null,null,null,null,null,null,null,null,null,null,null,null,null,null,null,null,null,null,null,null,null,null,null,25]
[null,null,null,null,null,null,"ancho col nro",1]
[null,null,null,null,null,null,"ancho col est",65]
[null,null,null,null,null,null,"ancho col indicadores",1.29,null,null,null,null,"asi","nom","tot"]
[null,null,null,null,null,null,"ancho col prom ind",2.5,null,null,null,null,0,0,0]
[null,null,null,null,null,null,"ancho nota prof",3.3,null,null,null,null,1.29,26,2]
[null,null,null,null,null,null,"ancho nota bim",2.5,null,null,null,null,1.57,28,2.29]
[null,null,null,null,null,null,"tamaño fuente",10,null,null,null,null,1.86,30,2.57]
[null,null,null,null,null,null,"alto indicador",120,null,null,null,null,2.14,32,2.86]
[null,null,null,null,null,null,"bimestre",1,null,null,null,null,2.4300000000000002,34,3.14]
[null,null,null,null,null,null,"nroest",17,null,null,null,null,2.71,36,3.43]
[null,null,null,null,null,null,"hiden_cri_eva",1,null,null,null,null,3,38,3.71]
[null,null,null,null,null,null,"alto fila crieva",80]
[null,null,null,null,null,null,"alto fila actv",80]
[null,null,null,null,null,null,"paneles",0]
[null,null,null,null,null,null,"sit_bim_comp",1]
[null,null,null,null,null,null,"sit_bim_abrv",0.5]
[null,null,null,null,null,null,"cod_area"]
[]
[null,null,null,null,null,null,null,null,null,null,null,null,"Nro",null,null,null,null,null,null,null,null,null,null,null,null,null,null,null,null,null,null,null,null,null,null,null,null,null,null,null,null,null,null,null,null,null,null,null,null,null,null,null,null,null,null,null,25]
[]
[]
[]
[]
[]
[]
[]
[]
[]
[]
[]
[]
[]
[]
[]
[]
[]
[]
[]
[]
[]
[]
[]
[]
[]
[]
[]
[]
[]
[]
[]
[]
[]
[]
[]
[]
[]
[]
[]
[]
[]
[]
[]
[]
[]
[]
[]
[]
[]
[]
[]
[]
[]
[]
[]
[]
[]
[]
[]
[]
[]
[]
[]
[]
[]
[]
[]
[]
[]
[]
[]
[]
[]
[]
[]
[]
[]
[]
[]
[]
[]
[]
[]
[]
[]
[]
[]
[]
[]
[]
[]
[]
[]
[]
[]
[]
[]
[]
[]
[null,null,null,null,null,null,null,null,null,null,null,null,"Nro",null,null,null,null,null,null,null,null,null,null,null,null,null,null,null,null,null,null,null,null,null,null,null,null,null,null,null,null,null,null,null,null,null,null,null,null,null,null,null,null,null,null,null,25]
[]
[]
[]
[]
[]
[]
[]
[]
[]
[]
[]
[]
[]
[]
[]
[]
[]
[]
[]
[]
[]
[]
[]
[]
[]
[]
[]
[]
[]
[]
[]
[]
[]
[]
[]
[]
[]
[]
[]
[]
[]
[]
[]
[]
[]
[]
[]
[]
[]
[]
[]
[]
[]
[]
[]
[]
[]
[]
[]
[]
[]
[]
[]
[]
[]
[]
[]
[]
[]
[]
[]
[]
[]
[]
[]
[]
[]
[]
[]
[]
[]
[]
[]
[]
[]
[]
[]
[]
[]
[]
[]
[]
[]
[]
[]
[]
[]
[]
[]
[null,null,null,null,null,null,null,null,null,null,null,null,"Nro",null,null,null,null,null,null,null,null,null,null,null,null,null,null,null,null,null,null,null,null,null,null,null,null,null,null,null,null,null,null,null,null,null,null,null,null,null,null,null,null,null,null,null,25]
[]
[]
[]
[]
[]
[]
[]
[]
[]
[]
[]
[]
[]
[]
[]
[]
[]
[]
[]
[]
[]
[]
[]
[]
[]
[]
[]
[]
[]
[]
[]
[]
[]
[]
[]
[]
[]
[]
[]
[]
[]
[]
[]
[]
[]
[]
[]
[]
[]
[]
[]
[]
[]
[]
[]
[]
[]
[]
[]
[]
[]
[]
[]
[]
[]
[]
[]
[]
[]
[]
[]
[]
[]
[]
[]
[]
[]
[]
[]
[]
[]
[]
[]
[]
[]
[]
[]
[]
[]
[]
[]
[]
[]
[]
[]
[]
[]
[]
[]
[null,null,null,null,null,null,null,null,null,null,null,null,"Nro",null,null,null,null,null,null,null,null,null,null,null,null,null,null,null,null,null,null,null,null,null,null,null,null,null,null,null,null,null,null,null,null,null,null,null,null,null,null,null,null,null,null,null,25]
[]
[]
[]
[]
[]
[]
[]
[]
[]
[]
[]
[]
[]
[]
[]
[]
[]
[]
[]
[]
[]
[]
[]
[]
[]
[]
[]
[]
[]
[]
[]
[]
[]
[]
[]
[]
[]
[]
[]
[]
[]
[]
[]
[]
[]
[]
[]
[]
[]
[]
[]
[]
[]
[]
[]
[]
[]
[]
[]
[]
[]
[]
[]
[]
[]
[]
[]
[]
[]
[]
[]
[]
[]
[]
[]
[]
[]
[]
[]
[]
[]
[]
[]
[]
[]
[]
[]
[]
[]
[]
[]
[]
[]
[]
[]
[]
[]
[]
[]
[null,null,null,null,null,null,null,null,null,null,null,null,"Nro",null,null,null,null,null,null,null,null,null,null,null,null,null,null,null,null,null,null,null,null,null,null,null,null,null,null,null,null,null,null,null,null,null,null,null,null,null,null,null,null,null,null,null,25]
[]
[]
[]
[]
[]
[]
[]
[]
[]
[]
[]
[]
[]
[]
[]
[]
[]
[]
[]
[]
[]
[]
[]
[]
[]
[]
[]
[]
[]
[]
[]
[]
[]
[]
[]
[]
[]
[]
[]
[]
[]
[]
[]
[]
[]
[]
[]
[]
[]
[]
[]
[]
[]
[]
[]
[]
[]
[]
[]
[]
[]
[]
[]
[]
[]
[]
[]
[]
[]
[]
[]
[]
[]
[]
[]
[]
[]
[]
[]
[]
[]
[]
[]
[]
[]
[]
[]
[]
[]
[]
[]
[]
[]
[]
[]
[]
[]
[]
[]
[null,null,null,null,null,null,null,null,null,null,null,null,"Nro",null,null,null,null,null,null,null,null,null,null,null,null,null,null,null,null,null,null,null,null,null,null,null,null,null,null,null,null,null,null,null,null,null,null,null,null,null,null,null,null,null,null,null,25]
[]
[]
[]
[]
[]
[]
[]
[]
[]
[]
[]
[]
[]
[]
[]
[]
[]
[]
[]
[]
[]
[]
[]
[]
[]
[]
[]
[]
[]
[]
[]
[]
[]
[]
[]
[]
[]
[]
[]
[]
[]
[]
[]
[]
[]
[]
[]
[]
[]
[]
[]
[]
[]
[]
[]
[]
[]
[]
[]
[]
[]
[]
[]
[]
[]
[]
[]
[]
[]
[]
[]
[]
[]
[]
[]
[]
[]
[]
[]
[]
[]
[]
[]
[]
[]
[]
[]
[]
[]
[]
[]
[]
[]
[]
[]
[]
[]
[]
[]
[null,null,null,null,null,null,null,null,null,null,null,null,"Nro",null,null,null,null,null,null,null,null,null,null,null,null,null,null,null,null,null,null,null,null,null,null,null,null,null,null,null,null,null,null,null,null,null,null,null,null,null,null,null,null,null,null,null,25]
[]
[]
[]
[]
[]
[]
[]
[]
[]
[]
[]
[]
[]
[]
[]
[]
[]
[]
[]
[]
[]
[]
[]
[]
[]
[]
[]
[]
[]
[]
[]
[]
[]
[]
[]
[]
[]
[]
[]
[]
[]
[]
[]
[]
[]
[]
[]
[]
[]
[]
[]
[]
[]
[]
[]
[]
[]
[]
[]
[]
[]
[]
[]
[]
[]
[]
[]
[]
[]
[]
[]
[]
[]
[]
[]
[]
[]
[]
[]
[]
[]
[]
[]
[]
[]
[]
[]
[]
[]
[]
[]
[]
[]
[]
[]
[]
[]
[]
[]
[null,null,null,null,null,null,null,null,null,null,null,null,"Nro",null,null,null,null,null,null,null,null,null,null,null,null,null,null,null,null,null,null,null,null,null,null,null,null,null,null,null,null,null,null,null,null,null,null,null,null,null,null,null,null,null,null,null,25]
[]
[]
[]
[]
[]
[]
[]
[]
[]
[]
[]
[]
[]
[]
[]
[]
[]
[]
[]
[]
[]
[]
[]
[]
[]
[]
[]
[]
[]
[]
[]
[]
[]
[]
[]
[]
[]
[]
[]
[]
[]
[]
[]
[]
[]
[]
[]
[]
[]
[]
[]
[]
[]
[]
[]
[]
[]
[]
[]
[]
[]
[]
[]
[]
[]
[]
[]
[]
[]
[]
[]
[]
[]
[]
[]
[]
[]
[]
[]
[]
[]
[]
[]
[]
[]
[]
[]
[]
[]
[]
[]
[]
[]
[]
[]
[]
[]
[]
[]
[null,null,null,null,null,null,null,null,null,null,null,null,"Nro",null,null,null,null,null,null,null,null,null,null,null,null,null,null,null,null,null,null,null,null,null,null,null,null,null,null,null,null,null,null,null,null,null,null,null,null,null,null,null,null,null,null,null,25]
[]
[]
[]
[]
[]
[]
[]
[]
[]
[]
[]
[]
[]
[]
[]
[]
[]
[]
[]
[]
[]
[]
[]
[]
[]
[]
[]
[]
[]
[]
[]
[]
[]
[]
[]
[]
[]
[]
[]
[]
[]
[]
[]
[]
[]
[]
[]
[]
[]
[]
[]
[]
[]
[]
[]
[]
[]
[]
[]
[]
[]
[]
[]
[]
[]
[]
[]
[]
[]
[]
[]
[]
[]
[]
[]
[]
[]
[]
[]
[]
[]
[]
[]
[]
[]
[]
[]
[]
[]
[]
[]
[]
[]
[]
[]
[]
[]
[]
[]
[null,null,null,null,null,null,null,null,null,null,null,null,"Nro",null,null,null,null,null,null,null,null,null,null,null,null,null,null,null,null,null,null,null,null,null,null,null,null,null,null,null,null,null,null,null,null,null,null,null,null,null,null,null,null,null,null,null,25]
[]
[]
[]
[]
[]
[]
[]
[]
[]
[]
[]
[]
[]
[]
[]
[]
[]
[]
[]
[]
[]
[]
[]
[]
[]
[]
[]
[]
[]
[]
[]
[]
[]
[]
[]
[]
[]
[]
[]
[]
[]
[]
[]
[]
[]
[]
[]
[]
[]
[]
[]
[]
[]
[]
[]
[]
[]
[]
[]
[]
[]
[]
[]
[]
[]
[]
[]
[]
[]
[]
[]
[]
[]
[]
[]
[]
[]
[]
[]
[]
[]
[]
[]
[]
[]
[]
[]
[]
[]
[]
[]
[]
[]
[]
[]
[]
[]
[]
[]
[null,null,null,null,null,null,null,null,null,null,null,null,"Nro",null,null,null,null,null,null,null,null,null,null,null,null,null,null,null,null,null,null,null,null,null,null,null,null,null,null,null,null,null,null,null,null,null,null,null,null,null,null,null,null,null,null,null,25]
[]
[]
[]
[]
[]
[]
[]
[]
[]
[]
[]
[]
[]
[]
[]
[]
[]
[]
[]
[]
[]
[]
[]
[]
[]
[]
[]
[]
[]
[]
[]
[]
[]
[]
[]
[]
[]
[]
[]
[]
[]
[]
[]
[]
[]
[]
[]
[]
[]
[]
[]
[]
[]
[]
[]
[]
[]
[]
[]
[]
[]
[]
[]
[]
[]
[]
[]
[]
[]
[]
[]
[]
[]
[]
[]
[]
[]
[]
[]
[]
[]
[]
[]
[]
[]
[]
[]
[]
[]
[]
[]
[]
[]
[]
[]
[]
[]
[]
[]
[null,null,null,null,null,null,null,null,null,null,null,null,"Nro",null,null,null,null,null,null,null,null,null,null,null,null,null,null,null,null,null,null,null,null,null,null,null,null,null,null,null,null,null,null,null,null,null,null,null,null,null,null,null,null,null,null,null,25]
[]
[]
[]
[]
[]
[]
[]
[]
[]
[]
[]
[]
[]
[]
[]
[]
[]
[]
[]
[]
[]
[]
[]
[]
[]
[]
[]
[]
[]
[]
[]
[]
[]
[]
[]
[]
[]
[]
[]
[]
[]
[]
[]
[]
[]
[]
[]
[]
[]
[]
[]
[]
[]
[]
[]
[]
[]
[]
[]
[]
[]
[]
[]
[]
[]
[]
[]
[]
[]
[]
[]
[]
[]
[]
[]
[]
[]
[]
[]
[]
[]
[]
[]
[]
[]
[]
[]
[]
[]
[]
[]
[]
[]
[]
[]
[]
[]
[]
[]
[null,null,null,null,null,null,null,null,null,null,null,null,"Nro",null,null,null,null,null,null,null,null,null,null,null,null,null,null,null,null,null,null,null,null,null,null,null,null,null,null,null,null,null,null,null,null,null,null,null,null,null,null,null,null,null,null,null,25]
[]
[]
[]
[]
[]
[]
[]
[]
[]
[]
[]
[]
[]
[]
[]
[]
[]
[]
[]
[]
[]
[]
[]
[]
[]
[]
[]
[]
[]
[]
[]
[]
[]
[]
[]
[]
[]
[]
[]
[]
[]
[]
[]
[]
[]
[]
[]
[]
[]
[]
[]
[]
[]
[]
[]
[]
[]
[]
[]
[]
[]
[]
[]
[]
[]
[]
[]
[]
[]
[]
[]
[]
[]
[]
[]
[]
[]
[]
[]
[]
[]
[]
[]
[]
[]
[]
[]
[]
[]
[]
[]
[]
[]
[]
[]
[]
[]
[]
[]
[null,null,null,null,null,null,null,null,null,null,null,null,"Nro",null,null,null,null,null,null,null,null,null,null,null,null,null,null,null,null,null,null,null,null,null,null,null,null,null,null,null,null,null,null,null,null,null,null,null,null,null,null,null,null,null,null,null,25]
[]
[]
[]
[]
[]
[]
[]
[]
[]
[]
[]
[]
[]
[]
[]
[]
[]
[]
[]
[]
[]
[]
[]
[]
[]
[]
[]
[]
[]
[]
[]
[]
[]
[]
[]
[]
[]
[]
[]
[]
[]
[]
[]
[]
[]
[]
[]
[]
[]
[]
[]
[]
[]
[]
[]
[]
[]
[]
[]
[]
[]
[]
[]
[]
[]
[]
[]
[]
[]
[]
[]
[]
[]
[]
[]
[]
[]
[]
[]
[]
[]
[]
[]
[]
[]
[]
[]
[]
[]
[]
[]
[]
[]
[]
[]
[]
[]
[]
[]
[null,null,null,null,null,null,null,null,null,null,null,null,"Nro",null,null,null,null,null,null,null,null,null,null,null,null,null,null,null,null,null,null,null,null,null,null,null,null,null,null,null,null,null,null,null,null,null,null,null,null,null,null,null,null,null,null,null,25]
[]
[]
[]
[]
[]
[]
[]
[]
[]
[]
[]
[]
[]
[]
[]
[]
[]
[]
[]
[]
[]
[]
[]
[]
[]
[]
[]
[]
[]
[]
[]
[]
[]
[]
[]
[]
[]
[]
[]
[]
[]
[]
[]
[]
[]
[]
[]
[]
[]
[]
[]
[]
[]
[]
[]
[]
[]
[]
[]
[]
[]
[]
[]
[]
[]
[]
[]
[]
[]
[]
[]
[]
[]
[]
[]
[]
[]
[]
[]
[]
[]
[]
[]
[]
[]
[]
[]
[]
[]
[]
[]
[]
[]
[]
[]
[]
[]
[]
[]
[null,null,null,null,null,null,null,null,null,null,null,null,"Nro",null,null,null,null,null,null,null,null,null,null,null,null,null,null,null,null,null,null,null,null,null,null,null,null,null,null,null,null,null,null,null,null,null,null,null,null,null,null,null,null,null,null,null,25]
[]
[]
[]
[]
[]
[]
[]
[]
[]
[]
[]
[]
[]
[]
[]
[]
[]
[]
[]
[]
[]
[]
[]
[]
[]
[]
[]
[]
[]
[]
[]
[]
[]
[]
[]
[]
[]
[]
[]
[]
[]
[]
[]
[]
[]
[]
[]
[]
[]
[]
[]
[]
[]
[]
[]
[]
[]
[]
[]
[]
[]
[]
[]
[]
[]
[]
[]
[]
[]
[]
[]
[]
[]
[]
[]
[]
[]
[]
[]
[]
[]
[]
[]
[]
[]
[]
[]
[]
[]
[]
[]
[]
[]
[]
[]
[]
[]
[]
[]
[null,null,null,null,null,null,null,null,null,null,null,null,"Nro",null,null,null,null,null,null,null,null,null,null,null,null,null,null,null,null,null,null,null,null,null,null,null,null,null,null,null,null,null,null,null,null,null,null,null,null,null,null,null,null,null,null,null,25]
[]
[]
[]
[]
[]
[]
[]
[]
[]
[]
[]
[]
[]
[]
[]
[]
[]
[]
[]
[]
[]
[]
[]
[]
[]
[]
[]
[]
[]
[]
[]
[]
[]
[]
[]
[]
[]
[]
[]
[]
[]
[]
[]
[]
[]
[]
[]
[]
[]
[]
[]
[]
[]
[]
[]
[]
[]
[]
[]
[]
[]
[]
[]
[]
[]
[]
[]
[]
[]
[]
[]
[]
[]
[]
[]
[]
[]
[]
[]
[]
[]
[]
[]
[]
[]
[]
[]
[]
[]
[]
[]
[]
[]
[]
[]
[]
[]
[]
[]
[null,null,null,null,null,null,null,null,null,null,null,null,"Nro",null,null,null,null,null,null,null,null,null,null,null,null,null,null,null,null,null,null,null,null,null,null,null,null,null,null,null,null,null,null,null,null,null,null,null,null,null,null,null,null,null,null,null,25]
[]
[]
[]
[]
[]
[]
[]
[]
[]
[]
[]
[]
[]
[]
[]
[]
[]
[]
[]
[]
[]
[]
[]
[]
[]
[]
[]
[]
[]
[]
[]
[]
[]
[]
[]
[]
[]
[]
[]
[]
[]
[]
[]
[]
[]
[]
[]
[]
[]
[]
[]
[]
[]
[]
[]
[]
[]
[]
[]
[]
[]
[]
[]
[]
[]
[]
[]
[]
[]
[]
[]
[]
[]
[]
[]
[]
[]
[]
[]
[]
[]
[]
[]
[]
[]
[]
[]
[]
[]
[]
[]
[]
[]
[]
[]
[]
[]
[]
[]
[null,null,null,null,null,null,null,null,null,null,null,null,"Nro",null,null,null,null,null,null,null,null,null,null,null,null,null,null,null,null,null,null,null,null,null,null,null,null,null,null,null,null,null,null,null,null,null,null,null,null,null,null,null,null,null,null,null,25]
[]
[]
[]
[]
[]
[]
[]
[]
[]
[]
[]
[]
[]
[]
[]
[]
[]
[]
[]
[]
[]
[]
[]
[]
[]
[]
[]
[]
[]
[]
[]
[]
[]
[]
[]
[]
[]
[]
[]
[]
[]
[]
[]
[]
[]
[]
[]
[]
[]
[]
[]
[]
[]
[]
[]
[]
[]
[]
[]
[]
[]
[]
[]
[]
[]
[]
[]
[]
[]
[]
[]
[]
[]
[]
[]
[]
[]
[]
[]
[]
[]
[]
[]
[]
[]
[]
[]
[]
[]
[]
[]
[]
[]
[]
[]
[]
[]
[]
[]
[null,null,null,null,null,null,null,null,null,null,null,null,"Nro",null,null,null,null,null,null,null,null,null,null,null,null,null,null,null,null,null,null,null,null,null,null,null,null,null,null,null,null,null,null,null,null,null,null,null,null,null,null,null,null,null,null,null,25]
[]
[]
[]
[]
[]
[]
[]
[]
[]
[]
[]
[]
[]
[]
[]
[]
[]
[]
[]
[]
[]
[]
[]
[]
[]
[]
[]
[]
[]
[]
[]
[]
[]
[]
[]
[]
[]
[]
[]
[]
[]
[]
[]
[]
[]
[]
[]
[]
[]
[]
[]
[]
[]
[]
[]
[]
[]
[]
[]
[]
[]
[]
[]
[]
[]
[]
[]
[]
[]
[]
[]
[]
[]
[]
[]
[]
[]
[]
[]
[]
[]
[]
[]
[]
[]
[]
[]
[]
[]
[]
[]
[]
[]
[]
[]
[]
[]
[]
[]
[null,null,null,null,null,null,null,null,null,null,null,null,"Nro",null,null,null,null,null,null,null,null,null,null,null,null,null,null,null,null,null,null,null,null,null,null,null,null,null,null,null,null,null,null,null,null,null,null,null,null,null,null,null,null,null,null,null,25]

{"sheet":"asisB2","index":9,"n_rows":2120,"n_cols":68,"rows_kept":2120,"cut":false,"hidden":false,"merged":[[8,57,8,59],[1,5,1,56],[1,57,1,62],[17,60,19,60],[17,61,19,61],[17,62,19,62],[6,57,6,62],[19,10,19,11],[17,11,18,11],[17,57,19,57],[17,58,19,58],[17,59,19,59],[17,15,17,56],[7,57,7,59],[7,60,8,62],[7,11,7,47],[20,10,20,11],[21,10,21,11],[22,10,22,11],[23,10,23,11],[24,10,24,11],[25,10,25,11],[26,10,26,11],[27,10,27,11],[28,10,28,11],[29,10,29,11],[30,10,30,11],[31,10,31,11],[32,10,32,11],[33,10,33,11],[34,10,34,11],[35,10,35,11],[36,10,36,11],[37,10,37,11],[38,10,38,11],[39,10,39,11],[47,10,47,11],[48,10,48,11],[49,10,49,11],[40,10,40,11],[41,10,41,11],[42,10,42,11],[43,10,43,11],[44,10,44,11],[68,10,68,11],[69,10,69,11],[60,10,60,11],[61,10,61,11],[62,10,62,11],[63,10,63,11],[64,10,64,11],[8,11,8,47],[65,10,65,11],[66,10,66,11],[67,10,67,11],[55,10,55,11],[56,10,56,11],[57,10,57,11],[58,10,58,11],[59,10,59,11],[50,10,50,11],[51,10,51,11],[52,10,52,11],[53,10,53,11],[54,10,54,11],[45,10,45,11],[46,10,46,11],[2,11,2,47],[3,11,3,47],[4,11,4,47],[5,11,5,47],[6,11,6,47]]}
[null,null,null,null,null,null,null,null,null,null,null,null,0]
[null,null,null,null,null,"REGISTRO DE ASISTENCIA",null,null,null,null,null,null,null,null,null,null,null,null,null,null,null,null,null,null,null,null,null,null,null,null,null,null,null,null,null,null,null,null,null,null,null,null,null,null,null,null,null,null,null,null,null,null,null,null,null,null,null,"GESTION 2023",null,null,null,null,null,null,null,"Ξ"]
[null,null,null,null,null,null,{"$f":"datpro!$E$6","v":0},"sie",null,null,"UNIDAD EDUCATIVA ",{"$f":"IF(datpro!$E$7=\"\",\"\",datpro!$E$7)","v":""},null,null,null,null,null,null,null,null,null,null,null,null,null,null,null,null,null,null,null,null,null,null,null,null,null,null,null,null,null,null,null,null,null,null,null,null,null,null,null,null,null,null,null,null,null,null,null,null,null,null,null,null,null,"Cerrar"]
[null,null,null,null,null,null,{"$f":"datpro!$M$14","v":50},"nroes",null,null,"NIVEL ",{"$f":"datpro!$E$10","v":""},null,null,null,null,null,null,null,null,null,null,null,null,null,null,null,null,null,null,null,null,null,null,null,null,null,null,null,null,null,null,null,null,null,null,null,null,null,null,null,null,null,null,null,null,null,null,null,null,null,null,null,null,null,"u"]
[null,null,null,null,null,null,{"$f":"datpro!$C$12","v":"S"},"curso",null,null,"AÑO DE ESCOLARIDAD",{"$f":"CONCATENATE( datpro!$E$11,\"  -  \",datpro!$E$12)","v":"  -  "}]
[null,null,null,null,null,null,{"$f":"DAY(TODAY())","v":6},"dia",null,null,"DIRECTOR/A",{"$f":"IF(datpro!$E$8=\"\",\"\",datpro!$E$8)","v":""}]
[null,null,null,null,null,null,{"$f":"MONTH(TODAY())","v":3},"mes",null,null,"MAESTRO/A",{"$f":"IF(datpro!$E$9=\"\",\"\",datpro!$E$9)","v":""},null,null,null,null,null,null,null,null,null,null,null,null,null,null,null,null,null,null,null,null,null,null,null,null,null,null,null,null,null,null,null,null,null,null,null,null,null,null,null,null,null,null,null,null,null,{"$f":"IF(datpro!$M$5=\"\",\"\",TODAY())","v":"2023-03-06"}]
[null,null,null,null,null,null,"T2","bim",null,null,"CAMPO ",{"$f":"IF(datpro!$E$13=\"\",\"\",datpro!$E$13)","v":""},null,null,null,null,null,null,null,null,null,null,null,null,null,null,null,null,null,null,null,null,null,null,null,null,null,null,null,null,null,null,null,null,null,null,null,null,null,null,null,null,null,null,null,null,null,{"$f":"IF(datpro!$M$5=\"\",\"\",datpro!$I$5)","v":"2023-05-02"},null,null,{"$f":"datpro!$M$5","v":159}]
[null,null,null,null,null,null,{"$f":"datpro!$E$15","v":""},"codarea",null,null,"ÁREA",{"$f":"IF(datpro!$E$14=\"\",\"\",datpro!$E$14)","v":0},null,null,null,null,null,null,null,null,null,null,null,null,null,null,null,null,null,null,null,null,null,null,null,null,null,null,null,null,null,null,null,null,null,null,null,null,null,null,null,null,null,null,null,null,null,{"$f":"IF(datpro!$M$5=\"\",\"\",datpro!$K$5)","v":"2023-08-12"}]
[]
[]
[]
[null,null,null,null,null,null,null,null,null,null,null,null,null,"N","O","P","Q","R","S","T","U","V","W","X","Y","Z","AA","AB","AC","AD","AE","AF","AG","AH","AI","AJ","AK","AL","AM","AN","AO","AP","AQ","AR","AS","AT","AU","AV","AW","AX","AY","AZ","BA","BB","BC","BD","BE"]
[]
[null,null,null,null,null,null,"F21:BK70","BK",null,null,null,null,"Nro",null,null,null,null,null,null,null,null,null,null,null,null,null,null,null,null,null,null,null,null,null,null,null,null,null,null,null,null,null,null,null,null,null,null,null,null,null,null,null,null,null,null,null,25]
[]
[]
[null,null,null,null,null,null,null,null,null,null,null,"FECHAS",null,"+","-","2do. TRIMESTRE",null,null,null,null,null,null,null,null,null,null,null,null,null,null,null,null,null,null,null,null,null,null,null,null,null,null,null,null,null,null,null,null,null,null,null,null,null,null,null,null,null,"ASISTENCIA","FALTAS","RETRASOS","LICENCIAS","DIAS TRABAJADOS","DIAS NO TRABAJADOS"]
[null,null,null,null,null,null,"679S2D05"]
[null,null,null,null,null,"Nº","B2",null,null,null,"APELLIDOS Y NOMBRES",null,"Nro",null,null,null,null,null,null,null,null,null,null,null,null,null,null,null,null,null,null,null,null,null,null,null,null,null,null,null,null,null,null,null,null,null,null,null,null,null,null,null,null,null,null,null,25,null,null,null,null,null,null,null,null,null,8,"Tamaño de fuente (8..16)"]
[null,null,null,null,null,{"$f":"IF(filEst!F21=\"\",\"\",filEst!F21)","v":""},{"$f":"IF(filEst!G21=\"\",\"\",filEst!G21)","v":""},{"$f":"IF(filEst!L21=\"\",\"\",filEst!L21)","v":""},null,{"$f":"G21","v":""},{"$f":"IF(filEst!K21=\"\",\"\",filEst!K21)","v":""},null,null,null,null,null,null,null,null,null,null,null,null,null,null,null,null,null,null,null,null,null,null,null,null,null,null,null,null,null,null,null,null,null,null,null,null,null,null,null,null,null,null,null,null,null,null,{"$f":"IF(COUNTIF($M21:$BE21,\".\")=0,\"\",COUNTIF($M21:$BE21,\".\"))","v":""},{"$f":"IF(COUNTIF($M21:$BE21,\"F\")=0,\"\",COUNTIF($M21:$BE21,\"F\"))","v":""},{"$f":"IF(COUNTIF($M21:$BE21,\"R\")=0,\"\",COUNTIF($M21:$BE21,\"R\"))","v":""},{"$f":"IF(COUNTIF($M21:$BE21,\"L\")=0,\"\",COUNTIF($M21:$BE21,\"L\"))","v":""},{"$f":"IF(BF21=\"\",\"\",(SUM(BF21,BH21)))","v":""},{"$f":"IFERROR(SUM(BG21,BI21),\"\")","v":0},{"$f":"SUM(BF21:BI21)","v":0},null,null,12,"Alto de Fila (10..20)"]
[null,null,null,null,null,{"$f":"IF(filEst!F22=\"\",\"\",filEst!F22)","v":""},{"$f":"IF(filEst!G22=\"\",\"\",filEst!G22)","v":""},{"$f":"IF(filEst!L22=\"\",\"\",filEst!L22)","v":""},null,{"$f":"G22","v":""},{"$f":"IF(filEst!K22=\"\",\"\",filEst!K22)","v":""},null,null,null,null,null,null,null,null,null,null,null,null,null,null,null,null,null,null,null,null,null,null,null,null,null,null,null,null,null,null,null,null,null,null,null,null,null,null,null,null,null,null,null,null,null,null,"","","","","",{"$f":"IFERROR(SUM(BG22,BI22),\"\")","v":0},{"$f":"SUM(BJ22:BK22)","v":0},null,null,2,"Ancho de Columna (1..5) Modos"]
[null,null,null,null,null,{"$f":"IF(filEst!F23=\"\",\"\",filEst!F23)","v":""},{"$f":"IF(filEst!G23=\"\",\"\",filEst!G23)","v":""},{"$f":"IF(filEst!L23=\"\",\"\",filEst!L23)","v":""},null,"",{"$f":"IF(filEst!K23=\"\",\"\",filEst!K23)","v":""},null,null,null,null,null,null,null,null,null,null,null,null,null,null,null,null,null,null,null,null,null,null,null,null,null,null,null,null,null,null,null,null,null,null,null,null,null,null,null,null,null,null,null,null,null,null,"","","","","",{"$f":"IFERROR(SUM(BG23,BI23),\"\")","v":0},{"$f":"SUM(BJ23:BK23)","v":0}]
[null,null,null,null,null,{"$f":"IF(filEst!F24=\"\",\"\",filEst!F24)","v":""},{"$f":"IF(filEst!G24=\"\",\"\",filEst!G24)","v":""},{"$f":"IF(filEst!L24=\"\",\"\",filEst!L24)","v":""},null,"",{"$f":"IF(filEst!K24=\"\",\"\",filEst!K24)","v":""},null,null,null,null,null,null,null,null,null,null,null,null,null,null,null,null,null,null,null,null,null,null,null,null,null,null,null,null,null,null,null,null,null,null,null,null,null,null,null,null,null,null,null,null,null,null,"","","","","",0,0,null,null,".","= Asistencias"]
[null,null,null,null,null,{"$f":"IF(filEst!F25=\"\",\"\",filEst!F25)","v":""},{"$f":"IF(filEst!G25=\"\",\"\",filEst!G25)","v":""},{"$f":"IF(filEst!L25=\"\",\"\",filEst!L25)","v":""},null,"",{"$f":"IF(filEst!K25=\"\",\"\",filEst!K25)","v":""},null,null,null,null,null,null,null,null,null,null,null,null,null,null,null,null,null,null,null,null,null,null,null,null,null,null,null,null,null,null,null,null,null,null,null,null,null,null,null,null,null,null,null,null,null,null,"","","","","",0,0,null,null,"F","= Faltas"]
[null,null,null,null,null,{"$f":"IF(filEst!F26=\"\",\"\",filEst!F26)","v":""},{"$f":"IF(filEst!G26=\"\",\"\",filEst!G26)","v":""},{"$f":"IF(filEst!L26=\"\",\"\",filEst!L26)","v":""},null,"",{"$f":"IF(filEst!K26=\"\",\"\",filEst!K26)","v":""},null,null,null,null,null,null,null,null,null,null,null,null,null,null,null,null,null,null,null,null,null,null,null,null,null,null,null,null,null,null,null,null,null,null,null,null,null,null,null,null,null,null,null,null,null,null,"","","","","",0,0,null,null,"R","= Retrasos"]
[null,null,null,null,null,{"$f":"IF(filEst!F27=\"\",\"\",filEst!F27)","v":""},{"$f":"IF(filEst!G27=\"\",\"\",filEst!G27)","v":""},{"$f":"IF(filEst!L27=\"\",\"\",filEst!L27)","v":""},null,"",{"$f":"IF(filEst!K27=\"\",\"\",filEst!K27)","v":""},null,null,null,null,null,null,null,null,null,null,null,null,null,null,null,null,null,null,null,null,null,null,null,null,null,null,null,null,null,null,null,null,null,null,null,null,null,null,null,null,null,null,null,null,null,null,"","","","","",0,0,null,null,"L","= Licencias"]
[null,null,null,null,null,{"$f":"IF(filEst!F28=\"\",\"\",filEst!F28)","v":""},{"$f":"IF(filEst!G28=\"\",\"\",filEst!G28)","v":""},{"$f":"IF(filEst!L28=\"\",\"\",filEst!L28)","v":""},null,"",{"$f":"IF(filEst!K28=\"\",\"\",filEst!K28)","v":""},null,null,null,null,null,null,null,null,null,null,null,null,null,null,null,null,null,null,null,null,null,null,null,null,null,null,null,null,null,null,null,null,null,null,null,null,null,null,null,null,null,null,null,null,null,null,"","","","","",0,0]
[null,null,null,null,null,{"$f":"IF(filEst!F29=\"\",\"\",filEst!F29)","v":""},{"$f":"IF(filEst!G29=\"\",\"\",filEst!G29)","v":""},{"$f":"IF(filEst!L29=\"\",\"\",filEst!L29)","v":""},null,"",{"$f":"IF(filEst!K29=\"\",\"\",filEst!K29)","v":""},null,null,null,null,null,null,null,null,null,null,null,null,null,null,null,null,null,null,null,null,null,null,null,null,null,null,null,null,null,null,null,null,null,null,null,null,null,null,null,null,null,null,null,null,null,null,"","","","","",0,0,null,null,null,"©  2023"]
[null,null,null,null,null,{"$f":"IF(filEst!F30=\"\",\"\",filEst!F30)","v":""},{"$f":"IF(filEst!G30=\"\",\"\",filEst!G30)","v":""},{"$f":"IF(filEst!L30=\"\",\"\",filEst!L30)","v":""},null,"",{"$f":"IF(filEst!K30=\"\",\"\",filEst!K30)","v":""},null,null,null,null,null,null,null,null,null,null,null,null,null,null,null,null,null,null,null,null,null,null,null,null,null,null,null,null,null,null,null,null,null,null,null,null,null,null,null,null,null,null,null,null,null,null,"","","","","",0,0,null,null,null,"PROYECTO REMDIZ"]
[null,null,null,null,null,{"$f":"IF(filEst!F31=\"\",\"\",filEst!F31)","v":""},{"$f":"IF(filEst!G31=\"\",\"\",filEst!G31)","v":""},{"$f":"IF(filEst!L31=\"\",\"\",filEst!L31)","v":""},null,"",{"$f":"IF(filEst!K31=\"\",\"\",filEst!K31)","v":""},null,null,null,null,null,null,null,null,null,null,null,null,null,null,null,null,null,null,null,null,null,null,null,null,null,null,null,null,null,null,null,null,null,null,null,null,null,null,null,null,null,null,null,null,null,null,"","","","","",0,0]
[null,null,null,null,null,{"$f":"IF(filEst!F32=\"\",\"\",filEst!F32)","v":""},{"$f":"IF(filEst!G32=\"\",\"\",filEst!G32)","v":""},{"$f":"IF(filEst!L32=\"\",\"\",filEst!L32)","v":""},null,"",{"$f":"IF(filEst!K32=\"\",\"\",filEst!K32)","v":""},null,null,null,null,null,null,null,null,null,null,null,null,null,null,null,null,null,null,null,null,null,null,null,null,null,null,null,null,null,null,null,null,null,null,null,null,null,null,null,null,null,null,null,null,null,null,"","","","","",0,0]
[null,null,null,null,null,{"$f":"IF(filEst!F33=\"\",\"\",filEst!F33)","v":""},{"$f":"IF(filEst!G33=\"\",\"\",filEst!G33)","v":""},{"$f":"IF(filEst!L33=\"\",\"\",filEst!L33)","v":""},null,"",{"$f":"IF(filEst!K33=\"\",\"\",filEst!K33)","v":""},null,null,null,null,null,null,null,null,null,null,null,null,null,null,null,null,null,null,null,null,null,null,null,null,null,null,null,null,null,null,null,null,null,null,null,null,null,null,null,null,null,null,null,null,null,null,"","","","","",0,0]
[null,null,null,null,null,{"$f":"IF(filEst!F34=\"\",\"\",filEst!F34)","v":""},{"$f":"IF(filEst!G34=\"\",\"\",filEst!G34)","v":""},{"$f":"IF(filEst!L34=\"\",\"\",filEst!L34)","v":""},null,"",{"$f":"IF(filEst!K34=\"\",\"\",filEst!K34)","v":""},null,null,null,null,null,null,null,null,null,null,null,null,null,null,null,null,null,null,null,null,null,null,null,null,null,null,null,null,null,null,null,null,null,null,null,null,null,null,null,null,null,null,null,null,null,null,"","","","","",0,0]
[null,null,null,null,null,{"$f":"IF(filEst!F35=\"\",\"\",filEst!F35)","v":""},{"$f":"IF(filEst!G35=\"\",\"\",filEst!G35)","v":""},{"$f":"IF(filEst!L35=\"\",\"\",filEst!L35)","v":""},null,"",{"$f":"IF(filEst!K35=\"\",\"\",filEst!K35)","v":""},null,null,null,null,null,null,null,null,null,null,null,null,null,null,null,null,null,null,null,null,null,null,null,null,null,null,null,null,null,null,null,null,null,null,null,null,null,null,null,null,null,null,null,null,null,null,"","","","","",0,0]
[null,null,null,null,null,{"$f":"IF(filEst!F36=\"\",\"\",filEst!F36)","v":""},{"$f":"IF(filEst!G36=\"\",\"\",filEst!G36)","v":""},{"$f":"IF(filEst!L36=\"\",\"\",filEst!L36)","v":""},null,"",{"$f":"IF(filEst!K36=\"\",\"\",filEst!K36)","v":""},null,null,null,null,null,null,null,null,null,null,null,null,null,null,null,null,null,null,null,null,null,null,null,null,null,null,null,null,null,null,null,null,null,null,null,null,null,null,null,null,null,null,null,null,null,null,"","","","","",0,0]
[null,null,null,null,null,{"$f":"IF(filEst!F37=\"\",\"\",filEst!F37)","v":""},{"$f":"IF(filEst!G37=\"\",\"\",filEst!G37)","v":""},{"$f":"IF(filEst!L37=\"\",\"\",filEst!L37)","v":""},null,"",{"$f":"IF(filEst!K37=\"\",\"\",filEst!K37)","v":""},null,null,null,null,null,null,null,null,null,null,null,null,null,null,null,null,null,null,null,null,null,null,null,null,null,null,null,null,null,null,null,null,null,null,null,null,null,null,null,null,null,null,null,null,null,null,"","","","","",0,0]
[null,null,null,null,null,{"$f":"IF(filEst!F38=\"\",\"\",filEst!F38)","v":""},{"$f":"IF(filEst!G38=\"\",\"\",filEst!G38)","v":""},{"$f":"IF(filEst!L38=\"\",\"\",filEst!L38)","v":""},null,"",{"$f":"IF(filEst!K38=\"\",\"\",filEst!K38)","v":""},null,null,null,null,null,null,null,null,null,null,null,null,null,null,null,null,null,null,null,null,null,null,null,null,null,null,null,null,null,null,null,null,null,null,null,null,null,null,null,null,null,null,null,null,null,null,"","","","","",0,0]
[null,null,null,null,null,{"$f":"IF(filEst!F39=\"\",\"\",filEst!F39)","v":""},{"$f":"IF(filEst!G39=\"\",\"\",filEst!G39)","v":""},{"$f":"IF(filEst!L39=\"\",\"\",filEst!L39)","v":""},null,"",{"$f":"IF(filEst!K39=\"\",\"\",filEst!K39)","v":""},null,null,null,null,null,null,null,null,null,null,null,null,null,null,null,null,null,null,null,null,null,null,null,null,null,null,null,null,null,null,null,null,null,null,null,null,null,null,null,null,null,null,null,null,null,null,"","","","","",0,0]
[null,null,null,null,null,{"$f":"IF(filEst!F40=\"\",\"\",filEst!F40)","v":""},{"$f":"IF(filEst!G40=\"\",\"\",filEst!G40)","v":""},{"$f":"IF(filEst!L40=\"\",\"\",filEst!L40)","v":""},null,"",{"$f":"IF(filEst!K40=\"\",\"\",filEst!K40)","v":""},null,null,null,null,null,null,null,null,null,null,null,null,null,null,null,null,null,null,null,null,null,null,null,null,null,null,null,null,null,null,null,null,null,null,null,null,null,null,null,null,null,null,null,null,null,null,"","","","","",0,0]
[null,null,null,null,null,{"$f":"IF(filEst!F41=\"\",\"\",filEst!F41)","v":""},{"$f":"IF(filEst!G41=\"\",\"\",filEst!G41)","v":""},{"$f":"IF(filEst!L41=\"\",\"\",filEst!L41)","v":""},null,"",{"$f":"IF(filEst!K41=\"\",\"\",filEst!K41)","v":""},null,null,null,null,null,null,null,null,null,null,null,null,null,null,null,null,null,null,null,null,null,null,null,null,null,null,null,null,null,null,null,null,null,null,null,null,null,null,null,null,null,null,null,null,null,null,"","","","","",0,0]
[null,null,null,null,null,{"$f":"IF(filEst!F42=\"\",\"\",filEst!F42)","v":""},{"$f":"IF(filEst!G42=\"\",\"\",filEst!G42)","v":""},{"$f":"IF(filEst!L42=\"\",\"\",filEst!L42)","v":""},null,"",{"$f":"IF(filEst!K42=\"\",\"\",filEst!K42)","v":""},null,null,null,null,null,null,null,null,null,null,null,null,null,null,null,null,null,null,null,null,null,null,null,null,null,null,null,null,null,null,null,null,null,null,null,null,null,null,null,null,null,null,null,null,null,null,"","","","","",0,0]
[null,null,null,null,null,{"$f":"IF(filEst!F43=\"\",\"\",filEst!F43)","v":""},{"$f":"IF(filEst!G43=\"\",\"\",filEst!G43)","v":""},{"$f":"IF(filEst!L43=\"\",\"\",filEst!L43)","v":""},null,"",{"$f":"IF(filEst!K43=\"\",\"\",filEst!K43)","v":""},null,null,null,null,null,null,null,null,null,null,null,null,null,null,null,null,null,null,null,null,null,null,null,null,null,null,null,null,null,null,null,null,null,null,null,null,null,null,null,null,null,null,null,null,null,null,"","","","","",0,0]
[null,null,null,null,null,{"$f":"IF(filEst!F44=\"\",\"\",filEst!F44)","v":""},{"$f":"IF(filEst!G44=\"\",\"\",filEst!G44)","v":""},{"$f":"IF(filEst!L44=\"\",\"\",filEst!L44)","v":""},null,"",{"$f":"IF(filEst!K44=\"\",\"\",filEst!K44)","v":""},null,null,null,null,null,null,null,null,null,null,null,null,null,null,null,null,null,null,null,null,null,null,null,null,null,null,null,null,null,null,null,null,null,null,null,null,null,null,null,null,null,null,null,null,null,null,"","","","","",0,0]
[null,null,null,null,null,{"$f":"IF(filEst!F45=\"\",\"\",filEst!F45)","v":""},{"$f":"IF(filEst!G45=\"\",\"\",filEst!G45)","v":""},{"$f":"IF(filEst!L45=\"\",\"\",filEst!L45)","v":""},null,"",{"$f":"IF(filEst!K45=\"\",\"\",filEst!K45)","v":""},null,null,null,null,null,null,null,null,null,null,null,null,null,null,null,null,null,null,null,null,null,null,null,null,null,null,null,null,null,null,null,null,null,null,null,null,null,null,null,null,null,null,null,null,null,null,"","","","","",0,0]
[null,null,null,null,null,{"$f":"IF(filEst!F46=\"\",\"\",filEst!F46)","v":""},{"$f":"IF(filEst!G46=\"\",\"\",filEst!G46)","v":""},{"$f":"IF(filEst!L46=\"\",\"\",filEst!L46)","v":""},null,"",{"$f":"IF(filEst!K46=\"\",\"\",filEst!K46)","v":""},null,null,null,null,null,null,null,null,null,null,null,null,null,null,null,null,null,null,null,null,null,null,null,null,null,null,null,null,null,null,null,null,null,null,null,null,null,null,null,null,null,null,null,null,null,null,"","","","","",0,0]
[null,null,null,null,null,{"$f":"IF(filEst!F47=\"\",\"\",filEst!F47)","v":""},{"$f":"IF(filEst!G47=\"\",\"\",filEst!G47)","v":""},{"$f":"IF(filEst!L47=\"\",\"\",filEst!L47)","v":""},null,"",{"$f":"IF(filEst!K47=\"\",\"\",filEst!K47)","v":""},null,null,null,null,null,null,null,null,null,null,null,null,null,null,null,null,null,null,null,null,null,null,null,null,null,null,null,null,null,null,null,null,null,null,null,null,null,null,null,null,null,null,null,null,null,null,"","","","","",0,0]
[null,null,null,null,null,{"$f":"IF(filEst!F48=\"\",\"\",filEst!F48)","v":""},{"$f":"IF(filEst!G48=\"\",\"\",filEst!G48)","v":""},{"$f":"IF(filEst!L48=\"\",\"\",filEst!L48)","v":""},null,"",{"$f":"IF(filEst!K48=\"\",\"\",filEst!K48)","v":""},null,null,null,null,null,null,null,null,null,null,null,null,null,null,null,null,null,null,null,null,null,null,null,null,null,null,null,null,null,null,null,null,null,null,null,null,null,null,null,null,null,null,null,null,null,null,"","","","","",0,0]
[null,null,null,null,null,{"$f":"IF(filEst!F49=\"\",\"\",filEst!F49)","v":""},{"$f":"IF(filEst!G49=\"\",\"\",filEst!G49)","v":""},{"$f":"IF(filEst!L49=\"\",\"\",filEst!L49)","v":""},null,"",{"$f":"IF(filEst!K49=\"\",\"\",filEst!K49)","v":""},null,null,null,null,null,null,null,null,null,null,null,null,null,null,null,null,null,null,null,null,null,null,null,null,null,null,null,null,null,null,null,null,null,null,null,null,null,null,null,null,null,null,null,null,null,null,"","","","","",0,0]
[null,null,null,null,null,{"$f":"IF(filEst!F50=\"\",\"\",filEst!F50)","v":""},{"$f":"IF(filEst!G50=\"\",\"\",filEst!G50)","v":""},{"$f":"IF(filEst!L50=\"\",\"\",filEst!L50)","v":""},null,"",{"$f":"IF(filEst!K50=\"\",\"\",filEst!K50)","v":""},null,null,null,null,null,null,null,null,null,null,null,null,null,null,null,null,null,null,null,null,null,null,null,null,null,null,null,null,null,null,null,null,null,null,null,null,null,null,null,null,null,null,null,null,null,null,"","","","","",0,0]
[null,null,null,null,null,{"$f":"IF(filEst!F51=\"\",\"\",filEst!F51)","v":""},{"$f":"IF(filEst!G51=\"\",\"\",filEst!G51)","v":""},{"$f":"IF(filEst!L51=\"\",\"\",filEst!L51)","v":""},null,"",{"$f":"IF(filEst!K51=\"\",\"\",filEst!K51)","v":""},null,null,null,null,null,null,null,null,null,null,null,null,null,null,null,null,null,null,null,null,null,null,null,null,null,null,null,null,null,null,null,null,null,null,null,null,null,null,null,null,null,null,null,null,null,null,"","","","","",0,0]
[null,null,null,null,null,{"$f":"IF(filEst!F52=\"\",\"\",filEst!F52)","v":""},{"$f":"IF(filEst!G52=\"\",\"\",filEst!G52)","v":""},{"$f":"IF(filEst!L52=\"\",\"\",filEst!L52)","v":""},null,"",{"$f":"IF(filEst!K52=\"\",\"\",filEst!K52)","v":""},null,null,null,null,null,null,null,null,null,null,null,null,null,null,null,null,null,null,null,null,null,null,null,null,null,null,null,null,null,null,null,null,null,null,null,null,null,null,null,null,null,null,null,null,null,null,"","","","","",0,0]
[null,null,null,null,null,{"$f":"IF(filEst!F53=\"\",\"\",filEst!F53)","v":""},{"$f":"IF(filEst!G53=\"\",\"\",filEst!G53)","v":""},{"$f":"IF(filEst!L53=\"\",\"\",filEst!L53)","v":""},null,"",{"$f":"IF(filEst!K53=\"\",\"\",filEst!K53)","v":""},null,null,null,null,null,null,null,null,null,null,null,null,null,null,null,null,null,null,null,null,null,null,null,null,null,null,null,null,null,null,null,null,null,null,null,null,null,null,null,null,null,null,null,null,null,null,{"$f":"IF(COUNTIF($M53:$BE53,\".\")=0,\"\",COUNTIF($M53:$BE53,\".\"))","v":""},{"$f":"IF(COUNTIF($M53:$BE53,\"F\")=0,\"\",COUNTIF($M53:$BE53,\"F\"))","v":""},{"$f":"IF(COUNTIF($M53:$BE53,\"R\")=0,\"\",COUNTIF($M53:$BE53,\"R\"))","v":""},{"$f":"IF(COUNTIF($M53:$BE53,\"L\")=0,\"\",COUNTIF($M53:$BE53,\"L\"))","v":""},{"$f":"IF(BF53=\"\",\"\",(SUM(BF53,BH53)))","v":""},0,0]
[null,null,null,null,null,{"$f":"IF(filEst!F54=\"\",\"\",filEst!F54)","v":""},{"$f":"IF(filEst!G54=\"\",\"\",filEst!G54)","v":""},{"$f":"IF(filEst!L54=\"\",\"\",filEst!L54)","v":""},null,"",{"$f":"IF(filEst!K54=\"\",\"\",filEst!K54)","v":""},null,null,null,null,null,null,null,null,null,null,null,null,null,null,null,null,null,null,null,null,null,null,null,null,null,null,null,null,null,null,null,null,null,null,null,null,null,null,null,null,null,null,null,null,null,null,"","","","","",0,0]
[null,null,null,null,null,{"$f":"IF(filEst!F55=\"\",\"\",filEst!F55)","v":""},{"$f":"IF(filEst!G55=\"\",\"\",filEst!G55)","v":""},{"$f":"IF(filEst!L55=\"\",\"\",filEst!L55)","v":""},null,"",{"$f":"IF(filEst!K55=\"\",\"\",filEst!K55)","v":""},null,null,null,null,null,null,null,null,null,null,null,null,null,null,null,null,null,null,null,null,null,null,null,null,null,null,null,null,null,null,null,null,null,null,null,null,null,null,null,null,null,null,null,null,null,null,"","","","","",0,0]
[null,null,null,null,null,{"$f":"IF(filEst!F56=\"\",\"\",filEst!F56)","v":""},{"$f":"IF(filEst!G56=\"\",\"\",filEst!G56)","v":""},{"$f":"IF(filEst!L56=\"\",\"\",filEst!L56)","v":""},null,"",{"$f":"IF(filEst!K56=\"\",\"\",filEst!K56)","v":""},null,null,null,null,null,null,null,null,null,null,null,null,null,null,null,null,null,null,null,null,null,null,null,null,null,null,null,null,null,null,null,null,null,null,null,null,null,null,null,null,null,null,null,null,null,null,"","","","","",0,0]
[null,null,null,null,null,{"$f":"IF(filEst!F57=\"\",\"\",filEst!F57)","v":""},{"$f":"IF(filEst!G57=\"\",\"\",filEst!G57)","v":""},{"$f":"IF(filEst!L57=\"\",\"\",filEst!L57)","v":""},null,"",{"$f":"IF(filEst!K57=\"\",\"\",filEst!K57)","v":""},null,null,null,null,null,null,null,null,null,null,null,null,null,null,null,null,null,null,null,null,null,null,null,null,null,null,null,null,null,null,null,null,null,null,null,null,null,null,null,null,null,null,null,null,null,null,"","","","","",0,0]
[null,null,null,null,null,{"$f":"IF(filEst!F58=\"\",\"\",filEst!F58)","v":""},{"$f":"IF(filEst!G58=\"\",\"\",filEst!G58)","v":""},{"$f":"IF(filEst!L58=\"\",\"\",filEst!L58)","v":""},null,"",{"$f":"IF(filEst!K58=\"\",\"\",filEst!K58)","v":""},null,null,null,null,null,null,null,null,null,null,null,null,null,null,null,null,null,null,null,null,null,null,null,null,null,null,null,null,null,null,null,null,null,null,null,null,null,null,null,null,null,null,null,null,null,null,"","","","","",0,0]
[null,null,null,null,null,{"$f":"IF(filEst!F59=\"\",\"\",filEst!F59)","v":""},{"$f":"IF(filEst!G59=\"\",\"\",filEst!G59)","v":""},{"$f":"IF(filEst!L59=\"\",\"\",filEst!L59)","v":""},null,"",{"$f":"IF(filEst!K59=\"\",\"\",filEst!K59)","v":""},null,null,null,null,null,null,null,null,null,null,null,null,null,null,null,null,null,null,null,null,null,null,null,null,null,null,null,null,null,null,null,null,null,null,null,null,null,null,null,null,null,null,null,null,null,null,"","","","","",0,0]
[null,null,null,null,null,{"$f":"IF(filEst!F60=\"\",\"\",filEst!F60)","v":""},{"$f":"IF(filEst!G60=\"\",\"\",filEst!G60)","v":""},{"$f":"IF(filEst!L60=\"\",\"\",filEst!L60)","v":""},null,"",{"$f":"IF(filEst!K60=\"\",\"\",filEst!K60)","v":""},null,null,null,null,null,null,null,null,null,null,null,null,null,null,null,null,null,null,null,null,null,null,null,null,null,null,null,null,null,null,null,null,null,null,null,null,null,null,null,null,null,null,null,null,null,null,"","","","","",0,0]
[null,null,null,null,null,{"$f":"IF(filEst!F61=\"\",\"\",filEst!F61)","v":""},{"$f":"IF(filEst!G61=\"\",\"\",filEst!G61)","v":""},{"$f":"IF(filEst!L61=\"\",\"\",filEst!L61)","v":""},null,"",{"$f":"IF(filEst!K61=\"\",\"\",filEst!K61)","v":""},null,null,null,null,null,null,null,null,null,null,null,null,null,null,null,null,null,null,null,null,null,null,null,null,null,null,null,null,null,null,null,null,null,null,null,null,null,null,null,null,null,null,null,null,null,null,"","","","","",0,0]
[null,null,null,null,null,{"$f":"IF(filEst!F62=\"\",\"\",filEst!F62)","v":""},{"$f":"IF(filEst!G62=\"\",\"\",filEst!G62)","v":""},{"$f":"IF(filEst!L62=\"\",\"\",filEst!L62)","v":""},null,"",{"$f":"IF(filEst!K62=\"\",\"\",filEst!K62)","v":""},null,null,null,null,null,null,null,null,null,null,null,null,null,null,null,null,null,null,null,null,null,null,null,null,null,null,null,null,null,null,null,null,null,null,null,null,null,null,null,null,null,null,null,null,null,null,"","","","","",0,0]
[null,null,null,null,null,{"$f":"IF(filEst!F63=\"\",\"\",filEst!F63)","v":""},{"$f":"IF(filEst!G63=\"\",\"\",filEst!G63)","v":""},{"$f":"IF(filEst!L63=\"\",\"\",filEst!L63)","v":""},null,"",{"$f":"IF(filEst!K63=\"\",\"\",filEst!K63)","v":""},null,null,null,null,null,null,null,null,null,null,null,null,null,null,null,null,null,null,null,null,null,null,null,null,null,null,null,null,null,null,null,null,null,null,null,null,null,null,null,null,null,null,null,null,null,null,"","","","","",0,0]
[null,null,null,null,null,{"$f":"IF(filEst!F64=\"\",\"\",filEst!F64)","v":""},{"$f":"IF(filEst!G64=\"\",\"\",filEst!G64)","v":""},{"$f":"IF(filEst!L64=\"\",\"\",filEst!L64)","v":""},null,"",{"$f":"IF(filEst!K64=\"\",\"\",filEst!K64)","v":""},null,null,null,null,null,null,null,null,null,null,null,null,null,null,null,null,null,null,null,null,null,null,null,null,null,null,null,null,null,null,null,null,null,null,null,null,null,null,null,null,null,null,null,null,null,null,"","","","","",0,0]
[null,null,null,null,null,{"$f":"IF(filEst!F65=\"\",\"\",filEst!F65)","v":""},{"$f":"IF(filEst!G65=\"\",\"\",filEst!G65)","v":""},{"$f":"IF(filEst!L65=\"\",\"\",filEst!L65)","v":""},null,"",{"$f":"IF(filEst!K65=\"\",\"\",filEst!K65)","v":""},null,null,null,null,null,null,null,null,null,null,null,null,null,null,null,null,null,null,null,null,null,null,null,null,null,null,null,null,null,null,null,null,null,null,null,null,null,null,null,null,null,null,null,null,null,null,"","","","","",0,0]
[null,null,null,null,null,{"$f":"IF(filEst!F66=\"\",\"\",filEst!F66)","v":""},{"$f":"IF(filEst!G66=\"\",\"\",filEst!G66)","v":""},{"$f":"IF(filEst!L66=\"\",\"\",filEst!L66)","v":""},null,"",{"$f":"IF(filEst!K66=\"\",\"\",filEst!K66)","v":""},null,null,null,null,null,null,null,null,null,null,null,null,null,null,null,null,null,null,null,null,null,null,null,null,null,null,null,null,null,null,null,null,null,null,null,null,null,null,null,null,null,null,null,null,null,null,"","","","","",0,0]
[null,null,null,null,null,{"$f":"IF(filEst!F67=\"\",\"\",filEst!F67)","v":""},{"$f":"IF(filEst!G67=\"\",\"\",filEst!G67)","v":""},{"$f":"IF(filEst!L67=\"\",\"\",filEst!L67)","v":""},null,"",{"$f":"IF(filEst!K67=\"\",\"\",filEst!K67)","v":""},null,null,null,null,null,null,null,null,null,null,null,null,null,null,null,null,null,null,null,null,null,null,null,null,null,null,null,null,null,null,null,null,null,null,null,null,null,null,null,null,null,null,null,null,null,null,"","","","","",0,0]
[null,null,null,null,null,{"$f":"IF(filEst!F68=\"\",\"\",filEst!F68)","v":""},{"$f":"IF(filEst!G68=\"\",\"\",filEst!G68)","v":""},{"$f":"IF(filEst!L68=\"\",\"\",filEst!L68)","v":""},null,"",{"$f":"IF(filEst!K68=\"\",\"\",filEst!K68)","v":""},null,null,null,null,null,null,null,null,null,null,null,null,null,null,null,null,null,null,null,null,null,null,null,null,null,null,null,null,null,null,null,null,null,null,null,null,null,null,null,null,null,null,null,null,null,null,"","","","","",0,0]
[null,null,null,null,null,{"$f":"IF(filEst!F69=\"\",\"\",filEst!F69)","v":""},{"$f":"IF(filEst!G69=\"\",\"\",filEst!G69)","v":""},{"$f":"IF(filEst!L69=\"\",\"\",filEst!L69)","v":""},null,"",{"$f":"IF(filEst!K69=\"\",\"\",filEst!K69)","v":""},null,null,null,null,null,null,null,null,null,null,null,null,null,null,null,null,null,null,null,null,null,null,null,null,null,null,null,null,null,null,null,null,null,null,null,null,null,null,null,null,null,null,null,null,null,null,"","","","","",0,0]
[null,null,null,null,null,{"$f":"IF(filEst!F70=\"\",\"\",filEst!F70)","v":""},{"$f":"IF(filEst!G70=\"\",\"\",filEst!G70)","v":""},{"$f":"IF(filEst!L70=\"\",\"\",filEst!L70)","v":""},null,"",{"$f":"IF(filEst!K70=\"\",\"\",filEst!K70)","v":""},null,null,null,null,null,null,null,null,null,null,null,null,null,null,null,null,null,null,null,null,null,null,null,null,null,null,null,null,null,null,null,null,null,null,null,null,null,null,null,null,null,null,null,null,null,null,"","","","","",0,0]
[null,null,null,null,null,null,null,null,null,null,null,null,null,null,null,null,null,null,null,null,null,null,null,null,null,null,null,null,null,null,null,null,null,null,null,null,null,null,null,null,null,null,null,null,null,null,null,null,null,null,null,null,null,null,null,null,null,{"$f":"SUM(BF21:BF70)","v":0},0,0,0,0,0,{"$f":"MAX(BL21:BL70)","v":0}]
[]
[]
[]
[]
[]
[]
[]
[]
[]
[null,null,null,null,null,null,"select_load",{"$f":"main!$AE$10","v":50}]
[null,null,null,null,null,null,"actual_save"]
[]
[]
[]
[]
[]
[]
[]
[]
[]
[]
[]
[]
[]
[]
[]
[]
[]
[]
[null,null,null,null,null,null,"alto de fila",12,null,null,null,null,null,null,null,null,null,null,null,null,null,null,null,null,null,null,null,null,null,null,null,null,null,null,null,null,null,null,null,null,null,null,null,null,null,null,null,null,null,null,null,null,null,null,null,null,25]
[null,null,null,null,null,null,"ancho col nro",1]
[null,null,null,null,null,null,"ancho col est",65]
[null,null,null,null,null,null,"ancho col indicadores",1.57]
[null,null,null,null,null,null,"ancho col prom ind",2.5]
[null,null,null,null,null,null,"ancho nota prof",3.3]
[null,null,null,null,null,null,"ancho nota bim",2.5]
[null,null,null,null,null,null,"tamaño fuente",10]
[null,null,null,null,null,null,"alto indicador",120]
[null,null,null,null,null,null,"bimestre",1]
[null,null,null,null,null,null,"nroest",17]
[null,null,null,null,null,null,"hiden_cri_eva",1]
[null,null,null,null,null,null,"alto fila crieva",80]
[null,null,null,null,null,null,"alto fila actv",80]
[null,null,null,null,null,null,"paneles",0]
[null,null,null,null,null,null,"sit_bim_comp",1]
[null,null,null,null,null,null,"sit_bim_abrv",0.5]
[null,null,null,null,null,null,"cod_area"]
[null,null,null,null,null,null,"hiden_actividedes",1]
[null,null,null,null,null,null,null,null,null,null,null,null,"Nro",null,null,null,null,null,null,null,null,null,null,null,null,null,null,null,null,null,null,null,null,null,null,null,null,null,null,null,null,null,null,null,null,null,null,null,null,null,null,null,null,null,null,null,25]
[]
[]
[]
[]
[]
[]
[]
[]
[]
[]
[]
[]
[]
[]
[]
[]
[]
[]
[]
[]
[]
[]
[]
[]
[]
[]
[]
[]
[]
[]
[]
[]
[]
[]
[]
[]
[]
[]
[]
[]
[]
[]
[]
[]
[]
[]
[]
[]
[]
[]
[]
[]
[]
[]
[]
[]
[]
[]
[]
[]
[]
[]
[]
[]
[]
[]
[]
[]
[]
[]
[]
[]
[]
[]
[]
[]
[]
[]
[]
[]
[]
[]
[]
[]
[]
[]
[]
[]
[]
[]
[]
[]
[]
[]
[]
[]
[]
[]
[]
[null,null,null,null,null,null,null,null,null,null,null,null,"Nro",null,null,null,null,null,null,null,null,null,null,null,null,null,null,null,null,null,null,null,null,null,null,null,null,null,null,null,null,null,null,null,null,null,null,null,null,null,null,null,null,null,null,null,25]
[]
[]
[]
[]
[]
[]
[]
[]
[]
[]
[]
[]
[]
[]
[]
[]
[]
[]
[]
[]
[]
[]
[]
[]
[]
[]
[]
[]
[]
[]
[]
[]
[]
[]
[]
[]
[]
[]
[]
[]
[]
[]
[]
[]
[]
[]
[]
[]
[]
[]
[]
[]
[]
[]
[]
[]
[]
[]
[]
[]
[]
[]
[]
[]
[]
[]
[]
[]
[]
[]
[]
[]
[]
[]
[]
[]
[]
[]
[]
[]
[]
[]
[]
[]
[]
[]
[]
[]
[]
[]
[]
[]
[]
[]
[]
[]
[]
[]
[]
[null,null,null,null,null,null,null,null,null,null,null,null,"Nro",null,null,null,null,null,null,null,null,null,null,null,null,null,null,null,null,null,null,null,null,null,null,null,null,null,null,null,null,null,null,null,null,null,null,null,null,null,null,null,null,null,null,null,25]
[]
[]
[]
[]
[]
[]
[]
[]
[]
[]
[]
[]
[]
[]
[]
[]
[]
[]
[]
[]
[]
[]
[]
[]
[]
[]
[]
[]
[]
[]
[]
[]
[]
[]
[]
[]
[]
[]
[]
[]
[]
[]
[]
[]
[]
[]
[]
[]
[]
[]
[]
[]
[]
[]
[]
[]
[]
[]
[]
[]
[]
[]
[]
[]
[]
[]
[]
[]
[]
[]
[]
[]
[]
[]
[]
[]
[]
[]
[]
[]
[]
[]
[]
[]
[]
[]
[]
[]
[]
[]
[]
[]
[]
[]
[]
[]
[]
[]
[]
[null,null,null,null,null,null,null,null,null,null,null,null,"Nro",null,null,null,null,null,null,null,null,null,null,null,null,null,null,null,null,null,null,null,null,null,null,null,null,null,null,null,null,null,null,null,null,null,null,null,null,null,null,null,null,null,null,null,25]
[]
[]
[]
[]
[]
[]
[]
[]
[]
[]
[]
[]
[]
[]
[]
[]
[]
[]
[]
[]
[]
[]
[]
[]
[]
[]
[]
[]
[]
[]
[]
[]
[]
[]
[]
[]
[]
[]
[]
[]
[]
[]
[]
[]
[]
[]
[]
[]
[]
[]
[]
[]
[]
[]
[]
[]
[]
[]
[]
[]
[]
[]
[]
[]
[]
[]
[]
[]
[]
[]
[]
[]
[]
[]
[]
[]
[]
[]
[]
[]
[]
[]
[]
[]
[]
[]
[]
[]
[]
[]
[]
[]
[]
[]
[]
[]
[]
[]
[]
[null,null,null,null,null,null,null,null,null,null,null,null,"Nro",null,null,null,null,null,null,null,null,null,null,null,null,null,null,null,null,null,null,null,null,null,null,null,null,null,null,null,null,null,null,null,null,null,null,null,null,null,null,null,null,null,null,null,25]
[]
[]
[]
[]
[]
[]
[]
[]
[]
[]
[]
[]
[]
[]
[]
[]
[]
[]
[]
[]
[]
[]
[]
[]
[]
[]
[]
[]
[]
[]
[]
[]
[]
[]
[]
[]
[]
[]
[]
[]
[]
[]
[]
[]
[]
[]
[]
[]
[]
[]
[]
[]
[]
[]
[]
[]
[]
[]
[]
[]
[]
[]
[]
[]
[]
[]
[]
[]
[]
[]
[]
[]
[]
[]
[]
[]
[]
[]
[]
[]
[]
[]
[]
[]
[]
[]
[]
[]
[]
[]
[]
[]
[]
[]
[]
[]
[]
[]
[]
[null,null,null,null,null,null,null,null,null,null,null,null,"Nro",null,null,null,null,null,null,null,null,null,null,null,null,null,null,null,null,null,null,null,null,null,null,null,null,null,null,null,null,null,null,null,null,null,null,null,null,null,null,null,null,null,null,null,25]
[]
[]
[]
[]
[]
[]
[]
[]
[]
[]
[]
[]
[]
[]
[]
[]
[]
[]
[]
[]
[]
[]
[]
[]
[]
[]
[]
[]
[]
[]
[]
[]
[]
[]
[]
[]
[]
[]
[]
[]
[]
[]
[]
[]
[]
[]
[]
[]
[]
[]
[]
[]
[]
[]
[]
[]
[]
[]
[]
[]
[]
[]
[]
[]
[]
[]
[]
[]
[]
[]
[]
[]
[]
[]
[]
[]
[]
[]
[]
[]
[]
[]
[]
[]
[]
[]
[]
[]
[]
[]
[]
[]
[]
[]
[]
[]
[]
[]
[]
[null,null,null,null,null,null,null,null,null,null,null,null,"Nro",null,null,null,null,null,null,null,null,null,null,null,null,null,null,null,null,null,null,null,null,null,null,null,null,null,null,null,null,null,null,null,null,null,null,null,null,null,null,null,null,null,null,null,25]
[]
[]
[]
[]
[]
[]
[]
[]
[]
[]
[]
[]
[]
[]
[]
[]
[]
[]
[]
[]
[]
[]
[]
[]
[]
[]
[]
[]
[]
[]
[]
[]
[]
[]
[]
[]
[]
[]
[]
[]
[]
[]
[]
[]
[]
[]
[]
[]
[]
[]
[]
[]
[]
[]
[]
[]
[]
[]
[]
[]
[]
[]
[]
[]
[]
[]
[]
[]
[]
[]
[]
[]
[]
[]
[]
[]
[]
[]
[]
[]
[]
[]
[]
[]
[]
[]
[]
[]
[]
[]
[]
[]
[]
[]
[]
[]
[]
[]
[]
[null,null,null,null,null,null,null,null,null,null,null,null,"Nro",null,null,null,null,null,null,null,null,null,null,null,null,null,null,null,null,null,null,null,null,null,null,null,null,null,null,null,null,null,null,null,null,null,null,null,null,null,null,null,null,null,null,null,25]
[]
[]
[]
[]
[]
[]
[]
[]
[]
[]
[]
[]
[]
[]
[]
[]
[]
[]
[]
[]
[]
[]
[]
[]
[]
[]
[]
[]
[]
[]
[]
[]
[]
[]
[]
[]
[]
[]
[]
[]
[]
[]
[]
[]
[]
[]
[]
[]
[]
[]
[]
[]
[]
[]
[]
[]
[]
[]
[]
[]
[]
[]
[]
[]
[]
[]
[]
[]
[]
[]
[]
[]
[]
[]
[]
[]
[]
[]
[]
[]
[]
[]
[]
[]
[]
[]
[]
[]
[]
[]
[]
[]
[]
[]
[]
[]
[]
[]
[]
[null,null,null,null,null,null,null,null,null,null,null,null,"Nro",null,null,null,null,null,null,null,null,null,null,null,null,null,null,null,null,null,null,null,null,null,null,null,null,null,null,null,null,null,null,null,null,null,null,null,null,null,null,null,null,null,null,null,25]
[]
[]
[]
[]
[]
[]
[]
[]
[]
[]
[]
[]
[]
[]
[]
[]
[]
[]
[]
[]
[]
[]
[]
[]
[]
[]
[]
[]
[]
[]
[]
[]
[]
[]
[]
[]
[]
[]
[]
[]
[]
[]
[]
[]
[]
[]
[]
[]
[]
[]
[]
[]
[]
[]
[]
[]
[]
[]
[]
[]
[]
[]
[]
[]
[]
[]
[]
[]
[]
[]
[]
[]
[]
[]
[]
[]
[]
[]
[]
[]
[]
[]
[]
[]
[]
[]
[]
[]
[]
[]
[]
[]
[]
[]
[]
[]
[]
[]
[]
[null,null,null,null,null,null,null,null,null,null,null,null,"Nro",null,null,null,null,null,null,null,null,null,null,null,null,null,null,null,null,null,null,null,null,null,null,null,null,null,null,null,null,null,null,null,null,null,null,null,null,null,null,null,null,null,null,null,25]
[]
[]
[]
[]
[]
[]
[]
[]
[]
[]
[]
[]
[]
[]
[]
[]
[]
[]
[]
[]
[]
[]
[]
[]
[]
[]
[]
[]
[]
[]
[]
[]
[]
[]
[]
[]
[]
[]
[]
[]
[]
[]
[]
[]
[]
[]
[]
[]
[]
[]
[]
[]
[]
[]
[]
[]
[]
[]
[]
[]
[]
[]
[]
[]
[]
[]
[]
[]
[]
[]
[]
[]
[]
[]
[]
[]
[]
[]
[]
[]
[]
[]
[]
[]
[]
[]
[]
[]
[]
[]
[]
[]
[]
[]
[]
[]
[]
[]
[]
[null,null,null,null,null,null,null,null,null,null,null,null,"Nro",null,null,null,null,null,null,null,null,null,null,null,null,null,null,null,null,null,null,null,null,null,null,null,null,null,null,null,null,null,null,null,null,null,null,null,null,null,null,null,null,null,null,null,25]
[]
[]
[]
[]
[]
[]
[]
[]
[]
[]
[]
[]
[]
[]
[]
[]
[]
[]
[]
[]
[]
[]
[]
[]
[]
[]
[]
[]
[]
[]
[]
[]
[]
[]
[]
[]
[]
[]
[]
[]
[]
[]
[]
[]
[]
[]
[]
[]
[]
[]
[]
[]
[]
[]
[]
[]
[]
[]
[]
[]
[]
[]
[]
[]
[]
[]
[]
[]
[]
[]
[]
[]
[]
[]
[]
[]
[]
[]
[]
[]
[]
[]
[]
[]
[]
[]
[]
[]
[]
[]
[]
[]
[]
[]
[]
[]
[]
[]
[]
[null,null,null,null,null,null,null,null,null,null,null,null,"Nro",null,null,null,null,null,null,null,null,null,null,null,null,null,null,null,null,null,null,null,null,null,null,null,null,null,null,null,null,null,null,null,null,null,null,null,null,null,null,null,null,null,null,null,25]
[]
[]
[]
[]
[]
[]
[]
[]
[]
[]
[]
[]
[]
[]
[]
[]
[]
[]
[]
[]
[]
[]
[]
[]
[]
[]
[]
[]
[]
[]
[]
[]
[]
[]
[]
[]
[]
[]
[]
[]
[]
[]
[]
[]
[]
[]
[]
[]
[]
[]
[]
[]
[]
[]
[]
[]
[]
[]
[]
[]
[]
[]
[]
[]
[]
[]
[]
[]
[]
[]
[]
[]
[]
[]
[]
[]
[]
[]
[]
[]
[]
[]
[]
[]
[]
[]
[]
[]
[]
[]
[]
[]
[]
[]
[]
[]
[]
[]
[]
[null,null,null,null,null,null,null,null,null,null,null,null,"Nro",null,null,null,null,null,null,null,null,null,null,null,null,null,null,null,null,null,null,null,null,null,null,null,null,null,null,null,null,null,null,null,null,null,null,null,null,null,null,null,null,null,null,null,25]
[]
[]
[]
[]
[]
[]
[]
[]
[]
[]
[]
[]
[]
[]
[]
[]
[]
[]
[]
[]
[]
[]
[]
[]
[]
[]
[]
[]
[]
[]
[]
[]
[]
[]
[]
[]
[]
[]
[]
[]
[]
[]
[]
[]
[]
[]
[]
[]
[]
[]
[]
[]
[]
[]
[]
[]
[]
[]
[]
[]
[]
[]
[]
[]
[]
[]
[]
[]
[]
[]
[]
[]
[]
[]
[]
[]
[]
[]
[]
[]
[]
[]
[]
[]
[]
[]
[]
[]
[]
[]
[]
[]
[]
[]
[]
[]
[]
[]
[]
[null,null,null,null,null,null,null,null,null,null,null,null,"Nro",null,null,null,null,null,null,null,null,null,null,null,null,null,null,null,null,null,null,null,null,null,null,null,null,null,null,null,null,null,null,null,null,null,null,null,null,null,null,null,null,null,null,null,25]
[]
[]
[]
[]
[]
[]
[]
[]
[]
[]
[]
[]
[]
[]
[]
[]
[]
[]
[]
[]
[]
[]
[]
[]
[]
[]
[]
[]
[]
[]
[]
[]
[]
[]
[]
[]
[]
[]
[]
[]
[]
[]
[]
[]
[]
[]
[]
[]
[]
[]
[]
[]
[]
[]
[]
[]
[]
[]
[]
[]
[]
[]
[]
[]
[]
[]
[]
[]
[]
[]
[]
[]
[]
[]
[]
[]
[]
[]
[]
[]
[]
[]
[]
[]
[]
[]
[]
[]
[]
[]
[]
[]
[]
[]
[]
[]
[]
[]
[]
[null,null,null,null,null,null,null,null,null,null,null,null,"Nro",null,null,null,null,null,null,null,null,null,null,null,null,null,null,null,null,null,null,null,null,null,null,null,null,null,null,null,null,null,null,null,null,null,null,null,null,null,null,null,null,null,null,null,25]
[]
[]
[]
[]
[]
[]
[]
[]
[]
[]
[]
[]
[]
[]
[]
[]
[]
[]
[]
[]
[]
[]
[]
[]
[]
[]
[]
[]
[]
[]
[]
[]
[]
[]
[]
[]
[]
[]
[]
[]
[]
[]
[]
[]
[]
[]
[]
[]
[]
[]
[]
[]
[]
[]
[]
[]
[]
[]
[]
[]
[]
[]
[]
[]
[]
[]
[]
[]
[]
[]
[]
[]
[]
[]
[]
[]
[]
[]
[]
[]
[]
[]
[]
[]
[]
[]
[]
[]
[]
[]
[]
[]
[]
[]
[]
[]
[]
[]
[]
[null,null,null,null,null,null,null,null,null,null,null,null,"Nro",null,null,null,null,null,null,null,null,null,null,null,null,null,null,null,null,null,null,null,null,null,null,null,null,null,null,null,null,null,null,null,null,null,null,null,null,null,null,null,null,null,null,null,25]
[]
[]
[]
[]
[]
[]
[]
[]
[]
[]
[]
[]
[]
[]
[]
[]
[]
[]
[]
[]
[]
[]
[]
[]
[]
[]
[]
[]
[]
[]
[]
[]
[]
[]
[]
[]
[]
[]
[]
[]
[]
[]
[]
[]
[]
[]
[]
[]
[]
[]
[]
[]
[]
[]
[]
[]
[]
[]
[]
[]
[]
[]
[]
[]
[]
[]
[]
[]
[]
[]
[]
[]
[]
[]
[]
[]
[]
[]
[]
[]
[]
[]
[]
[]
[]
[]
[]
[]
[]
[]
[]
[]
[]
[]
[]
[]
[]
[]
[]
[null,null,null,null,null,null,null,null,null,null,null,null,"Nro",null,null,null,null,null,null,null,null,null,null,null,null,null,null,null,null,null,null,null,null,null,null,null,null,null,null,null,null,null,null,null,null,null,null,null,null,null,null,null,null,null,null,null,25]
[]
[]
[]
[]
[]
[]
[]
[]
[]
[]
[]
[]
[]
[]
[]
[]
[]
[]
[]
[]
[]
[]
[]
[]
[]
[]
[]
[]
[]
[]
[]
[]
[]
[]
[]
[]
[]
[]
[]
[]
[]
[]
[]
[]
[]
[]
[]
[]
[]
[]
[]
[]
[]
[]
[]
[]
[]
[]
[]
[]
[]
[]
[]
[]
[]
[]
[]
[]
[]
[]
[]
[]
[]
[]
[]
[]
[]
[]
[]
[]
[]
[]
[]
[]
[]
[]
[]
[]
[]
[]
[]
[]
[]
[]
[]
[]
[]
[]
[]
[null,null,null,null,null,null,null,null,null,null,null,null,"Nro",null,null,null,null,null,null,null,null,null,null,null,null,null,null,null,null,null,null,null,null,null,null,null,null,null,null,null,null,null,null,null,null,null,null,null,null,null,null,null,null,null,null,null,25]
[]
[]
[]
[]
[]
[]
[]
[]
[]
[]
[]
[]
[]
[]
[]
[]
[]
[]
[]
[]
[]
[]
[]
[]
[]
[]
[]
[]
[]
[]
[]
[]
[]
[]
[]
[]
[]
[]
[]
[]
[]
[]
[]
[]
[]
[]
[]
[]
[]
[]
[]
[]
[]
[]
[]
[]
[]
[]
[]
[]
[]
[]
[]
[]
[]
[]
[]
[]
[]
[]
[]
[]
[]
[]
[]
[]
[]
[]
[]
[]
[]
[]
[]
[]
[]
[]
[]
[]
[]
[]
[]
[]
[]
[]
[]
[]
[]
[]
[]
[null,null,null,null,null,null,null,null,null,null,null,null,"Nro",null,null,null,null,null,null,null,null,null,null,null,null,null,null,null,null,null,null,null,null,null,null,null,null,null,null,null,null,null,null,null,null,null,null,null,null,null,null,null,null,null,null,null,25]
[]
[]
[]
[]
[]
[]
[]
[]
[]
[]
[]
[]
[]
[]
[]
[]
[]
[]
[]
[]
[]
[]
[]
[]
[]
[]
[]
[]
[]
[]
[]
[]
[]
[]
[]
[]
[]
[]
[]
[]
[]
[]
[]
[]
[]
[]
[]
[]
[]
[]
[]
[]
[]
[]
[]
[]
[]
[]
[]
[]
[]
[]
[]
[]
[]
[]
[]
[]
[]
[]
[]
[]
[]
[]
[]
[]
[]
[]
[]
[]
[]
[]
[]
[]
[]
[]
[]
[]
[]
[]
[]
[]
[]
[]
[]
[]
[]
[]
[]
[null,null,null,null,null,null,null,null,null,null,null,null,"Nro",null,null,null,null,null,null,null,null,null,null,null,null,null,null,null,null,null,null,null,null,null,null,null,null,null,null,null,null,null,null,null,null,null,null,null,null,null,null,null,null,null,null,null,25]
[]
[]
[]
[]
[]
[]
[]
[]
[]
[]
[]
[]
[]
[]
[]
[]
[]
[]
[]
[]
[]
[]
[]
[]
[]
[]
[]
[]
[]
[]
[]
[]
[]
[]
[]
[]
[]
[]
[]
[]
[]
[]
[]
[]
[]
[]
[]
[]
[]
[]
[]
[]
[]
[]
[]
[]
[]
[]
[]
[]
[]
[]
[]
[]
[]
[]
[]
[]
[]
[]
[]
[]
[]
[]
[]
[]
[]
[]
[]
[]
[]
[]
[]
[]
[]
[]
[]
[]
[]
[]
[]
[]
[]
[]
[]
[]
[]
[]
[]
[null,null,null,null,null,null,null,null,null,null,null,null,"Nro",null,null,null,null,null,null,null,null,null,null,null,null,null,null,null,null,null,null,null,null,null,null,null,null,null,null,null,null,null,null,null,null,null,null,null,null,null,null,null,null,null,null,null,25]

{"sheet":"asisB3","index":10,"n_rows":2120,"n_cols":68,"rows_kept":2120,"cut":false,"hidden":false,"merged":[[17,15,17,56],[7,57,7,59],[7,60,8,62],[1,5,1,56],[1,57,1,62],[17,60,19,60],[17,61,19,61],[17,62,19,62],[6,57,6,62],[19,10,19,11],[17,11,18,11],[17,57,19,57],[17,58,19,58],[17,59,19,59],[8,57,8,59],[7,11,7,47],[20,10,20,11],[21,10,21,11],[22,10,22,11],[23,10,23,11],[24,10,24,11],[25,10,25,11],[26,10,26,11],[27,10,27,11],[28,10,28,11],[29,10,29,11],[30,10,30,11],[31,10,31,11],[32,10,32,11],[33,10,33,11],[34,10,34,11],[35,10,35,11],[36,10,36,11],[37,10,37,11],[38,10,38,11],[39,10,39,11],[47,10,47,11],[48,10,48,11],[49,10,49,11],[40,10,40,11],[41,10,41,11],[42,10,42,11],[43,10,43,11],[44,10,44,11],[68,10,68,11],[69,10,69,11],[60,10,60,11],[61,10,61,11],[62,10,62,11],[63,10,63,11],[64,10,64,11],[8,11,8,47],[65,10,65,11],[66,10,66,11],[67,10,67,11],[55,10,55,11],[56,10,56,11],[57,10,57,11],[58,10,58,11],[59,10,59,11],[50,10,50,11],[51,10,51,11],[52,10,52,11],[53,10,53,11],[54,10,54,11],[45,10,45,11],[46,10,46,11],[2,11,2,47],[3,11,3,47],[4,11,4,47],[5,11,5,47],[6,11,6,47]]}
[null,null,null,null,null,null,null,null,null,null,null,null,0]
[null,null,null,null,null,"REGISTRO DE ASISTENCIA",null,null,null,null,null,null,null,null,null,null,null,null,null,null,null,null,null,null,null,null,null,null,null,null,null,null,null,null,null,null,null,null,null,null,null,null,null,null,null,null,null,null,null,null,null,null,null,null,null,null,null,"GESTION 2023",null,null,null,null,null,null,null,"Ξ"]
[null,null,null,null,null,null,{"$f":"datpro!$E$6","v":0},"sie",null,null,"UNIDAD EDUCATIVA ",{"$f":"IF(datpro!$E$7=\"\",\"\",datpro!$E$7)","v":""},null,null,null,null,null,null,null,null,null,null,null,null,null,null,null,null,null,null,null,null,null,null,null,null,null,null,null,null,null,null,null,null,null,null,null,null,null,null,null,null,null,null,null,null,null,null,null,null,null,null,null,null,null,"Cerrar"]
[null,null,null,null,null,null,{"$f":"datpro!$M$14","v":50},"nroes",null,null,"NIVEL ",{"$f":"datpro!$E$10","v":""},null,null,null,null,null,null,null,null,null,null,null,null,null,null,null,null,null,null,null,null,null,null,null,null,null,null,null,null,null,null,null,null,null,null,null,null,null,null,null,null,null,null,null,null,null,null,null,null,null,null,null,null,null,"u"]
[null,null,null,null,null,null,{"$f":"datpro!$C$12","v":"S"},"curso",null,null,"AÑO DE ESCOLARIDAD",{"$f":"CONCATENATE( datpro!$E$11,\"  -  \",datpro!$E$12)","v":"  -  "}]
[null,null,null,null,null,null,{"$f":"DAY(TODAY())","v":6},"dia",null,null,"DIRECTOR/A",{"$f":"IF(datpro!$E$8=\"\",\"\",datpro!$E$8)","v":""}]
[null,null,null,null,null,null,{"$f":"MONTH(TODAY())","v":3},"mes",null,null,"MAESTRO/A",{"$f":"IF(datpro!$E$9=\"\",\"\",datpro!$E$9)","v":""},null,null,null,null,null,null,null,null,null,null,null,null,null,null,null,null,null,null,null,null,null,null,null,null,null,null,null,null,null,null,null,null,null,null,null,null,null,null,null,null,null,null,null,null,null,{"$f":"IF(datpro!$M$6=\"\",\"\",TODAY())","v":"2023-03-06"}]
[null,null,null,null,null,null,"T3","tri",null,null,"CAMPO ",{"$f":"IF(datpro!$E$13=\"\",\"\",datpro!$E$13)","v":""},null,null,null,null,null,null,null,null,null,null,null,null,null,null,null,null,null,null,null,null,null,null,null,null,null,null,null,null,null,null,null,null,null,null,null,null,null,null,null,null,null,null,null,null,null,{"$f":"IF(datpro!$M$6=\"\",\"\",datpro!$I$6)","v":"2023-08-14"},null,null,{"$f":"datpro!$M$6","v":272}]
[null,null,null,null,null,null,{"$f":"datpro!$E$15","v":""},"codarea",null,null,"ÁREA",{"$f":"IF(datpro!$E$14=\"\",\"\",datpro!$E$14)","v":0},null,null,null,null,null,null,null,null,null,null,null,null,null,null,null,null,null,null,null,null,null,null,null,null,null,null,null,null,null,null,null,null,null,null,null,null,null,null,null,null,null,null,null,null,null,{"$f":"IF(datpro!$M$6=\"\",\"\",datpro!$K$6)","v":"2023-12-03"}]
[]
[]
[]
[null,null,null,null,null,null,null,null,null,null,null,null,null,"N","O","P","Q","R","S","T","U","V","W","X","Y","Z","AA","AB","AC","AD","AE","AF","AG","AH","AI","AJ","AK","AL","AM","AN","AO","AP","AQ","AR","AS","AT","AU","AV","AW","AX","AY","AZ","BA","BB","BC","BD","BE"]
[]
[null,null,null,null,null,null,"F21:BK70","BK",null,null,null,null,"Nro",null,null,null,null,null,null,null,null,null,null,null,null,null,null,null,null,null,null,null,null,null,null,null,null,null,null,null,null,null,null,null,null,null,null,null,null,null,null,null,null,null,null,null,25]
[]
[]
[null,null,null,null,null,null,null,null,null,null,null,"FECHAS",null,"+","-","3er. TRIMESTRE",null,null,null,null,null,null,null,null,null,null,null,null,null,null,null,null,null,null,null,null,null,null,null,null,null,null,null,null,null,null,null,null,null,null,null,null,null,null,null,null,null,"ASISTENCIA","FALTAS","RETRASOS","LICENCIAS","DIAS TRABAJADOS","DIAS NO TRABAJADOS"]
[null,null,null,null,null,null,"679S2D05"]
[null,null,null,null,null,"Nº","B3",null,null,null,"APELLIDOS Y NOMBRES",null,"Nro",null,null,null,null,null,null,null,null,null,null,null,null,null,null,null,null,null,null,null,null,null,null,null,null,null,null,null,null,null,null,null,null,null,null,null,null,null,null,null,null,null,null,null,25,null,null,null,null,null,null,null,null,null,8,"Tamaño de fuente (8..16)"]
[null,null,null,null,null,{"$f":"IF(filEst!F21=\"\",\"\",filEst!F21)","v":""},{"$f":"IF(filEst!G21=\"\",\"\",filEst!G21)","v":""},{"$f":"IF(filEst!L21=\"\",\"\",filEst!L21)","v":""},null,{"$f":"G21","v":""},{"$f":"IF(filEst!K21=\"\",\"\",filEst!K21)","v":""},null,null,null,null,null,null,null,null,null,null,null,null,null,null,null,null,null,null,null,null,null,null,null,null,null,null,null,null,null,null,null,null,null,null,null,null,null,null,null,null,null,null,null,null,null,null,{"$f":"IF(COUNTIF($M21:$BE21,\".\")=0,\"\",COUNTIF($M21:$BE21,\".\"))","v":""},{"$f":"IF(COUNTIF($M21:$BE21,\"F\")=0,\"\",COUNTIF($M21:$BE21,\"F\"))","v":""},{"$f":"IF(COUNTIF($M21:$BE21,\"R\")=0,\"\",COUNTIF($M21:$BE21,\"R\"))","v":""},{"$f":"IF(COUNTIF($M21:$BE21,\"L\")=0,\"\",COUNTIF($M21:$BE21,\"L\"))","v":""},{"$f":"IF(BF21=\"\",\"\",(SUM(BF21,BH21)))","v":""},{"$f":"IFERROR(SUM(BG21,BI21),\"\")","v":0},{"$f":"SUM(BF21:BI21)","v":0},null,null,12,"Alto de Fila (10..20)"]
[null,null,null,null,null,{"$f":"IF(filEst!F22=\"\",\"\",filEst!F22)","v":""},{"$f":"IF(filEst!G22=\"\",\"\",filEst!G22)","v":""},{"$f":"IF(filEst!L22=\"\",\"\",filEst!L22)","v":""},null,{"$f":"G22","v":""},{"$f":"IF(filEst!K22=\"\",\"\",filEst!K22)","v":""},null,null,null,null,null,null,null,null,null,null,null,null,null,null,null,null,null,null,null,null,null,null,null,null,null,null,null,null,null,null,null,null,null,null,null,null,null,null,null,null,null,null,null,null,null,null,"","","","","",{"$f":"IFERROR(SUM(BG22,BI22),\"\")","v":0},{"$f":"SUM(BJ22:BK22)","v":0},null,null,2,"Ancho de Columna (1..7) Modos"]
[null,null,null,null,null,{"$f":"IF(filEst!F23=\"\",\"\",filEst!F23)","v":""},{"$f":"IF(filEst!G23=\"\",\"\",filEst!G23)","v":""},{"$f":"IF(filEst!L23=\"\",\"\",filEst!L23)","v":""},null,"",{"$f":"IF(filEst!K23=\"\",\"\",filEst!K23)","v":""},null,null,null,null,null,null,null,null,null,null,null,null,null,null,null,null,null,null,null,null,null,null,null,null,null,null,null,null,null,null,null,null,null,null,null,null,null,null,null,null,null,null,null,null,null,null,"","","","","",{"$f":"IFERROR(SUM(BG23,BI23),\"\")","v":0},{"$f":"SUM(BJ23:BK23)","v":0}]
[null,null,null,null,null,{"$f":"IF(filEst!F24=\"\",\"\",filEst!F24)","v":""},{"$f":"IF(filEst!G24=\"\",\"\",filEst!G24)","v":""},{"$f":"IF(filEst!L24=\"\",\"\",filEst!L24)","v":""},null,"",{"$f":"IF(filEst!K24=\"\",\"\",filEst!K24)","v":""},null,null,null,null,null,null,null,null,null,null,null,null,null,null,null,null,null,null,null,null,null,null,null,null,null,null,null,null,null,null,null,null,null,null,null,null,null,null,null,null,null,null,null,null,null,null,"","","","","",0,0,null,null,".","= Asistencias"]
[null,null,null,null,null,{"$f":"IF(filEst!F25=\"\",\"\",filEst!F25)","v":""},{"$f":"IF(filEst!G25=\"\",\"\",filEst!G25)","v":""},{"$f":"IF(filEst!L25=\"\",\"\",filEst!L25)","v":""},null,"",{"$f":"IF(filEst!K25=\"\",\"\",filEst!K25)","v":""},null,null,null,null,null,null,null,null,null,null,null,null,null,null,null,null,null,null,null,null,null,null,null,null,null,null,null,null,null,null,null,null,null,null,null,null,null,null,null,null,null,null,null,null,null,null,"","","","","",0,0,null,null,"F","= Faltas"]
[null,null,null,null,null,{"$f":"IF(filEst!F26=\"\",\"\",filEst!F26)","v":""},{"$f":"IF(filEst!G26=\"\",\"\",filEst!G26)","v":""},{"$f":"IF(filEst!L26=\"\",\"\",filEst!L26)","v":""},null,"",{"$f":"IF(filEst!K26=\"\",\"\",filEst!K26)","v":""},null,null,null,null,null,null,null,null,null,null,null,null,null,null,null,null,null,null,null,null,null,null,null,null,null,null,null,null,null,null,null,null,null,null,null,null,null,null,null,null,null,null,null,null,null,null,"","","","","",0,0,null,null,"R","= Retrasos"]
[null,null,null,null,null,{"$f":"IF(filEst!F27=\"\",\"\",filEst!F27)","v":""},{"$f":"IF(filEst!G27=\"\",\"\",filEst!G27)","v":""},{"$f":"IF(filEst!L27=\"\",\"\",filEst!L27)","v":""},null,"",{"$f":"IF(filEst!K27=\"\",\"\",filEst!K27)","v":""},null,null,null,null,null,null,null,null,null,null,null,null,null,null,null,null,null,null,null,null,null,null,null,null,null,null,null,null,null,null,null,null,null,null,null,null,null,null,null,null,null,null,null,null,null,null,"","","","","",0,0,null,null,"L","= Licencias"]
[null,null,null,null,null,{"$f":"IF(filEst!F28=\"\",\"\",filEst!F28)","v":""},{"$f":"IF(filEst!G28=\"\",\"\",filEst!G28)","v":""},{"$f":"IF(filEst!L28=\"\",\"\",filEst!L28)","v":""},null,"",{"$f":"IF(filEst!K28=\"\",\"\",filEst!K28)","v":""},null,null,null,null,null,null,null,null,null,null,null,null,null,null,null,null,null,null,null,null,null,null,null,null,null,null,null,null,null,null,null,null,null,null,null,null,null,null,null,null,null,null,null,null,null,null,"","","","","",0,0]
[null,null,null,null,null,{"$f":"IF(filEst!F29=\"\",\"\",filEst!F29)","v":""},{"$f":"IF(filEst!G29=\"\",\"\",filEst!G29)","v":""},{"$f":"IF(filEst!L29=\"\",\"\",filEst!L29)","v":""},null,"",{"$f":"IF(filEst!K29=\"\",\"\",filEst!K29)","v":""},null,null,null,null,null,null,null,null,null,null,null,null,null,null,null,null,null,null,null,null,null,null,null,null,null,null,null,null,null,null,null,null,null,null,null,null,null,null,null,null,null,null,null,null,null,null,"","","","","",0,0,null,null,null,"©  2023"]
[null,null,null,null,null,{"$f":"IF(filEst!F30=\"\",\"\",filEst!F30)","v":""},{"$f":"IF(filEst!G30=\"\",\"\",filEst!G30)","v":""},{"$f":"IF(filEst!L30=\"\",\"\",filEst!L30)","v":""},null,"",{"$f":"IF(filEst!K30=\"\",\"\",filEst!K30)","v":""},null,null,null,null,null,null,null,null,null,null,null,null,null,null,null,null,null,null,null,null,null,null,null,null,null,null,null,null,null,null,null,null,null,null,null,null,null,null,null,null,null,null,null,null,null,null,"","","","","",0,0,null,null,null,"PROYECTO REMDIZ"]
[null,null,null,null,null,{"$f":"IF(filEst!F31=\"\",\"\",filEst!F31)","v":""},{"$f":"IF(filEst!G31=\"\",\"\",filEst!G31)","v":""},{"$f":"IF(filEst!L31=\"\",\"\",filEst!L31)","v":""},null,"",{"$f":"IF(filEst!K31=\"\",\"\",filEst!K31)","v":""},null,null,null,null,null,null,null,null,null,null,null,null,null,null,null,null,null,null,null,null,null,null,null,null,null,null,null,null,null,null,null,null,null,null,null,null,null,null,null,null,null,null,null,null,null,null,"","","","","",0,0]
[null,null,null,null,null,{"$f":"IF(filEst!F32=\"\",\"\",filEst!F32)","v":""},{"$f":"IF(filEst!G32=\"\",\"\",filEst!G32)","v":""},{"$f":"IF(filEst!L32=\"\",\"\",filEst!L32)","v":""},null,"",{"$f":"IF(filEst!K32=\"\",\"\",filEst!K32)","v":""},null,null,null,null,null,null,null,null,null,null,null,null,null,null,null,null,null,null,null,null,null,null,null,null,null,null,null,null,null,null,null,null,null,null,null,null,null,null,null,null,null,null,null,null,null,null,"","","","","",0,0]
[null,null,null,null,null,{"$f":"IF(filEst!F33=\"\",\"\",filEst!F33)","v":""},{"$f":"IF(filEst!G33=\"\",\"\",filEst!G33)","v":""},{"$f":"IF(filEst!L33=\"\",\"\",filEst!L33)","v":""},null,"",{"$f":"IF(filEst!K33=\"\",\"\",filEst!K33)","v":""},null,null,null,null,null,null,null,null,null,null,null,null,null,null,null,null,null,null,null,null,null,null,null,null,null,null,null,null,null,null,null,null,null,null,null,null,null,null,null,null,null,null,null,null,null,null,"","","","","",0,0]
[null,null,null,null,null,{"$f":"IF(filEst!F34=\"\",\"\",filEst!F34)","v":""},{"$f":"IF(filEst!G34=\"\",\"\",filEst!G34)","v":""},{"$f":"IF(filEst!L34=\"\",\"\",filEst!L34)","v":""},null,"",{"$f":"IF(filEst!K34=\"\",\"\",filEst!K34)","v":""},null,null,null,null,null,null,null,null,null,null,null,null,null,null,null,null,null,null,null,null,null,null,null,null,null,null,null,null,null,null,null,null,null,null,null,null,null,null,null,null,null,null,null,null,null,null,"","","","","",0,0]
[null,null,null,null,null,{"$f":"IF(filEst!F35=\"\",\"\",filEst!F35)","v":""},{"$f":"IF(filEst!G35=\"\",\"\",filEst!G35)","v":""},{"$f":"IF(filEst!L35=\"\",\"\",filEst!L35)","v":""},null,"",{"$f":"IF(filEst!K35=\"\",\"\",filEst!K35)","v":""},null,null,null,null,null,null,null,null,null,null,null,null,null,null,null,null,null,null,null,null,null,null,null,null,null,null,null,null,null,null,null,null,null,null,null,null,null,null,null,null,null,null,null,null,null,null,"","","","","",0,0]
[null,null,null,null,null,{"$f":"IF(filEst!F36=\"\",\"\",filEst!F36)","v":""},{"$f":"IF(filEst!G36=\"\",\"\",filEst!G36)","v":""},{"$f":"IF(filEst!L36=\"\",\"\",filEst!L36)","v":""},null,"",{"$f":"IF(filEst!K36=\"\",\"\",filEst!K36)","v":""},null,null,null,null,null,null,null,null,null,null,null,null,null,null,null,null,null,null,null,null,null,null,null,null,null,null,null,null,null,null,null,null,null,null,null,null,null,null,null,null,null,null,null,null,null,null,"","","","","",0,0]
[null,null,null,null,null,{"$f":"IF(filEst!F37=\"\",\"\",filEst!F37)","v":""},{"$f":"IF(filEst!G37=\"\",\"\",filEst!G37)","v":""},{"$f":"IF(filEst!L37=\"\",\"\",filEst!L37)","v":""},null,"",{"$f":"IF(filEst!K37=\"\",\"\",filEst!K37)","v":""},null,null,null,null,null,null,null,null,null,null,null,null,null,null,null,null,null,null,null,null,null,null,null,null,null,null,null,null,null,null,null,null,null,null,null,null,null,null,null,null,null,null,null,null,null,null,"","","","","",0,0]
[null,null,null,null,null,{"$f":"IF(filEst!F38=\"\",\"\",filEst!F38)","v":""},{"$f":"IF(filEst!G38=\"\",\"\",filEst!G38)","v":""},{"$f":"IF(filEst!L38=\"\",\"\",filEst!L38)","v":""},null,"",{"$f":"IF(filEst!K38=\"\",\"\",filEst!K38)","v":""},null,null,null,null,null,null,null,null,null,null,null,null,null,null,null,null,null,null,null,null,null,null,null,null,null,null,null,null,null,null,null,null,null,null,null,null,null,null,null,null,null,null,null,null,null,null,"","","","","",0,0]
[null,null,null,null,null,{"$f":"IF(filEst!F39=\"\",\"\",filEst!F39)","v":""},{"$f":"IF(filEst!G39=\"\",\"\",filEst!G39)","v":""},{"$f":"IF(filEst!L39=\"\",\"\",filEst!L39)","v":""},null,"",{"$f":"IF(filEst!K39=\"\",\"\",filEst!K39)","v":""},null,null,null,null,null,null,null,null,null,null,null,null,null,null,null,null,null,null,null,null,null,null,null,null,null,null,null,null,null,null,null,null,null,null,null,null,null,null,null,null,null,null,null,null,null,null,"","","","","",0,0]
[null,null,null,null,null,{"$f":"IF(filEst!F40=\"\",\"\",filEst!F40)","v":""},{"$f":"IF(filEst!G40=\"\",\"\",filEst!G40)","v":""},{"$f":"IF(filEst!L40=\"\",\"\",filEst!L40)","v":""},null,"",{"$f":"IF(filEst!K40=\"\",\"\",filEst!K40)","v":""},null,null,null,null,null,null,null,null,null,null,null,null,null,null,null,null,null,null,null,null,null,null,null,null,null,null,null,null,null,null,null,null,null,null,null,null,null,null,null,null,null,null,null,null,null,null,"","","","","",0,0]
[null,null,null,null,null,{"$f":"IF(filEst!F41=\"\",\"\",filEst!F41)","v":""},{"$f":"IF(filEst!G41=\"\",\"\",filEst!G41)","v":""},{"$f":"IF(filEst!L41=\"\",\"\",filEst!L41)","v":""},null,"",{"$f":"IF(filEst!K41=\"\",\"\",filEst!K41)","v":""},null,null,null,null,null,null,null,null,null,null,null,null,null,null,null,null,null,null,null,null,null,null,null,null,null,null,null,null,null,null,null,null,null,null,null,null,null,null,null,null,null,null,null,null,null,null,"","","","","",0,0]
[null,null,null,null,null,{"$f":"IF(filEst!F42=\"\",\"\",filEst!F42)","v":""},{"$f":"IF(filEst!G42=\"\",\"\",filEst!G42)","v":""},{"$f":"IF(filEst!L42=\"\",\"\",filEst!L42)","v":""},null,"",{"$f":"IF(filEst!K42=\"\",\"\",filEst!K42)","v":""},null,null,null,null,null,null,null,null,null,null,null,null,null,null,null,null,null,null,null,null,null,null,null,null,null,null,null,null,null,null,null,null,null,null,null,null,null,null,null,null,null,null,null,null,null,null,"","","","","",0,0]
[null,null,null,null,null,{"$f":"IF(filEst!F43=\"\",\"\",filEst!F43)","v":""},{"$f":"IF(filEst!G43=\"\",\"\",filEst!G43)","v":""},{"$f":"IF(filEst!L43=\"\",\"\",filEst!L43)","v":""},null,"",{"$f":"IF(filEst!K43=\"\",\"\",filEst!K43)","v":""},null,null,null,null,null,null,null,null,null,null,null,null,null,null,null,null,null,null,null,null,null,null,null,null,null,null,null,null,null,null,null,null,null,null,null,null,null,null,null,null,null,null,null,null,null,null,"","","","","",0,0]
[null,null,null,null,null,{"$f":"IF(filEst!F44=\"\",\"\",filEst!F44)","v":""},{"$f":"IF(filEst!G44=\"\",\"\",filEst!G44)","v":""},{"$f":"IF(filEst!L44=\"\",\"\",filEst!L44)","v":""},null,"",{"$f":"IF(filEst!K44=\"\",\"\",filEst!K44)","v":""},null,null,null,null,null,null,null,null,null,null,null,null,null,null,null,null,null,null,null,null,null,null,null,null,null,null,null,null,null,null,null,null,null,null,null,null,null,null,null,null,null,null,null,null,null,null,"","","","","",0,0]
[null,null,null,null,null,{"$f":"IF(filEst!F45=\"\",\"\",filEst!F45)","v":""},{"$f":"IF(filEst!G45=\"\",\"\",filEst!G45)","v":""},{"$f":"IF(filEst!L45=\"\",\"\",filEst!L45)","v":""},null,"",{"$f":"IF(filEst!K45=\"\",\"\",filEst!K45)","v":""},null,null,null,null,null,null,null,null,null,null,null,null,null,null,null,null,null,null,null,null,null,null,null,null,null,null,null,null,null,null,null,null,null,null,null,null,null,null,null,null,null,null,null,null,null,null,"","","","","",0,0]
[null,null,null,null,null,{"$f":"IF(filEst!F46=\"\",\"\",filEst!F46)","v":""},{"$f":"IF(filEst!G46=\"\",\"\",filEst!G46)","v":""},{"$f":"IF(filEst!L46=\"\",\"\",filEst!L46)","v":""},null,"",{"$f":"IF(filEst!K46=\"\",\"\",filEst!K46)","v":""},null,null,null,null,null,null,null,null,null,null,null,null,null,null,null,null,null,null,null,null,null,null,null,null,null,null,null,null,null,null,null,null,null,null,null,null,null,null,null,null,null,null,null,null,null,null,"","","","","",0,0]
[null,null,null,null,null,{"$f":"IF(filEst!F47=\"\",\"\",filEst!F47)","v":""},{"$f":"IF(filEst!G47=\"\",\"\",filEst!G47)","v":""},{"$f":"IF(filEst!L47=\"\",\"\",filEst!L47)","v":""},null,"",{"$f":"IF(filEst!K47=\"\",\"\",filEst!K47)","v":""},null,null,null,null,null,null,null,null,null,null,null,null,null,null,null,null,null,null,null,null,null,null,null,null,null,null,null,null,null,null,null,null,null,null,null,null,null,null,null,null,null,null,null,null,null,null,"","","","","",0,0]
[null,null,null,null,null,{"$f":"IF(filEst!F48=\"\",\"\",filEst!F48)","v":""},{"$f":"IF(filEst!G48=\"\",\"\",filEst!G48)","v":""},{"$f":"IF(filEst!L48=\"\",\"\",filEst!L48)","v":""},null,"",{"$f":"IF(filEst!K48=\"\",\"\",filEst!K48)","v":""},null,null,null,null,null,null,null,null,null,null,null,null,null,null,null,null,null,null,null,null,null,null,null,null,null,null,null,null,null,null,null,null,null,null,null,null,null,null,null,null,null,null,null,null,null,null,"","","","","",0,0]
[null,null,null,null,null,{"$f":"IF(filEst!F49=\"\",\"\",filEst!F49)","v":""},{"$f":"IF(filEst!G49=\"\",\"\",filEst!G49)","v":""},{"$f":"IF(filEst!L49=\"\",\"\",filEst!L49)","v":""},null,"",{"$f":"IF(filEst!K49=\"\",\"\",filEst!K49)","v":""},null,null,null,null,null,null,null,null,null,null,null,null,null,null,null,null,null,null,null,null,null,null,null,null,null,null,null,null,null,null,null,null,null,null,null,null,null,null,null,null,null,null,null,null,null,null,"","","","","",0,0]
[null,null,null,null,null,{"$f":"IF(filEst!F50=\"\",\"\",filEst!F50)","v":""},{"$f":"IF(filEst!G50=\"\",\"\",filEst!G50)","v":""},{"$f":"IF(filEst!L50=\"\",\"\",filEst!L50)","v":""},null,"",{"$f":"IF(filEst!K50=\"\",\"\",filEst!K50)","v":""},null,null,null,null,null,null,null,null,null,null,null,null,null,null,null,null,null,null,null,null,null,null,null,null,null,null,null,null,null,null,null,null,null,null,null,null,null,null,null,null,null,null,null,null,null,null,"","","","","",0,0]
[null,null,null,null,null,{"$f":"IF(filEst!F51=\"\",\"\",filEst!F51)","v":""},{"$f":"IF(filEst!G51=\"\",\"\",filEst!G51)","v":""},{"$f":"IF(filEst!L51=\"\",\"\",filEst!L51)","v":""},null,"",{"$f":"IF(filEst!K51=\"\",\"\",filEst!K51)","v":""},null,null,null,null,null,null,null,null,null,null,null,null,null,null,null,null,null,null,null,null,null,null,null,null,null,null,null,null,null,null,null,null,null,null,null,null,null,null,null,null,null,null,null,null,null,null,"","","","","",0,0]
[null,null,null,null,null,{"$f":"IF(filEst!F52=\"\",\"\",filEst!F52)","v":""},{"$f":"IF(filEst!G52=\"\",\"\",filEst!G52)","v":""},{"$f":"IF(filEst!L52=\"\",\"\",filEst!L52)","v":""},null,"",{"$f":"IF(filEst!K52=\"\",\"\",filEst!K52)","v":""},null,null,null,null,null,null,null,null,null,null,null,null,null,null,null,null,null,null,null,null,null,null,null,null,null,null,null,null,null,null,null,null,null,null,null,null,null,null,null,null,null,null,null,null,null,null,"","","","","",0,0]
[null,null,null,null,null,{"$f":"IF(filEst!F53=\"\",\"\",filEst!F53)","v":""},{"$f":"IF(filEst!G53=\"\",\"\",filEst!G53)","v":""},{"$f":"IF(filEst!L53=\"\",\"\",filEst!L53)","v":""},null,"",{"$f":"IF(filEst!K53=\"\",\"\",filEst!K53)","v":""},null,null,null,null,null,null,null,null,null,null,null,null,null,null,null,null,null,null,null,null,null,null,null,null,null,null,null,null,null,null,null,null,null,null,null,null,null,null,null,null,null,null,null,null,null,null,{"$f":"IF(COUNTIF($M53:$BE53,\".\")=0,\"\",COUNTIF($M53:$BE53,\".\"))","v":""},{"$f":"IF(COUNTIF($M53:$BE53,\"F\")=0,\"\",COUNTIF($M53:$BE53,\"F\"))","v":""},{"$f":"IF(COUNTIF($M53:$BE53,\"R\")=0,\"\",COUNTIF($M53:$BE53,\"R\"))","v":""},{"$f":"IF(COUNTIF($M53:$BE53,\"L\")=0,\"\",COUNTIF($M53:$BE53,\"L\"))","v":""},{"$f":"IF(BF53=\"\",\"\",(SUM(BF53,BH53)))","v":""},0,0]
[null,null,null,null,null,{"$f":"IF(filEst!F54=\"\",\"\",filEst!F54)","v":""},{"$f":"IF(filEst!G54=\"\",\"\",filEst!G54)","v":""},{"$f":"IF(filEst!L54=\"\",\"\",filEst!L54)","v":""},null,"",{"$f":"IF(filEst!K54=\"\",\"\",filEst!K54)","v":""},null,null,null,null,null,null,null,null,null,null,null,null,null,null,null,null,null,null,null,null,null,null,null,null,null,null,null,null,null,null,null,null,null,null,null,null,null,null,null,null,null,null,null,null,null,null,"","","","","",0,0]
[null,null,null,null,null,{"$f":"IF(filEst!F55=\"\",\"\",filEst!F55)","v":""},{"$f":"IF(filEst!G55=\"\",\"\",filEst!G55)","v":""},{"$f":"IF(filEst!L55=\"\",\"\",filEst!L55)","v":""},null,"",{"$f":"IF(filEst!K55=\"\",\"\",filEst!K55)","v":""},null,null,null,null,null,null,null,null,null,null,null,null,null,null,null,null,null,null,null,null,null,null,null,null,null,null,null,null,null,null,null,null,null,null,null,null,null,null,null,null,null,null,null,null,null,null,"","","","","",0,0]
[null,null,null,null,null,{"$f":"IF(filEst!F56=\"\",\"\",filEst!F56)","v":""},{"$f":"IF(filEst!G56=\"\",\"\",filEst!G56)","v":""},{"$f":"IF(filEst!L56=\"\",\"\",filEst!L56)","v":""},null,"",{"$f":"IF(filEst!K56=\"\",\"\",filEst!K56)","v":""},null,null,null,null,null,null,null,null,null,null,null,null,null,null,null,null,null,null,null,null,null,null,null,null,null,null,null,null,null,null,null,null,null,null,null,null,null,null,null,null,null,null,null,null,null,null,"","","","","",0,0]
[null,null,null,null,null,{"$f":"IF(filEst!F57=\"\",\"\",filEst!F57)","v":""},{"$f":"IF(filEst!G57=\"\",\"\",filEst!G57)","v":""},{"$f":"IF(filEst!L57=\"\",\"\",filEst!L57)","v":""},null,"",{"$f":"IF(filEst!K57=\"\",\"\",filEst!K57)","v":""},null,null,null,null,null,null,null,null,null,null,null,null,null,null,null,null,null,null,null,null,null,null,null,null,null,null,null,null,null,null,null,null,null,null,null,null,null,null,null,null,null,null,null,null,null,null,"","","","","",0,0]
[null,null,null,null,null,{"$f":"IF(filEst!F58=\"\",\"\",filEst!F58)","v":""},{"$f":"IF(filEst!G58=\"\",\"\",filEst!G58)","v":""},{"$f":"IF(filEst!L58=\"\",\"\",filEst!L58)","v":""},null,"",{"$f":"IF(filEst!K58=\"\",\"\",filEst!K58)","v":""},null,null,null,null,null,null,null,null,null,null,null,null,null,null,null,null,null,null,null,null,null,null,null,null,null,null,null,null,null,null,null,null,null,null,null,null,null,null,null,null,null,null,null,null,null,null,"","","","","",0,0]
[null,null,null,null,null,{"$f":"IF(filEst!F59=\"\",\"\",filEst!F59)","v":""},{"$f":"IF(filEst!G59=\"\",\"\",filEst!G59)","v":""},{"$f":"IF(filEst!L59=\"\",\"\",filEst!L59)","v":""},null,"",{"$f":"IF(filEst!K59=\"\",\"\",filEst!K59)","v":""},null,null,null,null,null,null,null,null,null,null,null,null,null,null,null,null,null,null,null,null,null,null,null,null,null,null,null,null,null,null,null,null,null,null,null,null,null,null,null,null,null,null,null,null,null,null,"","","","","",0,0]
[null,null,null,null,null,{"$f":"IF(filEst!F60=\"\",\"\",filEst!F60)","v":""},{"$f":"IF(filEst!G60=\"\",\"\",filEst!G60)","v":""},{"$f":"IF(filEst!L60=\"\",\"\",filEst!L60)","v":""},null,"",{"$f":"IF(filEst!K60=\"\",\"\",filEst!K60)","v":""},null,null,null,null,null,null,null,null,null,null,null,null,null,null,null,null,null,null,null,null,null,null,null,null,null,null,null,null,null,null,null,null,null,null,null,null,null,null,null,null,null,null,null,null,null,null,"","","","","",0,0]
[null,null,null,null,null,{"$f":"IF(filEst!F61=\"\",\"\",filEst!F61)","v":""},{"$f":"IF(filEst!G61=\"\",\"\",filEst!G61)","v":""},{"$f":"IF(filEst!L61=\"\",\"\",filEst!L61)","v":""},null,"",{"$f":"IF(filEst!K61=\"\",\"\",filEst!K61)","v":""},null,null,null,null,null,null,null,null,null,null,null,null,null,null,null,null,null,null,null,null,null,null,null,null,null,null,null,null,null,null,null,null,null,null,null,null,null,null,null,null,null,null,null,null,null,null,"","","","","",0,0]
[null,null,null,null,null,{"$f":"IF(filEst!F62=\"\",\"\",filEst!F62)","v":""},{"$f":"IF(filEst!G62=\"\",\"\",filEst!G62)","v":""},{"$f":"IF(filEst!L62=\"\",\"\",filEst!L62)","v":""},null,"",{"$f":"IF(filEst!K62=\"\",\"\",filEst!K62)","v":""},null,null,null,null,null,null,null,null,null,null,null,null,null,null,null,null,null,null,null,null,null,null,null,null,null,null,null,null,null,null,null,null,null,null,null,null,null,null,null,null,null,null,null,null,null,null,"","","","","",0,0]
[null,null,null,null,null,{"$f":"IF(filEst!F63=\"\",\"\",filEst!F63)","v":""},{"$f":"IF(filEst!G63=\"\",\"\",filEst!G63)","v":""},{"$f":"IF(filEst!L63=\"\",\"\",filEst!L63)","v":""},null,"",{"$f":"IF(filEst!K63=\"\",\"\",filEst!K63)","v":""},null,null,null,null,null,null,null,null,null,null,null,null,null,null,null,null,null,null,null,null,null,null,null,null,null,null,null,null,null,null,null,null,null,null,null,null,null,null,null,null,null,null,null,null,null,null,"","","","","",0,0]
[null,null,null,null,null,{"$f":"IF(filEst!F64=\"\",\"\",filEst!F64)","v":""},{"$f":"IF(filEst!G64=\"\",\"\",filEst!G64)","v":""},{"$f":"IF(filEst!L64=\"\",\"\",filEst!L64)","v":""},null,"",{"$f":"IF(filEst!K64=\"\",\"\",filEst!K64)","v":""},null,null,null,null,null,null,null,null,null,null,null,null,null,null,null,null,null,null,null,null,null,null,null,null,null,null,null,null,null,null,null,null,null,null,null,null,null,null,null,null,null,null,null,null,null,null,"","","","","",0,0]
[null,null,null,null,null,{"$f":"IF(filEst!F65=\"\",\"\",filEst!F65)","v":""},{"$f":"IF(filEst!G65=\"\",\"\",filEst!G65)","v":""},{"$f":"IF(filEst!L65=\"\",\"\",filEst!L65)","v":""},null,"",{"$f":"IF(filEst!K65=\"\",\"\",filEst!K65)","v":""},null,null,null,null,null,null,null,null,null,null,null,null,null,null,null,null,null,null,null,null,null,null,null,null,null,null,null,null,null,null,null,null,null,null,null,null,null,null,null,null,null,null,null,null,null,null,"","","","","",0,0]
[null,null,null,null,null,{"$f":"IF(filEst!F66=\"\",\"\",filEst!F66)","v":""},{"$f":"IF(filEst!G66=\"\",\"\",filEst!G66)","v":""},{"$f":"IF(filEst!L66=\"\",\"\",filEst!L66)","v":""},null,"",{"$f":"IF(filEst!K66=\"\",\"\",filEst!K66)","v":""},null,null,null,null,null,null,null,null,null,null,null,null,null,null,null,null,null,null,null,null,null,null,null,null,null,null,null,null,null,null,null,null,null,null,null,null,null,null,null,null,null,null,null,null,null,null,"","","","","",0,0]
[null,null,null,null,null,{"$f":"IF(filEst!F67=\"\",\"\",filEst!F67)","v":""},{"$f":"IF(filEst!G67=\"\",\"\",filEst!G67)","v":""},{"$f":"IF(filEst!L67=\"\",\"\",filEst!L67)","v":""},null,"",{"$f":"IF(filEst!K67=\"\",\"\",filEst!K67)","v":""},null,null,null,null,null,null,null,null,null,null,null,null,null,null,null,null,null,null,null,null,null,null,null,null,null,null,null,null,null,null,null,null,null,null,null,null,null,null,null,null,null,null,null,null,null,null,"","","","","",0,0]
[null,null,null,null,null,{"$f":"IF(filEst!F68=\"\",\"\",filEst!F68)","v":""},{"$f":"IF(filEst!G68=\"\",\"\",filEst!G68)","v":""},{"$f":"IF(filEst!L68=\"\",\"\",filEst!L68)","v":""},null,"",{"$f":"IF(filEst!K68=\"\",\"\",filEst!K68)","v":""},null,null,null,null,null,null,null,null,null,null,null,null,null,null,null,null,null,null,null,null,null,null,null,null,null,null,null,null,null,null,null,null,null,null,null,null,null,null,null,null,null,null,null,null,null,null,"","","","","",0,0]
[null,null,null,null,null,{"$f":"IF(filEst!F69=\"\",\"\",filEst!F69)","v":""},{"$f":"IF(filEst!G69=\"\",\"\",filEst!G69)","v":""},{"$f":"IF(filEst!L69=\"\",\"\",filEst!L69)","v":""},null,"",{"$f":"IF(filEst!K69=\"\",\"\",filEst!K69)","v":""},null,null,null,null,null,null,null,null,null,null,null,null,null,null,null,null,null,null,null,null,null,null,null,null,null,null,null,null,null,null,null,null,null,null,null,null,null,null,null,null,null,null,null,null,null,null,"","","","","",0,0]
[null,null,null,null,null,{"$f":"IF(filEst!F70=\"\",\"\",filEst!F70)","v":""},{"$f":"IF(filEst!G70=\"\",\"\",filEst!G70)","v":""},{"$f":"IF(filEst!L70=\"\",\"\",filEst!L70)","v":""},null,{"$f":"G70","v":""},{"$f":"IF(filEst!K70=\"\",\"\",filEst!K70)","v":""},null,null,null,null,null,null,null,null,null,null,null,null,null,null,null,null,null,null,null,null,null,null,null,null,null,null,null,null,null,null,null,null,null,null,null,null,null,null,null,null,null,null,null,null,null,null,"","","","","",0,0]
[null,null,null,null,null,null,null,null,null,null,null,null,null,null,null,null,null,null,null,null,null,null,null,null,null,null,null,null,null,null,null,null,null,null,null,null,null,null,null,null,null,null,null,null,null,null,null,null,null,null,null,null,null,null,null,null,null,{"$f":"SUM(BF21:BF70)","v":0},0,0,0,0,0,{"$f":"MAX(BL21:BL70)","v":0}]
[]
[]
[]
[]
[]
[]
[]
[]
[]
[null,null,null,null,null,null,"select_load",{"$f":"main!$AE$10","v":50}]
[null,null,null,null,null,null,"actual_save"]
[]
[]
[]
[]
[]
[]
[]
[]
[]
[]
[]
[]
[]
[]
[]
[]
[]
[]
[null,null,null,null,null,null,"alto de fila",12,null,null,null,null,null,null,null,null,null,null,null,null,null,null,null,null,null,null,null,null,null,null,null,null,null,null,null,null,null,null,null,null,null,null,null,null,null,null,null,null,null,null,null,null,null,null,null,null,25]
[null,null,null,null,null,null,"ancho col nro",1]
[null,null,null,null,null,null,"ancho col est",65]
[null,null,null,null,null,null,"ancho col indicadores",1.57]
[null,null,null,null,null,null,"ancho col prom ind",2.5]
[null,null,null,null,null,null,"ancho nota prof",3.3]
[null,null,null,null,null,null,"ancho nota bim",2.5]
[null,null,null,null,null,null,"tamaño fuente",10]
[null,null,null,null,null,null,"alto indicador",120]
[null,null,null,null,null,null,"bimestre",1]
[null,null,null,null,null,null,"nroest",17]
[null,null,null,null,null,null,"hiden_cri_eva",1]
[null,null,null,null,null,null,"alto fila crieva",80]
[null,null,null,null,null,null,"alto fila actv",80]
[null,null,null,null,null,null,"paneles",0]
[null,null,null,null,null,null,"sit_bim_comp",1]
[null,null,null,null,null,null,"sit_bim_abrv",0.5]
[null,null,null,null,null,null,"cod_area"]
[null,null,null,null,null,null,"hiden_actividedes",1]
[null,null,null,null,null,null,null,null,null,null,null,null,"Nro",null,null,null,null,null,null,null,null,null,null,null,null,null,null,null,null,null,null,null,null,null,null,null,null,null,null,null,null,null,null,null,null,null,null,null,null,null,null,null,null,null,null,null,25]
[]
[]
[]
[]
[]
[]
[]
[]
[]
[]
[]
[]
[]
[]
[]
[]
[]
[]
[]
[]
[]
[]
[]
[]
[]
[]
[]
[]
[]
[]
[]
[]
[]
[]
[]
[]
[]
[]
[]
[]
[]
[]
[]
[]
[]
[]
[]
[]
[]
[]
[]
[]
[]
[]
[]
[]
[]
[]
[]
[]
[]
[]
[]
[]
[]
[]
[]
[]
[]
[]
[]
[]
[]
[]
[]
[]
[]
[]
[]
[]
[]
[]
[]
[]
[]
[]
[]
[]
[]
[]
[]
[]
[]
[]
[]
[]
[]
[]
[]
[null,null,null,null,null,null,null,null,null,null,null,null,"Nro",null,null,null,null,null,null,null,null,null,null,null,null,null,null,null,null,null,null,null,null,null,null,null,null,null,null,null,null,null,null,null,null,null,null,null,null,null,null,null,null,null,null,null,25]
[]
[]
[]
[]
[]
[]
[]
[]
[]
[]
[]
[]
[]
[]
[]
[]
[]
[]
[]
[]
[]
[]
[]
[]
[]
[]
[]
[]
[]
[]
[]
[]
[]
[]
[]
[]
[]
[]
[]
[]
[]
[]
[]
[]
[]
[]
[]
[]
[]
[]
[]
[]
[]
[]
[]
[]
[]
[]
[]
[]
[]
[]
[]
[]
[]
[]
[]
[]
[]
[]
[]
[]
[]
[]
[]
[]
[]
[]
[]
[]
[]
[]
[]
[]
[]
[]
[]
[]
[]
[]
[]
[]
[]
[]
[]
[]
[]
[]
[]
[null,null,null,null,null,null,null,null,null,null,null,null,"Nro",null,null,null,null,null,null,null,null,null,null,null,null,null,null,null,null,null,null,null,null,null,null,null,null,null,null,null,null,null,null,null,null,null,null,null,null,null,null,null,null,null,null,null,25]
[]
[]
[]
[]
[]
[]
[]
[]
[]
[]
[]
[]
[]
[]
[]
[]
[]
[]
[]
[]
[]
[]
[]
[]
[]
[]
[]
[]
[]
[]
[]
[]
[]
[]
[]
[]
[]
[]
[]
[]
[]
[]
[]
[]
[]
[]
[]
[]
[]
[]
[]
[]
[]
[]
[]
[]
[]
[]
[]
[]
[]
[]
[]
[]
[]
[]
[]
[]
[]
[]
[]
[]
[]
[]
[]
[]
[]
[]
[]
[]
[]
[]
[]
[]
[]
[]
[]
[]
[]
[]
[]
[]
[]
[]
[]
[]
[]
[]
[]
[null,null,null,null,null,null,null,null,null,null,null,null,"Nro",null,null,null,null,null,null,null,null,null,null,null,null,null,null,null,null,null,null,null,null,null,null,null,null,null,null,null,null,null,null,null,null,null,null,null,null,null,null,null,null,null,null,null,25]
[]
[]
[]
[]
[]
[]
[]
[]
[]
[]
[]
[]
[]
[]
[]
[]
[]
[]
[]
[]
[]
[]
[]
[]
[]
[]
[]
[]
[]
[]
[]
[]
[]
[]
[]
[]
[]
[]
[]
[]
[]
[]
[]
[]
[]
[]
[]
[]
[]
[]
[]
[]
[]
[]
[]
[]
[]
[]
[]
[]
[]
[]
[]
[]
[]
[]
[]
[]
[]
[]
[]
[]
[]
[]
[]
[]
[]
[]
[]
[]
[]
[]
[]
[]
[]
[]
[]
[]
[]
[]
[]
[]
[]
[]
[]
[]
[]
[]
[]
[null,null,null,null,null,null,null,null,null,null,null,null,"Nro",null,null,null,null,null,null,null,null,null,null,null,null,null,null,null,null,null,null,null,null,null,null,null,null,null,null,null,null,null,null,null,null,null,null,null,null,null,null,null,null,null,null,null,25]
[]
[]
[]
[]
[]
[]
[]
[]
[]
[]
[]
[]
[]
[]
[]
[]
[]
[]
[]
[]
[]
[]
[]
[]
[]
[]
[]
[]
[]
[]
[]
[]
[]
[]
[]
[]
[]
[]
[]
[]
[]
[]
[]
[]
[]
[]
[]
[]
[]
[]
[]
[]
[]
[]
[]
[]
[]
[]
[]
[]
[]
[]
[]
[]
[]
[]
[]
[]
[]
[]
[]
[]
[]
[]
[]
[]
[]
[]
[]
[]
[]
[]
[]
[]
[]
[]
[]
[]
[]
[]
[]
[]
[]
[]
[]
[]
[]
[]
[]
[null,null,null,null,null,null,null,null,null,null,null,null,"Nro",null,null,null,null,null,null,null,null,null,null,null,null,null,null,null,null,null,null,null,null,null,null,null,null,null,null,null,null,null,null,null,null,null,null,null,null,null,null,null,null,null,null,null,25]
[]
[]
[]
[]
[]
[]
[]
[]
[]
[]
[]
[]
[]
[]
[]
[]
[]
[]
[]
[]
[]
[]
[]
[]
[]
[]
[]
[]
[]
[]
[]
[]
[]
[]
[]
[]
[]
[]
[]
[]
[]
[]
[]
[]
[]
[]
[]
[]
[]
[]
[]
[]
[]
[]
[]
[]
[]
[]
[]
[]
[]
[]
[]
[]
[]
[]
[]
[]
[]
[]
[]
[]
[]
[]
[]
[]
[]
[]
[]
[]
[]
[]
[]
[]
[]
[]
[]
[]
[]
[]
[]
[]
[]
[]
[]
[]
[]
[]
[]
[null,null,null,null,null,null,null,null,null,null,null,null,"Nro",null,null,null,null,null,null,null,null,null,null,null,null,null,null,null,null,null,null,null,null,null,null,null,null,null,null,null,null,null,null,null,null,null,null,null,null,null,null,null,null,null,null,null,25]
[]
[]
[]
[]
[]
[]
[]
[]
[]
[]
[]
[]
[]
[]
[]
[]
[]
[]
[]
[]
[]
[]
[]
[]
[]
[]
[]
[]
[]
[]
[]
[]
[]
[]
[]
[]
[]
[]
[]
[]
[]
[]
[]
[]
[]
[]
[]
[]
[]
[]
[]
[]
[]
[]
[]
[]
[]
[]
[]
[]
[]
[]
[]
[]
[]
[]
[]
[]
[]
[]
[]
[]
[]
[]
[]
[]
[]
[]
[]
[]
[]
[]
[]
[]
[]
[]
[]
[]
[]
[]
[]
[]
[]
[]
[]
[]
[]
[]
[]
[null,null,null,null,null,null,null,null,null,null,null,null,"Nro",null,null,null,null,null,null,null,null,null,null,null,null,null,null,null,null,null,null,null,null,null,null,null,null,null,null,null,null,null,null,null,null,null,null,null,null,null,null,null,null,null,null,null,25]
[]
[]
[]
[]
[]
[]
[]
[]
[]
[]
[]
[]
[]
[]
[]
[]
[]
[]
[]
[]
[]
[]
[]
[]
[]
[]
[]
[]
[]
[]
[]
[]
[]
[]
[]
[]
[]
[]
[]
[]
[]
[]
[]
[]
[]
[]
[]
[]
[]
[]
[]
[]
[]
[]
[]
[]
[]
[]
[]
[]
[]
[]
[]
[]
[]
[]
[]
[]
[]
[]
[]
[]
[]
[]
[]
[]
[]
[]
[]
[]
[]
[]
[]
[]
[]
[]
[]
[]
[]
[]
[]
[]
[]
[]
[]
[]
[]
[]
[]
[null,null,null,null,null,null,null,null,null,null,null,null,"Nro",null,null,null,null,null,null,null,null,null,null,null,null,null,null,null,null,null,null,null,null,null,null,null,null,null,null,null,null,null,null,null,null,null,null,null,null,null,null,null,null,null,null,null,25]
[]
[]
[]
[]
[]
[]
[]
[]
[]
[]
[]
[]
[]
[]
[]
[]
[]
[]
[]
[]
[]
[]
[]
[]
[]
[]
[]
[]
[]
[]
[]
[]
[]
[]
[]
[]
[]
[]
[]
[]
[]
[]
[]
[]
[]
[]
[]
[]
[]
[]
[]
[]
[]
[]
[]
[]
[]
[]
[]
[]
[]
[]
[]
[]
[]
[]
[]
[]
[]
[]
[]
[]
[]
[]
[]
[]
[]
[]
[]
[]
[]
[]
[]
[]
[]
[]
[]
[]
[]
[]
[]
[]
[]
[]
[]
[]
[]
[]
[]
[null,null,null,null,null,null,null,null,null,null,null,null,"Nro",null,null,null,null,null,null,null,null,null,null,null,null,null,null,null,null,null,null,null,null,null,null,null,null,null,null,null,null,null,null,null,null,null,null,null,null,null,null,null,null,null,null,null,25]
[]
[]
[]
[]
[]
[]
[]
[]
[]
[]
[]
[]
[]
[]
[]
[]
[]
[]
[]
[]
[]
[]
[]
[]
[]
[]
[]
[]
[]
[]
[]
[]
[]
[]
[]
[]
[]
[]
[]
[]
[]
[]
[]
[]
[]
[]
[]
[]
[]
[]
[]
[]
[]
[]
[]
[]
[]
[]
[]
[]
[]
[]
[]
[]
[]
[]
[]
[]
[]
[]
[]
[]
[]
[]
[]
[]
[]
[]
[]
[]
[]
[]
[]
[]
[]
[]
[]
[]
[]
[]
[]
[]
[]
[]
[]
[]
[]
[]
[]
[null,null,null,null,null,null,null,null,null,null,null,null,"Nro",null,null,null,null,null,null,null,null,null,null,null,null,null,null,null,null,null,null,null,null,null,null,null,null,null,null,null,null,null,null,null,null,null,null,null,null,null,null,null,null,null,null,null,25]
[]
[]
[]
[]
[]
[]
[]
[]
[]
[]
[]
[]
[]
[]
[]
[]
[]
[]
[]
[]
[]
[]
[]
[]
[]
[]
[]
[]
[]
[]
[]
[]
[]
[]
[]
[]
[]
[]
[]
[]
[]
[]
[]
[]
[]
[]
[]
[]
[]
[]
[]
[]
[]
[]
[]
[]
[]
[]
[]
[]
[]
[]
[]
[]
[]
[]
[]
[]
[]
[]
[]
[]
[]
[]
[]
[]
[]
[]
[]
[]
[]
[]
[]
[]
[]
[]
[]
[]
[]
[]
[]
[]
[]
[]
[]
[]
[]
[]
[]
[null,null,null,null,null,null,null,null,null,null,null,null,"Nro",null,null,null,null,null,null,null,null,null,null,null,null,null,null,null,null,null,null,null,null,null,null,null,null,null,null,null,null,null,null,null,null,null,null,null,null,null,null,null,null,null,null,null,25]
[]
[]
[]
[]
[]
[]
[]
[]
[]
[]
[]
[]
[]
[]
[]
[]
[]
[]
[]
[]
[]
[]
[]
[]
[]
[]
[]
[]
[]
[]
[]
[]
[]
[]
[]
[]
[]
[]
[]
[]
[]
[]
[]
[]
[]
[]
[]
[]
[]
[]
[]
[]
[]
[]
[]
[]
[]
[]
[]
[]
[]
[]
[]
[]
[]
[]
[]
[]
[]
[]
[]
[]
[]
[]
[]
[]
[]
[]
[]
[]
[]
[]
[]
[]
[]
[]
[]
[]
[]
[]
[]
[]
[]
[]
[]
[]
[]
[]
[]
[null,null,null,null,null,null,null,null,null,null,null,null,"Nro",null,null,null,null,null,null,null,null,null,null,null,null,null,null,null,null,null,null,null,null,null,null,null,null,null,null,null,null,null,null,null,null,null,null,null,null,null,null,null,null,null,null,null,25]
[]
[]
[]
[]
[]
[]
[]
[]
[]
[]
[]
[]
[]
[]
[]
[]
[]
[]
[]
[]
[]
[]
[]
[]
[]
[]
[]
[]
[]
[]
[]
[]
[]
[]
[]
[]
[]
[]
[]
[]
[]
[]
[]
[]
[]
[]
[]
[]
[]
[]
[]
[]
[]
[]
[]
[]
[]
[]
[]
[]
[]
[]
[]
[]
[]
[]
[]
[]
[]
[]
[]
[]
[]
[]
[]
[]
[]
[]
[]
[]
[]
[]
[]
[]
[]
[]
[]
[]
[]
[]
[]
[]
[]
[]
[]
[]
[]
[]
[]
[null,null,null,null,null,null,null,null,null,null,null,null,"Nro",null,null,null,null,null,null,null,null,null,null,null,null,null,null,null,null,null,null,null,null,null,null,null,null,null,null,null,null,null,null,null,null,null,null,null,null,null,null,null,null,null,null,null,25]
[]
[]
[]
[]
[]
[]
[]
[]
[]
[]
[]
[]
[]
[]
[]
[]
[]
[]
[]
[]
[]
[]
[]
[]
[]
[]
[]
[]
[]
[]
[]
[]
[]
[]
[]
[]
[]
[]
[]
[]
[]
[]
[]
[]
[]
[]
[]
[]
[]
[]
[]
[]
[]
[]
[]
[]
[]
[]
[]
[]
[]
[]
[]
[]
[]
[]
[]
[]
[]
[]
[]
[]
[]
[]
[]
[]
[]
[]
[]
[]
[]
[]
[]
[]
[]
[]
[]
[]
[]
[]
[]
[]
[]
[]
[]
[]
[]
[]
[]
[null,null,null,null,null,null,null,null,null,null,null,null,"Nro",null,null,null,null,null,null,null,null,null,null,null,null,null,null,null,null,null,null,null,null,null,null,null,null,null,null,null,null,null,null,null,null,null,null,null,null,null,null,null,null,null,null,null,25]
[]
[]
[]
[]
[]
[]
[]
[]
[]
[]
[]
[]
[]
[]
[]
[]
[]
[]
[]
[]
[]
[]
[]
[]
[]
[]
[]
[]
[]
[]
[]
[]
[]
[]
[]
[]
[]
[]
[]
[]
[]
[]
[]
[]
[]
[]
[]
[]
[]
[]
[]
[]
[]
[]
[]
[]
[]
[]
[]
[]
[]
[]
[]
[]
[]
[]
[]
[]
[]
[]
[]
[]
[]
[]
[]
[]
[]
[]
[]
[]
[]
[]
[]
[]
[]
[]
[]
[]
[]
[]
[]
[]
[]
[]
[]
[]
[]
[]
[]
[null,null,null,null,null,null,null,null,null,null,null,null,"Nro",null,null,null,null,null,null,null,null,null,null,null,null,null,null,null,null,null,null,null,null,null,null,null,null,null,null,null,null,null,null,null,null,null,null,null,null,null,null,null,null,null,null,null,25]
[]
[]
[]
[]
[]
[]
[]
[]
[]
[]
[]
[]
[]
[]
[]
[]
[]
[]
[]
[]
[]
[]
[]
[]
[]
[]
[]
[]
[]
[]
[]
[]
[]
[]
[]
[]
[]
[]
[]
[]
[]
[]
[]
[]
[]
[]
[]
[]
[]
[]
[]
[]
[]
[]
[]
[]
[]
[]
[]
[]
[]
[]
[]
[]
[]
[]
[]
[]
[]
[]
[]
[]
[]
[]
[]
[]
[]
[]
[]
[]
[]
[]
[]
[]
[]
[]
[]
[]
[]
[]
[]
[]
[]
[]
[]
[]
[]
[]
[]
[null,null,null,null,null,null,null,null,null,null,null,null,"Nro",null,null,null,null,null,null,null,null,null,null,null,null,null,null,null,null,null,null,null,null,null,null,null,null,null,null,null,null,null,null,null,null,null,null,null,null,null,null,null,null,null,null,null,25]
[]
[]
[]
[]
[]
[]
[]
[]
[]
[]
[]
[]
[]
[]
[]
[]
[]
[]
[]
[]
[]
[]
[]
[]
[]
[]
[]
[]
[]
[]
[]
[]
[]
[]
[]
[]
[]
[]
[]
[]
[]
[]
[]
[]
[]
[]
[]
[]
[]
[]
[]
[]
[]
[]
[]
[]
[]
[]
[]
[]
[]
[]
[]
[]
[]
[]
[]
[]
[]
[]
[]
[]
[]
[]
[]
[]
[]
[]
[]
[]
[]
[]
[]
[]
[]
[]
[]
[]
[]
[]
[]
[]
[]
[]
[]
[]
[]
[]
[]
[null,null,null,null,null,null,null,null,null,null,null,null,"Nro",null,null,null,null,null,null,null,null,null,null,null,null,null,null,null,null,null,null,null,null,null,null,null,null,null,null,null,null,null,null,null,null,null,null,null,null,null,null,null,null,null,null,null,25]
[]
[]
[]
[]
[]
[]
[]
[]
[]
[]
[]
[]
[]
[]
[]
[]
[]
[]
[]
[]
[]
[]
[]
[]
[]
[]
[]
[]
[]
[]
[]
[]
[]
[]
[]
[]
[]
[]
[]
[]
[]
[]
[]
[]
[]
[]
[]
[]
[]
[]
[]
[]
[]
[]
[]
[]
[]
[]
[]
[]
[]
[]
[]
[]
[]
[]
[]
[]
[]
[]
[]
[]
[]
[]
[]
[]
[]
[]
[]
[]
[]
[]
[]
[]
[]
[]
[]
[]
[]
[]
[]
[]
[]
[]
[]
[]
[]
[]
[]
[null,null,null,null,null,null,null,null,null,null,null,null,"Nro",null,null,null,null,null,null,null,null,null,null,null,null,null,null,null,null,null,null,null,null,null,null,null,null,null,null,null,null,null,null,null,null,null,null,null,null,null,null,null,null,null,null,null,25]
[]
[]
[]
[]
[]
[]
[]
[]
[]
[]
[]
[]
[]
[]
[]
[]
[]
[]
[]
[]
[]
[]
[]
[]
[]
[]
[]
[]
[]
[]
[]
[]
[]
[]
[]
[]
[]
[]
[]
[]
[]
[]
[]
[]
[]
[]
[]
[]
[]
[]
[]
[]
[]
[]
[]
[]
[]
[]
[]
[]
[]
[]
[]
[]
[]
[]
[]
[]
[]
[]
[]
[]
[]
[]
[]
[]
[]
[]
[]
[]
[]
[]
[]
[]
[]
[]
[]
[]
[]
[]
[]
[]
[]
[]
[]
[]
[]
[]
[]
[null,null,null,null,null,null,null,null,null,null,null,null,"Nro",null,null,null,null,null,null,null,null,null,null,null,null,null,null,null,null,null,null,null,null,null,null,null,null,null,null,null,null,null,null,null,null,null,null,null,null,null,null,null,null,null,null,null,25]
[]
[]
[]
[]
[]
[]
[]
[]
[]
[]
[]
[]
[]
[]
[]
[]
[]
[]
[]
[]
[]
[]
[]
[]
[]
[]
[]
[]
[]
[]
[]
[]
[]
[]
[]
[]
[]
[]
[]
[]
[]
[]
[]
[]
[]
[]
[]
[]
[]
[]
[]
[]
[]
[]
[]
[]
[]
[]
[]
[]
[]
[]
[]
[]
[]
[]
[]
[]
[]
[]
[]
[]
[]
[]
[]
[]
[]
[]
[]
[]
[]
[]
[]
[]
[]
[]
[]
[]
[]
[]
[]
[]
[]
[]
[]
[]
[]
[]
[]
[null,null,null,null,null,null,null,null,null,null,null,null,"Nro",null,null,null,null,null,null,null,null,null,null,null,null,null,null,null,null,null,null,null,null,null,null,null,null,null,null,null,null,null,null,null,null,null,null,null,null,null,null,null,null,null,null,null,25]

{"sheet":"asisMes","index":11,"n_rows":2120,"n_cols":80,"rows_kept":2120,"cut":false,"hidden":false,"merged":[[5,11,5,47],[1,5,1,56],[1,57,1,62],[2,11,2,47],[3,11,3,47],[4,11,4,47],[22,10,22,11],[23,10,23,11],[24,10,24,11],[6,11,6,47],[6,57,6,62],[7,11,7,47],[7,57,7,59],[7,60,8,62],[8,11,8,47],[8,57,8,59],[21,10,21,11],[17,11,18,11],[17,15,17,56],[17,57,19,57],[17,58,19,58],[17,61,19,61],[17,62,19,62],[17,63,19,63],[19,10,19,11],[20,10,20,11],[17,59,19,59],[17,60,19,60],[25,10,25,11],[26,10,26,11],[37,10,37,11],[28,10,28,11],[29,10,29,11],[30,10,30,11],[31,10,31,11],[32,10,32,11],[33,10,33,11],[34,10,34,11],[35,10,35,11],[36,10,36,11],[27,10,27,11],[49,10,49,11],[38,10,38,11],[39,10,39,11],[40,10,40,11],[41,10,41,11],[42,10,42,11],[43,10,43,11],[44,10,44,11],[45,10,45,11],[46,10,46,11],[47,10,47,11],[48,10,48,11],[61,10,61,11],[50,10,50,11],[51,10,51,11],[52,10,52,11],[53,10,53,11],[54,10,54,11],[55,10,55,11],[56,10,56,11],[57,10,57,11],[58,10,58,11],[59,10,59,11],[60,10,60,11],[68,10,68,11],[69,10,69,11],[62,10,62,11],[63,10,63,11],[64,10,64,11],[65,10,65,11],[66,10,66,11],[67,10,67,11]]}
[]
[null,null,null,null,null,"REGISTRO DE ASISTENCIA",null,null,null,null,null,null,null,null,null,null,null,null,null,null,null,null,null,null,null,null,null,null,null,null,null,null,null,null,null,null,null,null,null,null,null,null,null,null,null,null,null,null,null,null,null,null,null,null,null,null,null,"GESTION 2023",null,null,null,null,null,null,null,"Ξ"]
[null,null,null,null,null,null,{"$f":"datpro!$E$6","v":0},"sie",null,null,"UNIDAD EDUCATIVA ",{"$f":"IF(datpro!$E$7=\"\",\"\",datpro!$E$7)","v":""},null,null,null,null,null,null,null,null,null,null,null,null,null,null,null,null,null,null,null,null,null,null,null,null,null,null,null,null,null,null,null,null,null,null,null,null,null,null,null,null,null,null,null,null,null,null,null,null,null,null,null,null,null,"Cerrar"]
[null,null,null,null,null,null,{"$f":"datpro!$M$14","v":50},"nroes",null,null,"NIVEL ",{"$f":"datpro!$E$10","v":""},null,null,null,null,null,null,null,null,null,null,null,null,null,null,null,null,null,null,null,null,null,null,null,null,null,null,null,null,null,null,null,null,null,null,null,null,null,null,null,null,null,null,null,null,null,null,null,null,null,null,null,null,null,"u"]
[null,null,null,null,null,null,{"$f":"datpro!$C$12","v":"S"},"curso",null,null,"AÑO DE ESCOLARIDAD",{"$f":"CONCATENATE( datpro!$E$11,\"  -  \",datpro!$E$12)","v":"  -  "}]
[null,null,null,null,null,null,{"$f":"DAY(TODAY())","v":6},"dia",null,null,"DIRECTOR/A",{"$f":"IF(datpro!$E$8=\"\",\"\",datpro!$E$8)","v":""}]
[null,null,null,null,null,null,{"$f":"MONTH(TODAY())","v":3},"mes",null,null,"MAESTRO/A",{"$f":"IF(datpro!$E$9=\"\",\"\",datpro!$E$9)","v":""},null,null,null,null,null,null,null,null,null,null,null,null,null,null,null,null,null,null,null,null,null,null,null,null,null,null,null,null,null,null,null,null,null,null,null,null,null,null,null,null,null,null,null,null,null,{"$f":"IF(datpro!$M$4=\"\",\"\",TODAY())","v":"2023-03-06"}]
[null,null,null,null,null,null,"T1","bim",null,null,null,null,null,null,null,null,null,null,null,null,null,null,null,null,null,null,null,null,null,null,null,null,null,null,null,null,null,null,null,null,null,null,null,null,null,null,null,null,null,null,null,null,null,null,null,null,null,{"$f":"IF(datpro!$M$4=\"\",\"\",datpro!$I$4)","v":"2023-02-01"},null,null,{"$f":"datpro!$M$4","v":55}]
[null,null,null,null,null,null,{"$f":"datpro!$E$15","v":""},"codarea",null,null,null,null,null,null,null,null,null,null,null,null,null,null,null,null,null,null,null,null,null,null,null,null,null,null,null,null,null,null,null,null,null,null,null,null,null,null,null,null,null,null,null,null,null,null,null,null,null,{"$f":"IF(datpro!$M$4=\"\",\"\",datpro!$K$4)","v":"2023-04-30"}]
[]
[]
[]
[null,null,null,null,null,null,null,null,null,null,null,null,null,"N","O","P","Q","R","S","T","U","V","W","X","Y","Z","AA","AB","AC","AD","AE","AF","AG","AH","AI","AJ","AK","AL","AM","AN","AO","AP","AQ","AR","AS","AT","AU","AV","AW","AX","AY","AZ","BA","BB","BC","BD","BE"]
[]
[null,null,null,null,null,null,"F21:BK70","BK",null,null,null,null,"Nro",null,null,null,null,null,null,null,null,null,null,null,null,null,null,null,null,null,null,null,null,null,null,null,null,null,null,null,null,null,null,null,null,null,null,null,null,null,null,null,null,null,null,null,25]
[]
[]
[null,null,null,null,null,null,null,null,null,null,null,"FECHAS",null,"+","-","JULIO",null,null,null,null,null,null,null,null,null,null,null,null,null,null,null,null,null,null,null,null,null,null,null,null,null,null,null,null,null,null,null,null,null,null,null,null,null,null,null,null,null,"ASISTENCIA","FALTAS","RETRASOS","LICENCIAS","DIAS TRABAJADOS","DIAS NO TRABAJADOS","DIAS NO TRABAJADOS"]
[null,null,null,null,null,null,"679S2D05"]
[null,null,null,null,null,"Nº","B1",null,null,null,"APELLIDOS Y NOMBRES",null,"Nro",null,null,null,null,null,null,null,null,null,null,null,null,null,null,null,null,null,null,null,null,null,null,null,null,null,null,null,null,null,null,null,null,null,null,null,null,null,null,null,null,null,null,null,25,null,null,null,null,null,null,null,null,null,8,"Tamaño de fuente (8..16)"]
[null,null,null,null,null,{"$f":"IF(filEst!F21=\"\",\"\",filEst!F21)","v":""},{"$f":"IF(filEst!G21=\"\",\"\",filEst!G21)","v":""},{"$f":"IF(filEst!L21=\"\",\"\",filEst!L21)","v":""},null,{"$f":"G21","v":""},{"$f":"IF(filEst!K21=\"\",\"\",filEst!K21)","v":""},null,null,null,null,null,null,null,null,null,null,null,null,null,null,null,null,null,null,null,null,null,null,null,null,null,null,null,null,null,null,null,null,null,null,null,null,null,null,null,null,null,null,null,null,null,null,{"$f":"IF(COUNTIF($N21:$BE21,\".\")=0,\"\",COUNTIF($N21:$BE21,\".\"))","v":""},{"$f":"IF(COUNTIF($N21:$BE21,\"F\")=0,\"\",COUNTIF($N21:$BE21,\"F\"))","v":""},{"$f":"IF(COUNTIF($N21:$BE21,\"R\")=0,\"\",COUNTIF($N21:$BE21,\"R\"))","v":""},{"$f":"IF(COUNTIF($N21:$BE21,\"L\")=0,\"\",COUNTIF($N21:$BE21,\"L\"))","v":""},{"$f":"IF(BF21=\"\",\"\",(SUM(BF21,BH21)))","v":""},{"$f":"IFERROR(SUM(BG21,BI21),\"\")","v":0},{"$f":"SUM(BF21:BI21)","v":0},null,null,12,"Alto de Fila (10..20)"]
[null,null,null,null,null,{"$f":"IF(filEst!F22=\"\",\"\",filEst!F22)","v":""},{"$f":"IF(filEst!G22=\"\",\"\",filEst!G22)","v":""},{"$f":"IF(filEst!L22=\"\",\"\",filEst!L22)","v":""},null,{"$f":"G22","v":""},{"$f":"IF(filEst!K22=\"\",\"\",filEst!K22)","v":""},null,null,null,null,null,null,null,null,null,null,null,null,null,null,null,null,null,null,null,null,null,null,null,null,null,null,null,null,null,null,null,null,null,null,null,null,null,null,null,null,null,null,null,null,null,null,{"$f":"IF(COUNTIF($N22:$BE22,\".\")=0,\"\",COUNTIF($N22:$BE22,\".\"))","v":""},"","","","",{"$f":"IFERROR(SUM(BG22,BI22),\"\")","v":0},{"$f":"SUM(BJ22:BK22)","v":0},null,null,2,"Ancho de Columna (1..5) Modos"]
[null,null,null,null,null,{"$f":"IF(filEst!F23=\"\",\"\",filEst!F23)","v":""},{"$f":"IF(filEst!G23=\"\",\"\",filEst!G23)","v":""},{"$f":"IF(filEst!L23=\"\",\"\",filEst!L23)","v":""},null,"",{"$f":"IF(filEst!K23=\"\",\"\",filEst!K23)","v":""},null,null,null,null,null,null,null,null,null,null,null,null,null,null,null,null,null,null,null,null,null,null,null,null,null,null,null,null,null,null,null,null,null,null,null,null,null,null,null,null,null,null,null,null,null,null,"","","","","",{"$f":"IFERROR(SUM(BG23,BI23),\"\")","v":0},{"$f":"SUM(BJ23:BK23)","v":0}]
[null,null,null,null,null,{"$f":"IF(filEst!F24=\"\",\"\",filEst!F24)","v":""},{"$f":"IF(filEst!G24=\"\",\"\",filEst!G24)","v":""},{"$f":"IF(filEst!L24=\"\",\"\",filEst!L24)","v":""},null,"",{"$f":"IF(filEst!K24=\"\",\"\",filEst!K24)","v":""},null,null,null,null,null,null,null,null,null,null,null,null,null,null,null,null,null,null,null,null,null,null,null,null,null,null,null,null,null,null,null,null,null,null,null,null,null,null,null,null,null,null,null,null,null,null,"","","","","",0,0,null,null,".","= Asistencias"]
[null,null,null,null,null,{"$f":"IF(filEst!F25=\"\",\"\",filEst!F25)","v":""},{"$f":"IF(filEst!G25=\"\",\"\",filEst!G25)","v":""},{"$f":"IF(filEst!L25=\"\",\"\",filEst!L25)","v":""},null,"",{"$f":"IF(filEst!K25=\"\",\"\",filEst!K25)","v":""},null,null,null,null,null,null,null,null,null,null,null,null,null,null,null,null,null,null,null,null,null,null,null,null,null,null,null,null,null,null,null,null,null,null,null,null,null,null,null,null,null,null,null,null,null,null,"","","","","",0,0,null,null,"F","= Faltas"]
[null,null,null,null,null,{"$f":"IF(filEst!F26=\"\",\"\",filEst!F26)","v":""},{"$f":"IF(filEst!G26=\"\",\"\",filEst!G26)","v":""},{"$f":"IF(filEst!L26=\"\",\"\",filEst!L26)","v":""},null,"",{"$f":"IF(filEst!K26=\"\",\"\",filEst!K26)","v":""},null,null,null,null,null,null,null,null,null,null,null,null,null,null,null,null,null,null,null,null,null,null,null,null,null,null,null,null,null,null,null,null,null,null,null,null,null,null,null,null,null,null,null,null,null,null,"","","","","",0,0,null,null,"R","= Retrasos"]
[null,null,null,null,null,{"$f":"IF(filEst!F27=\"\",\"\",filEst!F27)","v":""},{"$f":"IF(filEst!G27=\"\",\"\",filEst!G27)","v":""},{"$f":"IF(filEst!L27=\"\",\"\",filEst!L27)","v":""},null,"",{"$f":"IF(filEst!K27=\"\",\"\",filEst!K27)","v":""},null,null,null,null,null,null,null,null,null,null,null,null,null,null,null,null,null,null,null,null,null,null,null,null,null,null,null,null,null,null,null,null,null,null,null,null,null,null,null,null,null,null,null,null,null,null,"","","","","",0,0,null,null,"L","= Licencias"]
[null,null,null,null,null,{"$f":"IF(filEst!F28=\"\",\"\",filEst!F28)","v":""},{"$f":"IF(filEst!G28=\"\",\"\",filEst!G28)","v":""},{"$f":"IF(filEst!L28=\"\",\"\",filEst!L28)","v":""},null,"",{"$f":"IF(filEst!K28=\"\",\"\",filEst!K28)","v":""},null,null,null,null,null,null,null,null,null,null,null,null,null,null,null,null,null,null,null,null,null,null,null,null,null,null,null,null,null,null,null,null,null,null,null,null,null,null,null,null,null,null,null,null,null,null,"","","","","",0,0]
[null,null,null,null,null,{"$f":"IF(filEst!F29=\"\",\"\",filEst!F29)","v":""},{"$f":"IF(filEst!G29=\"\",\"\",filEst!G29)","v":""},{"$f":"IF(filEst!L29=\"\",\"\",filEst!L29)","v":""},null,"",{"$f":"IF(filEst!K29=\"\",\"\",filEst!K29)","v":""},null,null,null,null,null,null,null,null,null,null,null,null,null,null,null,null,null,null,null,null,null,null,null,null,null,null,null,null,null,null,null,null,null,null,null,null,null,null,null,null,null,null,null,null,null,null,"","","","","",0,0,null,null,null,"©  2023"]
[null,null,null,null,null,{"$f":"IF(filEst!F30=\"\",\"\",filEst!F30)","v":""},{"$f":"IF(filEst!G30=\"\",\"\",filEst!G30)","v":""},{"$f":"IF(filEst!L30=\"\",\"\",filEst!L30)","v":""},null,"",{"$f":"IF(filEst!K30=\"\",\"\",filEst!K30)","v":""},null,null,null,null,null,null,null,null,null,null,null,null,null,null,null,null,null,null,null,null,null,null,null,null,null,null,null,null,null,null,null,null,null,null,null,null,null,null,null,null,null,null,null,null,null,null,"","","","","",0,0,null,null,null,"PROYECTO REMDIZ"]
[null,null,null,null,null,{"$f":"IF(filEst!F31=\"\",\"\",filEst!F31)","v":""},{"$f":"IF(filEst!G31=\"\",\"\",filEst!G31)","v":""},{"$f":"IF(filEst!L31=\"\",\"\",filEst!L31)","v":""},null,"",{"$f":"IF(filEst!K31=\"\",\"\",filEst!K31)","v":""},null,null,null,null,null,null,null,null,null,null,null,null,null,null,null,null,null,null,null,null,null,null,null,null,null,null,null,null,null,null,null,null,null,null,null,null,null,null,null,null,null,null,null,null,null,null,"","","","","",0,0]
[null,null,null,null,null,{"$f":"IF(filEst!F32=\"\",\"\",filEst!F32)","v":""},{"$f":"IF(filEst!G32=\"\",\"\",filEst!G32)","v":""},{"$f":"IF(filEst!L32=\"\",\"\",filEst!L32)","v":""},null,"",{"$f":"IF(filEst!K32=\"\",\"\",filEst!K32)","v":""},null,null,null,null,null,null,null,null,null,null,null,null,null,null,null,null,null,null,null,null,null,null,null,null,null,null,null,null,null,null,null,null,null,null,null,null,null,null,null,null,null,null,null,null,null,null,"","","","","",0,0]
[null,null,null,null,null,{"$f":"IF(filEst!F33=\"\",\"\",filEst!F33)","v":""},{"$f":"IF(filEst!G33=\"\",\"\",filEst!G33)","v":""},{"$f":"IF(filEst!L33=\"\",\"\",filEst!L33)","v":""},null,"",{"$f":"IF(filEst!K33=\"\",\"\",filEst!K33)","v":""},null,null,null,null,null,null,null,null,null,null,null,null,null,null,null,null,null,null,null,null,null,null,null,null,null,null,null,null,null,null,null,null,null,null,null,null,null,null,null,null,null,null,null,null,null,null,"","","","","",0,0]
[null,null,null,null,null,{"$f":"IF(filEst!F34=\"\",\"\",filEst!F34)","v":""},{"$f":"IF(filEst!G34=\"\",\"\",filEst!G34)","v":""},{"$f":"IF(filEst!L34=\"\",\"\",filEst!L34)","v":""},null,"",{"$f":"IF(filEst!K34=\"\",\"\",filEst!K34)","v":""},null,null,null,null,null,null,null,null,null,null,null,null,null,null,null,null,null,null,null,null,null,null,null,null,null,null,null,null,null,null,null,null,null,null,null,null,null,null,null,null,null,null,null,null,null,null,"","","","","",0,0]
[null,null,null,null,null,{"$f":"IF(filEst!F35=\"\",\"\",filEst!F35)","v":""},{"$f":"IF(filEst!G35=\"\",\"\",filEst!G35)","v":""},{"$f":"IF(filEst!L35=\"\",\"\",filEst!L35)","v":""},null,"",{"$f":"IF(filEst!K35=\"\",\"\",filEst!K35)","v":""},null,null,null,null,null,null,null,null,null,null,null,null,null,null,null,null,null,null,null,null,null,null,null,null,null,null,null,null,null,null,null,null,null,null,null,null,null,null,null,null,null,null,null,null,null,null,"","","","","",0,0]
[null,null,null,null,null,{"$f":"IF(filEst!F36=\"\",\"\",filEst!F36)","v":""},{"$f":"IF(filEst!G36=\"\",\"\",filEst!G36)","v":""},{"$f":"IF(filEst!L36=\"\",\"\",filEst!L36)","v":""},null,"",{"$f":"IF(filEst!K36=\"\",\"\",filEst!K36)","v":""},null,null,null,null,null,null,null,null,null,null,null,null,null,null,null,null,null,null,null,null,null,null,null,null,null,null,null,null,null,null,null,null,null,null,null,null,null,null,null,null,null,null,null,null,null,null,"","","","","",0,0]
[null,null,null,null,null,{"$f":"IF(filEst!F37=\"\",\"\",filEst!F37)","v":""},{"$f":"IF(filEst!G37=\"\",\"\",filEst!G37)","v":""},{"$f":"IF(filEst!L37=\"\",\"\",filEst!L37)","v":""},null,"",{"$f":"IF(filEst!K37=\"\",\"\",filEst!K37)","v":""},null,null,null,null,null,null,null,null,null,null,null,null,null,null,null,null,null,null,null,null,null,null,null,null,null,null,null,null,null,null,null,null,null,null,null,null,null,null,null,null,null,null,null,null,null,null,"","","","","",0,0]
[null,null,null,null,null,{"$f":"IF(filEst!F38=\"\",\"\",filEst!F38)","v":""},{"$f":"IF(filEst!G38=\"\",\"\",filEst!G38)","v":""},{"$f":"IF(filEst!L38=\"\",\"\",filEst!L38)","v":""},null,"",{"$f":"IF(filEst!K38=\"\",\"\",filEst!K38)","v":""},null,null,null,null,null,null,null,null,null,null,null,null,null,null,null,null,null,null,null,null,null,null,null,null,null,null,null,null,null,null,null,null,null,null,null,null,null,null,null,null,null,null,null,null,null,null,"","","","","",0,0]
[null,null,null,null,null,{"$f":"IF(filEst!F39=\"\",\"\",filEst!F39)","v":""},{"$f":"IF(filEst!G39=\"\",\"\",filEst!G39)","v":""},{"$f":"IF(filEst!L39=\"\",\"\",filEst!L39)","v":""},null,"",{"$f":"IF(filEst!K39=\"\",\"\",filEst!K39)","v":""},null,null,null,null,null,null,null,null,null,null,null,null,null,null,null,null,null,null,null,null,null,null,null,null,null,null,null,null,null,null,null,null,null,null,null,null,null,null,null,null,null,null,null,null,null,null,"","","","","",0,0]
[null,null,null,null,null,{"$f":"IF(filEst!F40=\"\",\"\",filEst!F40)","v":""},{"$f":"IF(filEst!G40=\"\",\"\",filEst!G40)","v":""},{"$f":"IF(filEst!L40=\"\",\"\",filEst!L40)","v":""},null,"",{"$f":"IF(filEst!K40=\"\",\"\",filEst!K40)","v":""},null,null,null,null,null,null,null,null,null,null,null,null,null,null,null,null,null,null,null,null,null,null,null,null,null,null,null,null,null,null,null,null,null,null,null,null,null,null,null,null,null,null,null,null,null,null,"","","","","",0,0]
[null,null,null,null,null,{"$f":"IF(filEst!F41=\"\",\"\",filEst!F41)","v":""},{"$f":"IF(filEst!G41=\"\",\"\",filEst!G41)","v":""},{"$f":"IF(filEst!L41=\"\",\"\",filEst!L41)","v":""},null,"",{"$f":"IF(filEst!K41=\"\",\"\",filEst!K41)","v":""},null,null,null,null,null,null,null,null,null,null,null,null,null,null,null,null,null,null,null,null,null,null,null,null,null,null,null,null,null,null,null,null,null,null,null,null,null,null,null,null,null,null,null,null,null,null,"","","","","",0,0]
[null,null,null,null,null,{"$f":"IF(filEst!F42=\"\",\"\",filEst!F42)","v":""},{"$f":"IF(filEst!G42=\"\",\"\",filEst!G42)","v":""},{"$f":"IF(filEst!L42=\"\",\"\",filEst!L42)","v":""},null,"",{"$f":"IF(filEst!K42=\"\",\"\",filEst!K42)","v":""},null,null,null,null,null,null,null,null,null,null,null,null,null,null,null,null,null,null,null,null,null,null,null,null,null,null,null,null,null,null,null,null,null,null,null,null,null,null,null,null,null,null,null,null,null,null,"","","","","",0,0]
[null,null,null,null,null,{"$f":"IF(filEst!F43=\"\",\"\",filEst!F43)","v":""},{"$f":"IF(filEst!G43=\"\",\"\",filEst!G43)","v":""},{"$f":"IF(filEst!L43=\"\",\"\",filEst!L43)","v":""},null,"",{"$f":"IF(filEst!K43=\"\",\"\",filEst!K43)","v":""},null,null,null,null,null,null,null,null,null,null,null,null,null,null,null,null,null,null,null,null,null,null,null,null,null,null,null,null,null,null,null,null,null,null,null,null,null,null,null,null,null,null,null,null,null,null,"","","","","",0,0]
[null,null,null,null,null,{"$f":"IF(filEst!F44=\"\",\"\",filEst!F44)","v":""},{"$f":"IF(filEst!G44=\"\",\"\",filEst!G44)","v":""},{"$f":"IF(filEst!L44=\"\",\"\",filEst!L44)","v":""},null,"",{"$f":"IF(filEst!K44=\"\",\"\",filEst!K44)","v":""},null,null,null,null,null,null,null,null,null,null,null,null,null,null,null,null,null,null,null,null,null,null,null,null,null,null,null,null,null,null,null,null,null,null,null,null,null,null,null,null,null,null,null,null,null,null,"","","","","",0,0]
[null,null,null,null,null,{"$f":"IF(filEst!F45=\"\",\"\",filEst!F45)","v":""},{"$f":"IF(filEst!G45=\"\",\"\",filEst!G45)","v":""},{"$f":"IF(filEst!L45=\"\",\"\",filEst!L45)","v":""},null,"",{"$f":"IF(filEst!K45=\"\",\"\",filEst!K45)","v":""},null,null,null,null,null,null,null,null,null,null,null,null,null,null,null,null,null,null,null,null,null,null,null,null,null,null,null,null,null,null,null,null,null,null,null,null,null,null,null,null,null,null,null,null,null,null,"","","","","",0,0]
[null,null,null,null,null,{"$f":"IF(filEst!F46=\"\",\"\",filEst!F46)","v":""},{"$f":"IF(filEst!G46=\"\",\"\",filEst!G46)","v":""},{"$f":"IF(filEst!L46=\"\",\"\",filEst!L46)","v":""},null,"",{"$f":"IF(filEst!K46=\"\",\"\",filEst!K46)","v":""},null,null,null,null,null,null,null,null,null,null,null,null,null,null,null,null,null,null,null,null,null,null,null,null,null,null,null,null,null,null,null,null,null,null,null,null,null,null,null,null,null,null,null,null,null,null,"","","","","",0,0]
[null,null,null,null,null,{"$f":"IF(filEst!F47=\"\",\"\",filEst!F47)","v":""},{"$f":"IF(filEst!G47=\"\",\"\",filEst!G47)","v":""},{"$f":"IF(filEst!L47=\"\",\"\",filEst!L47)","v":""},null,"",{"$f":"IF(filEst!K47=\"\",\"\",filEst!K47)","v":""},null,null,null,null,null,null,null,null,null,null,null,null,null,null,null,null,null,null,null,null,null,null,null,null,null,null,null,null,null,null,null,null,null,null,null,null,null,null,null,null,null,null,null,null,null,null,"","","","","",0,0]
[null,null,null,null,null,{"$f":"IF(filEst!F48=\"\",\"\",filEst!F48)","v":""},{"$f":"IF(filEst!G48=\"\",\"\",filEst!G48)","v":""},{"$f":"IF(filEst!L48=\"\",\"\",filEst!L48)","v":""},null,"",{"$f":"IF(filEst!K48=\"\",\"\",filEst!K48)","v":""},null,null,null,null,null,null,null,null,null,null,null,null,null,null,null,null,null,null,null,null,null,null,null,null,null,null,null,null,null,null,null,null,null,null,null,null,null,null,null,null,null,null,null,null,null,null,"","","","","",0,0]
[null,null,null,null,null,{"$f":"IF(filEst!F49=\"\",\"\",filEst!F49)","v":""},{"$f":"IF(filEst!G49=\"\",\"\",filEst!G49)","v":""},{"$f":"IF(filEst!L49=\"\",\"\",filEst!L49)","v":""},null,"",{"$f":"IF(filEst!K49=\"\",\"\",filEst!K49)","v":""},null,null,null,null,null,null,null,null,null,null,null,null,null,null,null,null,null,null,null,null,null,null,null,null,null,null,null,null,null,null,null,null,null,null,null,null,null,null,null,null,null,null,null,null,null,null,"","","","","",0,0]
[null,null,null,null,null,{"$f":"IF(filEst!F50=\"\",\"\",filEst!F50)","v":""},{"$f":"IF(filEst!G50=\"\",\"\",filEst!G50)","v":""},{"$f":"IF(filEst!L50=\"\",\"\",filEst!L50)","v":""},null,"",{"$f":"IF(filEst!K50=\"\",\"\",filEst!K50)","v":""},null,null,null,null,null,null,null,null,null,null,null,null,null,null,null,null,null,null,null,null,null,null,null,null,null,null,null,null,null,null,null,null,null,null,null,null,null,null,null,null,null,null,null,null,null,null,"","","","","",0,0]
[null,null,null,null,null,{"$f":"IF(filEst!F51=\"\",\"\",filEst!F51)","v":""},{"$f":"IF(filEst!G51=\"\",\"\",filEst!G51)","v":""},{"$f":"IF(filEst!L51=\"\",\"\",filEst!L51)","v":""},null,"",{"$f":"IF(filEst!K51=\"\",\"\",filEst!K51)","v":""},null,null,null,null,null,null,null,null,null,null,null,null,null,null,null,null,null,null,null,null,null,null,null,null,null,null,null,null,null,null,null,null,null,null,null,null,null,null,null,null,null,null,null,null,null,null,"","","","","",0,0]
[null,null,null,null,null,{"$f":"IF(filEst!F52=\"\",\"\",filEst!F52)","v":""},{"$f":"IF(filEst!G52=\"\",\"\",filEst!G52)","v":""},{"$f":"IF(filEst!L52=\"\",\"\",filEst!L52)","v":""},null,"",{"$f":"IF(filEst!K52=\"\",\"\",filEst!K52)","v":""},null,null,null,null,null,null,null,null,null,null,null,null,null,null,null,null,null,null,null,null,null,null,null,null,null,null,null,null,null,null,null,null,null,null,null,null,null,null,null,null,null,null,null,null,null,null,"","","","","",0,0]
[null,null,null,null,null,{"$f":"IF(filEst!F53=\"\",\"\",filEst!F53)","v":""},{"$f":"IF(filEst!G53=\"\",\"\",filEst!G53)","v":""},{"$f":"IF(filEst!L53=\"\",\"\",filEst!L53)","v":""},null,"",{"$f":"IF(filEst!K53=\"\",\"\",filEst!K53)","v":""},null,null,null,null,null,null,null,null,null,null,null,null,null,null,null,null,null,null,null,null,null,null,null,null,null,null,null,null,null,null,null,null,null,null,null,null,null,null,null,null,null,null,null,null,null,null,"","","","","",0,0]
[null,null,null,null,null,{"$f":"IF(filEst!F54=\"\",\"\",filEst!F54)","v":""},{"$f":"IF(filEst!G54=\"\",\"\",filEst!G54)","v":""},{"$f":"IF(filEst!L54=\"\",\"\",filEst!L54)","v":""},null,"",{"$f":"IF(filEst!K54=\"\",\"\",filEst!K54)","v":""},null,null,null,null,null,null,null,null,null,null,null,null,null,null,null,null,null,null,null,null,null,null,null,null,null,null,null,null,null,null,null,null,null,null,null,null,null,null,null,null,null,null,null,null,null,null,"","","","","",0,0]
[null,null,null,null,null,{"$f":"IF(filEst!F55=\"\",\"\",filEst!F55)","v":""},{"$f":"IF(filEst!G55=\"\",\"\",filEst!G55)","v":""},{"$f":"IF(filEst!L55=\"\",\"\",filEst!L55)","v":""},null,"",{"$f":"IF(filEst!K55=\"\",\"\",filEst!K55)","v":""},null,null,null,null,null,null,null,null,null,null,null,null,null,null,null,null,null,null,null,null,null,null,null,null,null,null,null,null,null,null,null,null,null,null,null,null,null,null,null,null,null,null,null,null,null,null,"","","","","",0,0]
[null,null,null,null,null,{"$f":"IF(filEst!F56=\"\",\"\",filEst!F56)","v":""},{"$f":"IF(filEst!G56=\"\",\"\",filEst!G56)","v":""},{"$f":"IF(filEst!L56=\"\",\"\",filEst!L56)","v":""},null,"",{"$f":"IF(filEst!K56=\"\",\"\",filEst!K56)","v":""},null,null,null,null,null,null,null,null,null,null,null,null,null,null,null,null,null,null,null,null,null,null,null,null,null,null,null,null,null,null,null,null,null,null,null,null,null,null,null,null,null,null,null,null,null,null,"","","","","",0,0]
[null,null,null,null,null,{"$f":"IF(filEst!F57=\"\",\"\",filEst!F57)","v":""},{"$f":"IF(filEst!G57=\"\",\"\",filEst!G57)","v":""},{"$f":"IF(filEst!L57=\"\",\"\",filEst!L57)","v":""},null,"",{"$f":"IF(filEst!K57=\"\",\"\",filEst!K57)","v":""},null,null,null,null,null,null,null,null,null,null,null,null,null,null,null,null,null,null,null,null,null,null,null,null,null,null,null,null,null,null,null,null,null,null,null,null,null,null,null,null,null,null,null,null,null,null,"","","","","",0,0]
[null,null,null,null,null,{"$f":"IF(filEst!F58=\"\",\"\",filEst!F58)","v":""},{"$f":"IF(filEst!G58=\"\",\"\",filEst!G58)","v":""},{"$f":"IF(filEst!L58=\"\",\"\",filEst!L58)","v":""},null,"",{"$f":"IF(filEst!K58=\"\",\"\",filEst!K58)","v":""},null,null,null,null,null,null,null,null,null,null,null,null,null,null,null,null,null,null,null,null,null,null,null,null,null,null,null,null,null,null,null,null,null,null,null,null,null,null,null,null,null,null,null,null,null,null,"","","","","",0,0]
[null,null,null,null,null,{"$f":"IF(filEst!F59=\"\",\"\",filEst!F59)","v":""},{"$f":"IF(filEst!G59=\"\",\"\",filEst!G59)","v":""},{"$f":"IF(filEst!L59=\"\",\"\",filEst!L59)","v":""},null,"",{"$f":"IF(filEst!K59=\"\",\"\",filEst!K59)","v":""},null,null,null,null,null,null,null,null,null,null,null,null,null,null,null,null,null,null,null,null,null,null,null,null,null,null,null,null,null,null,null,null,null,null,null,null,null,null,null,null,null,null,null,null,null,null,"","","","","",0,0]
[null,null,null,null,null,{"$f":"IF(filEst!F60=\"\",\"\",filEst!F60)","v":""},{"$f":"IF(filEst!G60=\"\",\"\",filEst!G60)","v":""},{"$f":"IF(filEst!L60=\"\",\"\",filEst!L60)","v":""},null,"",{"$f":"IF(filEst!K60=\"\",\"\",filEst!K60)","v":""},null,null,null,null,null,null,null,null,null,null,null,null,null,null,null,null,null,null,null,null,null,null,null,null,null,null,null,null,null,null,null,null,null,null,null,null,null,null,null,null,null,null,null,null,null,null,"","","","","",0,0]
[null,null,null,null,null,{"$f":"IF(filEst!F61=\"\",\"\",filEst!F61)","v":""},{"$f":"IF(filEst!G61=\"\",\"\",filEst!G61)","v":""},{"$f":"IF(filEst!L61=\"\",\"\",filEst!L61)","v":""},null,"",{"$f":"IF(filEst!K61=\"\",\"\",filEst!K61)","v":""},null,null,null,null,null,null,null,null,null,null,null,null,null,null,null,null,null,null,null,null,null,null,null,null,null,null,null,null,null,null,null,null,null,null,null,null,null,null,null,null,null,null,null,null,null,null,"","","","","",0,0]
[null,null,null,null,null,{"$f":"IF(filEst!F62=\"\",\"\",filEst!F62)","v":""},{"$f":"IF(filEst!G62=\"\",\"\",filEst!G62)","v":""},{"$f":"IF(filEst!L62=\"\",\"\",filEst!L62)","v":""},null,"",{"$f":"IF(filEst!K62=\"\",\"\",filEst!K62)","v":""},null,null,null,null,null,null,null,null,null,null,null,null,null,null,null,null,null,null,null,null,null,null,null,null,null,null,null,null,null,null,null,null,null,null,null,null,null,null,null,null,null,null,null,null,null,null,"","","","","",0,0]
[null,null,null,null,null,{"$f":"IF(filEst!F63=\"\",\"\",filEst!F63)","v":""},{"$f":"IF(filEst!G63=\"\",\"\",filEst!G63)","v":""},{"$f":"IF(filEst!L63=\"\",\"\",filEst!L63)","v":""},null,"",{"$f":"IF(filEst!K63=\"\",\"\",filEst!K63)","v":""},null,null,null,null,null,null,null,null,null,null,null,null,null,null,null,null,null,null,null,null,null,null,null,null,null,null,null,null,null,null,null,null,null,null,null,null,null,null,null,null,null,null,null,null,null,null,"","","","","",0,0]
[null,null,null,null,null,{"$f":"IF(filEst!F64=\"\",\"\",filEst!F64)","v":""},{"$f":"IF(filEst!G64=\"\",\"\",filEst!G64)","v":""},{"$f":"IF(filEst!L64=\"\",\"\",filEst!L64)","v":""},null,"",{"$f":"IF(filEst!K64=\"\",\"\",filEst!K64)","v":""},null,null,null,null,null,null,null,null,null,null,null,null,null,null,null,null,null,null,null,null,null,null,null,null,null,null,null,null,null,null,null,null,null,null,null,null,null,null,null,null,null,null,null,null,null,null,"","","","","",0,0]
[null,null,null,null,null,{"$f":"IF(filEst!F65=\"\",\"\",filEst!F65)","v":""},{"$f":"IF(filEst!G65=\"\",\"\",filEst!G65)","v":""},{"$f":"IF(filEst!L65=\"\",\"\",filEst!L65)","v":""},null,"",{"$f":"IF(filEst!K65=\"\",\"\",filEst!K65)","v":""},null,null,null,null,null,null,null,null,null,null,null,null,null,null,null,null,null,null,null,null,null,null,null,null,null,null,null,null,null,null,null,null,null,null,null,null,null,null,null,null,null,null,null,null,null,null,"","","","","",0,0]
[null,null,null,null,null,{"$f":"IF(filEst!F66=\"\",\"\",filEst!F66)","v":""},{"$f":"IF(filEst!G66=\"\",\"\",filEst!G66)","v":""},{"$f":"IF(filEst!L66=\"\",\"\",filEst!L66)","v":""},null,"",{"$f":"IF(filEst!K66=\"\",\"\",filEst!K66)","v":""},null,null,null,null,null,null,null,null,null,null,null,null,null,null,null,null,null,null,null,null,null,null,null,null,null,null,null,null,null,null,null,null,null,null,null,null,null,null,null,null,null,null,null,null,null,null,"","","","","",0,0]
[null,null,null,null,null,{"$f":"IF(filEst!F67=\"\",\"\",filEst!F67)","v":""},{"$f":"IF(filEst!G67=\"\",\"\",filEst!G67)","v":""},{"$f":"IF(filEst!L67=\"\",\"\",filEst!L67)","v":""},null,"",{"$f":"IF(filEst!K67=\"\",\"\",filEst!K67)","v":""},null,null,null,null,null,null,null,null,null,null,null,null,null,null,null,null,null,null,null,null,null,null,null,null,null,null,null,null,null,null,null,null,null,null,null,null,null,null,null,null,null,null,null,null,null,null,"","","","","",0,0]
[null,null,null,null,null,{"$f":"IF(filEst!F68=\"\",\"\",filEst!F68)","v":""},{"$f":"IF(filEst!G68=\"\",\"\",filEst!G68)","v":""},{"$f":"IF(filEst!L68=\"\",\"\",filEst!L68)","v":""},null,"",{"$f":"IF(filEst!K68=\"\",\"\",filEst!K68)","v":""},null,null,null,null,null,null,null,null,null,null,null,null,null,null,null,null,null,null,null,null,null,null,null,null,null,null,null,null,null,null,null,null,null,null,null,null,null,null,null,null,null,null,null,null,null,null,"","","","","",0,0]
[null,null,null,null,null,{"$f":"IF(filEst!F69=\"\",\"\",filEst!F69)","v":""},{"$f":"IF(filEst!G69=\"\",\"\",filEst!G69)","v":""},{"$f":"IF(filEst!L69=\"\",\"\",filEst!L69)","v":""},null,"",{"$f":"IF(filEst!K69=\"\",\"\",filEst!K69)","v":""},null,null,null,null,null,null,null,null,null,null,null,null,null,null,null,null,null,null,null,null,null,null,null,null,null,null,null,null,null,null,null,null,null,null,null,null,null,null,null,null,null,null,null,null,null,null,"","","","","",0,0]
[null,null,null,null,null,{"$f":"IF(filEst!F70=\"\",\"\",filEst!F70)","v":""},{"$f":"IF(filEst!G70=\"\",\"\",filEst!G70)","v":""},{"$f":"IF(filEst!L70=\"\",\"\",filEst!L70)","v":""},null,"",{"$f":"IF(filEst!K70=\"\",\"\",filEst!K70)","v":""},null,null,null,null,null,null,null,null,null,null,null,null,null,null,null,null,null,null,null,null,null,null,null,null,null,null,null,null,null,null,null,null,null,null,null,null,null,null,null,null,null,null,null,null,null,null,"","","","","",0,0]
[null,null,null,null,null,null,null,null,null,null,null,null,null,null,null,null,null,null,null,null,null,null,null,null,null,null,null,null,null,null,null,null,null,null,null,null,null,null,null,null,null,null,null,null,null,null,null,null,null,null,null,null,null,null,null,null,null,{"$f":"SUM(BF21:BF70)","v":0},0,0,0,0,0,{"$f":"MAX(BL21:BL70)","v":0}]
[]
[]
[]
[]
[]
[]
[]
[]
[]
[null,null,null,null,null,null,"select_load",{"$f":"main!$AE$10","v":50}]
[null,null,null,null,null,null,"actual_save"]
[]
[]
[]
[]
[]
[]
[]
[]
[]
[]
[]
[]
[]
[]
[]
[]
[1,2,3,4,5,6,7,8,9,10,11,12,13,14,15,16,17,18,19,20,21,22,23,24,25,26,27,28,29,30,31,32,33,34,35,36,37,38,39,40,41,42,43,44,45,46,47,48,49,50,51,52,53,54,55,56,57,58,59,60,61,62,63,64,65,66,67,68,69,70,71,72,73,74,75,76,77,78,79]
[null,null,null,null,null,null,null,null,null,null,null,null,"M","N","O","P","Q","R","S","T","U","V","W","X","Y","Z","AA","AB","AC","AD","AE","AF","AG","AH","AI","AJ","AK","AL","AM","AN","AO","AP","AQ","AR","AS","AT","AU","AV","AW","AX","AY","AZ","BA","BB","BC","BD","BE","BF","BG","BH","BI","BJ","BK","BL","BM","BN","BO","BP","BQ","BR","BS","BT","BU","BV","BW","BX","BY","BZ","CA","CB"]
[null,null,null,null,null,null,"alto de fila",12,null,null,null,null,null,null,null,null,null,null,null,null,null,null,null,null,null,null,null,null,null,null,null,null,null,null,null,null,null,null,null,null,null,null,null,null,null,null,null,null,null,null,null,null,null,null,null,null,25]
[null,null,null,null,null,null,"ancho col nro",1]
[null,null,null,null,null,null,"ancho col est",65]
[null,null,null,null,null,null,"ancho col indicadores",1.29,null,null,null,null,"asi","nom","tot"]
[null,null,null,null,null,null,"ancho col prom ind",2.5,null,null,null,null,0,0,0]
[null,null,null,null,null,null,"ancho nota prof",3.3,null,null,null,null,1.29,26,2]
[null,null,null,null,null,null,"ancho nota bim",2.5,null,null,null,null,1.57,28,2.29]
[null,null,null,null,null,null,"tamaño fuente",10,null,null,null,null,1.86,30,2.57]
[null,null,null,null,null,null,"alto indicador",120,null,null,null,null,2.14,32,2.86]
[null,null,null,null,null,null,"bimestre",1,null,null,null,null,2.4300000000000002,34,3.14]
[null,null,null,null,null,null,"nroest",17,null,null,null,null,2.71,36,3.43]
[null,null,null,null,null,null,"hiden_cri_eva",1,null,null,null,null,3,38,3.71]
[null,null,null,null,null,null,"alto fila crieva",80]
[null,null,null,null,null,null,"alto fila actv",80]
[null,null,null,null,null,null,"paneles",0]
[null,null,null,null,null,null,"sit_bim_comp",1]
[null,null,null,null,null,null,"sit_bim_abrv",0.5]
[null,null,null,null,null,null,"cod_area"]
[null,null,null,null,null,null,"hiden_actividedes",1]
[null,null,null,null,null,null,null,null,null,null,null,null,"Nro",null,null,null,null,null,null,null,null,null,null,null,null,null,null,null,null,null,null,null,null,null,null,null,null,null,null,null,null,null,null,null,null,null,null,null,null,null,null,null,null,null,null,null,25]
[]
[]
[]
[]
[]
[]
[]
[]
[]
[]
[]
[]
[]
[]
[]
[]
[]
[]
[]
[]
[]
[]
[]
[]
[]
[]
[]
[]
[]
[]
[]
[]
[]
[]
[]
[]
[]
[]
[]
[]
[]
[]
[]
[]
[]
[]
[]
[]
[]
[]
[]
[]
[]
[]
[]
[]
[]
[]
[]
[]
[]
[]
[]
[]
[]
[]
[]
[]
[]
[]
[]
[]
[]
[]
[]
[]
[]
[]
[]
[]
[]
[]
[]
[]
[]
[]
[]
[]
[]
[]
[]
[]
[]
[]
[]
[]
[]
[]
[]
[null,null,null,null,null,null,null,null,null,null,null,null,"Nro",null,null,null,null,null,null,null,null,null,null,null,null,null,null,null,null,null,null,null,null,null,null,null,null,null,null,null,null,null,null,null,null,null,null,null,null,null,null,null,null,null,null,null,25]
[]
[]
[]
[]
[]
[]
[]
[]
[]
[]
[]
[]
[]
[]
[]
[]
[]
[]
[]
[]
[]
[]
[]
[]
[]
[]
[]
[]
[]
[]
[]
[]
[]
[]
[]
[]
[]
[]
[]
[]
[]
[]
[]
[]
[]
[]
[]
[]
[]
[]
[]
[]
[]
[]
[]
[]
[]
[]
[]
[]
[]
[]
[]
[]
[]
[]
[]
[]
[]
[]
[]
[]
[]
[]
[]
[]
[]
[]
[]
[]
[]
[]
[]
[]
[]
[]
[]
[]
[]
[]
[]
[]
[]
[]
[]
[]
[]
[]
[]
[null,null,null,null,null,null,null,null,null,null,null,null,"Nro",null,null,null,null,null,null,null,null,null,null,null,null,null,null,null,null,null,null,null,null,null,null,null,null,null,null,null,null,null,null,null,null,null,null,null,null,null,null,null,null,null,null,null,25]
[]
[]
[]
[]
[]
[]
[]
[]
[]
[]
[]
[]
[]
[]
[]
[]
[]
[]
[]
[]
[]
[]
[]
[]
[]
[]
[]
[]
[]
[]
[]
[]
[]
[]
[]
[]
[]
[]
[]
[]
[]
[]
[]
[]
[]
[]
[]
[]
[]
[]
[]
[]
[]
[]
[]
[]
[]
[]
[]
[]
[]
[]
[]
[]
[]
[]
[]
[]
[]
[]
[]
[]
[]
[]
[]
[]
[]
[]
[]
[]
[]
[]
[]
[]
[]
[]
[]
[]
[]
[]
[]
[]
[]
[]
[]
[]
[]
[]
[]
[null,null,null,null,null,null,null,null,null,null,null,null,"Nro",null,null,null,null,null,null,null,null,null,null,null,null,null,null,null,null,null,null,null,null,null,null,null,null,null,null,null,null,null,null,null,null,null,null,null,null,null,null,null,null,null,null,null,25]
[]
[]
[]
[]
[]
[]
[]
[]
[]
[]
[]
[]
[]
[]
[]
[]
[]
[]
[]
[]
[]
[]
[]
[]
[]
[]
[]
[]
[]
[]
[]
[]
[]
[]
[]
[]
[]
[]
[]
[]
[]
[]
[]
[]
[]
[]
[]
[]
[]
[]
[]
[]
[]
[]
[]
[]
[]
[]
[]
[]
[]
[]
[]
[]
[]
[]
[]
[]
[]
[]
[]
[]
[]
[]
[]
[]
[]
[]
[]
[]
[]
[]
[]
[]
[]
[]
[]
[]
[]
[]
[]
[]
[]
[]
[]
[]
[]
[]
[]
[null,null,null,null,null,null,null,null,null,null,null,null,"Nro",null,null,null,null,null,null,null,null,null,null,null,null,null,null,null,null,null,null,null,null,null,null,null,null,null,null,null,null,null,null,null,null,null,null,null,null,null,null,null,null,null,null,null,25]
[]
[]
[]
[]
[]
[]
[]
[]
[]
[]
[]
[]
[]
[]
[]
[]
[]
[]
[]
[]
[]
[]
[]
[]
[]
[]
[]
[]
[]
[]
[]
[]
[]
[]
[]
[]
[]
[]
[]
[]
[]
[]
[]
[]
[]
[]
[]
[]
[]
[]
[]
[]
[]
[]
[]
[]
[]
[]
[]
[]
[]
[]
[]
[]
[]
[]
[]
[]
[]
[]
[]
[]
[]
[]
[]
[]
[]
[]
[]
[]
[]
[]
[]
[]
[]
[]
[]
[]
[]
[]
[]
[]
[]
[]
[]
[]
[]
[]
[]
[null,null,null,null,null,null,null,null,null,null,null,null,"Nro",null,null,null,null,null,null,null,null,null,null,null,null,null,null,null,null,null,null,null,null,null,null,null,null,null,null,null,null,null,null,null,null,null,null,null,null,null,null,null,null,null,null,null,25]
[]
[]
[]
[]
[]
[]
[]
[]
[]
[]
[]
[]
[]
[]
[]
[]
[]
[]
[]
[]
[]
[]
[]
[]
[]
[]
[]
[]
[]
[]
[]
[]
[]
[]
[]
[]
[]
[]
[]
[]
[]
[]
[]
[]
[]
[]
[]
[]
[]
[]
[]
[]
[]
[]
[]
[]
[]
[]
[]
[]
[]
[]
[]
[]
[]
[]
[]
[]
[]
[]
[]
[]
[]
[]
[]
[]
[]
[]
[]
[]
[]
[]
[]
[]
[]
[]
[]
[]
[]
[]
[]
[]
[]
[]
[]
[]
[]
[]
[]
[null,null,null,null,null,null,null,null,null,null,null,null,"Nro",null,null,null,null,null,null,null,null,null,null,null,null,null,null,null,null,null,null,null,null,null,null,null,null,null,null,null,null,null,null,null,null,null,null,null,null,null,null,null,null,null,null,null,25]
[]
[]
[]
[]
[]
[]
[]
[]
[]
[]
[]
[]
[]
[]
[]
[]
[]
[]
[]
[]
[]
[]
[]
[]
[]
[]
[]
[]
[]
[]
[]
[]
[]
[]
[]
[]
[]
[]
[]
[]
[]
[]
[]
[]
[]
[]
[]
[]
[]
[]
[]
[]
[]
[]
[]
[]
[]
[]
[]
[]
[]
[]
[]
[]
[]
[]
[]
[]
[]
[]
[]
[]
[]
[]
[]
[]
[]
[]
[]
[]
[]
[]
[]
[]
[]
[]
[]
[]
[]
[]
[]
[]
[]
[]
[]
[]
[]
[]
[]
[null,null,null,null,null,null,null,null,null,null,null,null,"Nro",null,null,null,null,null,null,null,null,null,null,null,null,null,null,null,null,null,null,null,null,null,null,null,null,null,null,null,null,null,null,null,null,null,null,null,null,null,null,null,null,null,null,null,25]
[]
[]
[]
[]
[]
[]
[]
[]
[]
[]
[]
[]
[]
[]
[]
[]
[]
[]
[]
[]
[]
[]
[]
[]
[]
[]
[]
[]
[]
[]
[]
[]
[]
[]
[]
[]
[]
[]
[]
[]
[]
[]
[]
[]
[]
[]
[]
[]
[]
[]
[]
[]
[]
[]
[]
[]
[]
[]
[]
[]
[]
[]
[]
[]
[]
[]
[]
[]
[]
[]
[]
[]
[]
[]
[]
[]
[]
[]
[]
[]
[]
[]
[]
[]
[]
[]
[]
[]
[]
[]
[]
[]
[]
[]
[]
[]
[]
[]
[]
[null,null,null,null,null,null,null,null,null,null,null,null,"Nro",null,null,null,null,null,null,null,null,null,null,null,null,null,null,null,null,null,null,null,null,null,null,null,null,null,null,null,null,null,null,null,null,null,null,null,null,null,null,null,null,null,null,null,25]
[]
[]
[]
[]
[]
[]
[]
[]
[]
[]
[]
[]
[]
[]
[]
[]
[]
[]
[]
[]
[]
[]
[]
[]
[]
[]
[]
[]
[]
[]
[]
[]
[]
[]
[]
[]
[]
[]
[]
[]
[]
[]
[]
[]
[]
[]
[]
[]
[]
[]
[]
[]
[]
[]
[]
[]
[]
[]
[]
[]
[]
[]
[]
[]
[]
[]
[]
[]
[]
[]
[]
[]
[]
[]
[]
[]
[]
[]
[]
[]
[]
[]
[]
[]
[]
[]
[]
[]
[]
[]
[]
[]
[]
[]
[]
[]
[]
[]
[]
[null,null,null,null,null,null,null,null,null,null,null,null,"Nro",null,null,null,null,null,null,null,null,null,null,null,null,null,null,null,null,null,null,null,null,null,null,null,null,null,null,null,null,null,null,null,null,null,null,null,null,null,null,null,null,null,null,null,25]
[]
[]
[]
[]
[]
[]
[]
[]
[]
[]
[]
[]
[]
[]
[]
[]
[]
[]
[]
[]
[]
[]
[]
[]
[]
[]
[]
[]
[]
[]
[]
[]
[]
[]
[]
[]
[]
[]
[]
[]
[]
[]
[]
[]
[]
[]
[]
[]
[]
[]
[]
[]
[]
[]
[]
[]
[]
[]
[]
[]
[]
[]
[]
[]
[]
[]
[]
[]
[]
[]
[]
[]
[]
[]
[]
[]
[]
[]
[]
[]
[]
[]
[]
[]
[]
[]
[]
[]
[]
[]
[]
[]
[]
[]
[]
[]
[]
[]
[]
[null,null,null,null,null,null,null,null,null,null,null,null,"Nro",null,null,null,null,null,null,null,null,null,null,null,null,null,null,null,null,null,null,null,null,null,null,null,null,null,null,null,null,null,null,null,null,null,null,null,null,null,null,null,null,null,null,null,25]
[]
[]
[]
[]
[]
[]
[]
[]
[]
[]
[]
[]
[]
[]
[]
[]
[]
[]
[]
[]
[]
[]
[]
[]
[]
[]
[]
[]
[]
[]
[]
[]
[]
[]
[]
[]
[]
[]
[]
[]
[]
[]
[]
[]
[]
[]
[]
[]
[]
[]
[]
[]
[]
[]
[]
[]
[]
[]
[]
[]
[]
[]
[]
[]
[]
[]
[]
[]
[]
[]
[]
[]
[]
[]
[]
[]
[]
[]
[]
[]
[]
[]
[]
[]
[]
[]
[]
[]
[]
[]
[]
[]
[]
[]
[]
[]
[]
[]
[]
[null,null,null,null,null,null,null,null,null,null,null,null,"Nro",null,null,null,null,null,null,null,null,null,null,null,null,null,null,null,null,null,null,null,null,null,null,null,null,null,null,null,null,null,null,null,null,null,null,null,null,null,null,null,null,null,null,null,25]
[]
[]
[]
[]
[]
[]
[]
[]
[]
[]
[]
[]
[]
[]
[]
[]
[]
[]
[]
[]
[]
[]
[]
[]
[]
[]
[]
[]
[]
[]
[]
[]
[]
[]
[]
[]
[]
[]
[]
[]
[]
[]
[]
[]
[]
[]
[]
[]
[]
[]
[]
[]
[]
[]
[]
[]
[]
[]
[]
[]
[]
[]
[]
[]
[]
[]
[]
[]
[]
[]
[]
[]
[]
[]
[]
[]
[]
[]
[]
[]
[]
[]
[]
[]
[]
[]
[]
[]
[]
[]
[]
[]
[]
[]
[]
[]
[]
[]
[]
[null,null,null,null,null,null,null,null,null,null,null,null,"Nro",null,null,null,null,null,null,null,null,null,null,null,null,null,null,null,null,null,null,null,null,null,null,null,null,null,null,null,null,null,null,null,null,null,null,null,null,null,null,null,null,null,null,null,25]
[]
[]
[]
[]
[]
[]
[]
[]
[]
[]
[]
[]
[]
[]
[]
[]
[]
[]
[]
[]
[]
[]
[]
[]
[]
[]
[]
[]
[]
[]
[]
[]
[]
[]
[]
[]
[]
[]
[]
[]
[]
[]
[]
[]
[]
[]
[]
[]
[]
[]
[]
[]
[]
[]
[]
[]
[]
[]
[]
[]
[]
[]
[]
[]
[]
[]
[]
[]
[]
[]
[]
[]
[]
[]
[]
[]
[]
[]
[]
[]
[]
[]
[]
[]
[]
[]
[]
[]
[]
[]
[]
[]
[]
[]
[]
[]
[]
[]
[]
[null,null,null,null,null,null,null,null,null,null,null,null,"Nro",null,null,null,null,null,null,null,null,null,null,null,null,null,null,null,null,null,null,null,null,null,null,null,null,null,null,null,null,null,null,null,null,null,null,null,null,null,null,null,null,null,null,null,25]
[]
[]
[]
[]
[]
[]
[]
[]
[]
[]
[]
[]
[]
[]
[]
[]
[]
[]
[]
[]
[]
[]
[]
[]
[]
[]
[]
[]
[]
[]
[]
[]
[]
[]
[]
[]
[]
[]
[]
[]
[]
[]
[]
[]
[]
[]
[]
[]
[]
[]
[]
[]
[]
[]
[]
[]
[]
[]
[]
[]
[]
[]
[]
[]
[]
[]
[]
[]
[]
[]
[]
[]
[]
[]
[]
[]
[]
[]
[]
[]
[]
[]
[]
[]
[]
[]
[]
[]
[]
[]
[]
[]
[]
[]
[]
[]
[]
[]
[]
[null,null,null,null,null,null,null,null,null,null,null,null,"Nro",null,null,null,null,null,null,null,null,null,null,null,null,null,null,null,null,null,null,null,null,null,null,null,null,null,null,null,null,null,null,null,null,null,null,null,null,null,null,null,null,null,null,null,25]
[]
[]
[]
[]
[]
[]
[]
[]
[]
[]
[]
[]
[]
[]
[]
[]
[]
[]
[]
[]
[]
[]
[]
[]
[]
[]
[]
[]
[]
[]
[]
[]
[]
[]
[]
[]
[]
[]
[]
[]
[]
[]
[]
[]
[]
[]
[]
[]
[]
[]
[]
[]
[]
[]
[]
[]
[]
[]
[]
[]
[]
[]
[]
[]
[]
[]
[]
[]
[]
[]
[]
[]
[]
[]
[]
[]
[]
[]
[]
[]
[]
[]
[]
[]
[]
[]
[]
[]
[]
[]
[]
[]
[]
[]
[]
[]
[]
[]
[]
[null,null,null,null,null,null,null,null,null,null,null,null,"Nro",null,null,null,null,null,null,null,null,null,null,null,null,null,null,null,null,null,null,null,null,null,null,null,null,null,null,null,null,null,null,null,null,null,null,null,null,null,null,null,null,null,null,null,25]
[]
[]
[]
[]
[]
[]
[]
[]
[]
[]
[]
[]
[]
[]
[]
[]
[]
[]
[]
[]
[]
[]
[]
[]
[]
[]
[]
[]
[]
[]
[]
[]
[]
[]
[]
[]
[]
[]
[]
[]
[]
[]
[]
[]
[]
[]
[]
[]
[]
[]
[]
[]
[]
[]
[]
[]
[]
[]
[]
[]
[]
[]
[]
[]
[]
[]
[]
[]
[]
[]
[]
[]
[]
[]
[]
[]
[]
[]
[]
[]
[]
[]
[]
[]
[]
[]
[]
[]
[]
[]
[]
[]
[]
[]
[]
[]
[]
[]
[]
[null,null,null,null,null,null,null,null,null,null,null,null,"Nro",null,null,null,null,null,null,null,null,null,null,null,null,null,null,null,null,null,null,null,null,null,null,null,null,null,null,null,null,null,null,null,null,null,null,null,null,null,null,null,null,null,null,null,25]
[]
[]
[]
[]
[]
[]
[]
[]
[]
[]
[]
[]
[]
[]
[]
[]
[]
[]
[]
[]
[]
[]
[]
[]
[]
[]
[]
[]
[]
[]
[]
[]
[]
[]
[]
[]
[]
[]
[]
[]
[]
[]
[]
[]
[]
[]
[]
[]
[]
[]
[]
[]
[]
[]
[]
[]
[]
[]
[]
[]
[]
[]
[]
[]
[]
[]
[]
[]
[]
[]
[]
[]
[]
[]
[]
[]
[]
[]
[]
[]
[]
[]
[]
[]
[]
[]
[]
[]
[]
[]
[]
[]
[]
[]
[]
[]
[]
[]
[]
[null,null,null,null,null,null,null,null,null,null,null,null,"Nro",null,null,null,null,null,null,null,null,null,null,null,null,null,null,null,null,null,null,null,null,null,null,null,null,null,null,null,null,null,null,null,null,null,null,null,null,null,null,null,null,null,null,null,25]
[]
[]
[]
[]
[]
[]
[]
[]
[]
[]
[]
[]
[]
[]
[]
[]
[]
[]
[]
[]
[]
[]
[]
[]
[]
[]
[]
[]
[]
[]
[]
[]
[]
[]
[]
[]
[]
[]
[]
[]
[]
[]
[]
[]
[]
[]
[]
[]
[]
[]
[]
[]
[]
[]
[]
[]
[]
[]
[]
[]
[]
[]
[]
[]
[]
[]
[]
[]
[]
[]
[]
[]
[]
[]
[]
[]
[]
[]
[]
[]
[]
[]
[]
[]
[]
[]
[]
[]
[]
[]
[]
[]
[]
[]
[]
[]
[]
[]
[]
[null,null,null,null,null,null,null,null,null,null,null,null,"Nro",null,null,null,null,null,null,null,null,null,null,null,null,null,null,null,null,null,null,null,null,null,null,null,null,null,null,null,null,null,null,null,null,null,null,null,null,null,null,null,null,null,null,null,25]
[]
[]
[]
[]
[]
[]
[]
[]
[]
[]
[]
[]
[]
[]
[]
[]
[]
[]
[]
[]
[]
[]
[]
[]
[]
[]
[]
[]
[]
[]
[]
[]
[]
[]
[]
[]
[]
[]
[]
[]
[]
[]
[]
[]
[]
[]
[]
[]
[]
[]
[]
[]
[]
[]
[]
[]
[]
[]
[]
[]
[]
[]
[]
[]
[]
[]
[]
[]
[]
[]
[]
[]
[]
[]
[]
[]
[]
[]
[]
[]
[]
[]
[]
[]
[]
[]
[]
[]
[]
[]
[]
[]
[]
[]
[]
[]
[]
[]
[]
[null,null,null,null,null,null,null,null,null,null,null,null,"Nro",null,null,null,null,null,null,null,null,null,null,null,null,null,null,null,null,null,null,null,null,null,null,null,null,null,null,null,null,null,null,null,null,null,null,null,null,null,null,null,null,null,null,null,25]
[]
[]
[]
[]
[]
[]
[]
[]
[]
[]
[]
[]
[]
[]
[]
[]
[]
[]
[]
[]
[]
[]
[]
[]
[]
[]
[]
[]
[]
[]
[]
[]
[]
[]
[]
[]
[]
[]
[]
[]
[]
[]
[]
[]
[]
[]
[]
[]
[]
[]
[]
[]
[]
[]
[]
[]
[]
[]
[]
[]
[]
[]
[]
[]
[]
[]
[]
[]
[]
[]
[]
[]
[]
[]
[]
[]
[]
[]
[]
[]
[]
[]
[]
[]
[]
[]
[]
[]
[]
[]
[]
[]
[]
[]
[]
[]
[]
[]
[]
[null,null,null,null,null,null,null,null,null,null,null,null,"Nro",null,null,null,null,null,null,null,null,null,null,null,null,null,null,null,null,null,null,null,null,null,null,null,null,null,null,null,null,null,null,null,null,null,null,null,null,null,null,null,null,null,null,null,25]

{"sheet":"CA","index":12,"n_rows":119,"n_cols":96,"rows_kept":119,"cut":false,"hidden":false,"merged":[[1,39,1,40],[7,32,7,33],[6,32,6,33],[1,6,1,38],[2,26,2,28],[4,26,4,28],[16,12,16,17],[17,18,17,21],[17,24,18,24],[17,31,18,31],[16,26,16,31],[17,17,18,17],[17,11,17,14],[17,15,17,16],[17,22,17,23],[17,29,17,30],[16,19,16,24],[16,63,17,64],[16,66,17,67],[16,69,17,69],[16,70,17,71],[16,68,17,68],[16,56,17,57],[16,59,17,60],[16,62,17,62],[16,61,17,61],[16,54,17,54],[16,39,18,39],[16,40,18,40],[17,25,17,28],[16,52,17,53],[16,55,17,55]]}
[]
[null,null,null,null,null,null,"CENTRALIZADOR ANUAL      ",null,null,null,null,null,null,null,null,null,null,null,null,null,null,null,null,null,null,null,null,null,null,null,null,null,null,null,null,null,null,null,null,"GESTION 2023",null,"Ξ",null,"EXPORTAR CENTRALIZADOR","     Dos clic's para  Exportar el centralizdor "]
[null,null,null,null,null,null,{"$f":"datpro!$E$6","v":0},"sie UE",null,null,"UNIDAD EDUCATIVA ",null,{"$f":"IF(datpro!$E$7=\"\",\"\",datpro!$E$7)","v":""},null,null,null,null,null,null,null,null,null,null,null,null,null,"APROBADOS",null,null,null,null,null,null,null,null,null,null,null,null,null,null,"u"]
[null,null,null,null,null,null,{"$f":"datpro!$M$14","v":50},"Nro Lista",null,null,"NIVEL ",null,{"$f":"datpro!$E$10","v":""},null,null,null,null,null,null,null,null,null,null,null,null,null,{"$f":"COUNTIF(AN21:AN70,\">=50,500\")","v":0},{"$f":"IF(AA4=0,0,ROUND((AA4*100)/(AA4+AA6),0))","v":0},"%",null,null,null,null,null,null,null,null,null,null,null,null,null,null,"Editar Centralizador "]
[null,null,null,null,null,null,{"$f":"datpro!$C$12","v":"S"},"curso",null,null,"AÑO DE ESCOLARIDAD",null,{"$f":"CONCATENATE( datpro!$E$11,\"  -  \",datpro!$E$12)","v":"  -  "},null,null,null,null,null,null,null,null,null,null,null,null,null,"REPROBADOS"]
[null,null,null,null,null,null,{"$f":"DAY(TODAY())","v":6},"dia",null,null,"DIRECTORA/OR",null,{"$f":"IF(datpro!$E$8=\"\",\"\",datpro!$E$8)","v":""},null,null,null,null,null,null,null,null,null,null,null,null,null,{"$f":"COUNTIFS(AN21:AN70,\">=1\",AN21:AN70,\"<=50,499\")","v":0},{"$f":"IF(AA4=0,0,ROUND((AA6*100)/(AA4+AA6),0))","v":0},"%",null,null,null,null,null,null,null,null,null,null,null,null,null,null,"RESUMEN C.A. "]
[null,null,null,null,null,null,{"$f":"MONTH(TODAY())","v":3},"mes",null,null,"MAESTRA/O",null,{"$f":"IF(datpro!$E$9=\"\",\"\",datpro!$E$9)","v":""}]
[null,null,null,null,null,null,"CA","nameSheet",null,null,"CAMPO ",null,{"$f":"IF(datpro!$E$13=\"\",\"\",datpro!$E$13)","v":""},null,null,null,null,null,null,null,null,null,null,null,null,null,null,null,null,null,null,null,null,null,null,null,null,null,null,null,null,null,"Tri."]
[null,null,null,null,null,null,{"$f":"datpro!$E$15","v":""},"area",null,null,"ÁREA",null,{"$f":"IF(datpro!$E$14=\"\",\"\",datpro!$E$14)","v":0},null,null,null,null,null,null,null,null,null,null,null,null,null,null,null,null,null,null,null,null,null,null,null,null,null,null,null,null,null,3,"INFORME TRIMESTRE","     dos clic's para  ver el informe "]
[]
[null,null,null,null,null,null,null,null,null,null,null,null,null,null,null,null,null,null,null,null,null,null,null,null,null,null,null,null,null,null,null,null,null,null,null,null,null,null,null,1]
[null,null,null,null,null,null,null,null,null,null,null,null,null,null,null,null,null,null,null,null,null,null,null,null,null,null,null,null,null,null,null,null,null,null,null,null,null,null,null,2]
[null,null,null,null,null,null,null,null,null,null,null,null,null,null,null,null,null,null,null,null,null,null,null,null,null,null,null,null,null,null,null,null,null,null,null,null,null,null,null,3]
[]
[null,null,null,null,null,null,"F21:AO70","AO"]
[null,null,null,null,null,null,null,null,null,null,null,null,null,null,null,null,null,null,null,null,null,null,null,null,null,null,null,null,null,null,null,1]
[null,null,null,null,null,null,{"$f":"datpro!$C$15","v":""},"col Area",null,null,null,"\u0081","1⁰ TRIMESTRE",null,null,null,null,null,"\u0081","2⁰ TRIMESTRE",null,null,null,null,null,"\u0081","3⁰ TRIMESTRE",null,null,null,null,null,null,null,null,null,null,null,null,"PROMEDIO ANUAL","OBSERVACIONES",null,null,null,null,null,null,null,null,null,null,null,"SER",null,"SABER","HECER","DECIDIR",null,null,"SER",null,"SABER","HECER","DECIDIR",null,null,"SER",null,"SABER","HECER","DECIDIR"]
[null,null,null,null,null,null,null,null,null,null,null,"EV. MAESTRA/O",null,null,null,"EV.EST.",null,"PROMEDIO","EV. MAESTRA/O",null,null,null,"EV.EST.",null,"PROMEDIO","EV. MAESTRA/O",null,null,null,"EV.EST.",null,"PROMEDIO"]
[null,null,null,null,null,null,null,null,null,null,null,"SER","SABER","HACER","DECIDIR","SER","DECIDIR",null,"SER","SABER","HACER","DECIDIR","SER","DECIDIR",null,"SER","SABER","HACER","DECIDIR","SER","DECIDIR",null,"PRM anaul","observ",null,"estudiante","PRM B1","PRM B2","PRM B3",null,null,null,null,null,null,null,null,null,null,null,"codigo",null,"PROCESOS","AUTOEVALUACION","PROCESOS","PROCESOS","PROCESOS","AUTOEVALUACION","PRM B1","PROCESOS","AUTOEVALUACION","PROCESOS","PROCESOS","PROCESOS","AUTOEVALUACION","PRM B2","PROCESOS","AUTOEVALUACION","PROCESOS","PROCESOS","PROCESOS","AUTOEVALUACION","PRM B3","PRM anaul","observ",null,null,"codigo",null,"SER","SABER","HACER","DECIDIR","PRM B1","SER","SABER","HACER","DECIDIR","PRM B2","SER","SABER","HACER","DECIDIR","PRM B3","PRM anaul","observ"]
[null,null,null,null,null,"Nº","COD","gen","v1","v2","APELLIDOS Y NOMBRES","SE","SA","HA","DE","ES","ED","T1","SE","SA","HA","DE","ES","ED","T2","SE","SA","HA","DE","ES","ED","T3",null,null,null,null,null,null,null,null,null,null,8,"Tamaño de fuente (8..16)",null,null,null,null,null,null,{"$f":"$G$17","v":""},"ESTUDIANTES",null,null,null,null,null,null,null,null,null,null,null,null,null,null,null,null,null,null,null,null,null,null,null,null,null,{"$f":"$G$17","v":""},"ESTUDIANTE"]
[null,null,null,null,null,{"$f":"IF(filEst!F21=\"\",\"\",filEst!F21)","v":""},{"$f":"IF(filEst!G21=\"\",\"\",filEst!G21)","v":""},{"$f":"IF(filEst!L21=\"\",\"\",filEst!L21)","v":""},null,null,{"$f":"IF(filEst!K21=\"\",\"\",filEst!K21)","v":""},{"$f":"IF(valB1!$W21=\"\",\"\",FIXED(valB1!$W21,0,FALSE))","v":""},{"$f":"IF(valB1!$AR21=\"\",\"\",FIXED(valB1!$AR21,0,FALSE))","v":""},{"$f":"IF(valB1!$BM21=\"\",\"\",FIXED(valB1!$BM21,0,FALSE))","v":""},{"$f":"IF(valB1!$BX21=\"\",\"\",FIXED(valB1!$BX21,0,FALSE))","v":""},{"$f":"IF(valB1!$BY21=\"\",\"\",FIXED(valB1!$BY21,0,FALSE))","v":""},{"$f":"IF(valB1!$BZ21=\"\",\"\",FIXED(valB1!$BZ21,0,FALSE))","v":""},{"$f":"valB1!$CC21","v":""},{"$f":"IF(valB2!$W21=\"\",\"\",FIXED(valB2!$W21,0,FALSE))","v":""},{"$f":"IF(valB2!$AR21=\"\",\"\",FIXED(valB2!$AR21,0,FALSE))","v":""},{"$f":"IF(valB2!$BM21=\"\",\"\",FIXED(valB2!$BM21,0,FALSE))","v":""},{"$f":"IF(valB2!$BX21=\"\",\"\",FIXED(valB2!$BX21,0,FALSE))","v":""},{"$f":"IF(valB2!$BY21=\"\",\"\",FIXED(valB2!$BY21,0,FALSE))","v":""},{"$f":"IF(valB2!$BZ21=\"\",\"\",FIXED(valB2!$BZ21,0,FALSE))","v":""},null,{"$f":"IF(valB3!$W21=\"\",\"\",FIXED(valB3!$W21,0,FALSE))","v":""},{"$f":"IF(valB3!$AR21=\"\",\"\",FIXED(valB3!$AR21,0,FALSE))","v":""},{"$f":"IF(valB3!$BM21=\"\",\"\",FIXED(valB3!$BM21,0,FALSE))","v":""},{"$f":"IF(valB3!$BX21=\"\",\"\",FIXED(valB3!$BX21,0,FALSE))","v":""},{"$f":"IF(valB3!$BY21=\"\",\"\",FIXED(valB3!$BY21,0,FALSE))","v":""},{"$f":"IF(valB3!$BZ21=\"\",\"\",FIXED(valB3!$BZ21,0,FALSE))","v":""},null,{"$f":"AN21","v":""},{"$f":"AO21","v":""},null,{"$f":"K21","v":""},{"$f":"R21","v":""},{"$f":"Y21","v":0},{"$f":"AF21","v":0},{"$f":"IF(R21=\"\",\"\",IF(Y21=\"\",\"\",IF(AF21=\"\",\"\",ROUND((R21+Y21+AF21)/3,$AN$79))))","v":""},{"$f":"IF(AN21=\"\",\"\",IF(AN21<50.5,datpro!$H$25,datpro!$H$24))","v":""},null,11,"Alto de Fila (10..20)",null,null,null,null,null,null,{"$f":"G21","v":""},{"$f":"K21","v":""},{"$f":"L21","v":""},{"$f":"P21","v":""},{"$f":"M21","v":""},{"$f":"N21","v":""},{"$f":"O21","v":""},{"$f":"Q21","v":""},{"$f":"R21","v":""},{"$f":"S21","v":""},{"$f":"W21","v":""},{"$f":"T21","v":""},{"$f":"U21","v":""},{"$f":"V21","v":""},{"$f":"X21","v":""},{"$f":"Y21","v":0},{"$f":"Z21","v":""},{"$f":"AD21","v":""},{"$f":"AA21","v":""},{"$f":"AB21","v":""},{"$f":"AC21","v":""},{"$f":"AE21","v":""},{"$f":"AF21","v":0},{"$f":"AN21","v":""},{"$f":"AO21","v":""},null,null,{"$f":"G21","v":""},{"$f":"AZ21","v":""},{"$f":"IFERROR(BA21+BB21,\"\")","v":""},{"$f":"BC21","v":""},{"$f":"BD21","v":""},{"$f":"IFERROR(BE21+BF21,\"\")","v":""},{"$f":"BG21","v":""},{"$f":"IFERROR(BH21+BI21,\"\")","v":""},{"$f":"BJ21","v":""},{"$f":"BK21","v":""},{"$f":"IFERROR(BL21+BM21,\"\")","v":""},{"$f":"BN21","v":0},{"$f":"IFERROR(BO21+BP21,\"\")","v":""},{"$f":"BQ21","v":""},{"$f":"BR21","v":""},{"$f":"IFERROR(BS21+BT21,\"\")","v":""},{"$f":"BU21","v":0},{"$f":"BV21","v":""},{"$f":"BW21","v":""}]
[null,null,null,null,null,{"$f":"IF(filEst!F22=\"\",\"\",filEst!F22)","v":""},{"$f":"IF(filEst!G22=\"\",\"\",filEst!G22)","v":""},{"$f":"IF(filEst!L22=\"\",\"\",filEst!L22)","v":""},null,null,{"$f":"IF(filEst!K22=\"\",\"\",filEst!K22)","v":""},{"$f":"IF(valB1!$W22=\"\",\"\",FIXED(valB1!$W22,0,FALSE))","v":""},{"$f":"IF(valB1!$AR22=\"\",\"\",FIXED(valB1!$AR22,0,FALSE))","v":""},{"$f":"IF(valB1!$BM22=\"\",\"\",FIXED(valB1!$BM22,0,FALSE))","v":""},{"$f":"IF(valB1!$BX22=\"\",\"\",FIXED(valB1!$BX22,0,FALSE))","v":""},{"$f":"IF(valB1!$BY22=\"\",\"\",FIXED(valB1!$BY22,0,FALSE))","v":""},{"$f":"IF(valB1!$BZ22=\"\",\"\",FIXED(valB1!$BZ22,0,FALSE))","v":""},{"$f":"valB1!$CC22","v":""},{"$f":"IF(valB2!$W22=\"\",\"\",FIXED(valB2!$W22,0,FALSE))","v":""},{"$f":"IF(valB2!$AR22=\"\",\"\",FIXED(valB2!$AR22,0,FALSE))","v":""},{"$f":"IF(valB2!$BM22=\"\",\"\",FIXED(valB2!$BM22,0,FALSE))","v":""},{"$f":"IF(valB2!$BX22=\"\",\"\",FIXED(valB2!$BX22,0,FALSE))","v":""},{"$f":"IF(valB2!$BY22=\"\",\"\",FIXED(valB2!$BY22,0,FALSE))","v":""},{"$f":"IF(valB2!$BZ22=\"\",\"\",FIXED(valB2!$BZ22,0,FALSE))","v":""},null,{"$f":"IF(valB3!$W22=\"\",\"\",FIXED(valB3!$W22,0,FALSE))","v":""},{"$f":"IF(valB3!$AR22=\"\",\"\",FIXED(valB3!$AR22,0,FALSE))","v":""},{"$f":"IF(valB3!$BM22=\"\",\"\",FIXED(valB3!$BM22,0,FALSE))","v":""},{"$f":"IF(valB3!$BX22=\"\",\"\",FIXED(valB3!$BX22,0,FALSE))","v":""},{"$f":"IF(valB3!$BY22=\"\",\"\",FIXED(valB3!$BY22,0,FALSE))","v":""},{"$f":"IF(valB3!$BZ22=\"\",\"\",FIXED(valB3!$BZ22,0,FALSE))","v":""},null,{"$f":"AN22","v":""},{"$f":"AO22","v":""},null,{"$f":"K22","v":""},{"$f":"R22","v":""},{"$f":"Y22","v":0},{"$f":"AF22","v":0},{"$f":"IF(R22=\"\",\"\",IF(Y22=\"\",\"\",IF(AF22=\"\",\"\",ROUND((R22+Y22+AF22)/3,$AN$79))))","v":""},{"$f":"IF(AN22=\"\",\"\",IF(AN22<50.5,datpro!$H$25,datpro!$H$24))","v":""},null,3,"Ancho de Columna (1..7) ",null,null,null,null,null,null,{"$f":"G22","v":""},{"$f":"K22","v":""},"",{"$f":"P22","v":""},{"$f":"M22","v":""},"","",{"$f":"Q22","v":""},"","",{"$f":"W22","v":""},{"$f":"T22","v":""},"","",{"$f":"X22","v":""},0,"",{"$f":"AD22","v":""},{"$f":"AA22","v":""},"","","",0,{"$f":"AN22","v":""},"",null,null,{"$f":"G22","v":""},{"$f":"AZ22","v":""},{"$f":"IFERROR(BA22+BB22,\"\")","v":""},{"$f":"BC22","v":""},"",{"$f":"IFERROR(BE22+BF22,\"\")","v":""},{"$f":"BG22","v":""},{"$f":"IFERROR(BH22+BI22,\"\")","v":""},{"$f":"BJ22","v":""},"",{"$f":"IFERROR(BL22+BM22,\"\")","v":""},{"$f":"BN22","v":0},{"$f":"IFERROR(BO22+BP22,\"\")","v":""},{"$f":"BQ22","v":""},"",{"$f":"IFERROR(BS22+BT22,\"\")","v":""},{"$f":"BU22","v":0},{"$f":"BV22","v":""},""]
[null,null,null,null,null,{"$f":"IF(filEst!F23=\"\",\"\",filEst!F23)","v":""},{"$f":"IF(filEst!G23=\"\",\"\",filEst!G23)","v":""},{"$f":"IF(filEst!L23=\"\",\"\",filEst!L23)","v":""},null,null,{"$f":"IF(filEst!K23=\"\",\"\",filEst!K23)","v":""},{"$f":"IF(valB1!$W23=\"\",\"\",FIXED(valB1!$W23,0,FALSE))","v":""},{"$f":"IF(valB1!$AR23=\"\",\"\",FIXED(valB1!$AR23,0,FALSE))","v":""},{"$f":"IF(valB1!$BM23=\"\",\"\",FIXED(valB1!$BM23,0,FALSE))","v":""},{"$f":"IF(valB1!$BX23=\"\",\"\",FIXED(valB1!$BX23,0,FALSE))","v":""},{"$f":"IF(valB1!$BY23=\"\",\"\",FIXED(valB1!$BY23,0,FALSE))","v":""},{"$f":"IF(valB1!$BZ23=\"\",\"\",FIXED(valB1!$BZ23,0,FALSE))","v":""},{"$f":"valB1!$CC23","v":""},{"$f":"IF(valB2!$W23=\"\",\"\",FIXED(valB2!$W23,0,FALSE))","v":""},{"$f":"IF(valB2!$AR23=\"\",\"\",FIXED(valB2!$AR23,0,FALSE))","v":""},{"$f":"IF(valB2!$BM23=\"\",\"\",FIXED(valB2!$BM23,0,FALSE))","v":""},{"$f":"IF(valB2!$BX23=\"\",\"\",FIXED(valB2!$BX23,0,FALSE))","v":""},{"$f":"IF(valB2!$BY23=\"\",\"\",FIXED(valB2!$BY23,0,FALSE))","v":""},{"$f":"IF(valB2!$BZ23=\"\",\"\",FIXED(valB2!$BZ23,0,FALSE))","v":""},null,{"$f":"IF(valB3!$W23=\"\",\"\",FIXED(valB3!$W23,0,FALSE))","v":""},{"$f":"IF(valB3!$AR23=\"\",\"\",FIXED(valB3!$AR23,0,FALSE))","v":""},{"$f":"IF(valB3!$BM23=\"\",\"\",FIXED(valB3!$BM23,0,FALSE))","v":""},{"$f":"IF(valB3!$BX23=\"\",\"\",FIXED(valB3!$BX23,0,FALSE))","v":""},{"$f":"IF(valB3!$BY23=\"\",\"\",FIXED(valB3!$BY23,0,FALSE))","v":""},{"$f":"IF(valB3!$BZ23=\"\",\"\",FIXED(valB3!$BZ23,0,FALSE))","v":""},null,"","",null,"","",0,0,"",{"$f":"IF(AN23=\"\",\"\",IF(AN23<50.5,datpro!$H$25,datpro!$H$24))","v":""},null,null,null,null,null,null,null,null,null,"","","","","","","","","","","","","","","",0,"","","","","","",0,"","",null,null,"","","","","","",{"$f":"BG23","v":""},"","","","",0,"","","","",0,"",""]
[null,null,null,null,null,{"$f":"IF(filEst!F24=\"\",\"\",filEst!F24)","v":""},{"$f":"IF(filEst!G24=\"\",\"\",filEst!G24)","v":""},{"$f":"IF(filEst!L24=\"\",\"\",filEst!L24)","v":""},null,null,{"$f":"IF(filEst!K24=\"\",\"\",filEst!K24)","v":""},{"$f":"IF(valB1!$W24=\"\",\"\",FIXED(valB1!$W24,0,FALSE))","v":""},{"$f":"IF(valB1!$AR24=\"\",\"\",FIXED(valB1!$AR24,0,FALSE))","v":""},{"$f":"IF(valB1!$BM24=\"\",\"\",FIXED(valB1!$BM24,0,FALSE))","v":""},{"$f":"IF(valB1!$BX24=\"\",\"\",FIXED(valB1!$BX24,0,FALSE))","v":""},{"$f":"IF(valB1!$BY24=\"\",\"\",FIXED(valB1!$BY24,0,FALSE))","v":""},{"$f":"IF(valB1!$BZ24=\"\",\"\",FIXED(valB1!$BZ24,0,FALSE))","v":""},{"$f":"valB1!$CC24","v":""},{"$f":"IF(valB2!$W24=\"\",\"\",FIXED(valB2!$W24,0,FALSE))","v":""},{"$f":"IF(valB2!$AR24=\"\",\"\",FIXED(valB2!$AR24,0,FALSE))","v":""},{"$f":"IF(valB2!$BM24=\"\",\"\",FIXED(valB2!$BM24,0,FALSE))","v":""},{"$f":"IF(valB2!$BX24=\"\",\"\",FIXED(valB2!$BX24,0,FALSE))","v":""},{"$f":"IF(valB2!$BY24=\"\",\"\",FIXED(valB2!$BY24,0,FALSE))","v":""},{"$f":"IF(valB2!$BZ24=\"\",\"\",FIXED(valB2!$BZ24,0,FALSE))","v":""},null,{"$f":"IF(valB3!$W24=\"\",\"\",FIXED(valB3!$W24,0,FALSE))","v":""},{"$f":"IF(valB3!$AR24=\"\",\"\",FIXED(valB3!$AR24,0,FALSE))","v":""},{"$f":"IF(valB3!$BM24=\"\",\"\",FIXED(valB3!$BM24,0,FALSE))","v":""},{"$f":"IF(valB3!$BX24=\"\",\"\",FIXED(valB3!$BX24,0,FALSE))","v":""},{"$f":"IF(valB3!$BY24=\"\",\"\",FIXED(valB3!$BY24,0,FALSE))","v":""},{"$f":"IF(valB3!$BZ24=\"\",\"\",FIXED(valB3!$BZ24,0,FALSE))","v":""},null,"","",null,"","",0,0,"",{"$f":"IF(AN24=\"\",\"\",IF(AN24<50.5,datpro!$H$25,datpro!$H$24))","v":""},null,null,null,null,null,null,null,null,null,"","","","","","","","","","","","","","","",0,"","","","","","",0,"","",null,null,"","","","","","",{"$f":"BG24","v":""},"","","","",0,"","","","",{"$f":"BU24","v":0},"",""]
[null,null,null,null,null,{"$f":"IF(filEst!F25=\"\",\"\",filEst!F25)","v":""},{"$f":"IF(filEst!G25=\"\",\"\",filEst!G25)","v":""},{"$f":"IF(filEst!L25=\"\",\"\",filEst!L25)","v":""},null,null,{"$f":"IF(filEst!K25=\"\",\"\",filEst!K25)","v":""},{"$f":"IF(valB1!$W25=\"\",\"\",FIXED(valB1!$W25,0,FALSE))","v":""},{"$f":"IF(valB1!$AR25=\"\",\"\",FIXED(valB1!$AR25,0,FALSE))","v":""},{"$f":"IF(valB1!$BM25=\"\",\"\",FIXED(valB1!$BM25,0,FALSE))","v":""},{"$f":"IF(valB1!$BX25=\"\",\"\",FIXED(valB1!$BX25,0,FALSE))","v":""},{"$f":"IF(valB1!$BY25=\"\",\"\",FIXED(valB1!$BY25,0,FALSE))","v":""},{"$f":"IF(valB1!$BZ25=\"\",\"\",FIXED(valB1!$BZ25,0,FALSE))","v":""},{"$f":"valB1!$CC25","v":""},{"$f":"IF(valB2!$W25=\"\",\"\",FIXED(valB2!$W25,0,FALSE))","v":""},{"$f":"IF(valB2!$AR25=\"\",\"\",FIXED(valB2!$AR25,0,FALSE))","v":""},{"$f":"IF(valB2!$BM25=\"\",\"\",FIXED(valB2!$BM25,0,FALSE))","v":""},{"$f":"IF(valB2!$BX25=\"\",\"\",FIXED(valB2!$BX25,0,FALSE))","v":""},{"$f":"IF(valB2!$BY25=\"\",\"\",FIXED(valB2!$BY25,0,FALSE))","v":""},{"$f":"IF(valB2!$BZ25=\"\",\"\",FIXED(valB2!$BZ25,0,FALSE))","v":""},null,{"$f":"IF(valB3!$W25=\"\",\"\",FIXED(valB3!$W25,0,FALSE))","v":""},{"$f":"IF(valB3!$AR25=\"\",\"\",FIXED(valB3!$AR25,0,FALSE))","v":""},{"$f":"IF(valB3!$BM25=\"\",\"\",FIXED(valB3!$BM25,0,FALSE))","v":""},{"$f":"IF(valB3!$BX25=\"\",\"\",FIXED(valB3!$BX25,0,FALSE))","v":""},{"$f":"IF(valB3!$BY25=\"\",\"\",FIXED(valB3!$BY25,0,FALSE))","v":""},{"$f":"IF(valB3!$BZ25=\"\",\"\",FIXED(valB3!$BZ25,0,FALSE))","v":""},null,"","",null,"","",0,0,"",{"$f":"IF(AN25=\"\",\"\",IF(AN25<50.5,datpro!$H$25,datpro!$H$24))","v":""},null,null,null,null,null,null,null,null,null,"","","","","","","","","",{"$f":"S25","v":""},"","","","","",0,{"$f":"Z25","v":""},"","","","","",0,"","",null,null,"","","","","","","","","","","",0,"","","","",0,"",""]
[null,null,null,null,null,{"$f":"IF(filEst!F26=\"\",\"\",filEst!F26)","v":""},{"$f":"IF(filEst!G26=\"\",\"\",filEst!G26)","v":""},{"$f":"IF(filEst!L26=\"\",\"\",filEst!L26)","v":""},null,null,{"$f":"IF(filEst!K26=\"\",\"\",filEst!K26)","v":""},{"$f":"IF(valB1!$W26=\"\",\"\",FIXED(valB1!$W26,0,FALSE))","v":""},{"$f":"IF(valB1!$AR26=\"\",\"\",FIXED(valB1!$AR26,0,FALSE))","v":""},{"$f":"IF(valB1!$BM26=\"\",\"\",FIXED(valB1!$BM26,0,FALSE))","v":""},{"$f":"IF(valB1!$BX26=\"\",\"\",FIXED(valB1!$BX26,0,FALSE))","v":""},{"$f":"IF(valB1!$BY26=\"\",\"\",FIXED(valB1!$BY26,0,FALSE))","v":""},{"$f":"IF(valB1!$BZ26=\"\",\"\",FIXED(valB1!$BZ26,0,FALSE))","v":""},{"$f":"valB1!$CC26","v":""},{"$f":"IF(valB2!$W26=\"\",\"\",FIXED(valB2!$W26,0,FALSE))","v":""},{"$f":"IF(valB2!$AR26=\"\",\"\",FIXED(valB2!$AR26,0,FALSE))","v":""},{"$f":"IF(valB2!$BM26=\"\",\"\",FIXED(valB2!$BM26,0,FALSE))","v":""},{"$f":"IF(valB2!$BX26=\"\",\"\",FIXED(valB2!$BX26,0,FALSE))","v":""},{"$f":"IF(valB2!$BY26=\"\",\"\",FIXED(valB2!$BY26,0,FALSE))","v":""},{"$f":"IF(valB2!$BZ26=\"\",\"\",FIXED(valB2!$BZ26,0,FALSE))","v":""},null,{"$f":"IF(valB3!$W26=\"\",\"\",FIXED(valB3!$W26,0,FALSE))","v":""},{"$f":"IF(valB3!$AR26=\"\",\"\",FIXED(valB3!$AR26,0,FALSE))","v":""},{"$f":"IF(valB3!$BM26=\"\",\"\",FIXED(valB3!$BM26,0,FALSE))","v":""},{"$f":"IF(valB3!$BX26=\"\",\"\",FIXED(valB3!$BX26,0,FALSE))","v":""},{"$f":"IF(valB3!$BY26=\"\",\"\",FIXED(valB3!$BY26,0,FALSE))","v":""},{"$f":"IF(valB3!$BZ26=\"\",\"\",FIXED(valB3!$BZ26,0,FALSE))","v":""},null,"","",null,"","",0,0,"",{"$f":"IF(AN26=\"\",\"\",IF(AN26<50.5,datpro!$H$25,datpro!$H$24))","v":""},null,null,null,null,null,null,null,null,null,"","","","","","","","","",{"$f":"S26","v":""},"","","","","",0,{"$f":"Z26","v":""},"","","","","",0,"","",null,null,"","","","","","","",{"$f":"IFERROR(BH26+BI26,\"\")","v":""},{"$f":"BJ26","v":""},{"$f":"BK26","v":""},{"$f":"IFERROR(BL26+BM26,\"\")","v":""},0,"","","","",0,"",""]
[null,null,null,null,null,{"$f":"IF(filEst!F27=\"\",\"\",filEst!F27)","v":""},{"$f":"IF(filEst!G27=\"\",\"\",filEst!G27)","v":""},{"$f":"IF(filEst!L27=\"\",\"\",filEst!L27)","v":""},null,null,{"$f":"IF(filEst!K27=\"\",\"\",filEst!K27)","v":""},{"$f":"IF(valB1!$W27=\"\",\"\",FIXED(valB1!$W27,0,FALSE))","v":""},{"$f":"IF(valB1!$AR27=\"\",\"\",FIXED(valB1!$AR27,0,FALSE))","v":""},{"$f":"IF(valB1!$BM27=\"\",\"\",FIXED(valB1!$BM27,0,FALSE))","v":""},{"$f":"IF(valB1!$BX27=\"\",\"\",FIXED(valB1!$BX27,0,FALSE))","v":""},{"$f":"IF(valB1!$BY27=\"\",\"\",FIXED(valB1!$BY27,0,FALSE))","v":""},{"$f":"IF(valB1!$BZ27=\"\",\"\",FIXED(valB1!$BZ27,0,FALSE))","v":""},{"$f":"valB1!$CC27","v":""},{"$f":"IF(valB2!$W27=\"\",\"\",FIXED(valB2!$W27,0,FALSE))","v":""},{"$f":"IF(valB2!$AR27=\"\",\"\",FIXED(valB2!$AR27,0,FALSE))","v":""},{"$f":"IF(valB2!$BM27=\"\",\"\",FIXED(valB2!$BM27,0,FALSE))","v":""},{"$f":"IF(valB2!$BX27=\"\",\"\",FIXED(valB2!$BX27,0,FALSE))","v":""},{"$f":"IF(valB2!$BY27=\"\",\"\",FIXED(valB2!$BY27,0,FALSE))","v":""},{"$f":"IF(valB2!$BZ27=\"\",\"\",FIXED(valB2!$BZ27,0,FALSE))","v":""},null,{"$f":"IF(valB3!$W27=\"\",\"\",FIXED(valB3!$W27,0,FALSE))","v":""},{"$f":"IF(valB3!$AR27=\"\",\"\",FIXED(valB3!$AR27,0,FALSE))","v":""},{"$f":"IF(valB3!$BM27=\"\",\"\",FIXED(valB3!$BM27,0,FALSE))","v":""},{"$f":"IF(valB3!$BX27=\"\",\"\",FIXED(valB3!$BX27,0,FALSE))","v":""},{"$f":"IF(valB3!$BY27=\"\",\"\",FIXED(valB3!$BY27,0,FALSE))","v":""},{"$f":"IF(valB3!$BZ27=\"\",\"\",FIXED(valB3!$BZ27,0,FALSE))","v":""},null,"","",null,"","",0,0,"",{"$f":"IF(AN27=\"\",\"\",IF(AN27<50.5,datpro!$H$25,datpro!$H$24))","v":""},null,null,null,null,null,null,null,null,null,"","",{"$f":"L27","v":""},"","","","","","",{"$f":"S27","v":""},"","","","","",0,{"$f":"Z27","v":""},"","","","","",0,"","",null,null,"","","","","","","","","","","",0,{"$f":"IFERROR(BO27+BP27,\"\")","v":""},"","","",0,"",""]
[null,null,null,null,null,{"$f":"IF(filEst!F28=\"\",\"\",filEst!F28)","v":""},{"$f":"IF(filEst!G28=\"\",\"\",filEst!G28)","v":""},{"$f":"IF(filEst!L28=\"\",\"\",filEst!L28)","v":""},null,null,{"$f":"IF(filEst!K28=\"\",\"\",filEst!K28)","v":""},{"$f":"IF(valB1!$W28=\"\",\"\",FIXED(valB1!$W28,0,FALSE))","v":""},{"$f":"IF(valB1!$AR28=\"\",\"\",FIXED(valB1!$AR28,0,FALSE))","v":""},{"$f":"IF(valB1!$BM28=\"\",\"\",FIXED(valB1!$BM28,0,FALSE))","v":""},{"$f":"IF(valB1!$BX28=\"\",\"\",FIXED(valB1!$BX28,0,FALSE))","v":""},{"$f":"IF(valB1!$BY28=\"\",\"\",FIXED(valB1!$BY28,0,FALSE))","v":""},{"$f":"IF(valB1!$BZ28=\"\",\"\",FIXED(valB1!$BZ28,0,FALSE))","v":""},{"$f":"valB1!$CC28","v":""},{"$f":"IF(valB2!$W28=\"\",\"\",FIXED(valB2!$W28,0,FALSE))","v":""},{"$f":"IF(valB2!$AR28=\"\",\"\",FIXED(valB2!$AR28,0,FALSE))","v":""},{"$f":"IF(valB2!$BM28=\"\",\"\",FIXED(valB2!$BM28,0,FALSE))","v":""},{"$f":"IF(valB2!$BX28=\"\",\"\",FIXED(valB2!$BX28,0,FALSE))","v":""},{"$f":"IF(valB2!$BY28=\"\",\"\",FIXED(valB2!$BY28,0,FALSE))","v":""},{"$f":"IF(valB2!$BZ28=\"\",\"\",FIXED(valB2!$BZ28,0,FALSE))","v":""},null,{"$f":"IF(valB3!$W28=\"\",\"\",FIXED(valB3!$W28,0,FALSE))","v":""},{"$f":"IF(valB3!$AR28=\"\",\"\",FIXED(valB3!$AR28,0,FALSE))","v":""},{"$f":"IF(valB3!$BM28=\"\",\"\",FIXED(valB3!$BM28,0,FALSE))","v":""},{"$f":"IF(valB3!$BX28=\"\",\"\",FIXED(valB3!$BX28,0,FALSE))","v":""},{"$f":"IF(valB3!$BY28=\"\",\"\",FIXED(valB3!$BY28,0,FALSE))","v":""},{"$f":"IF(valB3!$BZ28=\"\",\"\",FIXED(valB3!$BZ28,0,FALSE))","v":""},null,"","",null,"","",0,0,"",{"$f":"IF(AN28=\"\",\"\",IF(AN28<50.5,datpro!$H$25,datpro!$H$24))","v":""},null,null,null,null,null,null,null,null,null,"","","",{"$f":"P28","v":""},"","","","","","",{"$f":"W28","v":""},"","","","",0,"",{"$f":"AD28","v":""},"","","","",0,"","",null,null,"","","","","","","","","","","",0,"",{"$f":"BQ28","v":""},"","",0,"",""]
[null,null,null,null,null,{"$f":"IF(filEst!F29=\"\",\"\",filEst!F29)","v":""},{"$f":"IF(filEst!G29=\"\",\"\",filEst!G29)","v":""},{"$f":"IF(filEst!L29=\"\",\"\",filEst!L29)","v":""},null,null,{"$f":"IF(filEst!K29=\"\",\"\",filEst!K29)","v":""},{"$f":"IF(valB1!$W29=\"\",\"\",FIXED(valB1!$W29,0,FALSE))","v":""},{"$f":"IF(valB1!$AR29=\"\",\"\",FIXED(valB1!$AR29,0,FALSE))","v":""},{"$f":"IF(valB1!$BM29=\"\",\"\",FIXED(valB1!$BM29,0,FALSE))","v":""},{"$f":"IF(valB1!$BX29=\"\",\"\",FIXED(valB1!$BX29,0,FALSE))","v":""},{"$f":"IF(valB1!$BY29=\"\",\"\",FIXED(valB1!$BY29,0,FALSE))","v":""},{"$f":"IF(valB1!$BZ29=\"\",\"\",FIXED(valB1!$BZ29,0,FALSE))","v":""},{"$f":"valB1!$CC29","v":""},{"$f":"IF(valB2!$W29=\"\",\"\",FIXED(valB2!$W29,0,FALSE))","v":""},{"$f":"IF(valB2!$AR29=\"\",\"\",FIXED(valB2!$AR29,0,FALSE))","v":""},{"$f":"IF(valB2!$BM29=\"\",\"\",FIXED(valB2!$BM29,0,FALSE))","v":""},{"$f":"IF(valB2!$BX29=\"\",\"\",FIXED(valB2!$BX29,0,FALSE))","v":""},{"$f":"IF(valB2!$BY29=\"\",\"\",FIXED(valB2!$BY29,0,FALSE))","v":""},{"$f":"IF(valB2!$BZ29=\"\",\"\",FIXED(valB2!$BZ29,0,FALSE))","v":""},null,{"$f":"IF(valB3!$W29=\"\",\"\",FIXED(valB3!$W29,0,FALSE))","v":""},{"$f":"IF(valB3!$AR29=\"\",\"\",FIXED(valB3!$AR29,0,FALSE))","v":""},{"$f":"IF(valB3!$BM29=\"\",\"\",FIXED(valB3!$BM29,0,FALSE))","v":""},{"$f":"IF(valB3!$BX29=\"\",\"\",FIXED(valB3!$BX29,0,FALSE))","v":""},{"$f":"IF(valB3!$BY29=\"\",\"\",FIXED(valB3!$BY29,0,FALSE))","v":""},{"$f":"IF(valB3!$BZ29=\"\",\"\",FIXED(valB3!$BZ29,0,FALSE))","v":""},null,"","",null,"","",0,0,{"$f":"IF(R29=\"\",\"\",IF(Y29=\"\",\"\",IF(AF29=\"\",\"\",ROUND((R29+Y29+AF29)/3,$AN$79))))","v":""},{"$f":"IF(AN29=\"\",\"\",IF(AN29<50.5,datpro!$H$25,datpro!$H$24))","v":""},null,null,null,null,null,null,null,null,null,"","","","",{"$f":"M29","v":""},"","","","","",{"$f":"W29","v":""},{"$f":"T29","v":""},"","","",0,"",{"$f":"AD29","v":""},{"$f":"AA29","v":""},"","","",0,"","",null,null,"","","","","","","","","","","",0,"","",{"$f":"BR29","v":""},"",0,"",""]
[null,null,null,null,null,{"$f":"IF(filEst!F30=\"\",\"\",filEst!F30)","v":""},{"$f":"IF(filEst!G30=\"\",\"\",filEst!G30)","v":""},{"$f":"IF(filEst!L30=\"\",\"\",filEst!L30)","v":""},null,null,{"$f":"IF(filEst!K30=\"\",\"\",filEst!K30)","v":""},{"$f":"IF(valB1!$W30=\"\",\"\",FIXED(valB1!$W30,0,FALSE))","v":""},{"$f":"IF(valB1!$AR30=\"\",\"\",FIXED(valB1!$AR30,0,FALSE))","v":""},{"$f":"IF(valB1!$BM30=\"\",\"\",FIXED(valB1!$BM30,0,FALSE))","v":""},{"$f":"IF(valB1!$BX30=\"\",\"\",FIXED(valB1!$BX30,0,FALSE))","v":""},{"$f":"IF(valB1!$BY30=\"\",\"\",FIXED(valB1!$BY30,0,FALSE))","v":""},{"$f":"IF(valB1!$BZ30=\"\",\"\",FIXED(valB1!$BZ30,0,FALSE))","v":""},{"$f":"valB1!$CC30","v":""},{"$f":"IF(valB2!$W30=\"\",\"\",FIXED(valB2!$W30,0,FALSE))","v":""},{"$f":"IF(valB2!$AR30=\"\",\"\",FIXED(valB2!$AR30,0,FALSE))","v":""},{"$f":"IF(valB2!$BM30=\"\",\"\",FIXED(valB2!$BM30,0,FALSE))","v":""},{"$f":"IF(valB2!$BX30=\"\",\"\",FIXED(valB2!$BX30,0,FALSE))","v":""},{"$f":"IF(valB2!$BY30=\"\",\"\",FIXED(valB2!$BY30,0,FALSE))","v":""},{"$f":"IF(valB2!$BZ30=\"\",\"\",FIXED(valB2!$BZ30,0,FALSE))","v":""},null,{"$f":"IF(valB3!$W30=\"\",\"\",FIXED(valB3!$W30,0,FALSE))","v":""},{"$f":"IF(valB3!$AR30=\"\",\"\",FIXED(valB3!$AR30,0,FALSE))","v":""},{"$f":"IF(valB3!$BM30=\"\",\"\",FIXED(valB3!$BM30,0,FALSE))","v":""},{"$f":"IF(valB3!$BX30=\"\",\"\",FIXED(valB3!$BX30,0,FALSE))","v":""},{"$f":"IF(valB3!$BY30=\"\",\"\",FIXED(valB3!$BY30,0,FALSE))","v":""},{"$f":"IF(valB3!$BZ30=\"\",\"\",FIXED(valB3!$BZ30,0,FALSE))","v":""},null,"","",null,"","",0,0,{"$f":"IF(R30=\"\",\"\",IF(Y30=\"\",\"\",IF(AF30=\"\",\"\",ROUND((R30+Y30+AF30)/3,$AN$79))))","v":""},{"$f":"IF(AN30=\"\",\"\",IF(AN30<50.5,datpro!$H$25,datpro!$H$24))","v":""},null,null,null,null,null,null,null,null,null,"","","","","",{"$f":"N30","v":""},"","","","","",{"$f":"T30","v":""},{"$f":"U30","v":""},"","",0,"","",{"$f":"AA30","v":""},{"$f":"AB30","v":""},"","",0,"","",null,null,"","","","","","","","","","","",0,"","","",{"$f":"IFERROR(BS30+BT30,\"\")","v":""},0,"",""]
[null,null,null,null,null,{"$f":"IF(filEst!F31=\"\",\"\",filEst!F31)","v":""},{"$f":"IF(filEst!G31=\"\",\"\",filEst!G31)","v":""},{"$f":"IF(filEst!L31=\"\",\"\",filEst!L31)","v":""},null,null,{"$f":"IF(filEst!K31=\"\",\"\",filEst!K31)","v":""},{"$f":"IF(valB1!$W31=\"\",\"\",FIXED(valB1!$W31,0,FALSE))","v":""},{"$f":"IF(valB1!$AR31=\"\",\"\",FIXED(valB1!$AR31,0,FALSE))","v":""},{"$f":"IF(valB1!$BM31=\"\",\"\",FIXED(valB1!$BM31,0,FALSE))","v":""},{"$f":"IF(valB1!$BX31=\"\",\"\",FIXED(valB1!$BX31,0,FALSE))","v":""},{"$f":"IF(valB1!$BY31=\"\",\"\",FIXED(valB1!$BY31,0,FALSE))","v":""},{"$f":"IF(valB1!$BZ31=\"\",\"\",FIXED(valB1!$BZ31,0,FALSE))","v":""},{"$f":"valB1!$CC31","v":""},{"$f":"IF(valB2!$W31=\"\",\"\",FIXED(valB2!$W31,0,FALSE))","v":""},{"$f":"IF(valB2!$AR31=\"\",\"\",FIXED(valB2!$AR31,0,FALSE))","v":""},{"$f":"IF(valB2!$BM31=\"\",\"\",FIXED(valB2!$BM31,0,FALSE))","v":""},{"$f":"IF(valB2!$BX31=\"\",\"\",FIXED(valB2!$BX31,0,FALSE))","v":""},{"$f":"IF(valB2!$BY31=\"\",\"\",FIXED(valB2!$BY31,0,FALSE))","v":""},{"$f":"IF(valB2!$BZ31=\"\",\"\",FIXED(valB2!$BZ31,0,FALSE))","v":""},null,{"$f":"IF(valB3!$W31=\"\",\"\",FIXED(valB3!$W31,0,FALSE))","v":""},{"$f":"IF(valB3!$AR31=\"\",\"\",FIXED(valB3!$AR31,0,FALSE))","v":""},{"$f":"IF(valB3!$BM31=\"\",\"\",FIXED(valB3!$BM31,0,FALSE))","v":""},{"$f":"IF(valB3!$BX31=\"\",\"\",FIXED(valB3!$BX31,0,FALSE))","v":""},{"$f":"IF(valB3!$BY31=\"\",\"\",FIXED(valB3!$BY31,0,FALSE))","v":""},{"$f":"IF(valB3!$BZ31=\"\",\"\",FIXED(valB3!$BZ31,0,FALSE))","v":""},null,"","",null,"","",0,0,"",{"$f":"IF(AN31=\"\",\"\",IF(AN31<50.5,datpro!$H$25,datpro!$H$24))","v":""},null,null,null,null,null,null,null,null,null,"","","","","","",{"$f":"O31","v":""},"","","","","","",{"$f":"V31","v":""},"",0,"","","","",{"$f":"AC31","v":""},"",0,"","",null,null,"","","","","","","","","","","",0,"","","","",{"$f":"BU31","v":0},"",""]
[null,null,null,null,null,{"$f":"IF(filEst!F32=\"\",\"\",filEst!F32)","v":""},{"$f":"IF(filEst!G32=\"\",\"\",filEst!G32)","v":""},{"$f":"IF(filEst!L32=\"\",\"\",filEst!L32)","v":""},null,null,{"$f":"IF(filEst!K32=\"\",\"\",filEst!K32)","v":""},{"$f":"IF(valB1!$W32=\"\",\"\",FIXED(valB1!$W32,0,FALSE))","v":""},{"$f":"IF(valB1!$AR32=\"\",\"\",FIXED(valB1!$AR32,0,FALSE))","v":""},{"$f":"IF(valB1!$BM32=\"\",\"\",FIXED(valB1!$BM32,0,FALSE))","v":""},{"$f":"IF(valB1!$BX32=\"\",\"\",FIXED(valB1!$BX32,0,FALSE))","v":""},{"$f":"IF(valB1!$BY32=\"\",\"\",FIXED(valB1!$BY32,0,FALSE))","v":""},{"$f":"IF(valB1!$BZ32=\"\",\"\",FIXED(valB1!$BZ32,0,FALSE))","v":""},{"$f":"valB1!$CC32","v":""},{"$f":"IF(valB2!$W32=\"\",\"\",FIXED(valB2!$W32,0,FALSE))","v":""},{"$f":"IF(valB2!$AR32=\"\",\"\",FIXED(valB2!$AR32,0,FALSE))","v":""},{"$f":"IF(valB2!$BM32=\"\",\"\",FIXED(valB2!$BM32,0,FALSE))","v":""},{"$f":"IF(valB2!$BX32=\"\",\"\",FIXED(valB2!$BX32,0,FALSE))","v":""},{"$f":"IF(valB2!$BY32=\"\",\"\",FIXED(valB2!$BY32,0,FALSE))","v":""},{"$f":"IF(valB2!$BZ32=\"\",\"\",FIXED(valB2!$BZ32,0,FALSE))","v":""},null,{"$f":"IF(valB3!$W32=\"\",\"\",FIXED(valB3!$W32,0,FALSE))","v":""},{"$f":"IF(valB3!$AR32=\"\",\"\",FIXED(valB3!$AR32,0,FALSE))","v":""},{"$f":"IF(valB3!$BM32=\"\",\"\",FIXED(valB3!$BM32,0,FALSE))","v":""},{"$f":"IF(valB3!$BX32=\"\",\"\",FIXED(valB3!$BX32,0,FALSE))","v":""},{"$f":"IF(valB3!$BY32=\"\",\"\",FIXED(valB3!$BY32,0,FALSE))","v":""},{"$f":"IF(valB3!$BZ32=\"\",\"\",FIXED(valB3!$BZ32,0,FALSE))","v":""},null,"","",null,"","",0,0,"",{"$f":"IF(AN32=\"\",\"\",IF(AN32<50.5,datpro!$H$25,datpro!$H$24))","v":""},null,null,null,null,null,null,null,null,null,"","","","","","",{"$f":"O32","v":""},"","","","","","",{"$f":"V32","v":""},"",0,"","","","",{"$f":"AC32","v":""},"",0,"","",null,null,"","","","","","","","","","","",0,"","","","",0,"",""]
[null,null,null,null,null,{"$f":"IF(filEst!F33=\"\",\"\",filEst!F33)","v":""},{"$f":"IF(filEst!G33=\"\",\"\",filEst!G33)","v":""},{"$f":"IF(filEst!L33=\"\",\"\",filEst!L33)","v":""},null,null,{"$f":"IF(filEst!K33=\"\",\"\",filEst!K33)","v":""},{"$f":"IF(valB1!$W33=\"\",\"\",FIXED(valB1!$W33,0,FALSE))","v":""},{"$f":"IF(valB1!$AR33=\"\",\"\",FIXED(valB1!$AR33,0,FALSE))","v":""},{"$f":"IF(valB1!$BM33=\"\",\"\",FIXED(valB1!$BM33,0,FALSE))","v":""},{"$f":"IF(valB1!$BX33=\"\",\"\",FIXED(valB1!$BX33,0,FALSE))","v":""},{"$f":"IF(valB1!$BY33=\"\",\"\",FIXED(valB1!$BY33,0,FALSE))","v":""},{"$f":"IF(valB1!$BZ33=\"\",\"\",FIXED(valB1!$BZ33,0,FALSE))","v":""},{"$f":"valB1!$CC33","v":""},{"$f":"IF(valB2!$W33=\"\",\"\",FIXED(valB2!$W33,0,FALSE))","v":""},{"$f":"IF(valB2!$AR33=\"\",\"\",FIXED(valB2!$AR33,0,FALSE))","v":""},{"$f":"IF(valB2!$BM33=\"\",\"\",FIXED(valB2!$BM33,0,FALSE))","v":""},{"$f":"IF(valB2!$BX33=\"\",\"\",FIXED(valB2!$BX33,0,FALSE))","v":""},{"$f":"IF(valB2!$BY33=\"\",\"\",FIXED(valB2!$BY33,0,FALSE))","v":""},{"$f":"IF(valB2!$BZ33=\"\",\"\",FIXED(valB2!$BZ33,0,FALSE))","v":""},null,{"$f":"IF(valB3!$W33=\"\",\"\",FIXED(valB3!$W33,0,FALSE))","v":""},{"$f":"IF(valB3!$AR33=\"\",\"\",FIXED(valB3!$AR33,0,FALSE))","v":""},{"$f":"IF(valB3!$BM33=\"\",\"\",FIXED(valB3!$BM33,0,FALSE))","v":""},{"$f":"IF(valB3!$BX33=\"\",\"\",FIXED(valB3!$BX33,0,FALSE))","v":""},{"$f":"IF(valB3!$BY33=\"\",\"\",FIXED(valB3!$BY33,0,FALSE))","v":""},{"$f":"IF(valB3!$BZ33=\"\",\"\",FIXED(valB3!$BZ33,0,FALSE))","v":""},null,"","",null,"","",0,0,"",{"$f":"IF(AN33=\"\",\"\",IF(AN33<50.5,datpro!$H$25,datpro!$H$24))","v":""},null,null,null,null,null,null,null,null,null,"","","","","","","",{"$f":"Q33","v":""},"","","","","","",{"$f":"X33","v":""},0,"","","","","","",0,"","",null,null,"","","","","","","","","","","",0,"","","","",0,"",""]
[null,null,null,null,null,{"$f":"IF(filEst!F34=\"\",\"\",filEst!F34)","v":""},{"$f":"IF(filEst!G34=\"\",\"\",filEst!G34)","v":""},{"$f":"IF(filEst!L34=\"\",\"\",filEst!L34)","v":""},null,null,{"$f":"IF(filEst!K34=\"\",\"\",filEst!K34)","v":""},{"$f":"IF(valB1!$W34=\"\",\"\",FIXED(valB1!$W34,0,FALSE))","v":""},{"$f":"IF(valB1!$AR34=\"\",\"\",FIXED(valB1!$AR34,0,FALSE))","v":""},{"$f":"IF(valB1!$BM34=\"\",\"\",FIXED(valB1!$BM34,0,FALSE))","v":""},{"$f":"IF(valB1!$BX34=\"\",\"\",FIXED(valB1!$BX34,0,FALSE))","v":""},{"$f":"IF(valB1!$BY34=\"\",\"\",FIXED(valB1!$BY34,0,FALSE))","v":""},{"$f":"IF(valB1!$BZ34=\"\",\"\",FIXED(valB1!$BZ34,0,FALSE))","v":""},{"$f":"valB1!$CC34","v":""},{"$f":"IF(valB2!$W34=\"\",\"\",FIXED(valB2!$W34,0,FALSE))","v":""},{"$f":"IF(valB2!$AR34=\"\",\"\",FIXED(valB2!$AR34,0,FALSE))","v":""},{"$f":"IF(valB2!$BM34=\"\",\"\",FIXED(valB2!$BM34,0,FALSE))","v":""},{"$f":"IF(valB2!$BX34=\"\",\"\",FIXED(valB2!$BX34,0,FALSE))","v":""},{"$f":"IF(valB2!$BY34=\"\",\"\",FIXED(valB2!$BY34,0,FALSE))","v":""},{"$f":"IF(valB2!$BZ34=\"\",\"\",FIXED(valB2!$BZ34,0,FALSE))","v":""},null,{"$f":"IF(valB3!$W34=\"\",\"\",FIXED(valB3!$W34,0,FALSE))","v":""},{"$f":"IF(valB3!$AR34=\"\",\"\",FIXED(valB3!$AR34,0,FALSE))","v":""},{"$f":"IF(valB3!$BM34=\"\",\"\",FIXED(valB3!$BM34,0,FALSE))","v":""},{"$f":"IF(valB3!$BX34=\"\",\"\",FIXED(valB3!$BX34,0,FALSE))","v":""},{"$f":"IF(valB3!$BY34=\"\",\"\",FIXED(valB3!$BY34,0,FALSE))","v":""},{"$f":"IF(valB3!$BZ34=\"\",\"\",FIXED(valB3!$BZ34,0,FALSE))","v":""},null,"","",null,"","",0,0,"",{"$f":"IF(AN34=\"\",\"\",IF(AN34<50.5,datpro!$H$25,datpro!$H$24))","v":""},null,null,null,null,null,null,null,null,null,"","","","","","","","",{"$f":"R34","v":""},"","","","","",{"$f":"X34","v":""},{"$f":"Y34","v":0},"","","","","","",0,"","",null,null,"","","","","","","","","","","",0,"","","","",0,"",""]
[null,null,null,null,null,{"$f":"IF(filEst!F35=\"\",\"\",filEst!F35)","v":""},{"$f":"IF(filEst!G35=\"\",\"\",filEst!G35)","v":""},{"$f":"IF(filEst!L35=\"\",\"\",filEst!L35)","v":""},null,null,{"$f":"IF(filEst!K35=\"\",\"\",filEst!K35)","v":""},{"$f":"IF(valB1!$W35=\"\",\"\",FIXED(valB1!$W35,0,FALSE))","v":""},{"$f":"IF(valB1!$AR35=\"\",\"\",FIXED(valB1!$AR35,0,FALSE))","v":""},{"$f":"IF(valB1!$BM35=\"\",\"\",FIXED(valB1!$BM35,0,FALSE))","v":""},{"$f":"IF(valB1!$BX35=\"\",\"\",FIXED(valB1!$BX35,0,FALSE))","v":""},{"$f":"IF(valB1!$BY35=\"\",\"\",FIXED(valB1!$BY35,0,FALSE))","v":""},{"$f":"IF(valB1!$BZ35=\"\",\"\",FIXED(valB1!$BZ35,0,FALSE))","v":""},{"$f":"valB1!$CC35","v":""},{"$f":"IF(valB2!$W35=\"\",\"\",FIXED(valB2!$W35,0,FALSE))","v":""},{"$f":"IF(valB2!$AR35=\"\",\"\",FIXED(valB2!$AR35,0,FALSE))","v":""},{"$f":"IF(valB2!$BM35=\"\",\"\",FIXED(valB2!$BM35,0,FALSE))","v":""},{"$f":"IF(valB2!$BX35=\"\",\"\",FIXED(valB2!$BX35,0,FALSE))","v":""},{"$f":"IF(valB2!$BY35=\"\",\"\",FIXED(valB2!$BY35,0,FALSE))","v":""},{"$f":"IF(valB2!$BZ35=\"\",\"\",FIXED(valB2!$BZ35,0,FALSE))","v":""},null,{"$f":"IF(valB3!$W35=\"\",\"\",FIXED(valB3!$W35,0,FALSE))","v":""},{"$f":"IF(valB3!$AR35=\"\",\"\",FIXED(valB3!$AR35,0,FALSE))","v":""},{"$f":"IF(valB3!$BM35=\"\",\"\",FIXED(valB3!$BM35,0,FALSE))","v":""},{"$f":"IF(valB3!$BX35=\"\",\"\",FIXED(valB3!$BX35,0,FALSE))","v":""},{"$f":"IF(valB3!$BY35=\"\",\"\",FIXED(valB3!$BY35,0,FALSE))","v":""},{"$f":"IF(valB3!$BZ35=\"\",\"\",FIXED(valB3!$BZ35,0,FALSE))","v":""},null,"","",null,"","",0,0,"",{"$f":"IF(AN35=\"\",\"\",IF(AN35<50.5,datpro!$H$25,datpro!$H$24))","v":""},null,null,null,null,null,null,null,null,null,"","","","","","","","","","","","","","","",0,"","","","","","",0,"","",null,null,"","","","","","","","","","","",0,"","","","",0,"",""]
[null,null,null,null,null,{"$f":"IF(filEst!F36=\"\",\"\",filEst!F36)","v":""},{"$f":"IF(filEst!G36=\"\",\"\",filEst!G36)","v":""},{"$f":"IF(filEst!L36=\"\",\"\",filEst!L36)","v":""},null,null,{"$f":"IF(filEst!K36=\"\",\"\",filEst!K36)","v":""},{"$f":"IF(valB1!$W36=\"\",\"\",FIXED(valB1!$W36,0,FALSE))","v":""},{"$f":"IF(valB1!$AR36=\"\",\"\",FIXED(valB1!$AR36,0,FALSE))","v":""},{"$f":"IF(valB1!$BM36=\"\",\"\",FIXED(valB1!$BM36,0,FALSE))","v":""},{"$f":"IF(valB1!$BX36=\"\",\"\",FIXED(valB1!$BX36,0,FALSE))","v":""},{"$f":"IF(valB1!$BY36=\"\",\"\",FIXED(valB1!$BY36,0,FALSE))","v":""},{"$f":"IF(valB1!$BZ36=\"\",\"\",FIXED(valB1!$BZ36,0,FALSE))","v":""},{"$f":"valB1!$CC36","v":""},{"$f":"IF(valB2!$W36=\"\",\"\",FIXED(valB2!$W36,0,FALSE))","v":""},{"$f":"IF(valB2!$AR36=\"\",\"\",FIXED(valB2!$AR36,0,FALSE))","v":""},{"$f":"IF(valB2!$BM36=\"\",\"\",FIXED(valB2!$BM36,0,FALSE))","v":""},{"$f":"IF(valB2!$BX36=\"\",\"\",FIXED(valB2!$BX36,0,FALSE))","v":""},{"$f":"IF(valB2!$BY36=\"\",\"\",FIXED(valB2!$BY36,0,FALSE))","v":""},{"$f":"IF(valB2!$BZ36=\"\",\"\",FIXED(valB2!$BZ36,0,FALSE))","v":""},null,{"$f":"IF(valB3!$W36=\"\",\"\",FIXED(valB3!$W36,0,FALSE))","v":""},{"$f":"IF(valB3!$AR36=\"\",\"\",FIXED(valB3!$AR36,0,FALSE))","v":""},{"$f":"IF(valB3!$BM36=\"\",\"\",FIXED(valB3!$BM36,0,FALSE))","v":""},{"$f":"IF(valB3!$BX36=\"\",\"\",FIXED(valB3!$BX36,0,FALSE))","v":""},{"$f":"IF(valB3!$BY36=\"\",\"\",FIXED(valB3!$BY36,0,FALSE))","v":""},{"$f":"IF(valB3!$BZ36=\"\",\"\",FIXED(valB3!$BZ36,0,FALSE))","v":""},null,"","",null,"","",0,0,"",{"$f":"IF(AN36=\"\",\"\",IF(AN36<50.5,datpro!$H$25,datpro!$H$24))","v":""},null,null,null,null,null,null,null,null,null,"","","","","","","","","","","","","","","",0,"","","","","","",0,"","",null,null,"","","","","","","","","","","",0,"","","","",0,"",""]
[null,null,null,null,null,{"$f":"IF(filEst!F37=\"\",\"\",filEst!F37)","v":""},{"$f":"IF(filEst!G37=\"\",\"\",filEst!G37)","v":""},{"$f":"IF(filEst!L37=\"\",\"\",filEst!L37)","v":""},null,null,{"$f":"IF(filEst!K37=\"\",\"\",filEst!K37)","v":""},{"$f":"IF(valB1!$W37=\"\",\"\",FIXED(valB1!$W37,0,FALSE))","v":""},{"$f":"IF(valB1!$AR37=\"\",\"\",FIXED(valB1!$AR37,0,FALSE))","v":""},{"$f":"IF(valB1!$BM37=\"\",\"\",FIXED(valB1!$BM37,0,FALSE))","v":""},{"$f":"IF(valB1!$BX37=\"\",\"\",FIXED(valB1!$BX37,0,FALSE))","v":""},{"$f":"IF(valB1!$BY37=\"\",\"\",FIXED(valB1!$BY37,0,FALSE))","v":""},{"$f":"IF(valB1!$BZ37=\"\",\"\",FIXED(valB1!$BZ37,0,FALSE))","v":""},{"$f":"valB1!$CC37","v":""},{"$f":"IF(valB2!$W37=\"\",\"\",FIXED(valB2!$W37,0,FALSE))","v":""},{"$f":"IF(valB2!$AR37=\"\",\"\",FIXED(valB2!$AR37,0,FALSE))","v":""},{"$f":"IF(valB2!$BM37=\"\",\"\",FIXED(valB2!$BM37,0,FALSE))","v":""},{"$f":"IF(valB2!$BX37=\"\",\"\",FIXED(valB2!$BX37,0,FALSE))","v":""},{"$f":"IF(valB2!$BY37=\"\",\"\",FIXED(valB2!$BY37,0,FALSE))","v":""},{"$f":"IF(valB2!$BZ37=\"\",\"\",FIXED(valB2!$BZ37,0,FALSE))","v":""},null,{"$f":"IF(valB3!$W37=\"\",\"\",FIXED(valB3!$W37,0,FALSE))","v":""},{"$f":"IF(valB3!$AR37=\"\",\"\",FIXED(valB3!$AR37,0,FALSE))","v":""},{"$f":"IF(valB3!$BM37=\"\",\"\",FIXED(valB3!$BM37,0,FALSE))","v":""},{"$f":"IF(valB3!$BX37=\"\",\"\",FIXED(valB3!$BX37,0,FALSE))","v":""},{"$f":"IF(valB3!$BY37=\"\",\"\",FIXED(valB3!$BY37,0,FALSE))","v":""},{"$f":"IF(valB3!$BZ37=\"\",\"\",FIXED(valB3!$BZ37,0,FALSE))","v":""},null,"","",null,"","",0,0,"",{"$f":"IF(AN37=\"\",\"\",IF(AN37<50.5,datpro!$H$25,datpro!$H$24))","v":""},null,null,null,null,null,null,null,null,null,"","","","","","","","","","","","","","","",0,"","","","","","",0,"","",null,null,"","","","","","","","","","","",0,"","","","",0,{"$f":"BV37","v":""},""]
[null,null,null,null,null,{"$f":"IF(filEst!F38=\"\",\"\",filEst!F38)","v":""},{"$f":"IF(filEst!G38=\"\",\"\",filEst!G38)","v":""},{"$f":"IF(filEst!L38=\"\",\"\",filEst!L38)","v":""},null,null,{"$f":"IF(filEst!K38=\"\",\"\",filEst!K38)","v":""},{"$f":"IF(valB1!$W38=\"\",\"\",FIXED(valB1!$W38,0,FALSE))","v":""},{"$f":"IF(valB1!$AR38=\"\",\"\",FIXED(valB1!$AR38,0,FALSE))","v":""},{"$f":"IF(valB1!$BM38=\"\",\"\",FIXED(valB1!$BM38,0,FALSE))","v":""},{"$f":"IF(valB1!$BX38=\"\",\"\",FIXED(valB1!$BX38,0,FALSE))","v":""},{"$f":"IF(valB1!$BY38=\"\",\"\",FIXED(valB1!$BY38,0,FALSE))","v":""},{"$f":"IF(valB1!$BZ38=\"\",\"\",FIXED(valB1!$BZ38,0,FALSE))","v":""},{"$f":"valB1!$CC38","v":""},{"$f":"IF(valB2!$W38=\"\",\"\",FIXED(valB2!$W38,0,FALSE))","v":""},{"$f":"IF(valB2!$AR38=\"\",\"\",FIXED(valB2!$AR38,0,FALSE))","v":""},{"$f":"IF(valB2!$BM38=\"\",\"\",FIXED(valB2!$BM38,0,FALSE))","v":""},{"$f":"IF(valB2!$BX38=\"\",\"\",FIXED(valB2!$BX38,0,FALSE))","v":""},{"$f":"IF(valB2!$BY38=\"\",\"\",FIXED(valB2!$BY38,0,FALSE))","v":""},{"$f":"IF(valB2!$BZ38=\"\",\"\",FIXED(valB2!$BZ38,0,FALSE))","v":""},null,{"$f":"IF(valB3!$W38=\"\",\"\",FIXED(valB3!$W38,0,FALSE))","v":""},{"$f":"IF(valB3!$AR38=\"\",\"\",FIXED(valB3!$AR38,0,FALSE))","v":""},{"$f":"IF(valB3!$BM38=\"\",\"\",FIXED(valB3!$BM38,0,FALSE))","v":""},{"$f":"IF(valB3!$BX38=\"\",\"\",FIXED(valB3!$BX38,0,FALSE))","v":""},{"$f":"IF(valB3!$BY38=\"\",\"\",FIXED(valB3!$BY38,0,FALSE))","v":""},{"$f":"IF(valB3!$BZ38=\"\",\"\",FIXED(valB3!$BZ38,0,FALSE))","v":""},null,"","",null,"","",0,0,"",{"$f":"IF(AN38=\"\",\"\",IF(AN38<50.5,datpro!$H$25,datpro!$H$24))","v":""},null,null,null,null,null,null,null,null,null,"","","","","","","","","","","","","","","",0,"","","","","","",0,"","",null,null,"","","","","","","","","","","",0,"","","","",0,"",{"$f":"BW38","v":""}]
[null,null,null,null,null,{"$f":"IF(filEst!F39=\"\",\"\",filEst!F39)","v":""},{"$f":"IF(filEst!G39=\"\",\"\",filEst!G39)","v":""},{"$f":"IF(filEst!L39=\"\",\"\",filEst!L39)","v":""},null,null,{"$f":"IF(filEst!K39=\"\",\"\",filEst!K39)","v":""},{"$f":"IF(valB1!$W39=\"\",\"\",FIXED(valB1!$W39,0,FALSE))","v":""},{"$f":"IF(valB1!$AR39=\"\",\"\",FIXED(valB1!$AR39,0,FALSE))","v":""},{"$f":"IF(valB1!$BM39=\"\",\"\",FIXED(valB1!$BM39,0,FALSE))","v":""},{"$f":"IF(valB1!$BX39=\"\",\"\",FIXED(valB1!$BX39,0,FALSE))","v":""},{"$f":"IF(valB1!$BY39=\"\",\"\",FIXED(valB1!$BY39,0,FALSE))","v":""},{"$f":"IF(valB1!$BZ39=\"\",\"\",FIXED(valB1!$BZ39,0,FALSE))","v":""},{"$f":"valB1!$CC39","v":""},{"$f":"IF(valB2!$W39=\"\",\"\",FIXED(valB2!$W39,0,FALSE))","v":""},{"$f":"IF(valB2!$AR39=\"\",\"\",FIXED(valB2!$AR39,0,FALSE))","v":""},{"$f":"IF(valB2!$BM39=\"\",\"\",FIXED(valB2!$BM39,0,FALSE))","v":""},{"$f":"IF(valB2!$BX39=\"\",\"\",FIXED(valB2!$BX39,0,FALSE))","v":""},{"$f":"IF(valB2!$BY39=\"\",\"\",FIXED(valB2!$BY39,0,FALSE))","v":""},{"$f":"IF(valB2!$BZ39=\"\",\"\",FIXED(valB2!$BZ39,0,FALSE))","v":""},null,{"$f":"IF(valB3!$W39=\"\",\"\",FIXED(valB3!$W39,0,FALSE))","v":""},{"$f":"IF(valB3!$AR39=\"\",\"\",FIXED(valB3!$AR39,0,FALSE))","v":""},{"$f":"IF(valB3!$BM39=\"\",\"\",FIXED(valB3!$BM39,0,FALSE))","v":""},{"$f":"IF(valB3!$BX39=\"\",\"\",FIXED(valB3!$BX39,0,FALSE))","v":""},{"$f":"IF(valB3!$BY39=\"\",\"\",FIXED(valB3!$BY39,0,FALSE))","v":""},{"$f":"IF(valB3!$BZ39=\"\",\"\",FIXED(valB3!$BZ39,0,FALSE))","v":""},null,"","",null,"","",0,0,"",{"$f":"IF(AN39=\"\",\"\",IF(AN39<50.5,datpro!$H$25,datpro!$H$24))","v":""},null,null,null,null,null,null,null,null,null,"","","","","","","","","","","","","","","",0,"","","","","","",0,"","",null,null,"","","","","",{"$f":"IFERROR(BE39+BF39,\"\")","v":""},"","","","","",0,"","","","",0,"",""]
[null,null,null,null,null,{"$f":"IF(filEst!F40=\"\",\"\",filEst!F40)","v":""},{"$f":"IF(filEst!G40=\"\",\"\",filEst!G40)","v":""},{"$f":"IF(filEst!L40=\"\",\"\",filEst!L40)","v":""},null,null,{"$f":"IF(filEst!K40=\"\",\"\",filEst!K40)","v":""},{"$f":"IF(valB1!$W40=\"\",\"\",FIXED(valB1!$W40,0,FALSE))","v":""},{"$f":"IF(valB1!$AR40=\"\",\"\",FIXED(valB1!$AR40,0,FALSE))","v":""},{"$f":"IF(valB1!$BM40=\"\",\"\",FIXED(valB1!$BM40,0,FALSE))","v":""},{"$f":"IF(valB1!$BX40=\"\",\"\",FIXED(valB1!$BX40,0,FALSE))","v":""},{"$f":"IF(valB1!$BY40=\"\",\"\",FIXED(valB1!$BY40,0,FALSE))","v":""},{"$f":"IF(valB1!$BZ40=\"\",\"\",FIXED(valB1!$BZ40,0,FALSE))","v":""},{"$f":"valB1!$CC40","v":""},{"$f":"IF(valB2!$W40=\"\",\"\",FIXED(valB2!$W40,0,FALSE))","v":""},{"$f":"IF(valB2!$AR40=\"\",\"\",FIXED(valB2!$AR40,0,FALSE))","v":""},{"$f":"IF(valB2!$BM40=\"\",\"\",FIXED(valB2!$BM40,0,FALSE))","v":""},{"$f":"IF(valB2!$BX40=\"\",\"\",FIXED(valB2!$BX40,0,FALSE))","v":""},{"$f":"IF(valB2!$BY40=\"\",\"\",FIXED(valB2!$BY40,0,FALSE))","v":""},{"$f":"IF(valB2!$BZ40=\"\",\"\",FIXED(valB2!$BZ40,0,FALSE))","v":""},null,{"$f":"IF(valB3!$W40=\"\",\"\",FIXED(valB3!$W40,0,FALSE))","v":""},{"$f":"IF(valB3!$AR40=\"\",\"\",FIXED(valB3!$AR40,0,FALSE))","v":""},{"$f":"IF(valB3!$BM40=\"\",\"\",FIXED(valB3!$BM40,0,FALSE))","v":""},{"$f":"IF(valB3!$BX40=\"\",\"\",FIXED(valB3!$BX40,0,FALSE))","v":""},{"$f":"IF(valB3!$BY40=\"\",\"\",FIXED(valB3!$BY40,0,FALSE))","v":""},{"$f":"IF(valB3!$BZ40=\"\",\"\",FIXED(valB3!$BZ40,0,FALSE))","v":""},null,"","",null,"","",0,0,"",{"$f":"IF(AN40=\"\",\"\",IF(AN40<50.5,datpro!$H$25,datpro!$H$24))","v":""},null,null,null,null,null,null,null,null,null,"","","","","","","","","","","","","","","",0,"","","","","","",0,"","",null,null,"","","","","",{"$f":"IFERROR(BE40+BF40,\"\")","v":""},"","","","","",0,"","","","",0,"",""]
[null,null,null,null,null,{"$f":"IF(filEst!F41=\"\",\"\",filEst!F41)","v":""},{"$f":"IF(filEst!G41=\"\",\"\",filEst!G41)","v":""},{"$f":"IF(filEst!L41=\"\",\"\",filEst!L41)","v":""},null,null,{"$f":"IF(filEst!K41=\"\",\"\",filEst!K41)","v":""},{"$f":"IF(valB1!$W41=\"\",\"\",FIXED(valB1!$W41,0,FALSE))","v":""},{"$f":"IF(valB1!$AR41=\"\",\"\",FIXED(valB1!$AR41,0,FALSE))","v":""},{"$f":"IF(valB1!$BM41=\"\",\"\",FIXED(valB1!$BM41,0,FALSE))","v":""},{"$f":"IF(valB1!$BX41=\"\",\"\",FIXED(valB1!$BX41,0,FALSE))","v":""},{"$f":"IF(valB1!$BY41=\"\",\"\",FIXED(valB1!$BY41,0,FALSE))","v":""},{"$f":"IF(valB1!$BZ41=\"\",\"\",FIXED(valB1!$BZ41,0,FALSE))","v":""},{"$f":"valB1!$CC41","v":""},{"$f":"IF(valB2!$W41=\"\",\"\",FIXED(valB2!$W41,0,FALSE))","v":""},{"$f":"IF(valB2!$AR41=\"\",\"\",FIXED(valB2!$AR41,0,FALSE))","v":""},{"$f":"IF(valB2!$BM41=\"\",\"\",FIXED(valB2!$BM41,0,FALSE))","v":""},{"$f":"IF(valB2!$BX41=\"\",\"\",FIXED(valB2!$BX41,0,FALSE))","v":""},{"$f":"IF(valB2!$BY41=\"\",\"\",FIXED(valB2!$BY41,0,FALSE))","v":""},{"$f":"IF(valB2!$BZ41=\"\",\"\",FIXED(valB2!$BZ41,0,FALSE))","v":""},null,{"$f":"IF(valB3!$W41=\"\",\"\",FIXED(valB3!$W41,0,FALSE))","v":""},{"$f":"IF(valB3!$AR41=\"\",\"\",FIXED(valB3!$AR41,0,FALSE))","v":""},{"$f":"IF(valB3!$BM41=\"\",\"\",FIXED(valB3!$BM41,0,FALSE))","v":""},{"$f":"IF(valB3!$BX41=\"\",\"\",FIXED(valB3!$BX41,0,FALSE))","v":""},{"$f":"IF(valB3!$BY41=\"\",\"\",FIXED(valB3!$BY41,0,FALSE))","v":""},{"$f":"IF(valB3!$BZ41=\"\",\"\",FIXED(valB3!$BZ41,0,FALSE))","v":""},null,"","",null,"","",0,0,"",{"$f":"IF(AN41=\"\",\"\",IF(AN41<50.5,datpro!$H$25,datpro!$H$24))","v":""},null,null,null,null,null,null,null,null,null,"","","","","","","","","","","","","","","",0,"","","","","","",0,"","",null,null,"","","","","",{"$f":"IFERROR(BE41+BF41,\"\")","v":""},"","","","","",0,"","","","",0,"",""]
[null,null,null,null,null,{"$f":"IF(filEst!F42=\"\",\"\",filEst!F42)","v":""},{"$f":"IF(filEst!G42=\"\",\"\",filEst!G42)","v":""},{"$f":"IF(filEst!L42=\"\",\"\",filEst!L42)","v":""},null,null,{"$f":"IF(filEst!K42=\"\",\"\",filEst!K42)","v":""},{"$f":"IF(valB1!$W42=\"\",\"\",FIXED(valB1!$W42,0,FALSE))","v":""},{"$f":"IF(valB1!$AR42=\"\",\"\",FIXED(valB1!$AR42,0,FALSE))","v":""},{"$f":"IF(valB1!$BM42=\"\",\"\",FIXED(valB1!$BM42,0,FALSE))","v":""},{"$f":"IF(valB1!$BX42=\"\",\"\",FIXED(valB1!$BX42,0,FALSE))","v":""},{"$f":"IF(valB1!$BY42=\"\",\"\",FIXED(valB1!$BY42,0,FALSE))","v":""},{"$f":"IF(valB1!$BZ42=\"\",\"\",FIXED(valB1!$BZ42,0,FALSE))","v":""},{"$f":"valB1!$CC42","v":""},{"$f":"IF(valB2!$W42=\"\",\"\",FIXED(valB2!$W42,0,FALSE))","v":""},{"$f":"IF(valB2!$AR42=\"\",\"\",FIXED(valB2!$AR42,0,FALSE))","v":""},{"$f":"IF(valB2!$BM42=\"\",\"\",FIXED(valB2!$BM42,0,FALSE))","v":""},{"$f":"IF(valB2!$BX42=\"\",\"\",FIXED(valB2!$BX42,0,FALSE))","v":""},{"$f":"IF(valB2!$BY42=\"\",\"\",FIXED(valB2!$BY42,0,FALSE))","v":""},{"$f":"IF(valB2!$BZ42=\"\",\"\",FIXED(valB2!$BZ42,0,FALSE))","v":""},null,{"$f":"IF(valB3!$W42=\"\",\"\",FIXED(valB3!$W42,0,FALSE))","v":""},{"$f":"IF(valB3!$AR42=\"\",\"\",FIXED(valB3!$AR42,0,FALSE))","v":""},{"$f":"IF(valB3!$BM42=\"\",\"\",FIXED(valB3!$BM42,0,FALSE))","v":""},{"$f":"IF(valB3!$BX42=\"\",\"\",FIXED(valB3!$BX42,0,FALSE))","v":""},{"$f":"IF(valB3!$BY42=\"\",\"\",FIXED(valB3!$BY42,0,FALSE))","v":""},{"$f":"IF(valB3!$BZ42=\"\",\"\",FIXED(valB3!$BZ42,0,FALSE))","v":""},null,"","",null,"","",0,0,"",{"$f":"IF(AN42=\"\",\"\",IF(AN42<50.5,datpro!$H$25,datpro!$H$24))","v":""},null,null,null,null,null,null,null,null,null,"","","","","","","","","","","","","","","",0,"","","","","","",0,"","",null,null,"","","","","","","","","","","",0,"","","","",0,"",""]
[null,null,null,null,null,{"$f":"IF(filEst!F43=\"\",\"\",filEst!F43)","v":""},{"$f":"IF(filEst!G43=\"\",\"\",filEst!G43)","v":""},{"$f":"IF(filEst!L43=\"\",\"\",filEst!L43)","v":""},null,null,{"$f":"IF(filEst!K43=\"\",\"\",filEst!K43)","v":""},{"$f":"IF(valB1!$W43=\"\",\"\",FIXED(valB1!$W43,0,FALSE))","v":""},{"$f":"IF(valB1!$AR43=\"\",\"\",FIXED(valB1!$AR43,0,FALSE))","v":""},{"$f":"IF(valB1!$BM43=\"\",\"\",FIXED(valB1!$BM43,0,FALSE))","v":""},{"$f":"IF(valB1!$BX43=\"\",\"\",FIXED(valB1!$BX43,0,FALSE))","v":""},{"$f":"IF(valB1!$BY43=\"\",\"\",FIXED(valB1!$BY43,0,FALSE))","v":""},{"$f":"IF(valB1!$BZ43=\"\",\"\",FIXED(valB1!$BZ43,0,FALSE))","v":""},{"$f":"valB1!$CC43","v":""},{"$f":"IF(valB2!$W43=\"\",\"\",FIXED(valB2!$W43,0,FALSE))","v":""},{"$f":"IF(valB2!$AR43=\"\",\"\",FIXED(valB2!$AR43,0,FALSE))","v":""},{"$f":"IF(valB2!$BM43=\"\",\"\",FIXED(valB2!$BM43,0,FALSE))","v":""},{"$f":"IF(valB2!$BX43=\"\",\"\",FIXED(valB2!$BX43,0,FALSE))","v":""},{"$f":"IF(valB2!$BY43=\"\",\"\",FIXED(valB2!$BY43,0,FALSE))","v":""},{"$f":"IF(valB2!$BZ43=\"\",\"\",FIXED(valB2!$BZ43,0,FALSE))","v":""},null,{"$f":"IF(valB3!$W43=\"\",\"\",FIXED(valB3!$W43,0,FALSE))","v":""},{"$f":"IF(valB3!$AR43=\"\",\"\",FIXED(valB3!$AR43,0,FALSE))","v":""},{"$f":"IF(valB3!$BM43=\"\",\"\",FIXED(valB3!$BM43,0,FALSE))","v":""},{"$f":"IF(valB3!$BX43=\"\",\"\",FIXED(valB3!$BX43,0,FALSE))","v":""},{"$f":"IF(valB3!$BY43=\"\",\"\",FIXED(valB3!$BY43,0,FALSE))","v":""},{"$f":"IF(valB3!$BZ43=\"\",\"\",FIXED(valB3!$BZ43,0,FALSE))","v":""},null,"","",null,"","",0,0,"",{"$f":"IF(AN43=\"\",\"\",IF(AN43<50.5,datpro!$H$25,datpro!$H$24))","v":""},null,null,null,null,null,null,null,null,null,"","","","","","","","","","","","","","","",0,"","","","","","",0,"","",null,null,"","","","","","","","","","","",0,"","","","",0,"",""]
[null,null,null,null,null,{"$f":"IF(filEst!F44=\"\",\"\",filEst!F44)","v":""},{"$f":"IF(filEst!G44=\"\",\"\",filEst!G44)","v":""},{"$f":"IF(filEst!L44=\"\",\"\",filEst!L44)","v":""},null,null,{"$f":"IF(filEst!K44=\"\",\"\",filEst!K44)","v":""},{"$f":"IF(valB1!$W44=\"\",\"\",FIXED(valB1!$W44,0,FALSE))","v":""},{"$f":"IF(valB1!$AR44=\"\",\"\",FIXED(valB1!$AR44,0,FALSE))","v":""},{"$f":"IF(valB1!$BM44=\"\",\"\",FIXED(valB1!$BM44,0,FALSE))","v":""},{"$f":"IF(valB1!$BX44=\"\",\"\",FIXED(valB1!$BX44,0,FALSE))","v":""},{"$f":"IF(valB1!$BY44=\"\",\"\",FIXED(valB1!$BY44,0,FALSE))","v":""},{"$f":"IF(valB1!$BZ44=\"\",\"\",FIXED(valB1!$BZ44,0,FALSE))","v":""},{"$f":"valB1!$CC44","v":""},{"$f":"IF(valB2!$W44=\"\",\"\",FIXED(valB2!$W44,0,FALSE))","v":""},{"$f":"IF(valB2!$AR44=\"\",\"\",FIXED(valB2!$AR44,0,FALSE))","v":""},{"$f":"IF(valB2!$BM44=\"\",\"\",FIXED(valB2!$BM44,0,FALSE))","v":""},{"$f":"IF(valB2!$BX44=\"\",\"\",FIXED(valB2!$BX44,0,FALSE))","v":""},{"$f":"IF(valB2!$BY44=\"\",\"\",FIXED(valB2!$BY44,0,FALSE))","v":""},{"$f":"IF(valB2!$BZ44=\"\",\"\",FIXED(valB2!$BZ44,0,FALSE))","v":""},null,{"$f":"IF(valB3!$W44=\"\",\"\",FIXED(valB3!$W44,0,FALSE))","v":""},{"$f":"IF(valB3!$AR44=\"\",\"\",FIXED(valB3!$AR44,0,FALSE))","v":""},{"$f":"IF(valB3!$BM44=\"\",\"\",FIXED(valB3!$BM44,0,FALSE))","v":""},{"$f":"IF(valB3!$BX44=\"\",\"\",FIXED(valB3!$BX44,0,FALSE))","v":""},{"$f":"IF(valB3!$BY44=\"\",\"\",FIXED(valB3!$BY44,0,FALSE))","v":""},{"$f":"IF(valB3!$BZ44=\"\",\"\",FIXED(valB3!$BZ44,0,FALSE))","v":""},null,"","",null,"","",0,0,"",{"$f":"IF(AN44=\"\",\"\",IF(AN44<50.5,datpro!$H$25,datpro!$H$24))","v":""},null,null,null,null,null,null,null,null,null,"","","","","","","","","","","","","","","",0,"","","","","","",0,"","",null,null,"","","","","","","","","","","",0,"","","","",0,"",""]
[null,null,null,null,null,{"$f":"IF(filEst!F45=\"\",\"\",filEst!F45)","v":""},{"$f":"IF(filEst!G45=\"\",\"\",filEst!G45)","v":""},{"$f":"IF(filEst!L45=\"\",\"\",filEst!L45)","v":""},null,null,{"$f":"IF(filEst!K45=\"\",\"\",filEst!K45)","v":""},{"$f":"IF(valB1!$W45=\"\",\"\",FIXED(valB1!$W45,0,FALSE))","v":""},{"$f":"IF(valB1!$AR45=\"\",\"\",FIXED(valB1!$AR45,0,FALSE))","v":""},{"$f":"IF(valB1!$BM45=\"\",\"\",FIXED(valB1!$BM45,0,FALSE))","v":""},{"$f":"IF(valB1!$BX45=\"\",\"\",FIXED(valB1!$BX45,0,FALSE))","v":""},{"$f":"IF(valB1!$BY45=\"\",\"\",FIXED(valB1!$BY45,0,FALSE))","v":""},{"$f":"IF(valB1!$BZ45=\"\",\"\",FIXED(valB1!$BZ45,0,FALSE))","v":""},{"$f":"valB1!$CC45","v":""},{"$f":"IF(valB2!$W45=\"\",\"\",FIXED(valB2!$W45,0,FALSE))","v":""},{"$f":"IF(valB2!$AR45=\"\",\"\",FIXED(valB2!$AR45,0,FALSE))","v":""},{"$f":"IF(valB2!$BM45=\"\",\"\",FIXED(valB2!$BM45,0,FALSE))","v":""},{"$f":"IF(valB2!$BX45=\"\",\"\",FIXED(valB2!$BX45,0,FALSE))","v":""},{"$f":"IF(valB2!$BY45=\"\",\"\",FIXED(valB2!$BY45,0,FALSE))","v":""},{"$f":"IF(valB2!$BZ45=\"\",\"\",FIXED(valB2!$BZ45,0,FALSE))","v":""},null,{"$f":"IF(valB3!$W45=\"\",\"\",FIXED(valB3!$W45,0,FALSE))","v":""},{"$f":"IF(valB3!$AR45=\"\",\"\",FIXED(valB3!$AR45,0,FALSE))","v":""},{"$f":"IF(valB3!$BM45=\"\",\"\",FIXED(valB3!$BM45,0,FALSE))","v":""},{"$f":"IF(valB3!$BX45=\"\",\"\",FIXED(valB3!$BX45,0,FALSE))","v":""},{"$f":"IF(valB3!$BY45=\"\",\"\",FIXED(valB3!$BY45,0,FALSE))","v":""},{"$f":"IF(valB3!$BZ45=\"\",\"\",FIXED(valB3!$BZ45,0,FALSE))","v":""},null,"","",null,"","",0,0,"",{"$f":"IF(AN45=\"\",\"\",IF(AN45<50.5,datpro!$H$25,datpro!$H$24))","v":""},null,null,null,null,null,null,null,null,null,"","","","","","","","","","","","","","","",0,"","","","","","",0,"","",null,null,"","","","","","","","","","","",0,"","","","",0,"",""]
[null,null,null,null,null,{"$f":"IF(filEst!F46=\"\",\"\",filEst!F46)","v":""},{"$f":"IF(filEst!G46=\"\",\"\",filEst!G46)","v":""},{"$f":"IF(filEst!L46=\"\",\"\",filEst!L46)","v":""},null,null,{"$f":"IF(filEst!K46=\"\",\"\",filEst!K46)","v":""},{"$f":"IF(valB1!$W46=\"\",\"\",FIXED(valB1!$W46,0,FALSE))","v":""},{"$f":"IF(valB1!$AR46=\"\",\"\",FIXED(valB1!$AR46,0,FALSE))","v":""},{"$f":"IF(valB1!$BM46=\"\",\"\",FIXED(valB1!$BM46,0,FALSE))","v":""},{"$f":"IF(valB1!$BX46=\"\",\"\",FIXED(valB1!$BX46,0,FALSE))","v":""},{"$f":"IF(valB1!$BY46=\"\",\"\",FIXED(valB1!$BY46,0,FALSE))","v":""},{"$f":"IF(valB1!$BZ46=\"\",\"\",FIXED(valB1!$BZ46,0,FALSE))","v":""},{"$f":"valB1!$CC46","v":""},{"$f":"IF(valB2!$W46=\"\",\"\",FIXED(valB2!$W46,0,FALSE))","v":""},{"$f":"IF(valB2!$AR46=\"\",\"\",FIXED(valB2!$AR46,0,FALSE))","v":""},{"$f":"IF(valB2!$BM46=\"\",\"\",FIXED(valB2!$BM46,0,FALSE))","v":""},{"$f":"IF(valB2!$BX46=\"\",\"\",FIXED(valB2!$BX46,0,FALSE))","v":""},{"$f":"IF(valB2!$BY46=\"\",\"\",FIXED(valB2!$BY46,0,FALSE))","v":""},{"$f":"IF(valB2!$BZ46=\"\",\"\",FIXED(valB2!$BZ46,0,FALSE))","v":""},null,{"$f":"IF(valB3!$W46=\"\",\"\",FIXED(valB3!$W46,0,FALSE))","v":""},{"$f":"IF(valB3!$AR46=\"\",\"\",FIXED(valB3!$AR46,0,FALSE))","v":""},{"$f":"IF(valB3!$BM46=\"\",\"\",FIXED(valB3!$BM46,0,FALSE))","v":""},{"$f":"IF(valB3!$BX46=\"\",\"\",FIXED(valB3!$BX46,0,FALSE))","v":""},{"$f":"IF(valB3!$BY46=\"\",\"\",FIXED(valB3!$BY46,0,FALSE))","v":""},{"$f":"IF(valB3!$BZ46=\"\",\"\",FIXED(valB3!$BZ46,0,FALSE))","v":""},null,"","",null,"","",0,0,"",{"$f":"IF(AN46=\"\",\"\",IF(AN46<50.5,datpro!$H$25,datpro!$H$24))","v":""},null,null,null,null,null,null,null,null,null,"","","","","","","","","","","","","","","",0,"","","","","","",0,"","",null,null,"","","","","","","","","","","",0,"","","","",0,"",""]
[null,null,null,null,null,{"$f":"IF(filEst!F47=\"\",\"\",filEst!F47)","v":""},{"$f":"IF(filEst!G47=\"\",\"\",filEst!G47)","v":""},{"$f":"IF(filEst!L47=\"\",\"\",filEst!L47)","v":""},null,null,{"$f":"IF(filEst!K47=\"\",\"\",filEst!K47)","v":""},{"$f":"IF(valB1!$W47=\"\",\"\",FIXED(valB1!$W47,0,FALSE))","v":""},{"$f":"IF(valB1!$AR47=\"\",\"\",FIXED(valB1!$AR47,0,FALSE))","v":""},{"$f":"IF(valB1!$BM47=\"\",\"\",FIXED(valB1!$BM47,0,FALSE))","v":""},{"$f":"IF(valB1!$BX47=\"\",\"\",FIXED(valB1!$BX47,0,FALSE))","v":""},{"$f":"IF(valB1!$BY47=\"\",\"\",FIXED(valB1!$BY47,0,FALSE))","v":""},{"$f":"IF(valB1!$BZ47=\"\",\"\",FIXED(valB1!$BZ47,0,FALSE))","v":""},{"$f":"valB1!$CC47","v":""},{"$f":"IF(valB2!$W47=\"\",\"\",FIXED(valB2!$W47,0,FALSE))","v":""},{"$f":"IF(valB2!$AR47=\"\",\"\",FIXED(valB2!$AR47,0,FALSE))","v":""},{"$f":"IF(valB2!$BM47=\"\",\"\",FIXED(valB2!$BM47,0,FALSE))","v":""},{"$f":"IF(valB2!$BX47=\"\",\"\",FIXED(valB2!$BX47,0,FALSE))","v":""},{"$f":"IF(valB2!$BY47=\"\",\"\",FIXED(valB2!$BY47,0,FALSE))","v":""},{"$f":"IF(valB2!$BZ47=\"\",\"\",FIXED(valB2!$BZ47,0,FALSE))","v":""},null,{"$f":"IF(valB3!$W47=\"\",\"\",FIXED(valB3!$W47,0,FALSE))","v":""},{"$f":"IF(valB3!$AR47=\"\",\"\",FIXED(valB3!$AR47,0,FALSE))","v":""},{"$f":"IF(valB3!$BM47=\"\",\"\",FIXED(valB3!$BM47,0,FALSE))","v":""},{"$f":"IF(valB3!$BX47=\"\",\"\",FIXED(valB3!$BX47,0,FALSE))","v":""},{"$f":"IF(valB3!$BY47=\"\",\"\",FIXED(valB3!$BY47,0,FALSE))","v":""},{"$f":"IF(valB3!$BZ47=\"\",\"\",FIXED(valB3!$BZ47,0,FALSE))","v":""},null,"","",null,"","",0,0,"",{"$f":"IF(AN47=\"\",\"\",IF(AN47<50.5,datpro!$H$25,datpro!$H$24))","v":""},null,null,null,null,null,null,null,null,null,"","","","","","","","","","","","","","","",0,"","","","","","",0,"","",null,null,"","","","","","","","","","","",0,"","","","",0,"",""]
[null,null,null,null,null,{"$f":"IF(filEst!F48=\"\",\"\",filEst!F48)","v":""},{"$f":"IF(filEst!G48=\"\",\"\",filEst!G48)","v":""},{"$f":"IF(filEst!L48=\"\",\"\",filEst!L48)","v":""},null,null,{"$f":"IF(filEst!K48=\"\",\"\",filEst!K48)","v":""},{"$f":"IF(valB1!$W48=\"\",\"\",FIXED(valB1!$W48,0,FALSE))","v":""},{"$f":"IF(valB1!$AR48=\"\",\"\",FIXED(valB1!$AR48,0,FALSE))","v":""},{"$f":"IF(valB1!$BM48=\"\",\"\",FIXED(valB1!$BM48,0,FALSE))","v":""},{"$f":"IF(valB1!$BX48=\"\",\"\",FIXED(valB1!$BX48,0,FALSE))","v":""},{"$f":"IF(valB1!$BY48=\"\",\"\",FIXED(valB1!$BY48,0,FALSE))","v":""},{"$f":"IF(valB1!$BZ48=\"\",\"\",FIXED(valB1!$BZ48,0,FALSE))","v":""},{"$f":"valB1!$CC48","v":""},{"$f":"IF(valB2!$W48=\"\",\"\",FIXED(valB2!$W48,0,FALSE))","v":""},{"$f":"IF(valB2!$AR48=\"\",\"\",FIXED(valB2!$AR48,0,FALSE))","v":""},{"$f":"IF(valB2!$BM48=\"\",\"\",FIXED(valB2!$BM48,0,FALSE))","v":""},{"$f":"IF(valB2!$BX48=\"\",\"\",FIXED(valB2!$BX48,0,FALSE))","v":""},{"$f":"IF(valB2!$BY48=\"\",\"\",FIXED(valB2!$BY48,0,FALSE))","v":""},{"$f":"IF(valB2!$BZ48=\"\",\"\",FIXED(valB2!$BZ48,0,FALSE))","v":""},null,{"$f":"IF(valB3!$W48=\"\",\"\",FIXED(valB3!$W48,0,FALSE))","v":""},{"$f":"IF(valB3!$AR48=\"\",\"\",FIXED(valB3!$AR48,0,FALSE))","v":""},{"$f":"IF(valB3!$BM48=\"\",\"\",FIXED(valB3!$BM48,0,FALSE))","v":""},{"$f":"IF(valB3!$BX48=\"\",\"\",FIXED(valB3!$BX48,0,FALSE))","v":""},{"$f":"IF(valB3!$BY48=\"\",\"\",FIXED(valB3!$BY48,0,FALSE))","v":""},{"$f":"IF(valB3!$BZ48=\"\",\"\",FIXED(valB3!$BZ48,0,FALSE))","v":""},null,"","",null,"","",0,0,"",{"$f":"IF(AN48=\"\",\"\",IF(AN48<50.5,datpro!$H$25,datpro!$H$24))","v":""},null,null,null,null,null,null,null,null,null,"","","","","","","","","","","","","","","",0,"","","","","","",0,"","",null,null,"","","","","","","","","","","",0,"","","","",0,"",""]
[null,null,null,null,null,{"$f":"IF(filEst!F49=\"\",\"\",filEst!F49)","v":""},{"$f":"IF(filEst!G49=\"\",\"\",filEst!G49)","v":""},{"$f":"IF(filEst!L49=\"\",\"\",filEst!L49)","v":""},null,null,{"$f":"IF(filEst!K49=\"\",\"\",filEst!K49)","v":""},{"$f":"IF(valB1!$W49=\"\",\"\",FIXED(valB1!$W49,0,FALSE))","v":""},{"$f":"IF(valB1!$AR49=\"\",\"\",FIXED(valB1!$AR49,0,FALSE))","v":""},{"$f":"IF(valB1!$BM49=\"\",\"\",FIXED(valB1!$BM49,0,FALSE))","v":""},{"$f":"IF(valB1!$BX49=\"\",\"\",FIXED(valB1!$BX49,0,FALSE))","v":""},{"$f":"IF(valB1!$BY49=\"\",\"\",FIXED(valB1!$BY49,0,FALSE))","v":""},{"$f":"IF(valB1!$BZ49=\"\",\"\",FIXED(valB1!$BZ49,0,FALSE))","v":""},{"$f":"valB1!$CC49","v":""},{"$f":"IF(valB2!$W49=\"\",\"\",FIXED(valB2!$W49,0,FALSE))","v":""},{"$f":"IF(valB2!$AR49=\"\",\"\",FIXED(valB2!$AR49,0,FALSE))","v":""},{"$f":"IF(valB2!$BM49=\"\",\"\",FIXED(valB2!$BM49,0,FALSE))","v":""},{"$f":"IF(valB2!$BX49=\"\",\"\",FIXED(valB2!$BX49,0,FALSE))","v":""},{"$f":"IF(valB2!$BY49=\"\",\"\",FIXED(valB2!$BY49,0,FALSE))","v":""},{"$f":"IF(valB2!$BZ49=\"\",\"\",FIXED(valB2!$BZ49,0,FALSE))","v":""},null,{"$f":"IF(valB3!$W49=\"\",\"\",FIXED(valB3!$W49,0,FALSE))","v":""},{"$f":"IF(valB3!$AR49=\"\",\"\",FIXED(valB3!$AR49,0,FALSE))","v":""},{"$f":"IF(valB3!$BM49=\"\",\"\",FIXED(valB3!$BM49,0,FALSE))","v":""},{"$f":"IF(valB3!$BX49=\"\",\"\",FIXED(valB3!$BX49,0,FALSE))","v":""},{"$f":"IF(valB3!$BY49=\"\",\"\",FIXED(valB3!$BY49,0,FALSE))","v":""},{"$f":"IF(valB3!$BZ49=\"\",\"\",FIXED(valB3!$BZ49,0,FALSE))","v":""},null,"","",null,"","",0,0,"",{"$f":"IF(AN49=\"\",\"\",IF(AN49<50.5,datpro!$H$25,datpro!$H$24))","v":""},null,null,null,null,null,null,null,null,null,"","","","","","","","","","","","","","","",0,"","","","","","",0,"","",null,null,"","","","","","","","","","","",0,"","","","",0,"",""]
[null,null,null,null,null,{"$f":"IF(filEst!F50=\"\",\"\",filEst!F50)","v":""},{"$f":"IF(filEst!G50=\"\",\"\",filEst!G50)","v":""},{"$f":"IF(filEst!L50=\"\",\"\",filEst!L50)","v":""},null,null,{"$f":"IF(filEst!K50=\"\",\"\",filEst!K50)","v":""},{"$f":"IF(valB1!$W50=\"\",\"\",FIXED(valB1!$W50,0,FALSE))","v":""},{"$f":"IF(valB1!$AR50=\"\",\"\",FIXED(valB1!$AR50,0,FALSE))","v":""},{"$f":"IF(valB1!$BM50=\"\",\"\",FIXED(valB1!$BM50,0,FALSE))","v":""},{"$f":"IF(valB1!$BX50=\"\",\"\",FIXED(valB1!$BX50,0,FALSE))","v":""},{"$f":"IF(valB1!$BY50=\"\",\"\",FIXED(valB1!$BY50,0,FALSE))","v":""},{"$f":"IF(valB1!$BZ50=\"\",\"\",FIXED(valB1!$BZ50,0,FALSE))","v":""},{"$f":"valB1!$CC50","v":""},{"$f":"IF(valB2!$W50=\"\",\"\",FIXED(valB2!$W50,0,FALSE))","v":""},{"$f":"IF(valB2!$AR50=\"\",\"\",FIXED(valB2!$AR50,0,FALSE))","v":""},{"$f":"IF(valB2!$BM50=\"\",\"\",FIXED(valB2!$BM50,0,FALSE))","v":""},{"$f":"IF(valB2!$BX50=\"\",\"\",FIXED(valB2!$BX50,0,FALSE))","v":""},{"$f":"IF(valB2!$BY50=\"\",\"\",FIXED(valB2!$BY50,0,FALSE))","v":""},{"$f":"IF(valB2!$BZ50=\"\",\"\",FIXED(valB2!$BZ50,0,FALSE))","v":""},null,{"$f":"IF(valB3!$W50=\"\",\"\",FIXED(valB3!$W50,0,FALSE))","v":""},{"$f":"IF(valB3!$AR50=\"\",\"\",FIXED(valB3!$AR50,0,FALSE))","v":""},{"$f":"IF(valB3!$BM50=\"\",\"\",FIXED(valB3!$BM50,0,FALSE))","v":""},{"$f":"IF(valB3!$BX50=\"\",\"\",FIXED(valB3!$BX50,0,FALSE))","v":""},{"$f":"IF(valB3!$BY50=\"\",\"\",FIXED(valB3!$BY50,0,FALSE))","v":""},{"$f":"IF(valB3!$BZ50=\"\",\"\",FIXED(valB3!$BZ50,0,FALSE))","v":""},null,"","",null,"","",0,0,"",{"$f":"IF(AN50=\"\",\"\",IF(AN50<50.5,datpro!$H$25,datpro!$H$24))","v":""},null,null,null,null,null,null,null,null,null,"","","","","","","","","","","","","","","",0,"","","","","","",0,"","",null,null,"","","","","","","","","","","",0,"","","","",0,"",""]
[null,null,null,null,null,{"$f":"IF(filEst!F51=\"\",\"\",filEst!F51)","v":""},{"$f":"IF(filEst!G51=\"\",\"\",filEst!G51)","v":""},{"$f":"IF(filEst!L51=\"\",\"\",filEst!L51)","v":""},null,null,{"$f":"IF(filEst!K51=\"\",\"\",filEst!K51)","v":""},{"$f":"IF(valB1!$W51=\"\",\"\",FIXED(valB1!$W51,0,FALSE))","v":""},{"$f":"IF(valB1!$AR51=\"\",\"\",FIXED(valB1!$AR51,0,FALSE))","v":""},{"$f":"IF(valB1!$BM51=\"\",\"\",FIXED(valB1!$BM51,0,FALSE))","v":""},{"$f":"IF(valB1!$BX51=\"\",\"\",FIXED(valB1!$BX51,0,FALSE))","v":""},{"$f":"IF(valB1!$BY51=\"\",\"\",FIXED(valB1!$BY51,0,FALSE))","v":""},{"$f":"IF(valB1!$BZ51=\"\",\"\",FIXED(valB1!$BZ51,0,FALSE))","v":""},{"$f":"valB1!$CC51","v":""},{"$f":"IF(valB2!$W51=\"\",\"\",FIXED(valB2!$W51,0,FALSE))","v":""},{"$f":"IF(valB2!$AR51=\"\",\"\",FIXED(valB2!$AR51,0,FALSE))","v":""},{"$f":"IF(valB2!$BM51=\"\",\"\",FIXED(valB2!$BM51,0,FALSE))","v":""},{"$f":"IF(valB2!$BX51=\"\",\"\",FIXED(valB2!$BX51,0,FALSE))","v":""},{"$f":"IF(valB2!$BY51=\"\",\"\",FIXED(valB2!$BY51,0,FALSE))","v":""},{"$f":"IF(valB2!$BZ51=\"\",\"\",FIXED(valB2!$BZ51,0,FALSE))","v":""},null,{"$f":"IF(valB3!$W51=\"\",\"\",FIXED(valB3!$W51,0,FALSE))","v":""},{"$f":"IF(valB3!$AR51=\"\",\"\",FIXED(valB3!$AR51,0,FALSE))","v":""},{"$f":"IF(valB3!$BM51=\"\",\"\",FIXED(valB3!$BM51,0,FALSE))","v":""},{"$f":"IF(valB3!$BX51=\"\",\"\",FIXED(valB3!$BX51,0,FALSE))","v":""},{"$f":"IF(valB3!$BY51=\"\",\"\",FIXED(valB3!$BY51,0,FALSE))","v":""},{"$f":"IF(valB3!$BZ51=\"\",\"\",FIXED(valB3!$BZ51,0,FALSE))","v":""},null,"","",null,"","",0,0,"",{"$f":"IF(AN51=\"\",\"\",IF(AN51<50.5,datpro!$H$25,datpro!$H$24))","v":""},null,null,null,null,null,null,null,null,null,"","","","","","","","","","","","","","","",0,"","","","","","",0,"","",null,null,"","","","","","","","","","","",0,"","","","",0,"",""]
[null,null,null,null,null,{"$f":"IF(filEst!F52=\"\",\"\",filEst!F52)","v":""},{"$f":"IF(filEst!G52=\"\",\"\",filEst!G52)","v":""},{"$f":"IF(filEst!L52=\"\",\"\",filEst!L52)","v":""},null,null,{"$f":"IF(filEst!K52=\"\",\"\",filEst!K52)","v":""},{"$f":"IF(valB1!$W52=\"\",\"\",FIXED(valB1!$W52,0,FALSE))","v":""},{"$f":"IF(valB1!$AR52=\"\",\"\",FIXED(valB1!$AR52,0,FALSE))","v":""},{"$f":"IF(valB1!$BM52=\"\",\"\",FIXED(valB1!$BM52,0,FALSE))","v":""},{"$f":"IF(valB1!$BX52=\"\",\"\",FIXED(valB1!$BX52,0,FALSE))","v":""},{"$f":"IF(valB1!$BY52=\"\",\"\",FIXED(valB1!$BY52,0,FALSE))","v":""},{"$f":"IF(valB1!$BZ52=\"\",\"\",FIXED(valB1!$BZ52,0,FALSE))","v":""},{"$f":"valB1!$CC52","v":""},{"$f":"IF(valB2!$W52=\"\",\"\",FIXED(valB2!$W52,0,FALSE))","v":""},{"$f":"IF(valB2!$AR52=\"\",\"\",FIXED(valB2!$AR52,0,FALSE))","v":""},{"$f":"IF(valB2!$BM52=\"\",\"\",FIXED(valB2!$BM52,0,FALSE))","v":""},{"$f":"IF(valB2!$BX52=\"\",\"\",FIXED(valB2!$BX52,0,FALSE))","v":""},{"$f":"IF(valB2!$BY52=\"\",\"\",FIXED(valB2!$BY52,0,FALSE))","v":""},{"$f":"IF(valB2!$BZ52=\"\",\"\",FIXED(valB2!$BZ52,0,FALSE))","v":""},null,{"$f":"IF(valB3!$W52=\"\",\"\",FIXED(valB3!$W52,0,FALSE))","v":""},{"$f":"IF(valB3!$AR52=\"\",\"\",FIXED(valB3!$AR52,0,FALSE))","v":""},{"$f":"IF(valB3!$BM52=\"\",\"\",FIXED(valB3!$BM52,0,FALSE))","v":""},{"$f":"IF(valB3!$BX52=\"\",\"\",FIXED(valB3!$BX52,0,FALSE))","v":""},{"$f":"IF(valB3!$BY52=\"\",\"\",FIXED(valB3!$BY52,0,FALSE))","v":""},{"$f":"IF(valB3!$BZ52=\"\",\"\",FIXED(valB3!$BZ52,0,FALSE))","v":""},null,"","",null,"","",0,0,"",{"$f":"IF(AN52=\"\",\"\",IF(AN52<50.5,datpro!$H$25,datpro!$H$24))","v":""},null,null,null,null,null,null,null,null,null,"","","","","","","","","","","","","","","",0,"","","","","","",0,"","",null,null,"","","","","","","","","","","",0,"","","","",0,"",""]
[null,null,null,null,null,{"$f":"IF(filEst!F53=\"\",\"\",filEst!F53)","v":""},{"$f":"IF(filEst!G53=\"\",\"\",filEst!G53)","v":""},{"$f":"IF(filEst!L53=\"\",\"\",filEst!L53)","v":""},null,null,{"$f":"IF(filEst!K53=\"\",\"\",filEst!K53)","v":""},{"$f":"IF(valB1!$W53=\"\",\"\",FIXED(valB1!$W53,0,FALSE))","v":""},{"$f":"IF(valB1!$AR53=\"\",\"\",FIXED(valB1!$AR53,0,FALSE))","v":""},{"$f":"IF(valB1!$BM53=\"\",\"\",FIXED(valB1!$BM53,0,FALSE))","v":""},{"$f":"IF(valB1!$BX53=\"\",\"\",FIXED(valB1!$BX53,0,FALSE))","v":""},{"$f":"IF(valB1!$BY53=\"\",\"\",FIXED(valB1!$BY53,0,FALSE))","v":""},{"$f":"IF(valB1!$BZ53=\"\",\"\",FIXED(valB1!$BZ53,0,FALSE))","v":""},{"$f":"valB1!$CC53","v":""},{"$f":"IF(valB2!$W53=\"\",\"\",FIXED(valB2!$W53,0,FALSE))","v":""},{"$f":"IF(valB2!$AR53=\"\",\"\",FIXED(valB2!$AR53,0,FALSE))","v":""},{"$f":"IF(valB2!$BM53=\"\",\"\",FIXED(valB2!$BM53,0,FALSE))","v":""},{"$f":"IF(valB2!$BX53=\"\",\"\",FIXED(valB2!$BX53,0,FALSE))","v":""},{"$f":"IF(valB2!$BY53=\"\",\"\",FIXED(valB2!$BY53,0,FALSE))","v":""},{"$f":"IF(valB2!$BZ53=\"\",\"\",FIXED(valB2!$BZ53,0,FALSE))","v":""},null,{"$f":"IF(valB3!$W53=\"\",\"\",FIXED(valB3!$W53,0,FALSE))","v":""},{"$f":"IF(valB3!$AR53=\"\",\"\",FIXED(valB3!$AR53,0,FALSE))","v":""},{"$f":"IF(valB3!$BM53=\"\",\"\",FIXED(valB3!$BM53,0,FALSE))","v":""},{"$f":"IF(valB3!$BX53=\"\",\"\",FIXED(valB3!$BX53,0,FALSE))","v":""},{"$f":"IF(valB3!$BY53=\"\",\"\",FIXED(valB3!$BY53,0,FALSE))","v":""},{"$f":"IF(valB3!$BZ53=\"\",\"\",FIXED(valB3!$BZ53,0,FALSE))","v":""},null,"","",null,"","",0,0,"",{"$f":"IF(AN53=\"\",\"\",IF(AN53<50.5,datpro!$H$25,datpro!$H$24))","v":""},null,null,null,null,null,null,null,null,null,"","","","","","","","","","","","","","","",0,"","","","","",{"$f":"AE53","v":""},{"$f":"AF53","v":0},"","",null,null,"","","","","","","","","","","",0,"","","","",0,"",""]
[null,null,null,null,null,{"$f":"IF(filEst!F54=\"\",\"\",filEst!F54)","v":""},{"$f":"IF(filEst!G54=\"\",\"\",filEst!G54)","v":""},{"$f":"IF(filEst!L54=\"\",\"\",filEst!L54)","v":""},null,null,{"$f":"IF(filEst!K54=\"\",\"\",filEst!K54)","v":""},{"$f":"IF(valB1!$W54=\"\",\"\",FIXED(valB1!$W54,0,FALSE))","v":""},{"$f":"IF(valB1!$AR54=\"\",\"\",FIXED(valB1!$AR54,0,FALSE))","v":""},{"$f":"IF(valB1!$BM54=\"\",\"\",FIXED(valB1!$BM54,0,FALSE))","v":""},{"$f":"IF(valB1!$BX54=\"\",\"\",FIXED(valB1!$BX54,0,FALSE))","v":""},{"$f":"IF(valB1!$BY54=\"\",\"\",FIXED(valB1!$BY54,0,FALSE))","v":""},{"$f":"IF(valB1!$BZ54=\"\",\"\",FIXED(valB1!$BZ54,0,FALSE))","v":""},{"$f":"valB1!$CC54","v":""},{"$f":"IF(valB2!$W54=\"\",\"\",FIXED(valB2!$W54,0,FALSE))","v":""},{"$f":"IF(valB2!$AR54=\"\",\"\",FIXED(valB2!$AR54,0,FALSE))","v":""},{"$f":"IF(valB2!$BM54=\"\",\"\",FIXED(valB2!$BM54,0,FALSE))","v":""},{"$f":"IF(valB2!$BX54=\"\",\"\",FIXED(valB2!$BX54,0,FALSE))","v":""},{"$f":"IF(valB2!$BY54=\"\",\"\",FIXED(valB2!$BY54,0,FALSE))","v":""},{"$f":"IF(valB2!$BZ54=\"\",\"\",FIXED(valB2!$BZ54,0,FALSE))","v":""},null,{"$f":"IF(valB3!$W54=\"\",\"\",FIXED(valB3!$W54,0,FALSE))","v":""},{"$f":"IF(valB3!$AR54=\"\",\"\",FIXED(valB3!$AR54,0,FALSE))","v":""},{"$f":"IF(valB3!$BM54=\"\",\"\",FIXED(valB3!$BM54,0,FALSE))","v":""},{"$f":"IF(valB3!$BX54=\"\",\"\",FIXED(valB3!$BX54,0,FALSE))","v":""},{"$f":"IF(valB3!$BY54=\"\",\"\",FIXED(valB3!$BY54,0,FALSE))","v":""},{"$f":"IF(valB3!$BZ54=\"\",\"\",FIXED(valB3!$BZ54,0,FALSE))","v":""},null,"","",null,"","",0,0,"",{"$f":"IF(AN54=\"\",\"\",IF(AN54<50.5,datpro!$H$25,datpro!$H$24))","v":""},null,null,null,null,null,null,null,null,null,"","","","","","","","","","","","","","","",0,"","","","","","",0,"","",null,null,"","","","","","","","","","","",0,"","","","",0,"",""]
[null,null,null,null,null,{"$f":"IF(filEst!F55=\"\",\"\",filEst!F55)","v":""},{"$f":"IF(filEst!G55=\"\",\"\",filEst!G55)","v":""},{"$f":"IF(filEst!L55=\"\",\"\",filEst!L55)","v":""},null,null,{"$f":"IF(filEst!K55=\"\",\"\",filEst!K55)","v":""},{"$f":"IF(valB1!$W55=\"\",\"\",FIXED(valB1!$W55,0,FALSE))","v":""},{"$f":"IF(valB1!$AR55=\"\",\"\",FIXED(valB1!$AR55,0,FALSE))","v":""},{"$f":"IF(valB1!$BM55=\"\",\"\",FIXED(valB1!$BM55,0,FALSE))","v":""},{"$f":"IF(valB1!$BX55=\"\",\"\",FIXED(valB1!$BX55,0,FALSE))","v":""},{"$f":"IF(valB1!$BY55=\"\",\"\",FIXED(valB1!$BY55,0,FALSE))","v":""},{"$f":"IF(valB1!$BZ55=\"\",\"\",FIXED(valB1!$BZ55,0,FALSE))","v":""},{"$f":"valB1!$CC55","v":""},{"$f":"IF(valB2!$W55=\"\",\"\",FIXED(valB2!$W55,0,FALSE))","v":""},{"$f":"IF(valB2!$AR55=\"\",\"\",FIXED(valB2!$AR55,0,FALSE))","v":""},{"$f":"IF(valB2!$BM55=\"\",\"\",FIXED(valB2!$BM55,0,FALSE))","v":""},{"$f":"IF(valB2!$BX55=\"\",\"\",FIXED(valB2!$BX55,0,FALSE))","v":""},{"$f":"IF(valB2!$BY55=\"\",\"\",FIXED(valB2!$BY55,0,FALSE))","v":""},{"$f":"IF(valB2!$BZ55=\"\",\"\",FIXED(valB2!$BZ55,0,FALSE))","v":""},null,{"$f":"IF(valB3!$W55=\"\",\"\",FIXED(valB3!$W55,0,FALSE))","v":""},{"$f":"IF(valB3!$AR55=\"\",\"\",FIXED(valB3!$AR55,0,FALSE))","v":""},{"$f":"IF(valB3!$BM55=\"\",\"\",FIXED(valB3!$BM55,0,FALSE))","v":""},{"$f":"IF(valB3!$BX55=\"\",\"\",FIXED(valB3!$BX55,0,FALSE))","v":""},{"$f":"IF(valB3!$BY55=\"\",\"\",FIXED(valB3!$BY55,0,FALSE))","v":""},{"$f":"IF(valB3!$BZ55=\"\",\"\",FIXED(valB3!$BZ55,0,FALSE))","v":""},null,"","",null,"","",0,0,"",{"$f":"IF(AN55=\"\",\"\",IF(AN55<50.5,datpro!$H$25,datpro!$H$24))","v":""},null,null,null,null,null,null,null,null,null,"","","","","","","","","","","","","","","",0,"","","","","","",0,"","",null,null,"","","","","","","","","","","",0,"","","","",0,"",""]
[null,null,null,null,null,{"$f":"IF(filEst!F56=\"\",\"\",filEst!F56)","v":""},{"$f":"IF(filEst!G56=\"\",\"\",filEst!G56)","v":""},{"$f":"IF(filEst!L56=\"\",\"\",filEst!L56)","v":""},null,null,{"$f":"IF(filEst!K56=\"\",\"\",filEst!K56)","v":""},{"$f":"IF(valB1!$W56=\"\",\"\",FIXED(valB1!$W56,0,FALSE))","v":""},{"$f":"IF(valB1!$AR56=\"\",\"\",FIXED(valB1!$AR56,0,FALSE))","v":""},{"$f":"IF(valB1!$BM56=\"\",\"\",FIXED(valB1!$BM56,0,FALSE))","v":""},{"$f":"IF(valB1!$BX56=\"\",\"\",FIXED(valB1!$BX56,0,FALSE))","v":""},{"$f":"IF(valB1!$BY56=\"\",\"\",FIXED(valB1!$BY56,0,FALSE))","v":""},{"$f":"IF(valB1!$BZ56=\"\",\"\",FIXED(valB1!$BZ56,0,FALSE))","v":""},{"$f":"valB1!$CC56","v":""},{"$f":"IF(valB2!$W56=\"\",\"\",FIXED(valB2!$W56,0,FALSE))","v":""},{"$f":"IF(valB2!$AR56=\"\",\"\",FIXED(valB2!$AR56,0,FALSE))","v":""},{"$f":"IF(valB2!$BM56=\"\",\"\",FIXED(valB2!$BM56,0,FALSE))","v":""},{"$f":"IF(valB2!$BX56=\"\",\"\",FIXED(valB2!$BX56,0,FALSE))","v":""},{"$f":"IF(valB2!$BY56=\"\",\"\",FIXED(valB2!$BY56,0,FALSE))","v":""},{"$f":"IF(valB2!$BZ56=\"\",\"\",FIXED(valB2!$BZ56,0,FALSE))","v":""},null,{"$f":"IF(valB3!$W56=\"\",\"\",FIXED(valB3!$W56,0,FALSE))","v":""},{"$f":"IF(valB3!$AR56=\"\",\"\",FIXED(valB3!$AR56,0,FALSE))","v":""},{"$f":"IF(valB3!$BM56=\"\",\"\",FIXED(valB3!$BM56,0,FALSE))","v":""},{"$f":"IF(valB3!$BX56=\"\",\"\",FIXED(valB3!$BX56,0,FALSE))","v":""},{"$f":"IF(valB3!$BY56=\"\",\"\",FIXED(valB3!$BY56,0,FALSE))","v":""},{"$f":"IF(valB3!$BZ56=\"\",\"\",FIXED(valB3!$BZ56,0,FALSE))","v":""},null,"","",null,"","",0,0,"",{"$f":"IF(AN56=\"\",\"\",IF(AN56<50.5,datpro!$H$25,datpro!$H$24))","v":""},null,null,null,null,null,null,null,null,null,"","","","","","","","","","","","","","","",0,"","","","","","",0,"","",null,null,"","","","","","","","","","","",0,"","","","",0,"",""]
[null,null,null,null,null,{"$f":"IF(filEst!F57=\"\",\"\",filEst!F57)","v":""},{"$f":"IF(filEst!G57=\"\",\"\",filEst!G57)","v":""},{"$f":"IF(filEst!L57=\"\",\"\",filEst!L57)","v":""},null,null,{"$f":"IF(filEst!K57=\"\",\"\",filEst!K57)","v":""},{"$f":"IF(valB1!$W57=\"\",\"\",FIXED(valB1!$W57,0,FALSE))","v":""},{"$f":"IF(valB1!$AR57=\"\",\"\",FIXED(valB1!$AR57,0,FALSE))","v":""},{"$f":"IF(valB1!$BM57=\"\",\"\",FIXED(valB1!$BM57,0,FALSE))","v":""},{"$f":"IF(valB1!$BX57=\"\",\"\",FIXED(valB1!$BX57,0,FALSE))","v":""},{"$f":"IF(valB1!$BY57=\"\",\"\",FIXED(valB1!$BY57,0,FALSE))","v":""},{"$f":"IF(valB1!$BZ57=\"\",\"\",FIXED(valB1!$BZ57,0,FALSE))","v":""},{"$f":"valB1!$CC57","v":""},{"$f":"IF(valB2!$W57=\"\",\"\",FIXED(valB2!$W57,0,FALSE))","v":""},{"$f":"IF(valB2!$AR57=\"\",\"\",FIXED(valB2!$AR57,0,FALSE))","v":""},{"$f":"IF(valB2!$BM57=\"\",\"\",FIXED(valB2!$BM57,0,FALSE))","v":""},{"$f":"IF(valB2!$BX57=\"\",\"\",FIXED(valB2!$BX57,0,FALSE))","v":""},{"$f":"IF(valB2!$BY57=\"\",\"\",FIXED(valB2!$BY57,0,FALSE))","v":""},{"$f":"IF(valB2!$BZ57=\"\",\"\",FIXED(valB2!$BZ57,0,FALSE))","v":""},null,{"$f":"IF(valB3!$W57=\"\",\"\",FIXED(valB3!$W57,0,FALSE))","v":""},{"$f":"IF(valB3!$AR57=\"\",\"\",FIXED(valB3!$AR57,0,FALSE))","v":""},{"$f":"IF(valB3!$BM57=\"\",\"\",FIXED(valB3!$BM57,0,FALSE))","v":""},{"$f":"IF(valB3!$BX57=\"\",\"\",FIXED(valB3!$BX57,0,FALSE))","v":""},{"$f":"IF(valB3!$BY57=\"\",\"\",FIXED(valB3!$BY57,0,FALSE))","v":""},{"$f":"IF(valB3!$BZ57=\"\",\"\",FIXED(valB3!$BZ57,0,FALSE))","v":""},null,"","",null,"","",0,0,"",{"$f":"IF(AN57=\"\",\"\",IF(AN57<50.5,datpro!$H$25,datpro!$H$24))","v":""},null,null,null,null,null,null,null,null,null,"","","","","","","","","","","","","","","",0,"","","","","","",0,"","",null,null,"","","","","","","","","","","",0,"","","","",0,"",""]
[null,null,null,null,null,{"$f":"IF(filEst!F58=\"\",\"\",filEst!F58)","v":""},{"$f":"IF(filEst!G58=\"\",\"\",filEst!G58)","v":""},{"$f":"IF(filEst!L58=\"\",\"\",filEst!L58)","v":""},null,null,{"$f":"IF(filEst!K58=\"\",\"\",filEst!K58)","v":""},{"$f":"IF(valB1!$W58=\"\",\"\",FIXED(valB1!$W58,0,FALSE))","v":""},{"$f":"IF(valB1!$AR58=\"\",\"\",FIXED(valB1!$AR58,0,FALSE))","v":""},{"$f":"IF(valB1!$BM58=\"\",\"\",FIXED(valB1!$BM58,0,FALSE))","v":""},{"$f":"IF(valB1!$BX58=\"\",\"\",FIXED(valB1!$BX58,0,FALSE))","v":""},{"$f":"IF(valB1!$BY58=\"\",\"\",FIXED(valB1!$BY58,0,FALSE))","v":""},{"$f":"IF(valB1!$BZ58=\"\",\"\",FIXED(valB1!$BZ58,0,FALSE))","v":""},{"$f":"valB1!$CC58","v":""},{"$f":"IF(valB2!$W58=\"\",\"\",FIXED(valB2!$W58,0,FALSE))","v":""},{"$f":"IF(valB2!$AR58=\"\",\"\",FIXED(valB2!$AR58,0,FALSE))","v":""},{"$f":"IF(valB2!$BM58=\"\",\"\",FIXED(valB2!$BM58,0,FALSE))","v":""},{"$f":"IF(valB2!$BX58=\"\",\"\",FIXED(valB2!$BX58,0,FALSE))","v":""},{"$f":"IF(valB2!$BY58=\"\",\"\",FIXED(valB2!$BY58,0,FALSE))","v":""},{"$f":"IF(valB2!$BZ58=\"\",\"\",FIXED(valB2!$BZ58,0,FALSE))","v":""},null,{"$f":"IF(valB3!$W58=\"\",\"\",FIXED(valB3!$W58,0,FALSE))","v":""},{"$f":"IF(valB3!$AR58=\"\",\"\",FIXED(valB3!$AR58,0,FALSE))","v":""},{"$f":"IF(valB3!$BM58=\"\",\"\",FIXED(valB3!$BM58,0,FALSE))","v":""},{"$f":"IF(valB3!$BX58=\"\",\"\",FIXED(valB3!$BX58,0,FALSE))","v":""},{"$f":"IF(valB3!$BY58=\"\",\"\",FIXED(valB3!$BY58,0,FALSE))","v":""},{"$f":"IF(valB3!$BZ58=\"\",\"\",FIXED(valB3!$BZ58,0,FALSE))","v":""},null,"","",null,"","",0,0,"",{"$f":"IF(AN58=\"\",\"\",IF(AN58<50.5,datpro!$H$25,datpro!$H$24))","v":""},null,null,null,null,null,null,null,null,null,"","","","","","","","","","","","","","","",0,"","","","","","",0,"","",null,null,"","","","","","","","","","","",0,"","","","",0,"",""]
[null,null,null,null,null,{"$f":"IF(filEst!F59=\"\",\"\",filEst!F59)","v":""},{"$f":"IF(filEst!G59=\"\",\"\",filEst!G59)","v":""},{"$f":"IF(filEst!L59=\"\",\"\",filEst!L59)","v":""},null,null,{"$f":"IF(filEst!K59=\"\",\"\",filEst!K59)","v":""},{"$f":"IF(valB1!$W59=\"\",\"\",FIXED(valB1!$W59,0,FALSE))","v":""},{"$f":"IF(valB1!$AR59=\"\",\"\",FIXED(valB1!$AR59,0,FALSE))","v":""},{"$f":"IF(valB1!$BM59=\"\",\"\",FIXED(valB1!$BM59,0,FALSE))","v":""},{"$f":"IF(valB1!$BX59=\"\",\"\",FIXED(valB1!$BX59,0,FALSE))","v":""},{"$f":"IF(valB1!$BY59=\"\",\"\",FIXED(valB1!$BY59,0,FALSE))","v":""},{"$f":"IF(valB1!$BZ59=\"\",\"\",FIXED(valB1!$BZ59,0,FALSE))","v":""},{"$f":"valB1!$CC59","v":""},{"$f":"IF(valB2!$W59=\"\",\"\",FIXED(valB2!$W59,0,FALSE))","v":""},{"$f":"IF(valB2!$AR59=\"\",\"\",FIXED(valB2!$AR59,0,FALSE))","v":""},{"$f":"IF(valB2!$BM59=\"\",\"\",FIXED(valB2!$BM59,0,FALSE))","v":""},{"$f":"IF(valB2!$BX59=\"\",\"\",FIXED(valB2!$BX59,0,FALSE))","v":""},{"$f":"IF(valB2!$BY59=\"\",\"\",FIXED(valB2!$BY59,0,FALSE))","v":""},{"$f":"IF(valB2!$BZ59=\"\",\"\",FIXED(valB2!$BZ59,0,FALSE))","v":""},null,{"$f":"IF(valB3!$W59=\"\",\"\",FIXED(valB3!$W59,0,FALSE))","v":""},{"$f":"IF(valB3!$AR59=\"\",\"\",FIXED(valB3!$AR59,0,FALSE))","v":""},{"$f":"IF(valB3!$BM59=\"\",\"\",FIXED(valB3!$BM59,0,FALSE))","v":""},{"$f":"IF(valB3!$BX59=\"\",\"\",FIXED(valB3!$BX59,0,FALSE))","v":""},{"$f":"IF(valB3!$BY59=\"\",\"\",FIXED(valB3!$BY59,0,FALSE))","v":""},{"$f":"IF(valB3!$BZ59=\"\",\"\",FIXED(valB3!$BZ59,0,FALSE))","v":""},null,"","",null,"","",0,0,"",{"$f":"IF(AN59=\"\",\"\",IF(AN59<50.5,datpro!$H$25,datpro!$H$24))","v":""},null,null,null,null,null,null,null,null,null,"","","","","","","","","","","","","","","",0,"","","","","","",0,"","",null,null,"","","","","","","","","","","",0,"","","","",0,"",""]
[null,null,null,null,null,{"$f":"IF(filEst!F60=\"\",\"\",filEst!F60)","v":""},{"$f":"IF(filEst!G60=\"\",\"\",filEst!G60)","v":""},{"$f":"IF(filEst!L60=\"\",\"\",filEst!L60)","v":""},null,null,{"$f":"IF(filEst!K60=\"\",\"\",filEst!K60)","v":""},{"$f":"IF(valB1!$W60=\"\",\"\",FIXED(valB1!$W60,0,FALSE))","v":""},{"$f":"IF(valB1!$AR60=\"\",\"\",FIXED(valB1!$AR60,0,FALSE))","v":""},{"$f":"IF(valB1!$BM60=\"\",\"\",FIXED(valB1!$BM60,0,FALSE))","v":""},{"$f":"IF(valB1!$BX60=\"\",\"\",FIXED(valB1!$BX60,0,FALSE))","v":""},{"$f":"IF(valB1!$BY60=\"\",\"\",FIXED(valB1!$BY60,0,FALSE))","v":""},{"$f":"IF(valB1!$BZ60=\"\",\"\",FIXED(valB1!$BZ60,0,FALSE))","v":""},{"$f":"valB1!$CC60","v":""},{"$f":"IF(valB2!$W60=\"\",\"\",FIXED(valB2!$W60,0,FALSE))","v":""},{"$f":"IF(valB2!$AR60=\"\",\"\",FIXED(valB2!$AR60,0,FALSE))","v":""},{"$f":"IF(valB2!$BM60=\"\",\"\",FIXED(valB2!$BM60,0,FALSE))","v":""},{"$f":"IF(valB2!$BX60=\"\",\"\",FIXED(valB2!$BX60,0,FALSE))","v":""},{"$f":"IF(valB2!$BY60=\"\",\"\",FIXED(valB2!$BY60,0,FALSE))","v":""},{"$f":"IF(valB2!$BZ60=\"\",\"\",FIXED(valB2!$BZ60,0,FALSE))","v":""},null,{"$f":"IF(valB3!$W60=\"\",\"\",FIXED(valB3!$W60,0,FALSE))","v":""},{"$f":"IF(valB3!$AR60=\"\",\"\",FIXED(valB3!$AR60,0,FALSE))","v":""},{"$f":"IF(valB3!$BM60=\"\",\"\",FIXED(valB3!$BM60,0,FALSE))","v":""},{"$f":"IF(valB3!$BX60=\"\",\"\",FIXED(valB3!$BX60,0,FALSE))","v":""},{"$f":"IF(valB3!$BY60=\"\",\"\",FIXED(valB3!$BY60,0,FALSE))","v":""},{"$f":"IF(valB3!$BZ60=\"\",\"\",FIXED(valB3!$BZ60,0,FALSE))","v":""},null,"","",null,"","",0,0,"",{"$f":"IF(AN60=\"\",\"\",IF(AN60<50.5,datpro!$H$25,datpro!$H$24))","v":""},null,null,null,null,null,null,null,null,null,"","","","","","","","","","","","","","","",0,"","","","","","",0,"","",null,null,"","","","","","","","","","","",0,"","","","",0,"",""]
[null,null,null,null,null,{"$f":"IF(filEst!F61=\"\",\"\",filEst!F61)","v":""},{"$f":"IF(filEst!G61=\"\",\"\",filEst!G61)","v":""},{"$f":"IF(filEst!L61=\"\",\"\",filEst!L61)","v":""},null,null,{"$f":"IF(filEst!K61=\"\",\"\",filEst!K61)","v":""},{"$f":"IF(valB1!$W61=\"\",\"\",FIXED(valB1!$W61,0,FALSE))","v":""},{"$f":"IF(valB1!$AR61=\"\",\"\",FIXED(valB1!$AR61,0,FALSE))","v":""},{"$f":"IF(valB1!$BM61=\"\",\"\",FIXED(valB1!$BM61,0,FALSE))","v":""},{"$f":"IF(valB1!$BX61=\"\",\"\",FIXED(valB1!$BX61,0,FALSE))","v":""},{"$f":"IF(valB1!$BY61=\"\",\"\",FIXED(valB1!$BY61,0,FALSE))","v":""},{"$f":"IF(valB1!$BZ61=\"\",\"\",FIXED(valB1!$BZ61,0,FALSE))","v":""},{"$f":"valB1!$CC61","v":""},{"$f":"IF(valB2!$W61=\"\",\"\",FIXED(valB2!$W61,0,FALSE))","v":""},{"$f":"IF(valB2!$AR61=\"\",\"\",FIXED(valB2!$AR61,0,FALSE))","v":""},{"$f":"IF(valB2!$BM61=\"\",\"\",FIXED(valB2!$BM61,0,FALSE))","v":""},{"$f":"IF(valB2!$BX61=\"\",\"\",FIXED(valB2!$BX61,0,FALSE))","v":""},{"$f":"IF(valB2!$BY61=\"\",\"\",FIXED(valB2!$BY61,0,FALSE))","v":""},{"$f":"IF(valB2!$BZ61=\"\",\"\",FIXED(valB2!$BZ61,0,FALSE))","v":""},null,{"$f":"IF(valB3!$W61=\"\",\"\",FIXED(valB3!$W61,0,FALSE))","v":""},{"$f":"IF(valB3!$AR61=\"\",\"\",FIXED(valB3!$AR61,0,FALSE))","v":""},{"$f":"IF(valB3!$BM61=\"\",\"\",FIXED(valB3!$BM61,0,FALSE))","v":""},{"$f":"IF(valB3!$BX61=\"\",\"\",FIXED(valB3!$BX61,0,FALSE))","v":""},{"$f":"IF(valB3!$BY61=\"\",\"\",FIXED(valB3!$BY61,0,FALSE))","v":""},{"$f":"IF(valB3!$BZ61=\"\",\"\",FIXED(valB3!$BZ61,0,FALSE))","v":""},null,"","",null,"","",0,0,"",{"$f":"IF(AN61=\"\",\"\",IF(AN61<50.5,datpro!$H$25,datpro!$H$24))","v":""},null,null,null,null,null,null,null,null,null,"","","","","","","","","","","","","","","",0,"","","","","","",0,"","",null,null,"","","","","","","","","","","",0,"","","","",0,"",""]
[null,null,null,null,null,{"$f":"IF(filEst!F62=\"\",\"\",filEst!F62)","v":""},{"$f":"IF(filEst!G62=\"\",\"\",filEst!G62)","v":""},{"$f":"IF(filEst!L62=\"\",\"\",filEst!L62)","v":""},null,null,{"$f":"IF(filEst!K62=\"\",\"\",filEst!K62)","v":""},{"$f":"IF(valB1!$W62=\"\",\"\",FIXED(valB1!$W62,0,FALSE))","v":""},{"$f":"IF(valB1!$AR62=\"\",\"\",FIXED(valB1!$AR62,0,FALSE))","v":""},{"$f":"IF(valB1!$BM62=\"\",\"\",FIXED(valB1!$BM62,0,FALSE))","v":""},{"$f":"IF(valB1!$BX62=\"\",\"\",FIXED(valB1!$BX62,0,FALSE))","v":""},{"$f":"IF(valB1!$BY62=\"\",\"\",FIXED(valB1!$BY62,0,FALSE))","v":""},{"$f":"IF(valB1!$BZ62=\"\",\"\",FIXED(valB1!$BZ62,0,FALSE))","v":""},{"$f":"valB1!$CC62","v":""},{"$f":"IF(valB2!$W62=\"\",\"\",FIXED(valB2!$W62,0,FALSE))","v":""},{"$f":"IF(valB2!$AR62=\"\",\"\",FIXED(valB2!$AR62,0,FALSE))","v":""},{"$f":"IF(valB2!$BM62=\"\",\"\",FIXED(valB2!$BM62,0,FALSE))","v":""},{"$f":"IF(valB2!$BX62=\"\",\"\",FIXED(valB2!$BX62,0,FALSE))","v":""},{"$f":"IF(valB2!$BY62=\"\",\"\",FIXED(valB2!$BY62,0,FALSE))","v":""},{"$f":"IF(valB2!$BZ62=\"\",\"\",FIXED(valB2!$BZ62,0,FALSE))","v":""},null,{"$f":"IF(valB3!$W62=\"\",\"\",FIXED(valB3!$W62,0,FALSE))","v":""},{"$f":"IF(valB3!$AR62=\"\",\"\",FIXED(valB3!$AR62,0,FALSE))","v":""},{"$f":"IF(valB3!$BM62=\"\",\"\",FIXED(valB3!$BM62,0,FALSE))","v":""},{"$f":"IF(valB3!$BX62=\"\",\"\",FIXED(valB3!$BX62,0,FALSE))","v":""},{"$f":"IF(valB3!$BY62=\"\",\"\",FIXED(valB3!$BY62,0,FALSE))","v":""},{"$f":"IF(valB3!$BZ62=\"\",\"\",FIXED(valB3!$BZ62,0,FALSE))","v":""},null,"","",null,"","",0,0,"",{"$f":"IF(AN62=\"\",\"\",IF(AN62<50.5,datpro!$H$25,datpro!$H$24))","v":""},null,null,null,null,null,null,null,null,null,"","","","","","","","","","","","","","","",0,"","","","","","",0,"","",null,null,"","","","","","","","","","","",0,"","","","",0,"",""]
[null,null,null,null,null,{"$f":"IF(filEst!F63=\"\",\"\",filEst!F63)","v":""},{"$f":"IF(filEst!G63=\"\",\"\",filEst!G63)","v":""},{"$f":"IF(filEst!L63=\"\",\"\",filEst!L63)","v":""},null,null,{"$f":"IF(filEst!K63=\"\",\"\",filEst!K63)","v":""},{"$f":"IF(valB1!$W63=\"\",\"\",FIXED(valB1!$W63,0,FALSE))","v":""},{"$f":"IF(valB1!$AR63=\"\",\"\",FIXED(valB1!$AR63,0,FALSE))","v":""},{"$f":"IF(valB1!$BM63=\"\",\"\",FIXED(valB1!$BM63,0,FALSE))","v":""},{"$f":"IF(valB1!$BX63=\"\",\"\",FIXED(valB1!$BX63,0,FALSE))","v":""},{"$f":"IF(valB1!$BY63=\"\",\"\",FIXED(valB1!$BY63,0,FALSE))","v":""},{"$f":"IF(valB1!$BZ63=\"\",\"\",FIXED(valB1!$BZ63,0,FALSE))","v":""},{"$f":"valB1!$CC63","v":""},{"$f":"IF(valB2!$W63=\"\",\"\",FIXED(valB2!$W63,0,FALSE))","v":""},{"$f":"IF(valB2!$AR63=\"\",\"\",FIXED(valB2!$AR63,0,FALSE))","v":""},{"$f":"IF(valB2!$BM63=\"\",\"\",FIXED(valB2!$BM63,0,FALSE))","v":""},{"$f":"IF(valB2!$BX63=\"\",\"\",FIXED(valB2!$BX63,0,FALSE))","v":""},{"$f":"IF(valB2!$BY63=\"\",\"\",FIXED(valB2!$BY63,0,FALSE))","v":""},{"$f":"IF(valB2!$BZ63=\"\",\"\",FIXED(valB2!$BZ63,0,FALSE))","v":""},null,{"$f":"IF(valB3!$W63=\"\",\"\",FIXED(valB3!$W63,0,FALSE))","v":""},{"$f":"IF(valB3!$AR63=\"\",\"\",FIXED(valB3!$AR63,0,FALSE))","v":""},{"$f":"IF(valB3!$BM63=\"\",\"\",FIXED(valB3!$BM63,0,FALSE))","v":""},{"$f":"IF(valB3!$BX63=\"\",\"\",FIXED(valB3!$BX63,0,FALSE))","v":""},{"$f":"IF(valB3!$BY63=\"\",\"\",FIXED(valB3!$BY63,0,FALSE))","v":""},{"$f":"IF(valB3!$BZ63=\"\",\"\",FIXED(valB3!$BZ63,0,FALSE))","v":""},null,"","",null,"","",0,0,"",{"$f":"IF(AN63=\"\",\"\",IF(AN63<50.5,datpro!$H$25,datpro!$H$24))","v":""},null,null,null,null,null,null,null,null,null,"","","","","","","","","","","","","","","",0,"","","","","","",0,"","",null,null,"","","","","","","","","","","",0,"","","","",0,"",""]
[null,null,null,null,null,{"$f":"IF(filEst!F64=\"\",\"\",filEst!F64)","v":""},{"$f":"IF(filEst!G64=\"\",\"\",filEst!G64)","v":""},{"$f":"IF(filEst!L64=\"\",\"\",filEst!L64)","v":""},null,null,{"$f":"IF(filEst!K64=\"\",\"\",filEst!K64)","v":""},{"$f":"IF(valB1!$W64=\"\",\"\",FIXED(valB1!$W64,0,FALSE))","v":""},{"$f":"IF(valB1!$AR64=\"\",\"\",FIXED(valB1!$AR64,0,FALSE))","v":""},{"$f":"IF(valB1!$BM64=\"\",\"\",FIXED(valB1!$BM64,0,FALSE))","v":""},{"$f":"IF(valB1!$BX64=\"\",\"\",FIXED(valB1!$BX64,0,FALSE))","v":""},{"$f":"IF(valB1!$BY64=\"\",\"\",FIXED(valB1!$BY64,0,FALSE))","v":""},{"$f":"IF(valB1!$BZ64=\"\",\"\",FIXED(valB1!$BZ64,0,FALSE))","v":""},{"$f":"valB1!$CC64","v":""},{"$f":"IF(valB2!$W64=\"\",\"\",FIXED(valB2!$W64,0,FALSE))","v":""},{"$f":"IF(valB2!$AR64=\"\",\"\",FIXED(valB2!$AR64,0,FALSE))","v":""},{"$f":"IF(valB2!$BM64=\"\",\"\",FIXED(valB2!$BM64,0,FALSE))","v":""},{"$f":"IF(valB2!$BX64=\"\",\"\",FIXED(valB2!$BX64,0,FALSE))","v":""},{"$f":"IF(valB2!$BY64=\"\",\"\",FIXED(valB2!$BY64,0,FALSE))","v":""},{"$f":"IF(valB2!$BZ64=\"\",\"\",FIXED(valB2!$BZ64,0,FALSE))","v":""},null,{"$f":"IF(valB3!$W64=\"\",\"\",FIXED(valB3!$W64,0,FALSE))","v":""},{"$f":"IF(valB3!$AR64=\"\",\"\",FIXED(valB3!$AR64,0,FALSE))","v":""},{"$f":"IF(valB3!$BM64=\"\",\"\",FIXED(valB3!$BM64,0,FALSE))","v":""},{"$f":"IF(valB3!$BX64=\"\",\"\",FIXED(valB3!$BX64,0,FALSE))","v":""},{"$f":"IF(valB3!$BY64=\"\",\"\",FIXED(valB3!$BY64,0,FALSE))","v":""},{"$f":"IF(valB3!$BZ64=\"\",\"\",FIXED(valB3!$BZ64,0,FALSE))","v":""},null,"","",null,"","",0,0,"",{"$f":"IF(AN64=\"\",\"\",IF(AN64<50.5,datpro!$H$25,datpro!$H$24))","v":""},null,null,null,null,null,null,null,null,null,"","","","","","","","","","","","","","","",0,"","","","","","",0,"","",null,null,"","","","","","","","","","","",0,"","","","",0,"",""]
[null,null,null,null,null,{"$f":"IF(filEst!F65=\"\",\"\",filEst!F65)","v":""},{"$f":"IF(filEst!G65=\"\",\"\",filEst!G65)","v":""},{"$f":"IF(filEst!L65=\"\",\"\",filEst!L65)","v":""},null,null,{"$f":"IF(filEst!K65=\"\",\"\",filEst!K65)","v":""},{"$f":"IF(valB1!$W65=\"\",\"\",FIXED(valB1!$W65,0,FALSE))","v":""},{"$f":"IF(valB1!$AR65=\"\",\"\",FIXED(valB1!$AR65,0,FALSE))","v":""},{"$f":"IF(valB1!$BM65=\"\",\"\",FIXED(valB1!$BM65,0,FALSE))","v":""},{"$f":"IF(valB1!$BX65=\"\",\"\",FIXED(valB1!$BX65,0,FALSE))","v":""},{"$f":"IF(valB1!$BY65=\"\",\"\",FIXED(valB1!$BY65,0,FALSE))","v":""},{"$f":"IF(valB1!$BZ65=\"\",\"\",FIXED(valB1!$BZ65,0,FALSE))","v":""},{"$f":"valB1!$CC65","v":""},{"$f":"IF(valB2!$W65=\"\",\"\",FIXED(valB2!$W65,0,FALSE))","v":""},{"$f":"IF(valB2!$AR65=\"\",\"\",FIXED(valB2!$AR65,0,FALSE))","v":""},{"$f":"IF(valB2!$BM65=\"\",\"\",FIXED(valB2!$BM65,0,FALSE))","v":""},{"$f":"IF(valB2!$BX65=\"\",\"\",FIXED(valB2!$BX65,0,FALSE))","v":""},{"$f":"IF(valB2!$BY65=\"\",\"\",FIXED(valB2!$BY65,0,FALSE))","v":""},{"$f":"IF(valB2!$BZ65=\"\",\"\",FIXED(valB2!$BZ65,0,FALSE))","v":""},null,{"$f":"IF(valB3!$W65=\"\",\"\",FIXED(valB3!$W65,0,FALSE))","v":""},{"$f":"IF(valB3!$AR65=\"\",\"\",FIXED(valB3!$AR65,0,FALSE))","v":""},{"$f":"IF(valB3!$BM65=\"\",\"\",FIXED(valB3!$BM65,0,FALSE))","v":""},{"$f":"IF(valB3!$BX65=\"\",\"\",FIXED(valB3!$BX65,0,FALSE))","v":""},{"$f":"IF(valB3!$BY65=\"\",\"\",FIXED(valB3!$BY65,0,FALSE))","v":""},{"$f":"IF(valB3!$BZ65=\"\",\"\",FIXED(valB3!$BZ65,0,FALSE))","v":""},null,"","",null,"","",0,0,"",{"$f":"IF(AN65=\"\",\"\",IF(AN65<50.5,datpro!$H$25,datpro!$H$24))","v":""},null,null,null,null,null,null,null,null,null,"","","","","","","","","","","","","","","",0,"","","","","","",0,"","",null,null,"","","","","","","","","","","",0,"","","","",0,"",""]
[null,null,null,null,null,{"$f":"IF(filEst!F66=\"\",\"\",filEst!F66)","v":""},{"$f":"IF(filEst!G66=\"\",\"\",filEst!G66)","v":""},{"$f":"IF(filEst!L66=\"\",\"\",filEst!L66)","v":""},null,null,{"$f":"IF(filEst!K66=\"\",\"\",filEst!K66)","v":""},{"$f":"IF(valB1!$W66=\"\",\"\",FIXED(valB1!$W66,0,FALSE))","v":""},{"$f":"IF(valB1!$AR66=\"\",\"\",FIXED(valB1!$AR66,0,FALSE))","v":""},{"$f":"IF(valB1!$BM66=\"\",\"\",FIXED(valB1!$BM66,0,FALSE))","v":""},{"$f":"IF(valB1!$BX66=\"\",\"\",FIXED(valB1!$BX66,0,FALSE))","v":""},{"$f":"IF(valB1!$BY66=\"\",\"\",FIXED(valB1!$BY66,0,FALSE))","v":""},{"$f":"IF(valB1!$BZ66=\"\",\"\",FIXED(valB1!$BZ66,0,FALSE))","v":""},{"$f":"valB1!$CC66","v":""},{"$f":"IF(valB2!$W66=\"\",\"\",FIXED(valB2!$W66,0,FALSE))","v":""},{"$f":"IF(valB2!$AR66=\"\",\"\",FIXED(valB2!$AR66,0,FALSE))","v":""},{"$f":"IF(valB2!$BM66=\"\",\"\",FIXED(valB2!$BM66,0,FALSE))","v":""},{"$f":"IF(valB2!$BX66=\"\",\"\",FIXED(valB2!$BX66,0,FALSE))","v":""},{"$f":"IF(valB2!$BY66=\"\",\"\",FIXED(valB2!$BY66,0,FALSE))","v":""},{"$f":"IF(valB2!$BZ66=\"\",\"\",FIXED(valB2!$BZ66,0,FALSE))","v":""},null,{"$f":"IF(valB3!$W66=\"\",\"\",FIXED(valB3!$W66,0,FALSE))","v":""},{"$f":"IF(valB3!$AR66=\"\",\"\",FIXED(valB3!$AR66,0,FALSE))","v":""},{"$f":"IF(valB3!$BM66=\"\",\"\",FIXED(valB3!$BM66,0,FALSE))","v":""},{"$f":"IF(valB3!$BX66=\"\",\"\",FIXED(valB3!$BX66,0,FALSE))","v":""},{"$f":"IF(valB3!$BY66=\"\",\"\",FIXED(valB3!$BY66,0,FALSE))","v":""},{"$f":"IF(valB3!$BZ66=\"\",\"\",FIXED(valB3!$BZ66,0,FALSE))","v":""},null,"","",null,"","",0,0,"",{"$f":"IF(AN66=\"\",\"\",IF(AN66<50.5,datpro!$H$25,datpro!$H$24))","v":""},null,null,null,null,null,null,null,null,null,"","","","","","","","","","","","","","","",0,"","","","","","",0,"","",null,null,"","","","","","","","","","","",0,"","","","",0,"",""]
[null,null,null,null,null,{"$f":"IF(filEst!F67=\"\",\"\",filEst!F67)","v":""},{"$f":"IF(filEst!G67=\"\",\"\",filEst!G67)","v":""},{"$f":"IF(filEst!L67=\"\",\"\",filEst!L67)","v":""},null,null,{"$f":"IF(filEst!K67=\"\",\"\",filEst!K67)","v":""},{"$f":"IF(valB1!$W67=\"\",\"\",FIXED(valB1!$W67,0,FALSE))","v":""},{"$f":"IF(valB1!$AR67=\"\",\"\",FIXED(valB1!$AR67,0,FALSE))","v":""},{"$f":"IF(valB1!$BM67=\"\",\"\",FIXED(valB1!$BM67,0,FALSE))","v":""},{"$f":"IF(valB1!$BX67=\"\",\"\",FIXED(valB1!$BX67,0,FALSE))","v":""},{"$f":"IF(valB1!$BY67=\"\",\"\",FIXED(valB1!$BY67,0,FALSE))","v":""},{"$f":"IF(valB1!$BZ67=\"\",\"\",FIXED(valB1!$BZ67,0,FALSE))","v":""},{"$f":"valB1!$CC67","v":""},{"$f":"IF(valB2!$W67=\"\",\"\",FIXED(valB2!$W67,0,FALSE))","v":""},{"$f":"IF(valB2!$AR67=\"\",\"\",FIXED(valB2!$AR67,0,FALSE))","v":""},{"$f":"IF(valB2!$BM67=\"\",\"\",FIXED(valB2!$BM67,0,FALSE))","v":""},{"$f":"IF(valB2!$BX67=\"\",\"\",FIXED(valB2!$BX67,0,FALSE))","v":""},{"$f":"IF(valB2!$BY67=\"\",\"\",FIXED(valB2!$BY67,0,FALSE))","v":""},{"$f":"IF(valB2!$BZ67=\"\",\"\",FIXED(valB2!$BZ67,0,FALSE))","v":""},null,{"$f":"IF(valB3!$W67=\"\",\"\",FIXED(valB3!$W67,0,FALSE))","v":""},{"$f":"IF(valB3!$AR67=\"\",\"\",FIXED(valB3!$AR67,0,FALSE))","v":""},{"$f":"IF(valB3!$BM67=\"\",\"\",FIXED(valB3!$BM67,0,FALSE))","v":""},{"$f":"IF(valB3!$BX67=\"\",\"\",FIXED(valB3!$BX67,0,FALSE))","v":""},{"$f":"IF(valB3!$BY67=\"\",\"\",FIXED(valB3!$BY67,0,FALSE))","v":""},{"$f":"IF(valB3!$BZ67=\"\",\"\",FIXED(valB3!$BZ67,0,FALSE))","v":""},null,"","",null,"","",0,0,"",{"$f":"IF(AN67=\"\",\"\",IF(AN67<50.5,datpro!$H$25,datpro!$H$24))","v":""},null,null,null,null,null,null,null,null,null,"","","","","","","","","","","","","","","",0,"","","","","","",0,"","",null,null,"","","","","","","","","","","",0,"","","","",0,"",""]
[null,null,null,null,null,{"$f":"IF(filEst!F68=\"\",\"\",filEst!F68)","v":""},{"$f":"IF(filEst!G68=\"\",\"\",filEst!G68)","v":""},{"$f":"IF(filEst!L68=\"\",\"\",filEst!L68)","v":""},null,null,{"$f":"IF(filEst!K68=\"\",\"\",filEst!K68)","v":""},{"$f":"IF(valB1!$W68=\"\",\"\",FIXED(valB1!$W68,0,FALSE))","v":""},{"$f":"IF(valB1!$AR68=\"\",\"\",FIXED(valB1!$AR68,0,FALSE))","v":""},{"$f":"IF(valB1!$BM68=\"\",\"\",FIXED(valB1!$BM68,0,FALSE))","v":""},{"$f":"IF(valB1!$BX68=\"\",\"\",FIXED(valB1!$BX68,0,FALSE))","v":""},{"$f":"IF(valB1!$BY68=\"\",\"\",FIXED(valB1!$BY68,0,FALSE))","v":""},{"$f":"IF(valB1!$BZ68=\"\",\"\",FIXED(valB1!$BZ68,0,FALSE))","v":""},{"$f":"valB1!$CC68","v":""},{"$f":"IF(valB2!$W68=\"\",\"\",FIXED(valB2!$W68,0,FALSE))","v":""},{"$f":"IF(valB2!$AR68=\"\",\"\",FIXED(valB2!$AR68,0,FALSE))","v":""},{"$f":"IF(valB2!$BM68=\"\",\"\",FIXED(valB2!$BM68,0,FALSE))","v":""},{"$f":"IF(valB2!$BX68=\"\",\"\",FIXED(valB2!$BX68,0,FALSE))","v":""},{"$f":"IF(valB2!$BY68=\"\",\"\",FIXED(valB2!$BY68,0,FALSE))","v":""},{"$f":"IF(valB2!$BZ68=\"\",\"\",FIXED(valB2!$BZ68,0,FALSE))","v":""},null,{"$f":"IF(valB3!$W68=\"\",\"\",FIXED(valB3!$W68,0,FALSE))","v":""},{"$f":"IF(valB3!$AR68=\"\",\"\",FIXED(valB3!$AR68,0,FALSE))","v":""},{"$f":"IF(valB3!$BM68=\"\",\"\",FIXED(valB3!$BM68,0,FALSE))","v":""},{"$f":"IF(valB3!$BX68=\"\",\"\",FIXED(valB3!$BX68,0,FALSE))","v":""},{"$f":"IF(valB3!$BY68=\"\",\"\",FIXED(valB3!$BY68,0,FALSE))","v":""},{"$f":"IF(valB3!$BZ68=\"\",\"\",FIXED(valB3!$BZ68,0,FALSE))","v":""},null,"","",null,"","",0,0,{"$f":"IF(R68=\"\",\"\",IF(Y68=\"\",\"\",IF(AF68=\"\",\"\",ROUND((R68+Y68+AF68)/3,$AN$79))))","v":""},{"$f":"IF(AN68=\"\",\"\",IF(AN68<50.5,datpro!$H$25,datpro!$H$24))","v":""},null,null,null,null,null,null,null,null,null,"","","","","","","","","","","","","","","",0,"","","","","","",0,"","",null,null,"","","","","","","","","","","",0,"","","","",0,"",""]
[null,null,null,null,null,{"$f":"IF(filEst!F69=\"\",\"\",filEst!F69)","v":""},{"$f":"IF(filEst!G69=\"\",\"\",filEst!G69)","v":""},{"$f":"IF(filEst!L69=\"\",\"\",filEst!L69)","v":""},null,null,{"$f":"IF(filEst!K69=\"\",\"\",filEst!K69)","v":""},{"$f":"IF(valB1!$W69=\"\",\"\",FIXED(valB1!$W69,0,FALSE))","v":""},{"$f":"IF(valB1!$AR69=\"\",\"\",FIXED(valB1!$AR69,0,FALSE))","v":""},{"$f":"IF(valB1!$BM69=\"\",\"\",FIXED(valB1!$BM69,0,FALSE))","v":""},{"$f":"IF(valB1!$BX69=\"\",\"\",FIXED(valB1!$BX69,0,FALSE))","v":""},{"$f":"IF(valB1!$BY69=\"\",\"\",FIXED(valB1!$BY69,0,FALSE))","v":""},{"$f":"IF(valB1!$BZ69=\"\",\"\",FIXED(valB1!$BZ69,0,FALSE))","v":""},{"$f":"valB1!$CC69","v":""},{"$f":"IF(valB2!$W69=\"\",\"\",FIXED(valB2!$W69,0,FALSE))","v":""},{"$f":"IF(valB2!$AR69=\"\",\"\",FIXED(valB2!$AR69,0,FALSE))","v":""},{"$f":"IF(valB2!$BM69=\"\",\"\",FIXED(valB2!$BM69,0,FALSE))","v":""},{"$f":"IF(valB2!$BX69=\"\",\"\",FIXED(valB2!$BX69,0,FALSE))","v":""},{"$f":"IF(valB2!$BY69=\"\",\"\",FIXED(valB2!$BY69,0,FALSE))","v":""},{"$f":"IF(valB2!$BZ69=\"\",\"\",FIXED(valB2!$BZ69,0,FALSE))","v":""},null,{"$f":"IF(valB3!$W69=\"\",\"\",FIXED(valB3!$W69,0,FALSE))","v":""},{"$f":"IF(valB3!$AR69=\"\",\"\",FIXED(valB3!$AR69,0,FALSE))","v":""},{"$f":"IF(valB3!$BM69=\"\",\"\",FIXED(valB3!$BM69,0,FALSE))","v":""},{"$f":"IF(valB3!$BX69=\"\",\"\",FIXED(valB3!$BX69,0,FALSE))","v":""},{"$f":"IF(valB3!$BY69=\"\",\"\",FIXED(valB3!$BY69,0,FALSE))","v":""},{"$f":"IF(valB3!$BZ69=\"\",\"\",FIXED(valB3!$BZ69,0,FALSE))","v":""},null,"","",null,"","",0,0,"",{"$f":"IF(AN69=\"\",\"\",IF(AN69<50.5,datpro!$H$25,datpro!$H$24))","v":""},null,null,null,null,null,null,null,null,null,"","","","","","","","","","","","","","","",0,"","","","","","",0,"","",null,null,"","","","","","","","","","","",0,"","","","",0,"",""]
[null,null,null,null,null,{"$f":"IF(filEst!F70=\"\",\"\",filEst!F70)","v":""},{"$f":"IF(filEst!G70=\"\",\"\",filEst!G70)","v":""},{"$f":"IF(filEst!L70=\"\",\"\",filEst!L70)","v":""},null,null,{"$f":"IF(filEst!K70=\"\",\"\",filEst!K70)","v":""},{"$f":"IF(valB1!$W70=\"\",\"\",FIXED(valB1!$W70,0,FALSE))","v":""},{"$f":"IF(valB1!$AR70=\"\",\"\",FIXED(valB1!$AR70,0,FALSE))","v":""},{"$f":"IF(valB1!$BM70=\"\",\"\",FIXED(valB1!$BM70,0,FALSE))","v":""},{"$f":"IF(valB1!$BX70=\"\",\"\",FIXED(valB1!$BX70,0,FALSE))","v":""},{"$f":"IF(valB1!$BY70=\"\",\"\",FIXED(valB1!$BY70,0,FALSE))","v":""},{"$f":"IF(valB1!$BZ70=\"\",\"\",FIXED(valB1!$BZ70,0,FALSE))","v":""},{"$f":"valB1!$CC70","v":""},{"$f":"IF(valB2!$W70=\"\",\"\",FIXED(valB2!$W70,0,FALSE))","v":""},{"$f":"IF(valB2!$AR70=\"\",\"\",FIXED(valB2!$AR70,0,FALSE))","v":""},{"$f":"IF(valB2!$BM70=\"\",\"\",FIXED(valB2!$BM70,0,FALSE))","v":""},{"$f":"IF(valB2!$BX70=\"\",\"\",FIXED(valB2!$BX70,0,FALSE))","v":""},{"$f":"IF(valB2!$BY70=\"\",\"\",FIXED(valB2!$BY70,0,FALSE))","v":""},{"$f":"IF(valB2!$BZ70=\"\",\"\",FIXED(valB2!$BZ70,0,FALSE))","v":""},null,{"$f":"IF(valB3!$W70=\"\",\"\",FIXED(valB3!$W70,0,FALSE))","v":""},{"$f":"IF(valB3!$AR70=\"\",\"\",FIXED(valB3!$AR70,0,FALSE))","v":""},{"$f":"IF(valB3!$BM70=\"\",\"\",FIXED(valB3!$BM70,0,FALSE))","v":""},{"$f":"IF(valB3!$BX70=\"\",\"\",FIXED(valB3!$BX70,0,FALSE))","v":""},{"$f":"IF(valB3!$BY70=\"\",\"\",FIXED(valB3!$BY70,0,FALSE))","v":""},{"$f":"IF(valB3!$BZ70=\"\",\"\",FIXED(valB3!$BZ70,0,FALSE))","v":""},null,"","",null,"","",0,0,"",{"$f":"IF(AN70=\"\",\"\",IF(AN70<50.5,datpro!$H$25,datpro!$H$24))","v":""},null,null,null,null,null,null,null,null,null,"","","","","","","","","","","","","","","",0,"","","","","","",0,"","",null,null,"","","","","","","","","","","",0,"","","","",0,"",""]
[null,null,null,null,null,null,"FEM",{"$f":"COUNTIF($H21:$H70,\"F\")","v":0},{"$f":"COUNTIFS(H21:H70,\"F\",AN21:AN70,\"\")","v":0},{"$f":"COUNTIFS(H21:H70,\"F\",AO21:AO70,$AO$77)","v":0},"PROMEDIO DE APROVECHAMIENTO",{"$f":"IF(R76=\"\",\"\",R75-R76)","v":0},"efectivos",null,null,null,null,{"$f":"IF(L71=\"\",\"\",IF(L71=0,\"\",ROUND(((SUM(R21:R70))/L71),0)))","v":""},{"$f":"IF(Y76=\"\",\"\",Y75-Y76)","v":0},"efectivos",null,null,null,null,{"$f":"IF(S71=\"\",\"\",IF(S71=0,\"\",ROUND(((SUM(Y21:Y70))/S71),0)))","v":""},{"$f":"IF(AF76=\"\",\"\",AF75-AF76)","v":0},"efectivos",null,null,null,null,{"$f":"IF(Z71=\"\",\"\",IF(Z71=0,\"\",ROUND(((SUM(AF21:AF70))/Z71),0)))","v":""},null,null,null,null,null,null,null,{"$f":"IF(R71=\"\",\"\",IF(Y71=\"\",\"\",IF(AF71=\"\",\"\",IF(AM71=\"\",\"\",ROUND((R71+Y71+AF71+AM71),0)/4))))","v":""},{"$f":"AG71","v":0},"efectivos",null,null,null,null,null,null,null,null,null,null,null,null,null,null,null,null,null,null,null,null,null,null,{"$f":"AN71","v":""}]
[null,null,null,null,null,null,"MAS",{"$f":"COUNTIF($H21:$H70,\"M\")","v":0},{"$f":"COUNTIFS(H21:H70,\"M\",AN21:AN70,\"\")","v":0},{"$f":"COUNTIFS(H21:H70,\"M\",AO21:AO70,$AO$77)","v":0},"PROCENTAJE DE APROBADOS",{"$f":"COUNTIF(R21:R70,\">50,49\")","v":0},"aprovados",null,null,null,null,{"$f":"IF(L71=\"\",\"\",IF(L71=0,\"\",(L72*100)/L71))","v":""},{"$f":"COUNTIF(Y21:Y70,\">50,49\")","v":0},"aprovados",null,null,null,null,{"$f":"IF(S71=\"\",\"\",IF(S71=0,\"\",(S72*100)/S71))","v":""},{"$f":"COUNTIF(AF21:AF70,\">50,49\")","v":0},"aprovados",null,null,null,null,{"$f":"IF(Z71=\"\",\"\",IF(Z71=0,\"\",(Z72*100)/Z71))","v":""},null,null,null,null,null,null,null,null,{"$f":"COUNTIF(AN21:AN70,\">50,50\")","v":0},"aprovados"]
[null,null,null,null,null,null,null,"INSCRITOS","RETIRADOS","APLAZOS","PORCENTAJE DE REPROBADOS",null,null,null,null,null,null,{"$f":"IF(R72=\"\",\"\",100-R72)","v":""},null,null,null,null,null,null,{"$f":"IF(Y72=\"\",\"\",100-Y72)","v":""},null,null,null,null,null,null,{"$f":"IF(AF72=\"\",\"\",100-AF72)","v":""}]
[null,null,null,null,null,null,null,null,null,null,"AVANCE DE MATERIA",null,null,null,null,null,null,33,null,null,null,null,null,null,34,null,null,null,null,null,null,33,null,null,null,null,null,null,null,{"$f":"R74+Y74+AF74","v":100}]
[null,null,null,null,null,null,null,null,null,50,"TOTAL INSCRITOS",{"$f":"COUNTIF($K21:$K70,\"\")","v":50},"contar inscritos",null,null,null,null,{"$f":"IF(R74=\"\",\"\",($J75-L75))","v":0},{"$f":"COUNTIF($K21:$K70,\"\")","v":50},"contar inscritos",null,null,null,null,{"$f":"IF(Y74=\"\",\"\",($J75-S75))","v":0},{"$f":"COUNTIF($K21:$K70,\"\")","v":50},"contar inscritos",null,null,null,null,{"$f":"IF(AF74=\"\",\"\",($J75-Z75))","v":0},null,null,null,null,null,null,null,null,{"$f":"COUNTIF($K21:$K70,\"\")","v":50},"contar inscritos"]
[null,null,null,null,null,null,null,null,null,null,"TOTAL RETIRADOS",{"$f":"COUNTIF(R21:R70,\"\")","v":50},"contar retirados",null,null,null,null,{"$f":"IF(R74=\"\",\"\",L76-L75)","v":0},{"$f":"COUNTIF(Y21:Y70,\"\")","v":50},"contar retirados",null,null,null,null,{"$f":"IF(Y74=\"\",\"\",S76-S75)","v":0},{"$f":"COUNTIF(AF21:AF70,\"\")","v":50},"contar retirados",null,null,null,null,{"$f":"IF(AF74=\"\",\"\",Z76-Z75)","v":0},null,null,null,null,null,null,null,null,{"$f":"COUNTIF(AN21:AN70,\"\")","v":50},"contar retirados"]
[null,null,null,null,null,null,null,null,null,null,null,null,null,null,null,null,null,null,null,null,null,null,null,null,null,null,null,null,null,null,null,null,null,null,null,null,null,null,null,null,{"$f":"datpro!$H$25","v":"RETENIDO"}]
[]
[null,null,null,null,null,null,null,null,null,null,null,null,null,null,null,null,null,null,null,null,null,null,null,null,null,null,null,null,null,null,null,null,null,null,null,null,null,null,null,{"$f":"datpro!$M$19","v":0}]
[]
[null,null,null,null,null,null,"select_load",{"$f":"main!$AE$10","v":50}]
[null,null,null,null,null,null,"actual_save"]
[]
[]
[]
[]
[]
[]
[]
[]
[]
[]
[]
[]
[]
[]
[]
[]
[1,2,3,4,5,6,7,8,9,10,11,12,13,14,15,16,17]
[]
[null,null,null,null,null,null,"alto de fila",12]
[null,null,null,null,null,null,"ancho col nro",1]
[null,null,null,null,null,null,"ancho col est",65]
[null,null,null,null,null,null,"ancho col indicadores",1.3,null,null,null,null,"Pdi","lis","Ptr","OCA"]
[null,null,null,null,null,null,"ancho col prom ind",2.5,null,null,null,null,0,0,0,0]
[null,null,null,null,null,null,"ancho nota prof",3.3,null,null,null,null,2,28,2.57,8]
[null,null,null,null,null,null,"ancho nota bim",2.5,null,null,null,null,2.29,30,2.86,10]
[null,null,null,null,null,null,"tamaño fuente",10,null,null,null,null,2.57,32,3.14,12]
[null,null,null,null,null,null,"alto indicador",120,null,null,null,null,2.86,34,3.43,14]
[null,null,null,null,null,null,"bimestre",1,null,null,null,null,3.14,36,3.71,16]
[null,null,null,null,null,null,"nroest",17,null,null,null,null,3.43,38,4,18]
[null,null,null,null,null,null,"hiden_cri_eva",1,null,null,null,null,3.71,40,4.29,20]
[null,null,null,null,null,null,"alto fila crieva",80]
[null,null,null,null,null,null,"alto fila actv",80]
[null,null,null,null,null,null,"paneles",0]
[null,null,null,null,null,null,"sit_bim_comp",1]
[null,null,null,null,null,null,"sit_bim_abrv",0.5]
[null,null,null,null,null,null,"cod_area"]
[null,null,null,null,null,null,"hiden_actividedes",1]

{"sheet":"infTri","index":13,"n_rows":119,"n_cols":30,"rows_kept":119,"cut":false,"hidden":false,"merged":[[1,5,1,18],[3,30,4,30],[17,11,17,14],[17,15,17,16],[17,17,18,17],[16,11,16,17]]}
[]
[null,null,null,null,null,"INFORME TRIMESTRAL",null,null,null,null,null,null,null,null,null,null,null,null,null,null,"GESTION 2023",null,null,null,null,null,null,null,"Ξ","Cerrar"]
[null,null,null,null,null,null,null,null,null,null,"UNIDAD EDUCATIVA ",null,{"$f":"IF(datpro!$E$7=\"\",\"\",datpro!$E$7)","v":""},null,null,null,null,null,null,null,null,null,null,null,null,null,null,null,"Å","Volver"]
[null,null,null,null,null,null,null,null,null,null,"NIVEL ",null,{"$f":"datpro!$E$10","v":""}]
[null,null,null,null,null,null,null,null,null,null,"AÑO DE ESCOLARIDAD",null,{"$f":"CONCATENATE( datpro!$E$11,\"  -  \",datpro!$E$12)","v":"  -  "}]
[null,null,null,null,null,null,null,null,null,null,"DIRECTORA/OR",null,{"$f":"IF(datpro!$E$8=\"\",\"\",datpro!$E$8)","v":""}]
[null,null,null,null,null,null,null,null,null,null,"MAESTRA/O",null,{"$f":"IF(datpro!$E$9=\"\",\"\",datpro!$E$9)","v":""}]
[null,null,null,null,null,null,null,null,null,null,"CAMPO ",null,{"$f":"IF(datpro!$E$13=\"\",\"\",datpro!$E$13)","v":""}]
[null,null,null,null,null,null,null,null,null,null,"ÁREA",null,{"$f":"IF(datpro!$E$14=\"\",\"\",datpro!$E$14)","v":0}]
[]
[]
[]
[]
[]
[null,null,null,null,null,null,"F21:S70","S"]
[]
[null,null,null,null,null,null,null,null,null,null,null,"3º TRIMESTRE"]
[null,null,null,null,null,null,null,null,null,null,null,"EV. MAESTRA/O",null,null,null,"EV.EST.",null,"PROMEDIO"]
[null,null,null,null,null,null,null,null,null,null,null,"SER","SABER","HACER","DECIDIR","SER","DECIDIR"]
[null,null,null,null,null,"Nº","COD","gen","v1","v2","APELLIDOS Y NOMBRES","SE","SA","HA","DE","ES","ED","T3","OBSERVACIONES"]
[null,null,null,null,null,null,null,null,null,null,null,null,null,null,null,null,null,null,{"$f":"IF(R21=\"\",\"\",IF(R21<50.5,datpro!$H$25,datpro!$H$24))","v":""}]
[null,null,null,null,null,null,null,null,null,null,null,null,null,null,null,null,null,null,{"$f":"IF(R22=\"\",\"\",IF(R22<50.5,datpro!$H$25,datpro!$H$24))","v":""},null,"ESTUDIANTES","M","F","TOTAL","%"]
[null,null,null,null,null,null,null,null,null,null,null,null,null,null,null,null,null,null,{"$f":"IF(R23=\"\",\"\",IF(R23<50.5,datpro!$H$25,datpro!$H$24))","v":""},null,"INSCRITOS",{"$f":"H72","v":0},{"$f":"H71","v":0},{"$f":"SUM(V23:W23)","v":0},{"$f":"IF(X23=0,\"\", (X23*100)/X23)","v":""}]
[null,null,null,null,null,null,null,null,null,null,null,null,null,null,null,null,null,null,{"$f":"IF(R24=\"\",\"\",IF(R24<50.5,datpro!$H$25,datpro!$H$24))","v":""},null,"RETIRADOS",{"$f":"I72","v":0},{"$f":"I71","v":0},{"$f":"SUM(V24:W24)","v":0},{"$f":"IF(X23=0,\"\",(X24*100)/X23)","v":""}]
[null,null,null,null,null,null,null,null,null,null,null,null,null,null,null,null,null,null,{"$f":"IF(R25=\"\",\"\",IF(R25<50.5,datpro!$H$25,datpro!$H$24))","v":""},null,"EFECTIVOS",{"$f":"V23-V24","v":0},{"$f":"W23-W24","v":0},{"$f":"X23-X24","v":0},{"$f":"IF(X23=0,\"\",(X25*100)/X23)","v":""}]
[null,null,null,null,null,null,null,null,null,null,null,null,null,null,null,null,null,null,{"$f":"IF(R26=\"\",\"\",IF(R26<50.5,datpro!$H$25,datpro!$H$24))","v":""}]
[null,null,null,null,null,null,null,null,null,null,null,null,null,null,null,null,null,null,{"$f":"IF(R27=\"\",\"\",IF(R27<50.5,datpro!$H$25,datpro!$H$24))","v":""}]
[null,null,null,null,null,null,null,null,null,null,null,null,null,null,null,null,null,null,{"$f":"IF(R28=\"\",\"\",IF(R28<50.5,datpro!$H$25,datpro!$H$24))","v":""}]
[null,null,null,null,null,null,null,null,null,null,null,null,null,null,null,null,null,null,{"$f":"IF(R29=\"\",\"\",IF(R29<50.5,datpro!$H$25,datpro!$H$24))","v":""},null,"ESTUDIANTES","M","F","TOTAL","%"]
[null,null,null,null,null,null,null,null,null,null,null,null,null,null,null,null,null,null,{"$f":"IF(R30=\"\",\"\",IF(R30<50.5,datpro!$H$25,datpro!$H$24))","v":""},null,"EFECTIVOS",{"$f":"V25","v":0},{"$f":"W25","v":0},{"$f":"SUM(V30:W30)","v":0},{"$f":"IF(X30=0,\"\",(X30*100)/X30)","v":""}]
[null,null,null,null,null,null,null,null,null,null,null,null,null,null,null,null,null,null,{"$f":"IF(R31=\"\",\"\",IF(R31<50.5,datpro!$H$25,datpro!$H$24))","v":""},null,{"$f":"S78","v":"APROBADO"},{"$f":"V30-V32","v":0},{"$f":"W30-W32","v":0},{"$f":"SUM(V31:W31)","v":0},{"$f":"IF(X30=0,\"\",(X31*100)/X30)","v":""}]
[null,null,null,null,null,null,null,null,null,null,null,null,null,null,null,null,null,null,{"$f":"IF(R32=\"\",\"\",IF(R32<50.5,datpro!$H$25,datpro!$H$24))","v":""},null,{"$f":"S77","v":"RETENIDO"},{"$f":"J72","v":0},{"$f":"J71","v":0},{"$f":"SUM(V32:W32)","v":0},{"$f":"IF(X30=0,\"\",X32*100/X30)","v":""}]
[null,null,null,null,null,null,null,null,null,null,null,null,null,null,null,null,null,null,{"$f":"IF(R33=\"\",\"\",IF(R33<50.5,datpro!$H$25,datpro!$H$24))","v":""},null,"TOTAL",{"$f":"SUM(V31:V32)","v":0},{"$f":"SUM(W31:W32)","v":0},{"$f":"SUM(X31:X32)","v":0},{"$f":"IF(X33=0,\"\",X33*100/X33)","v":""}]
[null,null,null,null,null,null,null,null,null,null,null,null,null,null,null,null,null,null,{"$f":"IF(R34=\"\",\"\",IF(R34<50.5,datpro!$H$25,datpro!$H$24))","v":""}]
[null,null,null,null,null,null,null,null,null,null,null,null,null,null,null,null,null,null,{"$f":"IF(R35=\"\",\"\",IF(R35<50.5,datpro!$H$25,datpro!$H$24))","v":""}]
[null,null,null,null,null,null,null,null,null,null,null,null,null,null,null,null,null,null,{"$f":"IF(R36=\"\",\"\",IF(R36<50.5,datpro!$H$25,datpro!$H$24))","v":""}]
[null,null,null,null,null,null,null,null,null,null,null,null,null,null,null,null,null,null,{"$f":"IF(R37=\"\",\"\",IF(R37<50.5,datpro!$H$25,datpro!$H$24))","v":""}]
[null,null,null,null,null,null,null,null,null,null,null,null,null,null,null,null,null,null,{"$f":"IF(R38=\"\",\"\",IF(R38<50.5,datpro!$H$25,datpro!$H$24))","v":""}]
[null,null,null,null,null,null,null,null,null,null,null,null,null,null,null,null,null,null,{"$f":"IF(R39=\"\",\"\",IF(R39<50.5,datpro!$H$25,datpro!$H$24))","v":""}]
[null,null,null,null,null,null,null,null,null,null,null,null,null,null,null,null,null,null,{"$f":"IF(R40=\"\",\"\",IF(R40<50.5,datpro!$H$25,datpro!$H$24))","v":""}]
[null,null,null,null,null,null,null,null,null,null,null,null,null,null,null,null,null,null,{"$f":"IF(R41=\"\",\"\",IF(R41<50.5,datpro!$H$25,datpro!$H$24))","v":""}]
[null,null,null,null,null,null,null,null,null,null,null,null,null,null,null,null,null,null,{"$f":"IF(R42=\"\",\"\",IF(R42<50.5,datpro!$H$25,datpro!$H$24))","v":""}]
[null,null,null,null,null,null,null,null,null,null,null,null,null,null,null,null,null,null,{"$f":"IF(R43=\"\",\"\",IF(R43<50.5,datpro!$H$25,datpro!$H$24))","v":""}]
[null,null,null,null,null,null,null,null,null,null,null,null,null,null,null,null,null,null,{"$f":"IF(R44=\"\",\"\",IF(R44<50.5,datpro!$H$25,datpro!$H$24))","v":""}]
[null,null,null,null,null,null,null,null,null,null,null,null,null,null,null,null,null,null,{"$f":"IF(R45=\"\",\"\",IF(R45<50.5,datpro!$H$25,datpro!$H$24))","v":""}]
[null,null,null,null,null,null,null,null,null,null,null,null,null,null,null,null,null,null,{"$f":"IF(R46=\"\",\"\",IF(R46<50.5,datpro!$H$25,datpro!$H$24))","v":""}]
[null,null,null,null,null,null,null,null,null,null,null,null,null,null,null,null,null,null,{"$f":"IF(R47=\"\",\"\",IF(R47<50.5,datpro!$H$25,datpro!$H$24))","v":""}]
[null,null,null,null,null,null,null,null,null,null,null,null,null,null,null,null,null,null,{"$f":"IF(R48=\"\",\"\",IF(R48<50.5,datpro!$H$25,datpro!$H$24))","v":""}]
[null,null,null,null,null,null,null,null,null,null,null,null,null,null,null,null,null,null,{"$f":"IF(R49=\"\",\"\",IF(R49<50.5,datpro!$H$25,datpro!$H$24))","v":""}]
[null,null,null,null,null,null,null,null,null,null,null,null,null,null,null,null,null,null,{"$f":"IF(R50=\"\",\"\",IF(R50<50.5,datpro!$H$25,datpro!$H$24))","v":""}]
[null,null,null,null,null,null,null,null,null,null,null,null,null,null,null,null,null,null,{"$f":"IF(R51=\"\",\"\",IF(R51<50.5,datpro!$H$25,datpro!$H$24))","v":""}]
[null,null,null,null,null,null,null,null,null,null,null,null,null,null,null,null,null,null,{"$f":"IF(R52=\"\",\"\",IF(R52<50.5,datpro!$H$25,datpro!$H$24))","v":""}]
[null,null,null,null,null,null,null,null,null,null,null,null,null,null,null,null,null,null,{"$f":"IF(R53=\"\",\"\",IF(R53<50.5,datpro!$H$25,datpro!$H$24))","v":""}]
[null,null,null,null,null,null,null,null,null,null,null,null,null,null,null,null,null,null,{"$f":"IF(R54=\"\",\"\",IF(R54<50.5,datpro!$H$25,datpro!$H$24))","v":""}]
[null,null,null,null,null,null,null,null,null,null,null,null,null,null,null,null,null,null,{"$f":"IF(R55=\"\",\"\",IF(R55<50.5,datpro!$H$25,datpro!$H$24))","v":""}]
[null,null,null,null,null,null,null,null,null,null,null,null,null,null,null,null,null,null,{"$f":"IF(R56=\"\",\"\",IF(R56<50.5,datpro!$H$25,datpro!$H$24))","v":""}]
[null,null,null,null,null,null,null,null,null,null,null,null,null,null,null,null,null,null,{"$f":"IF(R57=\"\",\"\",IF(R57<50.5,datpro!$H$25,datpro!$H$24))","v":""}]
[null,null,null,null,null,null,null,null,null,null,null,null,null,null,null,null,null,null,{"$f":"IF(R58=\"\",\"\",IF(R58<50.5,datpro!$H$25,datpro!$H$24))","v":""}]
[null,null,null,null,null,null,null,null,null,null,null,null,null,null,null,null,null,null,{"$f":"IF(R59=\"\",\"\",IF(R59<50.5,datpro!$H$25,datpro!$H$24))","v":""}]
[null,null,null,null,null,null,null,null,null,null,null,null,null,null,null,null,null,null,{"$f":"IF(R60=\"\",\"\",IF(R60<50.5,datpro!$H$25,datpro!$H$24))","v":""}]
[null,null,null,null,null,null,null,null,null,null,null,null,null,null,null,null,null,null,{"$f":"IF(R61=\"\",\"\",IF(R61<50.5,datpro!$H$25,datpro!$H$24))","v":""}]
[null,null,null,null,null,null,null,null,null,null,null,null,null,null,null,null,null,null,{"$f":"IF(R62=\"\",\"\",IF(R62<50.5,datpro!$H$25,datpro!$H$24))","v":""}]
[null,null,null,null,null,null,null,null,null,null,null,null,null,null,null,null,null,null,{"$f":"IF(R63=\"\",\"\",IF(R63<50.5,datpro!$H$25,datpro!$H$24))","v":""}]
[null,null,null,null,null,null,null,null,null,null,null,null,null,null,null,null,null,null,{"$f":"IF(R64=\"\",\"\",IF(R64<50.5,datpro!$H$25,datpro!$H$24))","v":""}]
[null,null,null,null,null,null,null,null,null,null,null,null,null,null,null,null,null,null,{"$f":"IF(R65=\"\",\"\",IF(R65<50.5,datpro!$H$25,datpro!$H$24))","v":""}]
[null,null,null,null,null,null,null,null,null,null,null,null,null,null,null,null,null,null,{"$f":"IF(R66=\"\",\"\",IF(R66<50.5,datpro!$H$25,datpro!$H$24))","v":""}]
[null,null,null,null,null,null,null,null,null,null,null,null,null,null,null,null,null,null,{"$f":"IF(R67=\"\",\"\",IF(R67<50.5,datpro!$H$25,datpro!$H$24))","v":""}]
[null,null,null,null,null,null,null,null,null,null,null,null,null,null,null,null,null,null,{"$f":"IF(R68=\"\",\"\",IF(R68<50.5,datpro!$H$25,datpro!$H$24))","v":""}]
[null,null,null,null,null,null,null,null,null,null,null,null,null,null,null,null,null,null,{"$f":"IF(R69=\"\",\"\",IF(R69<50.5,datpro!$H$25,datpro!$H$24))","v":""}]
[null,null,null,null,null,null,null,null,null,null,null,null,null,null,null,null,null,null,{"$f":"IF(R70=\"\",\"\",IF(R70<50.5,datpro!$H$25,datpro!$H$24))","v":""}]
[null,null,null,null,null,null,"FEM",{"$f":"COUNTIF($H21:$H70,\"F\")","v":0},{"$f":"COUNTIFS(H21:H70,\"F\",R21:R70,\"\")","v":0},{"$f":"COUNTIFS(H21:H70,\"F\",S21:S70,$S$77)","v":0},"PROMEDIO DE APROVECHAMIENTO",{"$f":"IF(R76=\"\",\"\",R75-R76)","v":0},"efectivos",null,null,null,null,{"$f":"IF(L71=\"\",\"\",IF(L71=0,\"\",ROUND(((SUM(R21:R70))/L71),0)))","v":""}]
[null,null,null,null,null,null,"MAS",{"$f":"COUNTIF($H21:$H70,\"M\")","v":0},{"$f":"COUNTIFS(H21:H70,\"M\",R21:R70,\"\")","v":0},{"$f":"COUNTIFS(H21:H70,\"M\",S21:S70,$S$77)","v":0},"PROCENTAJE DE APROBADOS",{"$f":"COUNTIF(R21:R70,\">50,49\")","v":0},"aprovados",null,null,null,null,{"$f":"IF(L71=\"\",\"\",IF(L71=0,\"\",(L72*100)/L71))","v":""}]
[null,null,null,null,null,null,null,"INSCRITOS","RETIRADOS","APLAZOS","PORCENTAJE DE REPROBADOS",null,null,null,null,null,null,{"$f":"IF(R72=\"\",\"\",100-R72)","v":""}]
[null,null,null,null,null,null,null,null,null,null,"AVANCE DE MATERIA",null,null,null,null,null,null,33]
[null,null,null,null,null,null,null,null,null,50,"TOTAL INSCRITOS",{"$f":"COUNTIF($K21:$K70,\"\")","v":50},"contar inscritos",null,null,null,null,{"$f":"IF(R74=\"\",\"\",($J75-L75))","v":0}]
[null,null,null,null,null,null,null,null,null,null,"TOTAL RETIRADOS",{"$f":"COUNTIF(R21:R70,\"\")","v":50},"contar retirados",null,null,null,null,{"$f":"IF(R74=\"\",\"\",L76-L75)","v":0}]
[null,null,null,null,null,null,null,null,null,null,null,null,null,null,null,null,null,null,{"$f":"datpro!$H$25","v":"RETENIDO"}]
[null,null,null,null,null,null,null,null,null,null,null,null,null,null,null,null,null,null,{"$f":"datpro!$H$24","v":"APROBADO"}]
[]
[]
[null,null,null,null,null,null,"select_load",{"$f":"main!$AE$16","v":50}]
[null,null,null,null,null,null,"actual_save",{"$f":"main!$AE$17","v":0}]
[]
[]
[]
[]
[]
[]
[]
[]
[]
[]
[]
[]
[]
[]
[]
[]
[1,2,3,4,5,6,7,8,9,10,11,12,13,14,15,16,17]
[]
[null,null,null,null,null,null,"alto de fila",12]
[null,null,null,null,null,null,"ancho col nro",1]
[null,null,null,null,null,null,"ancho col est",65]
[null,null,null,null,null,null,"ancho col indicadores",1.3,null,null,null,null,"Pdi","lis","Ptr","OCA"]
[null,null,null,null,null,null,"ancho col prom ind",2.5,null,null,null,null,0,0,0,0]
[null,null,null,null,null,null,"ancho nota prof",3.3,null,null,null,null,2,28,2.57,8]
[null,null,null,null,null,null,"ancho nota bim",2.5,null,null,null,null,2.29,30,2.86,10]
[null,null,null,null,null,null,"tamaño fuente",10,null,null,null,null,2.57,32,3.14,12]
[null,null,null,null,null,null,"alto indicador",120,null,null,null,null,2.86,34,3.43,14]
[null,null,null,null,null,null,"bimestre",1,null,null,null,null,3.14,36,3.71,16]
[null,null,null,null,null,null,"nroest",17,null,null,null,null,3.43,38,4,18]
[null,null,null,null,null,null,"hiden_cri_eva",1,null,null,null,null,3.71,40,4.29,20]
[null,null,null,null,null,null,"alto fila crieva",80]
[null,null,null,null,null,null,"alto fila actv",80]
[null,null,null,null,null,null,"paneles",0]
[null,null,null,null,null,null,"sit_bim_comp",1]
[null,null,null,null,null,null,"sit_bim_abrv",0.5]
[null,null,null,null,null,null,"cod_area"]
[null,null,null,null,null,null,"hiden_actividedes",1]

{"sheet":"RCA","index":14,"n_rows":82,"n_cols":23,"rows_kept":82,"cut":false,"hidden":false,"merged":[[68,10,68,11],[69,10,69,11],[18,10,19,11],[62,10,62,11],[63,10,63,11],[64,10,64,11],[65,10,65,11],[66,10,66,11],[67,10,67,11],[56,10,56,11],[57,10,57,11],[58,10,58,11],[59,10,59,11],[60,10,60,11],[61,10,61,11],[50,10,50,11],[51,10,51,11],[52,10,52,11],[53,10,53,11],[54,10,54,11],[55,10,55,11],[49,10,49,11],[38,10,38,11],[39,10,39,11],[40,10,40,11],[41,10,41,11],[42,10,42,11],[43,10,43,11],[44,10,44,11],[45,10,45,11],[46,10,46,11],[47,10,47,11],[48,10,48,11],[37,10,37,11],[26,10,26,11],[27,10,27,11],[28,10,28,11],[29,10,29,11],[30,10,30,11],[31,10,31,11],[32,10,32,11],[33,10,33,11],[34,10,34,11],[35,10,35,11],[36,10,36,11],[1,6,1,19],[25,10,25,11],[18,5,19,5],[18,12,18,16],[18,17,19,17],[18,19,19,19],[20,10,20,11],[21,10,21,11],[22,10,22,11],[23,10,23,11],[24,10,24,11]]}
[]
[null,null,null,null,null,null,"CENTRALIZADOR ANUAL   GESTION 2023",null,null,null,null,null,null,null,null,null,null,null,null,null,null,"Ξ","Cerrar"]
[null,null,null,null,null,null,"UE",null,null,null,"UNIDAD EDUCATIVA ",{"$f":"datpro!$E$7","v":0},null,null,null,null,null,null,null,null,null,"Å","Volver"]
[null,null,null,null,null,null,{"$f":"datpro!$M$14","v":50},null,null,null,"NIVEL ",{"$f":"datpro!$E$10","v":""}]
[null,null,null,null,null,null,"S2D",null,null,null,"AÑO DE ESCOLARIDAD",{"$f":"CONCATENATE( datpro!$E$11,\"  -  \",datpro!$E$12)","v":"  -  "}]
[null,null,null,null,null,null,null,null,null,null,"DIRECTORA/OR",{"$f":"datpro!$E$8","v":0}]
[null,null,null,null,null,null,"MAE",null,null,null,"MAESTRA/O",{"$f":"datpro!$E$9","v":0}]
[null,null,null,null,null,null,null,null,null,null,"CAMPO ",{"$f":"IF(datpro!$E$13=\"\",\"\",datpro!$E$13)","v":""}]
[null,null,null,null,null,null,"LEX",null,null,null,"ÁREA",{"$f":"datpro!$E$14","v":0}]
[]
[]
[]
[]
[]
[null,null,null,null,null,null,"F21:T70","T"]
[]
[]
[]
[null,null,null,null,null,"N°",null,null,null,null,"NOMINA",null,"VAL. CUANTITATIVA",null,null,null,null,"RANGO","EVALUACION","OBSERVACIONES"]
[null,null,null,null,null,null,null,null,null,null,null,null,"T.1","T.2","T.3",null,"PA",null,"CUALITATIVA"]
[null,null,null,null,null,{"$f":"IF(filEst!F21=\"\",\"\",filEst!F21)","v":""},{"$f":"IF(filEst!G21=\"\",\"\",filEst!G21)","v":""},{"$f":"IF(filEst!L21=\"\",\"\",filEst!L21)","v":""},null,null,{"$f":"IF(filEst!K21=\"\",\"\",filEst!K21)","v":""},null,{"$f":"CA!R21","v":""},{"$f":"CA!Y21","v":0},{"$f":"CA!AF21","v":0},null,{"$f":"CA!AN21","v":""},"DA",null,{"$f":"CA!AO21","v":""}]
[null,null,null,null,null,{"$f":"IF(filEst!F22=\"\",\"\",filEst!F22)","v":""},{"$f":"IF(filEst!G22=\"\",\"\",filEst!G22)","v":""},{"$f":"IF(filEst!L22=\"\",\"\",filEst!L22)","v":""},null,null,{"$f":"IF(filEst!K22=\"\",\"\",filEst!K22)","v":""},null,{"$f":"CA!R22","v":""},{"$f":"CA!Y22","v":0},{"$f":"CA!AF22","v":0},null,{"$f":"CA!AN22","v":""},null,null,{"$f":"CA!AO22","v":""}]
[null,null,null,null,null,{"$f":"IF(filEst!F23=\"\",\"\",filEst!F23)","v":""},{"$f":"IF(filEst!G23=\"\",\"\",filEst!G23)","v":""},{"$f":"IF(filEst!L23=\"\",\"\",filEst!L23)","v":""},null,null,{"$f":"IF(filEst!K23=\"\",\"\",filEst!K23)","v":""},null,{"$f":"CA!R23","v":""},{"$f":"CA!Y23","v":0},{"$f":"CA!AF23","v":0},null,{"$f":"CA!AN23","v":""},null,null,{"$f":"CA!AO23","v":""},null,null,"©  2023"]
[null,null,null,null,null,{"$f":"IF(filEst!F24=\"\",\"\",filEst!F24)","v":""},{"$f":"IF(filEst!G24=\"\",\"\",filEst!G24)","v":""},{"$f":"IF(filEst!L24=\"\",\"\",filEst!L24)","v":""},null,null,{"$f":"IF(filEst!K24=\"\",\"\",filEst!K24)","v":""},null,{"$f":"CA!R24","v":""},{"$f":"CA!Y24","v":0},{"$f":"CA!AF24","v":0},null,{"$f":"CA!AN24","v":""},null,null,{"$f":"CA!AO24","v":""},null,null,"PROYECTO REMDIZ"]
[null,null,null,null,null,{"$f":"IF(filEst!F25=\"\",\"\",filEst!F25)","v":""},{"$f":"IF(filEst!G25=\"\",\"\",filEst!G25)","v":""},{"$f":"IF(filEst!L25=\"\",\"\",filEst!L25)","v":""},null,null,{"$f":"IF(filEst!K25=\"\",\"\",filEst!K25)","v":""},null,{"$f":"CA!R25","v":""},{"$f":"CA!Y25","v":0},{"$f":"CA!AF25","v":0},null,{"$f":"CA!AN25","v":""},null,null,{"$f":"CA!AO25","v":""}]
[null,null,null,null,null,{"$f":"IF(filEst!F26=\"\",\"\",filEst!F26)","v":""},{"$f":"IF(filEst!G26=\"\",\"\",filEst!G26)","v":""},{"$f":"IF(filEst!L26=\"\",\"\",filEst!L26)","v":""},null,null,{"$f":"IF(filEst!K26=\"\",\"\",filEst!K26)","v":""},null,{"$f":"CA!R26","v":""},{"$f":"CA!Y26","v":0},{"$f":"CA!AF26","v":0},null,{"$f":"CA!AN26","v":""},null,null,{"$f":"CA!AO26","v":""}]
[null,null,null,null,null,{"$f":"IF(filEst!F27=\"\",\"\",filEst!F27)","v":""},{"$f":"IF(filEst!G27=\"\",\"\",filEst!G27)","v":""},{"$f":"IF(filEst!L27=\"\",\"\",filEst!L27)","v":""},null,null,{"$f":"IF(filEst!K27=\"\",\"\",filEst!K27)","v":""},null,{"$f":"CA!R27","v":""},{"$f":"CA!Y27","v":0},{"$f":"CA!AF27","v":0},null,{"$f":"CA!AN27","v":""},null,null,{"$f":"CA!AO27","v":""}]
[null,null,null,null,null,{"$f":"IF(filEst!F28=\"\",\"\",filEst!F28)","v":""},{"$f":"IF(filEst!G28=\"\",\"\",filEst!G28)","v":""},{"$f":"IF(filEst!L28=\"\",\"\",filEst!L28)","v":""},null,null,{"$f":"IF(filEst!K28=\"\",\"\",filEst!K28)","v":""},null,{"$f":"CA!R28","v":""},{"$f":"CA!Y28","v":0},{"$f":"CA!AF28","v":0},null,{"$f":"CA!AN28","v":""},null,null,{"$f":"CA!AO28","v":""}]
[null,null,null,null,null,{"$f":"IF(filEst!F29=\"\",\"\",filEst!F29)","v":""},{"$f":"IF(filEst!G29=\"\",\"\",filEst!G29)","v":""},{"$f":"IF(filEst!L29=\"\",\"\",filEst!L29)","v":""},null,null,{"$f":"IF(filEst!K29=\"\",\"\",filEst!K29)","v":""},null,{"$f":"CA!R29","v":""},{"$f":"CA!Y29","v":0},{"$f":"CA!AF29","v":0},null,{"$f":"CA!AN29","v":""},null,null,{"$f":"CA!AO29","v":""}]
[null,null,null,null,null,{"$f":"IF(filEst!F30=\"\",\"\",filEst!F30)","v":""},{"$f":"IF(filEst!G30=\"\",\"\",filEst!G30)","v":""},{"$f":"IF(filEst!L30=\"\",\"\",filEst!L30)","v":""},null,null,{"$f":"IF(filEst!K30=\"\",\"\",filEst!K30)","v":""},null,{"$f":"CA!R30","v":""},{"$f":"CA!Y30","v":0},{"$f":"CA!AF30","v":0},null,{"$f":"CA!AN30","v":""},null,null,{"$f":"CA!AO30","v":""}]
[null,null,null,null,null,{"$f":"IF(filEst!F31=\"\",\"\",filEst!F31)","v":""},{"$f":"IF(filEst!G31=\"\",\"\",filEst!G31)","v":""},{"$f":"IF(filEst!L31=\"\",\"\",filEst!L31)","v":""},null,null,{"$f":"IF(filEst!K31=\"\",\"\",filEst!K31)","v":""},null,{"$f":"CA!R31","v":""},{"$f":"CA!Y31","v":0},{"$f":"CA!AF31","v":0},null,{"$f":"CA!AN31","v":""},null,null,{"$f":"CA!AO31","v":""}]
[null,null,null,null,null,{"$f":"IF(filEst!F32=\"\",\"\",filEst!F32)","v":""},{"$f":"IF(filEst!G32=\"\",\"\",filEst!G32)","v":""},{"$f":"IF(filEst!L32=\"\",\"\",filEst!L32)","v":""},null,null,{"$f":"IF(filEst!K32=\"\",\"\",filEst!K32)","v":""},null,{"$f":"CA!R32","v":""},{"$f":"CA!Y32","v":0},{"$f":"CA!AF32","v":0},null,{"$f":"CA!AN32","v":""},null,null,{"$f":"CA!AO32","v":""}]
[null,null,null,null,null,{"$f":"IF(filEst!F33=\"\",\"\",filEst!F33)","v":""},{"$f":"IF(filEst!G33=\"\",\"\",filEst!G33)","v":""},{"$f":"IF(filEst!L33=\"\",\"\",filEst!L33)","v":""},null,null,{"$f":"IF(filEst!K33=\"\",\"\",filEst!K33)","v":""},null,{"$f":"CA!R33","v":""},{"$f":"CA!Y33","v":0},{"$f":"CA!AF33","v":0},null,{"$f":"CA!AN33","v":""},null,null,{"$f":"CA!AO33","v":""}]
[null,null,null,null,null,{"$f":"IF(filEst!F34=\"\",\"\",filEst!F34)","v":""},{"$f":"IF(filEst!G34=\"\",\"\",filEst!G34)","v":""},{"$f":"IF(filEst!L34=\"\",\"\",filEst!L34)","v":""},null,null,{"$f":"IF(filEst!K34=\"\",\"\",filEst!K34)","v":""},null,{"$f":"CA!R34","v":""},{"$f":"CA!Y34","v":0},{"$f":"CA!AF34","v":0},null,{"$f":"CA!AN34","v":""},null,null,{"$f":"CA!AO34","v":""}]
[null,null,null,null,null,{"$f":"IF(filEst!F35=\"\",\"\",filEst!F35)","v":""},{"$f":"IF(filEst!G35=\"\",\"\",filEst!G35)","v":""},{"$f":"IF(filEst!L35=\"\",\"\",filEst!L35)","v":""},null,null,{"$f":"IF(filEst!K35=\"\",\"\",filEst!K35)","v":""},null,{"$f":"CA!R35","v":""},{"$f":"CA!Y35","v":0},{"$f":"CA!AF35","v":0},null,{"$f":"CA!AN35","v":""},null,null,{"$f":"CA!AO35","v":""}]
[null,null,null,null,null,{"$f":"IF(filEst!F36=\"\",\"\",filEst!F36)","v":""},{"$f":"IF(filEst!G36=\"\",\"\",filEst!G36)","v":""},{"$f":"IF(filEst!L36=\"\",\"\",filEst!L36)","v":""},null,null,{"$f":"IF(filEst!K36=\"\",\"\",filEst!K36)","v":""},null,{"$f":"CA!R36","v":""},{"$f":"CA!Y36","v":0},{"$f":"CA!AF36","v":0},null,{"$f":"CA!AN36","v":""},null,null,{"$f":"CA!AO36","v":""}]
[null,null,null,null,null,{"$f":"IF(filEst!F37=\"\",\"\",filEst!F37)","v":""},{"$f":"IF(filEst!G37=\"\",\"\",filEst!G37)","v":""},{"$f":"IF(filEst!L37=\"\",\"\",filEst!L37)","v":""},null,null,{"$f":"IF(filEst!K37=\"\",\"\",filEst!K37)","v":""},null,{"$f":"CA!R37","v":""},{"$f":"CA!Y37","v":0},{"$f":"CA!AF37","v":0},null,{"$f":"CA!AN37","v":""},null,null,{"$f":"CA!AO37","v":""}]
[null,null,null,null,null,{"$f":"IF(filEst!F38=\"\",\"\",filEst!F38)","v":""},{"$f":"IF(filEst!G38=\"\",\"\",filEst!G38)","v":""},{"$f":"IF(filEst!L38=\"\",\"\",filEst!L38)","v":""},null,null,{"$f":"IF(filEst!K38=\"\",\"\",filEst!K38)","v":""},null,{"$f":"CA!R38","v":""},{"$f":"CA!Y38","v":0},{"$f":"CA!AF38","v":0},null,{"$f":"CA!AN38","v":""},null,null,{"$f":"CA!AO38","v":""}]
[null,null,null,null,null,{"$f":"IF(filEst!F39=\"\",\"\",filEst!F39)","v":""},{"$f":"IF(filEst!G39=\"\",\"\",filEst!G39)","v":""},{"$f":"IF(filEst!L39=\"\",\"\",filEst!L39)","v":""},null,null,{"$f":"IF(filEst!K39=\"\",\"\",filEst!K39)","v":""},null,{"$f":"CA!R39","v":""},{"$f":"CA!Y39","v":0},{"$f":"CA!AF39","v":0},null,{"$f":"CA!AN39","v":""},null,null,{"$f":"CA!AO39","v":""}]
[null,null,null,null,null,{"$f":"IF(filEst!F40=\"\",\"\",filEst!F40)","v":""},{"$f":"IF(filEst!G40=\"\",\"\",filEst!G40)","v":""},{"$f":"IF(filEst!L40=\"\",\"\",filEst!L40)","v":""},null,null,{"$f":"IF(filEst!K40=\"\",\"\",filEst!K40)","v":""},null,{"$f":"CA!R40","v":""},{"$f":"CA!Y40","v":0},{"$f":"CA!AF40","v":0},null,{"$f":"CA!AN40","v":""},null,null,{"$f":"CA!AO40","v":""}]
[null,null,null,null,null,{"$f":"IF(filEst!F41=\"\",\"\",filEst!F41)","v":""},{"$f":"IF(filEst!G41=\"\",\"\",filEst!G41)","v":""},{"$f":"IF(filEst!L41=\"\",\"\",filEst!L41)","v":""},null,null,{"$f":"IF(filEst!K41=\"\",\"\",filEst!K41)","v":""},null,{"$f":"CA!R41","v":""},{"$f":"CA!Y41","v":0},{"$f":"CA!AF41","v":0},null,{"$f":"CA!AN41","v":""},null,null,{"$f":"CA!AO41","v":""}]
[null,null,null,null,null,{"$f":"IF(filEst!F42=\"\",\"\",filEst!F42)","v":""},{"$f":"IF(filEst!G42=\"\",\"\",filEst!G42)","v":""},{"$f":"IF(filEst!L42=\"\",\"\",filEst!L42)","v":""},null,null,{"$f":"IF(filEst!K42=\"\",\"\",filEst!K42)","v":""},null,{"$f":"CA!R42","v":""},{"$f":"CA!Y42","v":0},{"$f":"CA!AF42","v":0},null,{"$f":"CA!AN42","v":""},null,null,{"$f":"CA!AO42","v":""}]
[null,null,null,null,null,{"$f":"IF(filEst!F43=\"\",\"\",filEst!F43)","v":""},{"$f":"IF(filEst!G43=\"\",\"\",filEst!G43)","v":""},{"$f":"IF(filEst!L43=\"\",\"\",filEst!L43)","v":""},null,null,{"$f":"IF(filEst!K43=\"\",\"\",filEst!K43)","v":""},null,{"$f":"CA!R43","v":""},{"$f":"CA!Y43","v":0},{"$f":"CA!AF43","v":0},null,{"$f":"CA!AN43","v":""},null,null,{"$f":"CA!AO43","v":""}]
[null,null,null,null,null,{"$f":"IF(filEst!F44=\"\",\"\",filEst!F44)","v":""},{"$f":"IF(filEst!G44=\"\",\"\",filEst!G44)","v":""},{"$f":"IF(filEst!L44=\"\",\"\",filEst!L44)","v":""},null,null,{"$f":"IF(filEst!K44=\"\",\"\",filEst!K44)","v":""},null,{"$f":"CA!R44","v":""},{"$f":"CA!Y44","v":0},{"$f":"CA!AF44","v":0},null,{"$f":"CA!AN44","v":""},null,null,{"$f":"CA!AO44","v":""}]
[null,null,null,null,null,{"$f":"IF(filEst!F45=\"\",\"\",filEst!F45)","v":""},{"$f":"IF(filEst!G45=\"\",\"\",filEst!G45)","v":""},{"$f":"IF(filEst!L45=\"\",\"\",filEst!L45)","v":""},null,null,{"$f":"IF(filEst!K45=\"\",\"\",filEst!K45)","v":""},null,{"$f":"CA!R45","v":""},{"$f":"CA!Y45","v":0},{"$f":"CA!AF45","v":0},null,{"$f":"CA!AN45","v":""},null,null,{"$f":"CA!AO45","v":""}]
[null,null,null,null,null,{"$f":"IF(filEst!F46=\"\",\"\",filEst!F46)","v":""},{"$f":"IF(filEst!G46=\"\",\"\",filEst!G46)","v":""},{"$f":"IF(filEst!L46=\"\",\"\",filEst!L46)","v":""},null,null,{"$f":"IF(filEst!K46=\"\",\"\",filEst!K46)","v":""},null,{"$f":"CA!R46","v":""},{"$f":"CA!Y46","v":0},{"$f":"CA!AF46","v":0},null,{"$f":"CA!AN46","v":""},null,null,{"$f":"CA!AO46","v":""}]
[null,null,null,null,null,{"$f":"IF(filEst!F47=\"\",\"\",filEst!F47)","v":""},{"$f":"IF(filEst!G47=\"\",\"\",filEst!G47)","v":""},{"$f":"IF(filEst!L47=\"\",\"\",filEst!L47)","v":""},null,null,{"$f":"IF(filEst!K47=\"\",\"\",filEst!K47)","v":""},null,{"$f":"CA!R47","v":""},{"$f":"CA!Y47","v":0},{"$f":"CA!AF47","v":0},null,{"$f":"CA!AN47","v":""},null,null,{"$f":"CA!AO47","v":""}]
[null,null,null,null,null,{"$f":"IF(filEst!F48=\"\",\"\",filEst!F48)","v":""},{"$f":"IF(filEst!G48=\"\",\"\",filEst!G48)","v":""},{"$f":"IF(filEst!L48=\"\",\"\",filEst!L48)","v":""},null,null,{"$f":"IF(filEst!K48=\"\",\"\",filEst!K48)","v":""},null,{"$f":"CA!R48","v":""},{"$f":"CA!Y48","v":0},{"$f":"CA!AF48","v":0},null,{"$f":"CA!AN48","v":""},null,null,{"$f":"CA!AO48","v":""}]
[null,null,null,null,null,{"$f":"IF(filEst!F49=\"\",\"\",filEst!F49)","v":""},{"$f":"IF(filEst!G49=\"\",\"\",filEst!G49)","v":""},{"$f":"IF(filEst!L49=\"\",\"\",filEst!L49)","v":""},null,null,{"$f":"IF(filEst!K49=\"\",\"\",filEst!K49)","v":""},null,{"$f":"CA!R49","v":""},{"$f":"CA!Y49","v":0},{"$f":"CA!AF49","v":0},null,{"$f":"CA!AN49","v":""},null,null,{"$f":"CA!AO49","v":""}]
[null,null,null,null,null,{"$f":"IF(filEst!F50=\"\",\"\",filEst!F50)","v":""},{"$f":"IF(filEst!G50=\"\",\"\",filEst!G50)","v":""},{"$f":"IF(filEst!L50=\"\",\"\",filEst!L50)","v":""},null,null,{"$f":"IF(filEst!K50=\"\",\"\",filEst!K50)","v":""},null,{"$f":"CA!R50","v":""},{"$f":"CA!Y50","v":0},{"$f":"CA!AF50","v":0},null,{"$f":"CA!AN50","v":""},null,null,{"$f":"CA!AO50","v":""}]
[null,null,null,null,null,{"$f":"IF(filEst!F51=\"\",\"\",filEst!F51)","v":""},{"$f":"IF(filEst!G51=\"\",\"\",filEst!G51)","v":""},{"$f":"IF(filEst!L51=\"\",\"\",filEst!L51)","v":""},null,null,{"$f":"IF(filEst!K51=\"\",\"\",filEst!K51)","v":""},null,{"$f":"CA!R51","v":""},{"$f":"CA!Y51","v":0},{"$f":"CA!AF51","v":0},null,{"$f":"CA!AN51","v":""},null,null,{"$f":"CA!AO51","v":""}]
[null,null,null,null,null,{"$f":"IF(filEst!F52=\"\",\"\",filEst!F52)","v":""},{"$f":"IF(filEst!G52=\"\",\"\",filEst!G52)","v":""},{"$f":"IF(filEst!L52=\"\",\"\",filEst!L52)","v":""},null,null,{"$f":"IF(filEst!K52=\"\",\"\",filEst!K52)","v":""},null,{"$f":"CA!R52","v":""},{"$f":"CA!Y52","v":0},{"$f":"CA!AF52","v":0},null,{"$f":"CA!AN52","v":""},null,null,{"$f":"CA!AO52","v":""}]
[null,null,null,null,null,{"$f":"IF(filEst!F53=\"\",\"\",filEst!F53)","v":""},{"$f":"IF(filEst!G53=\"\",\"\",filEst!G53)","v":""},{"$f":"IF(filEst!L53=\"\",\"\",filEst!L53)","v":""},null,null,{"$f":"IF(filEst!K53=\"\",\"\",filEst!K53)","v":""},null,{"$f":"CA!R53","v":""},{"$f":"CA!Y53","v":0},{"$f":"CA!AF53","v":0},null,{"$f":"CA!AN53","v":""},null,null,{"$f":"CA!AO53","v":""}]
[null,null,null,null,null,{"$f":"IF(filEst!F54=\"\",\"\",filEst!F54)","v":""},{"$f":"IF(filEst!G54=\"\",\"\",filEst!G54)","v":""},{"$f":"IF(filEst!L54=\"\",\"\",filEst!L54)","v":""},null,null,{"$f":"IF(filEst!K54=\"\",\"\",filEst!K54)","v":""},null,{"$f":"CA!R54","v":""},{"$f":"CA!Y54","v":0},{"$f":"CA!AF54","v":0},null,{"$f":"CA!AN54","v":""},null,null,{"$f":"CA!AO54","v":""}]
[null,null,null,null,null,{"$f":"IF(filEst!F55=\"\",\"\",filEst!F55)","v":""},{"$f":"IF(filEst!G55=\"\",\"\",filEst!G55)","v":""},{"$f":"IF(filEst!L55=\"\",\"\",filEst!L55)","v":""},null,null,{"$f":"IF(filEst!K55=\"\",\"\",filEst!K55)","v":""},null,{"$f":"CA!R55","v":""},{"$f":"CA!Y55","v":0},{"$f":"CA!AF55","v":0},null,{"$f":"CA!AN55","v":""},null,null,{"$f":"CA!AO55","v":""}]
[null,null,null,null,null,{"$f":"IF(filEst!F56=\"\",\"\",filEst!F56)","v":""},{"$f":"IF(filEst!G56=\"\",\"\",filEst!G56)","v":""},{"$f":"IF(filEst!L56=\"\",\"\",filEst!L56)","v":""},null,null,{"$f":"IF(filEst!K56=\"\",\"\",filEst!K56)","v":""},null,{"$f":"CA!R56","v":""},{"$f":"CA!Y56","v":0},{"$f":"CA!AF56","v":0},null,{"$f":"CA!AN56","v":""},null,null,{"$f":"CA!AO56","v":""}]
[null,null,null,null,null,{"$f":"IF(filEst!F57=\"\",\"\",filEst!F57)","v":""},{"$f":"IF(filEst!G57=\"\",\"\",filEst!G57)","v":""},{"$f":"IF(filEst!L57=\"\",\"\",filEst!L57)","v":""},null,null,{"$f":"IF(filEst!K57=\"\",\"\",filEst!K57)","v":""},null,{"$f":"CA!R57","v":""},{"$f":"CA!Y57","v":0},{"$f":"CA!AF57","v":0},null,{"$f":"CA!AN57","v":""},null,null,{"$f":"CA!AO57","v":""}]
[null,null,null,null,null,{"$f":"IF(filEst!F58=\"\",\"\",filEst!F58)","v":""},{"$f":"IF(filEst!G58=\"\",\"\",filEst!G58)","v":""},{"$f":"IF(filEst!L58=\"\",\"\",filEst!L58)","v":""},null,null,{"$f":"IF(filEst!K58=\"\",\"\",filEst!K58)","v":""},null,{"$f":"CA!R58","v":""},{"$f":"CA!Y58","v":0},{"$f":"CA!AF58","v":0},null,{"$f":"CA!AN58","v":""},null,null,{"$f":"CA!AO58","v":""}]
[null,null,null,null,null,{"$f":"IF(filEst!F59=\"\",\"\",filEst!F59)","v":""},{"$f":"IF(filEst!G59=\"\",\"\",filEst!G59)","v":""},{"$f":"IF(filEst!L59=\"\",\"\",filEst!L59)","v":""},null,null,{"$f":"IF(filEst!K59=\"\",\"\",filEst!K59)","v":""},null,{"$f":"CA!R59","v":""},{"$f":"CA!Y59","v":0},{"$f":"CA!AF59","v":0},null,{"$f":"CA!AN59","v":""},null,null,{"$f":"CA!AO59","v":""}]
[null,null,null,null,null,{"$f":"IF(filEst!F60=\"\",\"\",filEst!F60)","v":""},{"$f":"IF(filEst!G60=\"\",\"\",filEst!G60)","v":""},{"$f":"IF(filEst!L60=\"\",\"\",filEst!L60)","v":""},null,null,{"$f":"IF(filEst!K60=\"\",\"\",filEst!K60)","v":""},null,{"$f":"CA!R60","v":""},{"$f":"CA!Y60","v":0},{"$f":"CA!AF60","v":0},null,{"$f":"CA!AN60","v":""},null,null,{"$f":"CA!AO60","v":""}]
[null,null,null,null,null,{"$f":"IF(filEst!F61=\"\",\"\",filEst!F61)","v":""},{"$f":"IF(filEst!G61=\"\",\"\",filEst!G61)","v":""},{"$f":"IF(filEst!L61=\"\",\"\",filEst!L61)","v":""},null,null,{"$f":"IF(filEst!K61=\"\",\"\",filEst!K61)","v":""},null,{"$f":"CA!R61","v":""},{"$f":"CA!Y61","v":0},{"$f":"CA!AF61","v":0},null,{"$f":"CA!AN61","v":""},null,null,{"$f":"CA!AO61","v":""}]
[null,null,null,null,null,{"$f":"IF(filEst!F62=\"\",\"\",filEst!F62)","v":""},{"$f":"IF(filEst!G62=\"\",\"\",filEst!G62)","v":""},{"$f":"IF(filEst!L62=\"\",\"\",filEst!L62)","v":""},null,null,{"$f":"IF(filEst!K62=\"\",\"\",filEst!K62)","v":""},null,{"$f":"CA!R62","v":""},{"$f":"CA!Y62","v":0},{"$f":"CA!AF62","v":0},null,{"$f":"CA!AN62","v":""},null,null,{"$f":"CA!AO62","v":""}]
[null,null,null,null,null,{"$f":"IF(filEst!F63=\"\",\"\",filEst!F63)","v":""},{"$f":"IF(filEst!G63=\"\",\"\",filEst!G63)","v":""},{"$f":"IF(filEst!L63=\"\",\"\",filEst!L63)","v":""},null,null,{"$f":"IF(filEst!K63=\"\",\"\",filEst!K63)","v":""},null,{"$f":"CA!R63","v":""},{"$f":"CA!Y63","v":0},{"$f":"CA!AF63","v":0},null,{"$f":"CA!AN63","v":""},null,null,{"$f":"CA!AO63","v":""}]
[null,null,null,null,null,{"$f":"IF(filEst!F64=\"\",\"\",filEst!F64)","v":""},{"$f":"IF(filEst!G64=\"\",\"\",filEst!G64)","v":""},{"$f":"IF(filEst!L64=\"\",\"\",filEst!L64)","v":""},null,null,{"$f":"IF(filEst!K64=\"\",\"\",filEst!K64)","v":""},null,{"$f":"CA!R64","v":""},{"$f":"CA!Y64","v":0},{"$f":"CA!AF64","v":0},null,{"$f":"CA!AN64","v":""},null,null,{"$f":"CA!AO64","v":""}]
[null,null,null,null,null,{"$f":"IF(filEst!F65=\"\",\"\",filEst!F65)","v":""},{"$f":"IF(filEst!G65=\"\",\"\",filEst!G65)","v":""},{"$f":"IF(filEst!L65=\"\",\"\",filEst!L65)","v":""},null,null,{"$f":"IF(filEst!K65=\"\",\"\",filEst!K65)","v":""},null,{"$f":"CA!R65","v":""},{"$f":"CA!Y65","v":0},{"$f":"CA!AF65","v":0},null,{"$f":"CA!AN65","v":""},null,null,{"$f":"CA!AO65","v":""}]
[null,null,null,null,null,{"$f":"IF(filEst!F66=\"\",\"\",filEst!F66)","v":""},{"$f":"IF(filEst!G66=\"\",\"\",filEst!G66)","v":""},{"$f":"IF(filEst!L66=\"\",\"\",filEst!L66)","v":""},null,null,{"$f":"IF(filEst!K66=\"\",\"\",filEst!K66)","v":""},null,{"$f":"CA!R66","v":""},{"$f":"CA!Y66","v":0},{"$f":"CA!AF66","v":0},null,{"$f":"CA!AN66","v":""},null,null,{"$f":"CA!AO66","v":""}]
[null,null,null,null,null,{"$f":"IF(filEst!F67=\"\",\"\",filEst!F67)","v":""},{"$f":"IF(filEst!G67=\"\",\"\",filEst!G67)","v":""},{"$f":"IF(filEst!L67=\"\",\"\",filEst!L67)","v":""},null,null,{"$f":"IF(filEst!K67=\"\",\"\",filEst!K67)","v":""},null,{"$f":"CA!R67","v":""},{"$f":"CA!Y67","v":0},{"$f":"CA!AF67","v":0},null,{"$f":"CA!AN67","v":""},null,null,{"$f":"CA!AO67","v":""}]
[null,null,null,null,null,{"$f":"IF(filEst!F68=\"\",\"\",filEst!F68)","v":""},{"$f":"IF(filEst!G68=\"\",\"\",filEst!G68)","v":""},{"$f":"IF(filEst!L68=\"\",\"\",filEst!L68)","v":""},null,null,{"$f":"IF(filEst!K68=\"\",\"\",filEst!K68)","v":""},null,{"$f":"CA!R68","v":""},{"$f":"CA!Y68","v":0},{"$f":"CA!AF68","v":0},null,{"$f":"CA!AN68","v":""},null,null,{"$f":"CA!AO68","v":""}]
[null,null,null,null,null,{"$f":"IF(filEst!F69=\"\",\"\",filEst!F69)","v":""},{"$f":"IF(filEst!G69=\"\",\"\",filEst!G69)","v":""},{"$f":"IF(filEst!L69=\"\",\"\",filEst!L69)","v":""},null,null,{"$f":"IF(filEst!K69=\"\",\"\",filEst!K69)","v":""},null,{"$f":"CA!R69","v":""},{"$f":"CA!Y69","v":0},{"$f":"CA!AF69","v":0},null,{"$f":"CA!AN69","v":""},null,null,{"$f":"CA!AO69","v":""}]
[null,null,null,null,null,{"$f":"IF(filEst!F70=\"\",\"\",filEst!F70)","v":""},{"$f":"IF(filEst!G70=\"\",\"\",filEst!G70)","v":""},{"$f":"IF(filEst!L70=\"\",\"\",filEst!L70)","v":""},null,null,{"$f":"IF(filEst!K70=\"\",\"\",filEst!K70)","v":""},null,{"$f":"CA!R70","v":""},{"$f":"CA!Y70","v":0},{"$f":"CA!AF70","v":0},null,{"$f":"CA!AN70","v":""},null,null,{"$f":"CA!AO70","v":""}]
[null,null,null,null,null,null,null,null,null,null,null,null,null,null,null,null,null,null,null,{"$f":"datpro!$H$25","v":"RETENIDO"}]
[]
[]
[]
[]
[]
[]
[]
[]
[]
[null,null,null,null,null,null,"select_load",{"$f":"main!$AE$10","v":50}]
[null,null,null,null,null,null,"actual_save",{"$f":"main!$AE$17","v":0}]

{"sheet":"CAac","index":15,"n_rows":13,"n_cols":109,"rows_kept":13,"cut":false,"hidden":false,"merged":[[1,90,1,105],[1,106,1,107],[9,91,9,95],[9,96,9,100],[9,101,9,105],[9,106,11,106],[9,107,11,107],[10,91,10,94],[10,95,11,95],[10,96,10,99],[10,100,11,100],[10,101,10,104],[10,105,11,105],[1,56,1,77],[1,78,1,79],[9,57,9,63],[9,64,9,70],[9,71,9,77],[9,78,11,78],[9,79,11,79],[10,57,10,58],[10,61,10,62],[10,63,11,63],[10,64,10,65],[10,68,10,69],[10,70,11,70],[10,71,10,72],[10,75,10,76],[10,77,11,77],[10,43,11,43],[1,22,1,43],[1,44,1,45],[9,23,9,29],[9,30,9,36],[9,37,9,43],[9,44,11,44],[9,45,11,45],[10,23,10,26],[10,27,10,28],[10,29,11,29],[10,30,10,33],[10,34,10,35],[10,36,11,36],[10,37,10,40],[10,41,10,42],[9,7,11,7],[9,8,11,8],[9,9,11,9],[1,6,1,9],[1,10,1,11],[9,10,11,10],[9,11,11,11]]}
[]
[null,null,null,null,null,null,"CENTRALIZADOR DE AREA CURRICULAR",null,null,null,"GESTION 2023",null,null,null,null,null,null,null,null,null,null,null,"LIBRO CENTRALIZADOR DE  ÁREA CURRICULAR ",null,null,null,null,null,null,null,null,null,null,null,null,null,null,null,null,null,null,null,null,null,"GESTION 2023",null,null,null,null,null,null,null,null,null,null,null,"CENTRALIZADOR DE AREA CURRICULAR",null,null,null,null,null,null,null,null,null,null,null,null,null,null,null,null,null,null,null,null,null,"GESTION 2023",null,null,null,null,null,null,null,null,null,null,null,"CENTRALIZADOR DE AREA CURRICULAR",null,null,null,null,null,null,null,null,null,null,null,null,null,null,null,"GESTION 2023"]
[null,null,null,null,null,null,"UNIDAD EDUCATIVA ",null,null,null,null,null,"Ξ",null,null,null,null,null,null,null,null,null,"UNIDAD EDUCATIVA ",null,null,null,null,null,null,null,null,null,null,null,null,null,null,null,null,null,null,null,null,null,null,null,"Ξ",null,null,null,null,null,null,null,null,null,"UNIDAD EDUCATIVA ",null,null,null,null,null,null,null,null,null,null,null,null,null,null,null,null,null,null,null,null,null,null,null,"Ξ",null,null,null,null,null,null,null,null,null,"UNIDAD EDUCATIVA ",null,null,null,null,null,null,null,null,null,null,null,null,null,null,null,null,null,"Ξ"]
[null,null,null,null,null,null,"NIVEL ",null,null,null,null,null,"Å",null,null,null,null,null,null,null,null,null,"NIVEL ",null,null,null,null,null,null,null,null,null,null,null,null,null,null,null,null,null,null,null,null,null,null,null,"Å",null,null,null,null,null,null,null,null,null,"NIVEL ",null,null,null,null,null,null,null,null,null,null,null,null,null,null,null,null,null,null,null,null,null,null,null,"Å",null,null,null,null,null,null,null,null,null,"NIVEL ",null,null,null,null,null,null,null,null,null,null,null,null,null,null,null,null,null,"Å"]
[null,null,null,null,null,null,"AÑO DE ESCOLARIDAD",null,null,null,null,null,null,null,null,null,null,null,null,null,null,null,"AÑO DE ESCOLARIDAD",null,null,null,null,null,null,null,null,null,null,null,null,null,null,null,null,null,null,null,null,null,null,null,null,null,null,null,null,null,null,null,null,null,"AÑO DE ESCOLARIDAD",null,null,null,null,null,null,null,null,null,null,null,null,null,null,null,null,null,null,null,null,null,null,null,null,null,null,null,null,null,null,null,null,null,"AÑO DE ESCOLARIDAD"]
[null,null,null,null,null,null,"DIRECTORA/OR",null,null,null,null,null,null,null,null,null,null,null,null,null,null,null,"DIRECTORA/OR",null,null,null,null,null,null,null,null,null,null,null,null,null,null,null,null,null,null,null,null,null,null,null,null,null,null,null,null,null,null,null,null,null,"DIRECTORA/OR",null,null,null,null,null,null,null,null,null,null,null,null,null,null,null,null,null,null,null,null,null,null,null,null,null,null,null,null,null,null,null,null,null,"DIRECTORA/OR"]
[null,null,null,null,null,null,"MAESTRA/O",null,null,null,null,null,null,null,null,null,null,null,null,null,null,null,"MAESTRA/O",null,null,null,null,null,null,null,null,null,null,null,null,null,null,null,null,null,null,null,null,null,null,null,null,null,null,null,null,null,null,null,null,null,"MAESTRA/O",null,null,null,null,null,null,null,null,null,null,null,null,null,null,null,null,null,null,null,null,null,null,null,null,null,null,null,null,null,null,null,null,null,"MAESTRA/O"]
[null,null,null,null,null,null,"CAMPO ",null,null,null,null,null,null,null,null,null,null,null,null,null,null,null,"CAMPO ",null,null,null,null,null,null,null,null,null,null,null,null,null,null,null,null,null,null,null,null,null,null,null,null,null,null,null,null,null,null,null,null,null,"CAMPO ",null,null,null,null,null,null,null,null,null,null,null,null,null,null,null,null,null,null,null,null,null,null,null,null,null,null,null,null,null,null,null,null,null,"CAMPO "]
[null,null,null,null,null,null,"ÁREA",null,null,null,null,null,null,null,null,null,null,null,null,null,null,null,"ÁREA",null,null,null,null,null,null,null,null,null,null,null,null,null,null,null,null,null,null,null,null,null,null,null,null,null,null,null,null,null,null,null,null,null,"ÁREA",null,null,null,null,null,null,null,null,null,null,null,null,null,null,null,null,null,null,null,null,null,null,null,null,null,null,null,null,null,null,null,null,null,"ÁREA"]
[null,null,null,null,null,null,null,"1⁰ TRIMESTRE","2⁰ TRIMESTRE","3⁰ TRIMESTRE","PROMEDIO ANUAL","OBSERVACIONES",null,null,null,null,null,null,null,null,null,null,null,"1⁰ TRIMESTRE",null,null,null,null,null,null,"2⁰ TRIMESTRE",null,null,null,null,null,null,"3⁰ TRIMESTRE",null,null,null,null,null,null,"PROMEDIO ANUAL","OBSERVACIONES",null,null,null,null,null,null,null,null,null,null,null,"1⁰ TRIMESTRE",null,null,null,null,null,null,"2⁰ TRIMESTRE",null,null,null,null,null,null,"3⁰ TRIMESTRE",null,null,null,null,null,null,"PROMEDIO ANUAL","OBSERVACIONES",null,null,null,null,null,null,null,null,null,null,null,"1⁰ TRIMESTRE",null,null,null,null,"2⁰ TRIMESTRE",null,null,null,null,"3⁰ TRIMESTRE",null,null,null,null,"PROMEDIO ANUAL","OBSERVACIONES"]
[null,null,null,null,null,null,null,null,null,null,null,null,null,null,null,null,null,null,null,null,null,null,null,"EV. MAESTRA/O",null,null,null,"EV.EST.",null,"PROMEDIO","EV. MAESTRA/O",null,null,null,"EV.EST.",null,"PROMEDIO","EV. MAESTRA/O",null,null,null,"EV.EST.",null,"PROMEDIO",null,null,null,null,null,null,null,null,null,null,null,null,null,"SER",null,"SAB","HAC","DEC",null,"PROMEDIO","SER",null,"SAB","HAC","DEC",null,"PROMEDIO","SER",null,"SAB","HAC","DEC",null,"PROMEDIO",null,null,null,null,null,null,null,null,null,null,null,null,null,"DIMENSIONES",null,null,null,"PROMEDIO","DIMENSIONES",null,null,null,"PROMEDIO","DIMENSIONES",null,null,null,"PROMEDIO"]
[null,null,null,null,null,null,null,null,null,null,null,null,null,null,null,null,null,null,null,null,null,null,null,"SER","SABER","HACER","DECIDIR","SER","DECIDIR",null,"SER","SABER","HACER","DECIDIR","SER","DECIDIR",null,"SER","SABER","HACER","DECIDIR","SER","DECIDIR",null,null,null,null,null,null,null,null,null,null,null,null,null,null,"PROCESOS","AUTOEVALUACION","PROCESOS","PROCESOS","PROCESOS","AUTOEVALUACION",null,"PROCESOS","AUTOEVALUACION","PROCESOS","PROCESOS","PROCESOS","AUTOEVALUACION",null,"PROCESOS","AUTOEVALUACION","PROCESOS","PROCESOS","PROCESOS","AUTOEVALUACION",null,null,null,null,null,null,null,null,null,null,null,null,null,null,"SER","SABER","HACER","DECIDIR",null,"SER","SABER","HACER","DECIDIR",null,"SER","SABER","HACER","DECIDIR"]
[null,null,null,null,null,"Nº","APELLIDOS Y NOMBRES",null,null,null,1,null,null,null,null,null,null,null,null,null,null,"Nº","APELLIDOS Y NOMBRES",null,null,null,null,null,null,null,null,null,null,null,null,null,null,null,null,null,null,null,null,null,1,null,null,null,null,null,null,null,null,null,null,"Nº","APELLIDOS Y NOMBRES",null,null,null,null,null,null,null,null,null,null,null,null,null,null,null,null,null,null,null,null,null,1,null,null,null,null,null,null,null,null,null,null,"Nº","APELLIDOS Y NOMBRES",null,null,null,null,null,null,null,null,null,null,null,null,null,null,null,1]

{"sheet":"CAA","index":16,"n_rows":121,"n_cols":54,"rows_kept":121,"cut":false,"hidden":false,"merged":[[18,36,19,36],[18,37,19,37],[18,38,19,38],[18,39,19,39],[18,40,19,40],[18,24,19,24],[18,25,19,25],[18,26,19,26],[18,27,19,27],[18,28,19,28],[14,12,14,17],[14,18,14,23],[14,24,14,29],[14,30,14,35],[17,12,17,17],[17,18,17,23],[17,24,17,29],[69,10,69,11],[58,10,58,11],[59,10,59,11],[60,10,60,11],[61,10,61,11],[62,10,62,11],[63,10,63,11],[64,10,64,11],[65,10,65,11],[66,10,66,11],[67,10,67,11],[68,10,68,11],[57,10,57,11],[46,10,46,11],[47,10,47,11],[48,10,48,11],[49,10,49,11],[50,10,50,11],[51,10,51,11],[52,10,52,11],[53,10,53,11],[54,10,54,11],[55,10,55,11],[56,10,56,11],[45,10,45,11],[34,10,34,11],[35,10,35,11],[36,10,36,11],[37,10,37,11],[38,10,38,11],[39,10,39,11],[40,10,40,11],[41,10,41,11],[42,10,42,11],[43,10,43,11],[44,10,44,11],[18,22,19,22],[33,10,33,11],[22,10,22,11],[23,10,23,11],[24,10,24,11],[25,10,25,11],[26,10,26,11],[27,10,27,11],[28,10,28,11],[29,10,29,11],[30,10,30,11],[31,10,31,11],[32,10,32,11],[1,6,1,35],[18,43,18,46],[19,43,19,46],[20,10,20,11],[21,10,21,11],[17,36,17,41],[19,10,19,11],[18,12,19,12],[18,13,19,13],[18,14,19,14],[18,15,19,15],[18,16,19,16],[18,18,19,18],[18,19,19,19],[18,20,19,20],[18,21,19,21]]}
[]
[null,null,null,null,null,null,"CENTRALIZADOR DE ASISTENCIAS ANUAL     GESTION 2023"]
[null,null,null,null,null,null,"UE",null,null,null,"UNIDAD EDUCATIVA ",{"$f":"datpro!$E$7","v":0},null,null,null,null,null,null,null,null,null,null,null,null,null,null,null,null,null,null,null,null,null,null,null,null,null,null,null,null,null,null,null,"Ξ"]
[null,null,null,null,null,null,null,null,null,null,"NIVEL ",{"$f":"datpro!$E$10","v":""},null,null,null,null,null,null,null,null,null,null,null,null,null,null,null,null,null,null,null,null,null,null,null,null,null,null,null,null,null,null,null,"Cerrar"]
[null,null,null,null,null,null,"S2D",null,null,null,"AÑO DE ESCOLARIDAD",{"$f":"CONCATENATE( datpro!$E$11,\"  -  \",datpro!$E$12)","v":"  -  "}]
[null,null,null,null,null,null,null,null,null,null,"DIRECTORA/OR",{"$f":"datpro!$E$8","v":0}]
[null,null,null,null,null,null,"MAE",null,null,null,"MAESTRA/O",{"$f":"datpro!$E$9","v":0}]
[null,null,null,null,null,null,null,null,null,null,"CAMPO ",{"$f":"IF(datpro!$E$13=\"\",\"\",datpro!$E$13)","v":""},null,null,null,null,null,null,null,null,null,null,null,null,null,null,null,null,null,null,null,null,null,null,null,null,null,null,null,null,null,null,null,null,null,null,null,null,null,null,null,null,null,4]
[null,null,null,null,null,null,"LEX",null,null,null,"ÁREA",{"$f":"datpro!$E$14","v":0}]
[]
[]
[]
[]
[]
[null,null,null,null,null,null,"F21:AO70","AO"]
[]
[]
[null,null,null,null,null,null,null,null,null,null,null,null,"1⁰ TRIMESTRE",null,null,null,null,null,"2⁰ TRIMESTRE",null,null,null,null,null,"3⁰ TRIMESTRE",null,null,null,null,null,null,null,null,null,null,null,"TOTAL ANUAL"]
[null,null,null,null,null,null,"COD",null,null,null,null,null,"ASISTENCIAS","FALTAS","RETRASOS","LICENCIAS","DIAS TRABAJADOS","DIAS NO TRABAJADOS","ASISTENCIAS","FALTAS","RETRASOS","LICENCIAS","DIAS TRABAJADOS","DIAS NO TRABAJADOS","ASISTENCIAS","FALTAS","RETRASOS","LICENCIAS","DIAS TRABAJADOS","DIAS NO TRABAJADOS",null,null,null,null,null,null,"ASISTENCIAS","FALTAS","RETRASOS","LICENCIAS","DIAS TRABAJADOS","DIAS NO TRABAJADOS"]
[null,null,null,null,null,"Nº",null,null,null,null,"APELLIDOS Y NOMBRES"]
[null,null,null,null,null,{"$f":"IF(filEst!F21=\"\",\"\",filEst!F21)","v":""},{"$f":"IF(filEst!G21=\"\",\"\",filEst!G21)","v":""},{"$f":"IF(filEst!L21=\"\",\"\",filEst!L21)","v":""},null,null,{"$f":"IF(filEst!K21=\"\",\"\",filEst!K21)","v":""},null,{"$f":"asisB1!$BF21","v":""},{"$f":"asisB1!$BG21","v":""},{"$f":"asisB1!$BH21","v":""},{"$f":"asisB1!$BI21","v":""},{"$f":"asisB1!$BJ21","v":""},{"$f":"asisB1!$BK21","v":0},{"$f":"asisB2!$BF21","v":""},{"$f":"asisB2!$BG21","v":""},{"$f":"asisB2!$BH21","v":""},{"$f":"asisB2!$BI21","v":""},{"$f":"asisB2!$BJ21","v":""},{"$f":"asisB2!$BK21","v":0},{"$f":"asisB3!$BF21","v":""},{"$f":"asisB3!$BG21","v":""},{"$f":"asisB3!$BH21","v":""},{"$f":"asisB3!$BI21","v":""},{"$f":"asisB3!$BJ21","v":""},{"$f":"asisB3!$BK21","v":0},null,null,null,null,null,null,{"$f":"SUM(M21,S21,Y21,AE21)","v":0},0,0,0,0,0,null,"©  2023"]
[null,null,null,null,null,{"$f":"IF(filEst!F22=\"\",\"\",filEst!F22)","v":""},{"$f":"IF(filEst!G22=\"\",\"\",filEst!G22)","v":""},{"$f":"IF(filEst!L22=\"\",\"\",filEst!L22)","v":""},null,null,{"$f":"IF(filEst!K22=\"\",\"\",filEst!K22)","v":""},null,{"$f":"asisB1!$BF22","v":""},{"$f":"asisB1!$BG22","v":""},{"$f":"asisB1!$BH22","v":""},{"$f":"asisB1!$BI22","v":""},{"$f":"asisB1!$BJ22","v":""},{"$f":"asisB1!$BK22","v":0},{"$f":"asisB2!$BF22","v":""},{"$f":"asisB2!$BG22","v":""},{"$f":"asisB2!$BH22","v":""},{"$f":"asisB2!$BI22","v":""},{"$f":"asisB2!$BJ22","v":""},{"$f":"asisB2!$BK22","v":0},{"$f":"asisB3!$BF22","v":""},{"$f":"asisB3!$BG22","v":""},{"$f":"asisB3!$BH22","v":""},{"$f":"asisB3!$BI22","v":""},{"$f":"asisB3!$BJ22","v":""},{"$f":"asisB3!$BK22","v":0},null,null,null,null,null,null,{"$f":"SUM(M22,S22,Y22,AE22)","v":0},{"$f":"SUM(N22,T22,Z22,AF22)","v":0},{"$f":"SUM(O22,U22,AA22,AG22)","v":0},{"$f":"SUM(P22,V22,AB22,AH22)","v":0},{"$f":"SUM(Q22,W22,AC22,AI22)","v":0},{"$f":"SUM(R22,X22,AD22,AJ22)","v":0},null,"PROYECTO REMDIZ"]
[null,null,null,null,null,{"$f":"IF(filEst!F23=\"\",\"\",filEst!F23)","v":""},"679S2D02",{"$f":"IF(filEst!L23=\"\",\"\",filEst!L23)","v":""},null,null,{"$f":"IF(filEst!K23=\"\",\"\",filEst!K23)","v":""},null,{"$f":"asisB1!$BF23","v":""},{"$f":"asisB1!$BG23","v":""},{"$f":"asisB1!$BH23","v":""},{"$f":"asisB1!$BI23","v":""},{"$f":"asisB1!$BJ23","v":""},{"$f":"asisB1!$BK23","v":0},{"$f":"asisB2!$BF23","v":""},{"$f":"asisB2!$BG23","v":""},{"$f":"asisB2!$BH23","v":""},{"$f":"asisB2!$BI23","v":""},{"$f":"asisB2!$BJ23","v":""},{"$f":"asisB2!$BK23","v":0},{"$f":"asisB3!$BF23","v":""},{"$f":"asisB3!$BG23","v":""},{"$f":"asisB3!$BH23","v":""},{"$f":"asisB3!$BI23","v":""},{"$f":"asisB3!$BJ23","v":""},{"$f":"asisB3!$BK23","v":0},null,null,null,null,null,null,0,0,0,0,0,0]
[null,null,null,null,null,{"$f":"IF(filEst!F24=\"\",\"\",filEst!F24)","v":""},{"$f":"IF(filEst!G24=\"\",\"\",filEst!G24)","v":""},{"$f":"IF(filEst!L24=\"\",\"\",filEst!L24)","v":""},null,null,{"$f":"IF(filEst!K24=\"\",\"\",filEst!K24)","v":""},null,{"$f":"asisB1!$BF24","v":""},{"$f":"asisB1!$BG24","v":""},{"$f":"asisB1!$BH24","v":""},{"$f":"asisB1!$BI24","v":""},{"$f":"asisB1!$BJ24","v":""},{"$f":"asisB1!$BK24","v":0},{"$f":"asisB2!$BF24","v":""},{"$f":"asisB2!$BG24","v":""},{"$f":"asisB2!$BH24","v":""},{"$f":"asisB2!$BI24","v":""},{"$f":"asisB2!$BJ24","v":""},{"$f":"asisB2!$BK24","v":0},{"$f":"asisB3!$BF24","v":""},{"$f":"asisB3!$BG24","v":""},{"$f":"asisB3!$BH24","v":""},{"$f":"asisB3!$BI24","v":""},{"$f":"asisB3!$BJ24","v":""},{"$f":"asisB3!$BK24","v":0},null,null,null,null,null,null,0,0,0,0,0,0]
[null,null,null,null,null,{"$f":"IF(filEst!F25=\"\",\"\",filEst!F25)","v":""},{"$f":"IF(filEst!G25=\"\",\"\",filEst!G25)","v":""},{"$f":"IF(filEst!L25=\"\",\"\",filEst!L25)","v":""},null,null,{"$f":"IF(filEst!K25=\"\",\"\",filEst!K25)","v":""},null,{"$f":"asisB1!$BF25","v":""},{"$f":"asisB1!$BG25","v":""},{"$f":"asisB1!$BH25","v":""},{"$f":"asisB1!$BI25","v":""},{"$f":"asisB1!$BJ25","v":""},{"$f":"asisB1!$BK25","v":0},{"$f":"asisB2!$BF25","v":""},{"$f":"asisB2!$BG25","v":""},{"$f":"asisB2!$BH25","v":""},{"$f":"asisB2!$BI25","v":""},{"$f":"asisB2!$BJ25","v":""},{"$f":"asisB2!$BK25","v":0},{"$f":"asisB3!$BF25","v":""},{"$f":"asisB3!$BG25","v":""},{"$f":"asisB3!$BH25","v":""},{"$f":"asisB3!$BI25","v":""},{"$f":"asisB3!$BJ25","v":""},{"$f":"asisB3!$BK25","v":0},null,null,null,null,null,null,0,0,0,0,0,0]
[null,null,null,null,null,{"$f":"IF(filEst!F26=\"\",\"\",filEst!F26)","v":""},{"$f":"IF(filEst!G26=\"\",\"\",filEst!G26)","v":""},{"$f":"IF(filEst!L26=\"\",\"\",filEst!L26)","v":""},null,null,{"$f":"IF(filEst!K26=\"\",\"\",filEst!K26)","v":""},null,{"$f":"asisB1!$BF26","v":""},{"$f":"asisB1!$BG26","v":""},{"$f":"asisB1!$BH26","v":""},{"$f":"asisB1!$BI26","v":""},{"$f":"asisB1!$BJ26","v":""},{"$f":"asisB1!$BK26","v":0},{"$f":"asisB2!$BF26","v":""},{"$f":"asisB2!$BG26","v":""},{"$f":"asisB2!$BH26","v":""},{"$f":"asisB2!$BI26","v":""},{"$f":"asisB2!$BJ26","v":""},{"$f":"asisB2!$BK26","v":0},{"$f":"asisB3!$BF26","v":""},{"$f":"asisB3!$BG26","v":""},{"$f":"asisB3!$BH26","v":""},{"$f":"asisB3!$BI26","v":""},{"$f":"asisB3!$BJ26","v":""},{"$f":"asisB3!$BK26","v":0},null,null,null,null,null,null,0,0,0,0,0,0]
[null,null,null,null,null,{"$f":"IF(filEst!F27=\"\",\"\",filEst!F27)","v":""},{"$f":"IF(filEst!G27=\"\",\"\",filEst!G27)","v":""},{"$f":"IF(filEst!L27=\"\",\"\",filEst!L27)","v":""},null,null,{"$f":"IF(filEst!K27=\"\",\"\",filEst!K27)","v":""},null,{"$f":"asisB1!$BF27","v":""},{"$f":"asisB1!$BG27","v":""},{"$f":"asisB1!$BH27","v":""},{"$f":"asisB1!$BI27","v":""},{"$f":"asisB1!$BJ27","v":""},{"$f":"asisB1!$BK27","v":0},{"$f":"asisB2!$BF27","v":""},{"$f":"asisB2!$BG27","v":""},{"$f":"asisB2!$BH27","v":""},{"$f":"asisB2!$BI27","v":""},{"$f":"asisB2!$BJ27","v":""},{"$f":"asisB2!$BK27","v":0},{"$f":"asisB3!$BF27","v":""},{"$f":"asisB3!$BG27","v":""},{"$f":"asisB3!$BH27","v":""},{"$f":"asisB3!$BI27","v":""},{"$f":"asisB3!$BJ27","v":""},{"$f":"asisB3!$BK27","v":0},null,null,null,null,null,null,0,0,0,0,0,0]
[null,null,null,null,null,{"$f":"IF(filEst!F28=\"\",\"\",filEst!F28)","v":""},{"$f":"IF(filEst!G28=\"\",\"\",filEst!G28)","v":""},{"$f":"IF(filEst!L28=\"\",\"\",filEst!L28)","v":""},null,null,{"$f":"IF(filEst!K28=\"\",\"\",filEst!K28)","v":""},null,{"$f":"asisB1!$BF28","v":""},{"$f":"asisB1!$BG28","v":""},{"$f":"asisB1!$BH28","v":""},{"$f":"asisB1!$BI28","v":""},{"$f":"asisB1!$BJ28","v":""},{"$f":"asisB1!$BK28","v":0},{"$f":"asisB2!$BF28","v":""},{"$f":"asisB2!$BG28","v":""},{"$f":"asisB2!$BH28","v":""},{"$f":"asisB2!$BI28","v":""},{"$f":"asisB2!$BJ28","v":""},{"$f":"asisB2!$BK28","v":0},{"$f":"asisB3!$BF28","v":""},{"$f":"asisB3!$BG28","v":""},{"$f":"asisB3!$BH28","v":""},{"$f":"asisB3!$BI28","v":""},{"$f":"asisB3!$BJ28","v":""},{"$f":"asisB3!$BK28","v":0},null,null,null,null,null,null,0,0,0,0,0,0]
[null,null,null,null,null,{"$f":"IF(filEst!F29=\"\",\"\",filEst!F29)","v":""},{"$f":"IF(filEst!G29=\"\",\"\",filEst!G29)","v":""},{"$f":"IF(filEst!L29=\"\",\"\",filEst!L29)","v":""},null,null,{"$f":"IF(filEst!K29=\"\",\"\",filEst!K29)","v":""},null,{"$f":"asisB1!$BF29","v":""},{"$f":"asisB1!$BG29","v":""},{"$f":"asisB1!$BH29","v":""},{"$f":"asisB1!$BI29","v":""},{"$f":"asisB1!$BJ29","v":""},{"$f":"asisB1!$BK29","v":0},{"$f":"asisB2!$BF29","v":""},{"$f":"asisB2!$BG29","v":""},{"$f":"asisB2!$BH29","v":""},{"$f":"asisB2!$BI29","v":""},{"$f":"asisB2!$BJ29","v":""},{"$f":"asisB2!$BK29","v":0},{"$f":"asisB3!$BF29","v":""},{"$f":"asisB3!$BG29","v":""},{"$f":"asisB3!$BH29","v":""},{"$f":"asisB3!$BI29","v":""},{"$f":"asisB3!$BJ29","v":""},{"$f":"asisB3!$BK29","v":0},null,null,null,null,null,null,0,0,0,0,0,0]
[null,null,null,null,null,{"$f":"IF(filEst!F30=\"\",\"\",filEst!F30)","v":""},{"$f":"IF(filEst!G30=\"\",\"\",filEst!G30)","v":""},{"$f":"IF(filEst!L30=\"\",\"\",filEst!L30)","v":""},null,null,{"$f":"IF(filEst!K30=\"\",\"\",filEst!K30)","v":""},null,{"$f":"asisB1!$BF30","v":""},{"$f":"asisB1!$BG30","v":""},{"$f":"asisB1!$BH30","v":""},{"$f":"asisB1!$BI30","v":""},{"$f":"asisB1!$BJ30","v":""},{"$f":"asisB1!$BK30","v":0},{"$f":"asisB2!$BF30","v":""},{"$f":"asisB2!$BG30","v":""},{"$f":"asisB2!$BH30","v":""},{"$f":"asisB2!$BI30","v":""},{"$f":"asisB2!$BJ30","v":""},{"$f":"asisB2!$BK30","v":0},{"$f":"asisB3!$BF30","v":""},{"$f":"asisB3!$BG30","v":""},{"$f":"asisB3!$BH30","v":""},{"$f":"asisB3!$BI30","v":""},{"$f":"asisB3!$BJ30","v":""},{"$f":"asisB3!$BK30","v":0},null,null,null,null,null,null,0,0,0,0,0,0]
[null,null,null,null,null,{"$f":"IF(filEst!F31=\"\",\"\",filEst!F31)","v":""},{"$f":"IF(filEst!G31=\"\",\"\",filEst!G31)","v":""},{"$f":"IF(filEst!L31=\"\",\"\",filEst!L31)","v":""},null,null,{"$f":"IF(filEst!K31=\"\",\"\",filEst!K31)","v":""},null,{"$f":"asisB1!$BF31","v":""},{"$f":"asisB1!$BG31","v":""},{"$f":"asisB1!$BH31","v":""},{"$f":"asisB1!$BI31","v":""},{"$f":"asisB1!$BJ31","v":""},{"$f":"asisB1!$BK31","v":0},{"$f":"asisB2!$BF31","v":""},{"$f":"asisB2!$BG31","v":""},{"$f":"asisB2!$BH31","v":""},{"$f":"asisB2!$BI31","v":""},{"$f":"asisB2!$BJ31","v":""},{"$f":"asisB2!$BK31","v":0},{"$f":"asisB3!$BF31","v":""},{"$f":"asisB3!$BG31","v":""},{"$f":"asisB3!$BH31","v":""},{"$f":"asisB3!$BI31","v":""},{"$f":"asisB3!$BJ31","v":""},{"$f":"asisB3!$BK31","v":0},null,null,null,null,null,null,0,0,0,0,0,0]
[null,null,null,null,null,{"$f":"IF(filEst!F32=\"\",\"\",filEst!F32)","v":""},{"$f":"IF(filEst!G32=\"\",\"\",filEst!G32)","v":""},{"$f":"IF(filEst!L32=\"\",\"\",filEst!L32)","v":""},null,null,{"$f":"IF(filEst!K32=\"\",\"\",filEst!K32)","v":""},null,{"$f":"asisB1!$BF32","v":""},{"$f":"asisB1!$BG32","v":""},{"$f":"asisB1!$BH32","v":""},{"$f":"asisB1!$BI32","v":""},{"$f":"asisB1!$BJ32","v":""},{"$f":"asisB1!$BK32","v":0},{"$f":"asisB2!$BF32","v":""},{"$f":"asisB2!$BG32","v":""},{"$f":"asisB2!$BH32","v":""},{"$f":"asisB2!$BI32","v":""},{"$f":"asisB2!$BJ32","v":""},{"$f":"asisB2!$BK32","v":0},{"$f":"asisB3!$BF32","v":""},{"$f":"asisB3!$BG32","v":""},{"$f":"asisB3!$BH32","v":""},{"$f":"asisB3!$BI32","v":""},{"$f":"asisB3!$BJ32","v":""},{"$f":"asisB3!$BK32","v":0},null,null,null,null,null,null,0,0,0,0,0,0]
[null,null,null,null,null,{"$f":"IF(filEst!F33=\"\",\"\",filEst!F33)","v":""},{"$f":"IF(filEst!G33=\"\",\"\",filEst!G33)","v":""},{"$f":"IF(filEst!L33=\"\",\"\",filEst!L33)","v":""},null,null,{"$f":"IF(filEst!K33=\"\",\"\",filEst!K33)","v":""},null,{"$f":"asisB1!$BF33","v":""},{"$f":"asisB1!$BG33","v":""},{"$f":"asisB1!$BH33","v":""},{"$f":"asisB1!$BI33","v":""},{"$f":"asisB1!$BJ33","v":""},{"$f":"asisB1!$BK33","v":0},{"$f":"asisB2!$BF33","v":""},{"$f":"asisB2!$BG33","v":""},{"$f":"asisB2!$BH33","v":""},{"$f":"asisB2!$BI33","v":""},{"$f":"asisB2!$BJ33","v":""},{"$f":"asisB2!$BK33","v":0},{"$f":"asisB3!$BF33","v":""},{"$f":"asisB3!$BG33","v":""},{"$f":"asisB3!$BH33","v":""},{"$f":"asisB3!$BI33","v":""},{"$f":"asisB3!$BJ33","v":""},{"$f":"asisB3!$BK33","v":0},null,null,null,null,null,null,0,0,0,0,0,0]
[null,null,null,null,null,{"$f":"IF(filEst!F34=\"\",\"\",filEst!F34)","v":""},{"$f":"IF(filEst!G34=\"\",\"\",filEst!G34)","v":""},{"$f":"IF(filEst!L34=\"\",\"\",filEst!L34)","v":""},null,null,{"$f":"IF(filEst!K34=\"\",\"\",filEst!K34)","v":""},null,{"$f":"asisB1!$BF34","v":""},{"$f":"asisB1!$BG34","v":""},{"$f":"asisB1!$BH34","v":""},{"$f":"asisB1!$BI34","v":""},{"$f":"asisB1!$BJ34","v":""},{"$f":"asisB1!$BK34","v":0},{"$f":"asisB2!$BF34","v":""},{"$f":"asisB2!$BG34","v":""},{"$f":"asisB2!$BH34","v":""},{"$f":"asisB2!$BI34","v":""},{"$f":"asisB2!$BJ34","v":""},{"$f":"asisB2!$BK34","v":0},{"$f":"asisB3!$BF34","v":""},{"$f":"asisB3!$BG34","v":""},{"$f":"asisB3!$BH34","v":""},{"$f":"asisB3!$BI34","v":""},{"$f":"asisB3!$BJ34","v":""},{"$f":"asisB3!$BK34","v":0},null,null,null,null,null,null,0,0,0,0,0,0]
[null,null,null,null,null,{"$f":"IF(filEst!F35=\"\",\"\",filEst!F35)","v":""},{"$f":"IF(filEst!G35=\"\",\"\",filEst!G35)","v":""},{"$f":"IF(filEst!L35=\"\",\"\",filEst!L35)","v":""},null,null,{"$f":"IF(filEst!K35=\"\",\"\",filEst!K35)","v":""},null,{"$f":"asisB1!$BF35","v":""},{"$f":"asisB1!$BG35","v":""},{"$f":"asisB1!$BH35","v":""},{"$f":"asisB1!$BI35","v":""},{"$f":"asisB1!$BJ35","v":""},{"$f":"asisB1!$BK35","v":0},{"$f":"asisB2!$BF35","v":""},{"$f":"asisB2!$BG35","v":""},{"$f":"asisB2!$BH35","v":""},{"$f":"asisB2!$BI35","v":""},{"$f":"asisB2!$BJ35","v":""},{"$f":"asisB2!$BK35","v":0},{"$f":"asisB3!$BF35","v":""},{"$f":"asisB3!$BG35","v":""},{"$f":"asisB3!$BH35","v":""},{"$f":"asisB3!$BI35","v":""},{"$f":"asisB3!$BJ35","v":""},{"$f":"asisB3!$BK35","v":0},null,null,null,null,null,null,0,0,0,0,0,0]
[null,null,null,null,null,{"$f":"IF(filEst!F36=\"\",\"\",filEst!F36)","v":""},{"$f":"IF(filEst!G36=\"\",\"\",filEst!G36)","v":""},{"$f":"IF(filEst!L36=\"\",\"\",filEst!L36)","v":""},null,null,{"$f":"IF(filEst!K36=\"\",\"\",filEst!K36)","v":""},null,{"$f":"asisB1!$BF36","v":""},{"$f":"asisB1!$BG36","v":""},{"$f":"asisB1!$BH36","v":""},{"$f":"asisB1!$BI36","v":""},{"$f":"asisB1!$BJ36","v":""},{"$f":"asisB1!$BK36","v":0},{"$f":"asisB2!$BF36","v":""},{"$f":"asisB2!$BG36","v":""},{"$f":"asisB2!$BH36","v":""},{"$f":"asisB2!$BI36","v":""},{"$f":"asisB2!$BJ36","v":""},{"$f":"asisB2!$BK36","v":0},{"$f":"asisB3!$BF36","v":""},{"$f":"asisB3!$BG36","v":""},{"$f":"asisB3!$BH36","v":""},{"$f":"asisB3!$BI36","v":""},{"$f":"asisB3!$BJ36","v":""},{"$f":"asisB3!$BK36","v":0},null,null,null,null,null,null,0,0,0,0,0,0]
[null,null,null,null,null,{"$f":"IF(filEst!F37=\"\",\"\",filEst!F37)","v":""},{"$f":"IF(filEst!G37=\"\",\"\",filEst!G37)","v":""},{"$f":"IF(filEst!L37=\"\",\"\",filEst!L37)","v":""},null,null,{"$f":"IF(filEst!K37=\"\",\"\",filEst!K37)","v":""},null,{"$f":"asisB1!$BF37","v":""},{"$f":"asisB1!$BG37","v":""},{"$f":"asisB1!$BH37","v":""},{"$f":"asisB1!$BI37","v":""},{"$f":"asisB1!$BJ37","v":""},{"$f":"asisB1!$BK37","v":0},{"$f":"asisB2!$BF37","v":""},{"$f":"asisB2!$BG37","v":""},{"$f":"asisB2!$BH37","v":""},{"$f":"asisB2!$BI37","v":""},{"$f":"asisB2!$BJ37","v":""},{"$f":"asisB2!$BK37","v":0},{"$f":"asisB3!$BF37","v":""},{"$f":"asisB3!$BG37","v":""},{"$f":"asisB3!$BH37","v":""},{"$f":"asisB3!$BI37","v":""},{"$f":"asisB3!$BJ37","v":""},{"$f":"asisB3!$BK37","v":0},null,null,null,null,null,null,0,0,0,0,0,0]
[null,null,null,null,null,{"$f":"IF(filEst!F38=\"\",\"\",filEst!F38)","v":""},{"$f":"IF(filEst!G38=\"\",\"\",filEst!G38)","v":""},{"$f":"IF(filEst!L38=\"\",\"\",filEst!L38)","v":""},null,null,{"$f":"IF(filEst!K38=\"\",\"\",filEst!K38)","v":""},null,{"$f":"asisB1!$BF38","v":""},{"$f":"asisB1!$BG38","v":""},{"$f":"asisB1!$BH38","v":""},{"$f":"asisB1!$BI38","v":""},{"$f":"asisB1!$BJ38","v":""},{"$f":"asisB1!$BK38","v":0},{"$f":"asisB2!$BF38","v":""},{"$f":"asisB2!$BG38","v":""},{"$f":"asisB2!$BH38","v":""},{"$f":"asisB2!$BI38","v":""},{"$f":"asisB2!$BJ38","v":""},{"$f":"asisB2!$BK38","v":0},{"$f":"asisB3!$BF38","v":""},{"$f":"asisB3!$BG38","v":""},{"$f":"asisB3!$BH38","v":""},{"$f":"asisB3!$BI38","v":""},{"$f":"asisB3!$BJ38","v":""},{"$f":"asisB3!$BK38","v":0},null,null,null,null,null,null,0,0,0,0,0,0]
[null,null,null,null,null,{"$f":"IF(filEst!F39=\"\",\"\",filEst!F39)","v":""},{"$f":"IF(filEst!G39=\"\",\"\",filEst!G39)","v":""},{"$f":"IF(filEst!L39=\"\",\"\",filEst!L39)","v":""},null,null,{"$f":"IF(filEst!K39=\"\",\"\",filEst!K39)","v":""},null,{"$f":"asisB1!$BF39","v":""},{"$f":"asisB1!$BG39","v":""},{"$f":"asisB1!$BH39","v":""},{"$f":"asisB1!$BI39","v":""},{"$f":"asisB1!$BJ39","v":""},{"$f":"asisB1!$BK39","v":0},{"$f":"asisB2!$BF39","v":""},{"$f":"asisB2!$BG39","v":""},{"$f":"asisB2!$BH39","v":""},{"$f":"asisB2!$BI39","v":""},{"$f":"asisB2!$BJ39","v":""},{"$f":"asisB2!$BK39","v":0},{"$f":"asisB3!$BF39","v":""},{"$f":"asisB3!$BG39","v":""},{"$f":"asisB3!$BH39","v":""},{"$f":"asisB3!$BI39","v":""},{"$f":"asisB3!$BJ39","v":""},{"$f":"asisB3!$BK39","v":0},null,null,null,null,null,null,0,0,0,0,0,0]
[null,null,null,null,null,{"$f":"IF(filEst!F40=\"\",\"\",filEst!F40)","v":""},{"$f":"IF(filEst!G40=\"\",\"\",filEst!G40)","v":""},{"$f":"IF(filEst!L40=\"\",\"\",filEst!L40)","v":""},null,null,{"$f":"IF(filEst!K40=\"\",\"\",filEst!K40)","v":""},null,{"$f":"asisB1!$BF40","v":""},{"$f":"asisB1!$BG40","v":""},{"$f":"asisB1!$BH40","v":""},{"$f":"asisB1!$BI40","v":""},{"$f":"asisB1!$BJ40","v":""},{"$f":"asisB1!$BK40","v":0},{"$f":"asisB2!$BF40","v":""},{"$f":"asisB2!$BG40","v":""},{"$f":"asisB2!$BH40","v":""},{"$f":"asisB2!$BI40","v":""},{"$f":"asisB2!$BJ40","v":""},{"$f":"asisB2!$BK40","v":0},{"$f":"asisB3!$BF40","v":""},{"$f":"asisB3!$BG40","v":""},{"$f":"asisB3!$BH40","v":""},{"$f":"asisB3!$BI40","v":""},{"$f":"asisB3!$BJ40","v":""},{"$f":"asisB3!$BK40","v":0},null,null,null,null,null,null,0,0,0,0,0,0]
[null,null,null,null,null,{"$f":"IF(filEst!F41=\"\",\"\",filEst!F41)","v":""},{"$f":"IF(filEst!G41=\"\",\"\",filEst!G41)","v":""},{"$f":"IF(filEst!L41=\"\",\"\",filEst!L41)","v":""},null,null,{"$f":"IF(filEst!K41=\"\",\"\",filEst!K41)","v":""},null,{"$f":"asisB1!$BF41","v":""},{"$f":"asisB1!$BG41","v":""},{"$f":"asisB1!$BH41","v":""},{"$f":"asisB1!$BI41","v":""},{"$f":"asisB1!$BJ41","v":""},{"$f":"asisB1!$BK41","v":0},{"$f":"asisB2!$BF41","v":""},{"$f":"asisB2!$BG41","v":""},{"$f":"asisB2!$BH41","v":""},{"$f":"asisB2!$BI41","v":""},{"$f":"asisB2!$BJ41","v":""},{"$f":"asisB2!$BK41","v":0},{"$f":"asisB3!$BF41","v":""},{"$f":"asisB3!$BG41","v":""},{"$f":"asisB3!$BH41","v":""},{"$f":"asisB3!$BI41","v":""},{"$f":"asisB3!$BJ41","v":""},{"$f":"asisB3!$BK41","v":0},null,null,null,null,null,null,0,0,0,0,0,0]
[null,null,null,null,null,{"$f":"IF(filEst!F42=\"\",\"\",filEst!F42)","v":""},{"$f":"IF(filEst!G42=\"\",\"\",filEst!G42)","v":""},{"$f":"IF(filEst!L42=\"\",\"\",filEst!L42)","v":""},null,null,{"$f":"IF(filEst!K42=\"\",\"\",filEst!K42)","v":""},null,{"$f":"asisB1!$BF42","v":""},{"$f":"asisB1!$BG42","v":""},{"$f":"asisB1!$BH42","v":""},{"$f":"asisB1!$BI42","v":""},{"$f":"asisB1!$BJ42","v":""},{"$f":"asisB1!$BK42","v":0},{"$f":"asisB2!$BF42","v":""},{"$f":"asisB2!$BG42","v":""},{"$f":"asisB2!$BH42","v":""},{"$f":"asisB2!$BI42","v":""},{"$f":"asisB2!$BJ42","v":""},{"$f":"asisB2!$BK42","v":0},{"$f":"asisB3!$BF42","v":""},{"$f":"asisB3!$BG42","v":""},{"$f":"asisB3!$BH42","v":""},{"$f":"asisB3!$BI42","v":""},{"$f":"asisB3!$BJ42","v":""},{"$f":"asisB3!$BK42","v":0},null,null,null,null,null,null,0,0,0,0,0,0]
[null,null,null,null,null,{"$f":"IF(filEst!F43=\"\",\"\",filEst!F43)","v":""},{"$f":"IF(filEst!G43=\"\",\"\",filEst!G43)","v":""},{"$f":"IF(filEst!L43=\"\",\"\",filEst!L43)","v":""},null,null,{"$f":"IF(filEst!K43=\"\",\"\",filEst!K43)","v":""},null,{"$f":"asisB1!$BF43","v":""},{"$f":"asisB1!$BG43","v":""},{"$f":"asisB1!$BH43","v":""},{"$f":"asisB1!$BI43","v":""},{"$f":"asisB1!$BJ43","v":""},{"$f":"asisB1!$BK43","v":0},{"$f":"asisB2!$BF43","v":""},{"$f":"asisB2!$BG43","v":""},{"$f":"asisB2!$BH43","v":""},{"$f":"asisB2!$BI43","v":""},{"$f":"asisB2!$BJ43","v":""},{"$f":"asisB2!$BK43","v":0},{"$f":"asisB3!$BF43","v":""},{"$f":"asisB3!$BG43","v":""},{"$f":"asisB3!$BH43","v":""},{"$f":"asisB3!$BI43","v":""},{"$f":"asisB3!$BJ43","v":""},{"$f":"asisB3!$BK43","v":0},null,null,null,null,null,null,0,0,0,0,0,0]
[null,null,null,null,null,{"$f":"IF(filEst!F44=\"\",\"\",filEst!F44)","v":""},{"$f":"IF(filEst!G44=\"\",\"\",filEst!G44)","v":""},{"$f":"IF(filEst!L44=\"\",\"\",filEst!L44)","v":""},null,null,{"$f":"IF(filEst!K44=\"\",\"\",filEst!K44)","v":""},null,{"$f":"asisB1!$BF44","v":""},{"$f":"asisB1!$BG44","v":""},{"$f":"asisB1!$BH44","v":""},{"$f":"asisB1!$BI44","v":""},{"$f":"asisB1!$BJ44","v":""},{"$f":"asisB1!$BK44","v":0},{"$f":"asisB2!$BF44","v":""},{"$f":"asisB2!$BG44","v":""},{"$f":"asisB2!$BH44","v":""},{"$f":"asisB2!$BI44","v":""},{"$f":"asisB2!$BJ44","v":""},{"$f":"asisB2!$BK44","v":0},{"$f":"asisB3!$BF44","v":""},{"$f":"asisB3!$BG44","v":""},{"$f":"asisB3!$BH44","v":""},{"$f":"asisB3!$BI44","v":""},{"$f":"asisB3!$BJ44","v":""},{"$f":"asisB3!$BK44","v":0},null,null,null,null,null,null,0,0,0,0,0,0]
[null,null,null,null,null,{"$f":"IF(filEst!F45=\"\",\"\",filEst!F45)","v":""},{"$f":"IF(filEst!G45=\"\",\"\",filEst!G45)","v":""},{"$f":"IF(filEst!L45=\"\",\"\",filEst!L45)","v":""},null,null,{"$f":"IF(filEst!K45=\"\",\"\",filEst!K45)","v":""},null,{"$f":"asisB1!$BF45","v":""},{"$f":"asisB1!$BG45","v":""},{"$f":"asisB1!$BH45","v":""},{"$f":"asisB1!$BI45","v":""},{"$f":"asisB1!$BJ45","v":""},{"$f":"asisB1!$BK45","v":0},{"$f":"asisB2!$BF45","v":""},{"$f":"asisB2!$BG45","v":""},{"$f":"asisB2!$BH45","v":""},{"$f":"asisB2!$BI45","v":""},{"$f":"asisB2!$BJ45","v":""},{"$f":"asisB2!$BK45","v":0},{"$f":"asisB3!$BF45","v":""},{"$f":"asisB3!$BG45","v":""},{"$f":"asisB3!$BH45","v":""},{"$f":"asisB3!$BI45","v":""},{"$f":"asisB3!$BJ45","v":""},{"$f":"asisB3!$BK45","v":0},null,null,null,null,null,null,0,0,0,0,0,0]
[null,null,null,null,null,{"$f":"IF(filEst!F46=\"\",\"\",filEst!F46)","v":""},{"$f":"IF(filEst!G46=\"\",\"\",filEst!G46)","v":""},{"$f":"IF(filEst!L46=\"\",\"\",filEst!L46)","v":""},null,null,{"$f":"IF(filEst!K46=\"\",\"\",filEst!K46)","v":""},null,{"$f":"asisB1!$BF46","v":""},{"$f":"asisB1!$BG46","v":""},{"$f":"asisB1!$BH46","v":""},{"$f":"asisB1!$BI46","v":""},{"$f":"asisB1!$BJ46","v":""},{"$f":"asisB1!$BK46","v":0},{"$f":"asisB2!$BF46","v":""},{"$f":"asisB2!$BG46","v":""},{"$f":"asisB2!$BH46","v":""},{"$f":"asisB2!$BI46","v":""},{"$f":"asisB2!$BJ46","v":""},{"$f":"asisB2!$BK46","v":0},{"$f":"asisB3!$BF46","v":""},{"$f":"asisB3!$BG46","v":""},{"$f":"asisB3!$BH46","v":""},{"$f":"asisB3!$BI46","v":""},{"$f":"asisB3!$BJ46","v":""},{"$f":"asisB3!$BK46","v":0},null,null,null,null,null,null,0,0,0,0,0,0]
[null,null,null,null,null,{"$f":"IF(filEst!F47=\"\",\"\",filEst!F47)","v":""},{"$f":"IF(filEst!G47=\"\",\"\",filEst!G47)","v":""},{"$f":"IF(filEst!L47=\"\",\"\",filEst!L47)","v":""},null,null,{"$f":"IF(filEst!K47=\"\",\"\",filEst!K47)","v":""},null,{"$f":"asisB1!$BF47","v":""},{"$f":"asisB1!$BG47","v":""},{"$f":"asisB1!$BH47","v":""},{"$f":"asisB1!$BI47","v":""},{"$f":"asisB1!$BJ47","v":""},{"$f":"asisB1!$BK47","v":0},{"$f":"asisB2!$BF47","v":""},{"$f":"asisB2!$BG47","v":""},{"$f":"asisB2!$BH47","v":""},{"$f":"asisB2!$BI47","v":""},{"$f":"asisB2!$BJ47","v":""},{"$f":"asisB2!$BK47","v":0},{"$f":"asisB3!$BF47","v":""},{"$f":"asisB3!$BG47","v":""},{"$f":"asisB3!$BH47","v":""},{"$f":"asisB3!$BI47","v":""},{"$f":"asisB3!$BJ47","v":""},{"$f":"asisB3!$BK47","v":0},null,null,null,null,null,null,0,0,0,0,0,0]
[null,null,null,null,null,{"$f":"IF(filEst!F48=\"\",\"\",filEst!F48)","v":""},{"$f":"IF(filEst!G48=\"\",\"\",filEst!G48)","v":""},{"$f":"IF(filEst!L48=\"\",\"\",filEst!L48)","v":""},null,null,{"$f":"IF(filEst!K48=\"\",\"\",filEst!K48)","v":""},null,{"$f":"asisB1!$BF48","v":""},{"$f":"asisB1!$BG48","v":""},{"$f":"asisB1!$BH48","v":""},{"$f":"asisB1!$BI48","v":""},{"$f":"asisB1!$BJ48","v":""},{"$f":"asisB1!$BK48","v":0},{"$f":"asisB2!$BF48","v":""},{"$f":"asisB2!$BG48","v":""},{"$f":"asisB2!$BH48","v":""},{"$f":"asisB2!$BI48","v":""},{"$f":"asisB2!$BJ48","v":""},{"$f":"asisB2!$BK48","v":0},{"$f":"asisB3!$BF48","v":""},{"$f":"asisB3!$BG48","v":""},{"$f":"asisB3!$BH48","v":""},{"$f":"asisB3!$BI48","v":""},{"$f":"asisB3!$BJ48","v":""},{"$f":"asisB3!$BK48","v":0},null,null,null,null,null,null,0,0,0,0,0,0]
[null,null,null,null,null,{"$f":"IF(filEst!F49=\"\",\"\",filEst!F49)","v":""},{"$f":"IF(filEst!G49=\"\",\"\",filEst!G49)","v":""},{"$f":"IF(filEst!L49=\"\",\"\",filEst!L49)","v":""},null,null,{"$f":"IF(filEst!K49=\"\",\"\",filEst!K49)","v":""},null,{"$f":"asisB1!$BF49","v":""},{"$f":"asisB1!$BG49","v":""},{"$f":"asisB1!$BH49","v":""},{"$f":"asisB1!$BI49","v":""},{"$f":"asisB1!$BJ49","v":""},{"$f":"asisB1!$BK49","v":0},{"$f":"asisB2!$BF49","v":""},{"$f":"asisB2!$BG49","v":""},{"$f":"asisB2!$BH49","v":""},{"$f":"asisB2!$BI49","v":""},{"$f":"asisB2!$BJ49","v":""},{"$f":"asisB2!$BK49","v":0},{"$f":"asisB3!$BF49","v":""},{"$f":"asisB3!$BG49","v":""},{"$f":"asisB3!$BH49","v":""},{"$f":"asisB3!$BI49","v":""},{"$f":"asisB3!$BJ49","v":""},{"$f":"asisB3!$BK49","v":0},null,null,null,null,null,null,0,0,0,0,0,0]
[null,null,null,null,null,{"$f":"IF(filEst!F50=\"\",\"\",filEst!F50)","v":""},{"$f":"IF(filEst!G50=\"\",\"\",filEst!G50)","v":""},{"$f":"IF(filEst!L50=\"\",\"\",filEst!L50)","v":""},null,null,{"$f":"IF(filEst!K50=\"\",\"\",filEst!K50)","v":""},null,{"$f":"asisB1!$BF50","v":""},{"$f":"asisB1!$BG50","v":""},{"$f":"asisB1!$BH50","v":""},{"$f":"asisB1!$BI50","v":""},{"$f":"asisB1!$BJ50","v":""},{"$f":"asisB1!$BK50","v":0},{"$f":"asisB2!$BF50","v":""},{"$f":"asisB2!$BG50","v":""},{"$f":"asisB2!$BH50","v":""},{"$f":"asisB2!$BI50","v":""},{"$f":"asisB2!$BJ50","v":""},{"$f":"asisB2!$BK50","v":0},{"$f":"asisB3!$BF50","v":""},{"$f":"asisB3!$BG50","v":""},{"$f":"asisB3!$BH50","v":""},{"$f":"asisB3!$BI50","v":""},{"$f":"asisB3!$BJ50","v":""},{"$f":"asisB3!$BK50","v":0},null,null,null,null,null,null,0,0,0,0,0,0]
[null,null,null,null,null,{"$f":"IF(filEst!F51=\"\",\"\",filEst!F51)","v":""},{"$f":"IF(filEst!G51=\"\",\"\",filEst!G51)","v":""},{"$f":"IF(filEst!L51=\"\",\"\",filEst!L51)","v":""},null,null,{"$f":"IF(filEst!K51=\"\",\"\",filEst!K51)","v":""},null,{"$f":"asisB1!$BF51","v":""},{"$f":"asisB1!$BG51","v":""},{"$f":"asisB1!$BH51","v":""},{"$f":"asisB1!$BI51","v":""},{"$f":"asisB1!$BJ51","v":""},{"$f":"asisB1!$BK51","v":0},{"$f":"asisB2!$BF51","v":""},{"$f":"asisB2!$BG51","v":""},{"$f":"asisB2!$BH51","v":""},{"$f":"asisB2!$BI51","v":""},{"$f":"asisB2!$BJ51","v":""},{"$f":"asisB2!$BK51","v":0},{"$f":"asisB3!$BF51","v":""},{"$f":"asisB3!$BG51","v":""},{"$f":"asisB3!$BH51","v":""},{"$f":"asisB3!$BI51","v":""},{"$f":"asisB3!$BJ51","v":""},{"$f":"asisB3!$BK51","v":0},null,null,null,null,null,null,0,0,0,0,0,0]
[null,null,null,null,null,{"$f":"IF(filEst!F52=\"\",\"\",filEst!F52)","v":""},{"$f":"IF(filEst!G52=\"\",\"\",filEst!G52)","v":""},{"$f":"IF(filEst!L52=\"\",\"\",filEst!L52)","v":""},null,null,{"$f":"IF(filEst!K52=\"\",\"\",filEst!K52)","v":""},null,{"$f":"asisB1!$BF52","v":""},{"$f":"asisB1!$BG52","v":""},{"$f":"asisB1!$BH52","v":""},{"$f":"asisB1!$BI52","v":""},{"$f":"asisB1!$BJ52","v":""},{"$f":"asisB1!$BK52","v":0},{"$f":"asisB2!$BF52","v":""},{"$f":"asisB2!$BG52","v":""},{"$f":"asisB2!$BH52","v":""},{"$f":"asisB2!$BI52","v":""},{"$f":"asisB2!$BJ52","v":""},{"$f":"asisB2!$BK52","v":0},{"$f":"asisB3!$BF52","v":""},{"$f":"asisB3!$BG52","v":""},{"$f":"asisB3!$BH52","v":""},{"$f":"asisB3!$BI52","v":""},{"$f":"asisB3!$BJ52","v":""},{"$f":"asisB3!$BK52","v":0},null,null,null,null,null,null,0,0,0,0,0,0]
[null,null,null,null,null,{"$f":"IF(filEst!F53=\"\",\"\",filEst!F53)","v":""},{"$f":"IF(filEst!G53=\"\",\"\",filEst!G53)","v":""},{"$f":"IF(filEst!L53=\"\",\"\",filEst!L53)","v":""},null,null,{"$f":"IF(filEst!K53=\"\",\"\",filEst!K53)","v":""},null,{"$f":"asisB1!$BF53","v":""},{"$f":"asisB1!$BG53","v":""},{"$f":"asisB1!$BH53","v":""},{"$f":"asisB1!$BI53","v":""},{"$f":"asisB1!$BJ53","v":""},{"$f":"asisB1!$BK53","v":0},{"$f":"asisB2!$BF53","v":""},{"$f":"asisB2!$BG53","v":""},{"$f":"asisB2!$BH53","v":""},{"$f":"asisB2!$BI53","v":""},{"$f":"asisB2!$BJ53","v":""},{"$f":"asisB2!$BK53","v":0},{"$f":"asisB3!$BF53","v":""},{"$f":"asisB3!$BG53","v":""},{"$f":"asisB3!$BH53","v":""},{"$f":"asisB3!$BI53","v":""},{"$f":"asisB3!$BJ53","v":""},{"$f":"asisB3!$BK53","v":0},null,null,null,null,null,null,0,0,0,0,0,0]
[null,null,null,null,null,{"$f":"IF(filEst!F54=\"\",\"\",filEst!F54)","v":""},{"$f":"IF(filEst!G54=\"\",\"\",filEst!G54)","v":""},{"$f":"IF(filEst!L54=\"\",\"\",filEst!L54)","v":""},null,null,{"$f":"IF(filEst!K54=\"\",\"\",filEst!K54)","v":""},null,{"$f":"asisB1!$BF54","v":""},{"$f":"asisB1!$BG54","v":""},{"$f":"asisB1!$BH54","v":""},{"$f":"asisB1!$BI54","v":""},{"$f":"asisB1!$BJ54","v":""},{"$f":"asisB1!$BK54","v":0},{"$f":"asisB2!$BF54","v":""},{"$f":"asisB2!$BG54","v":""},{"$f":"asisB2!$BH54","v":""},{"$f":"asisB2!$BI54","v":""},{"$f":"asisB2!$BJ54","v":""},{"$f":"asisB2!$BK54","v":0},{"$f":"asisB3!$BF54","v":""},{"$f":"asisB3!$BG54","v":""},{"$f":"asisB3!$BH54","v":""},{"$f":"asisB3!$BI54","v":""},{"$f":"asisB3!$BJ54","v":""},{"$f":"asisB3!$BK54","v":0},null,null,null,null,null,null,0,0,0,0,0,0]
[null,null,null,null,null,{"$f":"IF(filEst!F55=\"\",\"\",filEst!F55)","v":""},{"$f":"IF(filEst!G55=\"\",\"\",filEst!G55)","v":""},{"$f":"IF(filEst!L55=\"\",\"\",filEst!L55)","v":""},null,null,{"$f":"IF(filEst!K55=\"\",\"\",filEst!K55)","v":""},null,{"$f":"asisB1!$BF55","v":""},{"$f":"asisB1!$BG55","v":""},{"$f":"asisB1!$BH55","v":""},{"$f":"asisB1!$BI55","v":""},{"$f":"asisB1!$BJ55","v":""},{"$f":"asisB1!$BK55","v":0},{"$f":"asisB2!$BF55","v":""},{"$f":"asisB2!$BG55","v":""},{"$f":"asisB2!$BH55","v":""},{"$f":"asisB2!$BI55","v":""},{"$f":"asisB2!$BJ55","v":""},{"$f":"asisB2!$BK55","v":0},{"$f":"asisB3!$BF55","v":""},{"$f":"asisB3!$BG55","v":""},{"$f":"asisB3!$BH55","v":""},{"$f":"asisB3!$BI55","v":""},{"$f":"asisB3!$BJ55","v":""},{"$f":"asisB3!$BK55","v":0},null,null,null,null,null,null,0,0,0,0,0,0]
[null,null,null,null,null,{"$f":"IF(filEst!F56=\"\",\"\",filEst!F56)","v":""},{"$f":"IF(filEst!G56=\"\",\"\",filEst!G56)","v":""},{"$f":"IF(filEst!L56=\"\",\"\",filEst!L56)","v":""},null,null,{"$f":"IF(filEst!K56=\"\",\"\",filEst!K56)","v":""},null,{"$f":"asisB1!$BF56","v":""},{"$f":"asisB1!$BG56","v":""},{"$f":"asisB1!$BH56","v":""},{"$f":"asisB1!$BI56","v":""},{"$f":"asisB1!$BJ56","v":""},{"$f":"asisB1!$BK56","v":0},{"$f":"asisB2!$BF56","v":""},{"$f":"asisB2!$BG56","v":""},{"$f":"asisB2!$BH56","v":""},{"$f":"asisB2!$BI56","v":""},{"$f":"asisB2!$BJ56","v":""},{"$f":"asisB2!$BK56","v":0},{"$f":"asisB3!$BF56","v":""},{"$f":"asisB3!$BG56","v":""},{"$f":"asisB3!$BH56","v":""},{"$f":"asisB3!$BI56","v":""},{"$f":"asisB3!$BJ56","v":""},{"$f":"asisB3!$BK56","v":0},null,null,null,null,null,null,0,0,0,0,0,0]
[null,null,null,null,null,{"$f":"IF(filEst!F57=\"\",\"\",filEst!F57)","v":""},{"$f":"IF(filEst!G57=\"\",\"\",filEst!G57)","v":""},{"$f":"IF(filEst!L57=\"\",\"\",filEst!L57)","v":""},null,null,{"$f":"IF(filEst!K57=\"\",\"\",filEst!K57)","v":""},null,{"$f":"asisB1!$BF57","v":""},{"$f":"asisB1!$BG57","v":""},{"$f":"asisB1!$BH57","v":""},{"$f":"asisB1!$BI57","v":""},{"$f":"asisB1!$BJ57","v":""},{"$f":"asisB1!$BK57","v":0},{"$f":"asisB2!$BF57","v":""},{"$f":"asisB2!$BG57","v":""},{"$f":"asisB2!$BH57","v":""},{"$f":"asisB2!$BI57","v":""},{"$f":"asisB2!$BJ57","v":""},{"$f":"asisB2!$BK57","v":0},{"$f":"asisB3!$BF57","v":""},{"$f":"asisB3!$BG57","v":""},{"$f":"asisB3!$BH57","v":""},{"$f":"asisB3!$BI57","v":""},{"$f":"asisB3!$BJ57","v":""},{"$f":"asisB3!$BK57","v":0},null,null,null,null,null,null,0,0,0,0,0,0]
[null,null,null,null,null,{"$f":"IF(filEst!F58=\"\",\"\",filEst!F58)","v":""},{"$f":"IF(filEst!G58=\"\",\"\",filEst!G58)","v":""},{"$f":"IF(filEst!L58=\"\",\"\",filEst!L58)","v":""},null,null,{"$f":"IF(filEst!K58=\"\",\"\",filEst!K58)","v":""},null,{"$f":"asisB1!$BF58","v":""},{"$f":"asisB1!$BG58","v":""},{"$f":"asisB1!$BH58","v":""},{"$f":"asisB1!$BI58","v":""},{"$f":"asisB1!$BJ58","v":""},{"$f":"asisB1!$BK58","v":0},{"$f":"asisB2!$BF58","v":""},{"$f":"asisB2!$BG58","v":""},{"$f":"asisB2!$BH58","v":""},{"$f":"asisB2!$BI58","v":""},{"$f":"asisB2!$BJ58","v":""},{"$f":"asisB2!$BK58","v":0},{"$f":"asisB3!$BF58","v":""},{"$f":"asisB3!$BG58","v":""},{"$f":"asisB3!$BH58","v":""},{"$f":"asisB3!$BI58","v":""},{"$f":"asisB3!$BJ58","v":""},{"$f":"asisB3!$BK58","v":0},null,null,null,null,null,null,0,0,0,0,0,0]
[null,null,null,null,null,{"$f":"IF(filEst!F59=\"\",\"\",filEst!F59)","v":""},{"$f":"IF(filEst!G59=\"\",\"\",filEst!G59)","v":""},{"$f":"IF(filEst!L59=\"\",\"\",filEst!L59)","v":""},null,null,{"$f":"IF(filEst!K59=\"\",\"\",filEst!K59)","v":""},null,{"$f":"asisB1!$BF59","v":""},{"$f":"asisB1!$BG59","v":""},{"$f":"asisB1!$BH59","v":""},{"$f":"asisB1!$BI59","v":""},{"$f":"asisB1!$BJ59","v":""},{"$f":"asisB1!$BK59","v":0},{"$f":"asisB2!$BF59","v":""},{"$f":"asisB2!$BG59","v":""},{"$f":"asisB2!$BH59","v":""},{"$f":"asisB2!$BI59","v":""},{"$f":"asisB2!$BJ59","v":""},{"$f":"asisB2!$BK59","v":0},{"$f":"asisB3!$BF59","v":""},{"$f":"asisB3!$BG59","v":""},{"$f":"asisB3!$BH59","v":""},{"$f":"asisB3!$BI59","v":""},{"$f":"asisB3!$BJ59","v":""},{"$f":"asisB3!$BK59","v":0},null,null,null,null,null,null,0,0,0,0,0,0]
[null,null,null,null,null,{"$f":"IF(filEst!F60=\"\",\"\",filEst!F60)","v":""},{"$f":"IF(filEst!G60=\"\",\"\",filEst!G60)","v":""},{"$f":"IF(filEst!L60=\"\",\"\",filEst!L60)","v":""},null,null,{"$f":"IF(filEst!K60=\"\",\"\",filEst!K60)","v":""},null,{"$f":"asisB1!$BF60","v":""},{"$f":"asisB1!$BG60","v":""},{"$f":"asisB1!$BH60","v":""},{"$f":"asisB1!$BI60","v":""},{"$f":"asisB1!$BJ60","v":""},{"$f":"asisB1!$BK60","v":0},{"$f":"asisB2!$BF60","v":""},{"$f":"asisB2!$BG60","v":""},{"$f":"asisB2!$BH60","v":""},{"$f":"asisB2!$BI60","v":""},{"$f":"asisB2!$BJ60","v":""},{"$f":"asisB2!$BK60","v":0},{"$f":"asisB3!$BF60","v":""},{"$f":"asisB3!$BG60","v":""},{"$f":"asisB3!$BH60","v":""},{"$f":"asisB3!$BI60","v":""},{"$f":"asisB3!$BJ60","v":""},{"$f":"asisB3!$BK60","v":0},null,null,null,null,null,null,0,0,0,0,0,0]
[null,null,null,null,null,{"$f":"IF(filEst!F61=\"\",\"\",filEst!F61)","v":""},{"$f":"IF(filEst!G61=\"\",\"\",filEst!G61)","v":""},{"$f":"IF(filEst!L61=\"\",\"\",filEst!L61)","v":""},null,null,{"$f":"IF(filEst!K61=\"\",\"\",filEst!K61)","v":""},null,{"$f":"asisB1!$BF61","v":""},{"$f":"asisB1!$BG61","v":""},{"$f":"asisB1!$BH61","v":""},{"$f":"asisB1!$BI61","v":""},{"$f":"asisB1!$BJ61","v":""},{"$f":"asisB1!$BK61","v":0},{"$f":"asisB2!$BF61","v":""},{"$f":"asisB2!$BG61","v":""},{"$f":"asisB2!$BH61","v":""},{"$f":"asisB2!$BI61","v":""},{"$f":"asisB2!$BJ61","v":""},{"$f":"asisB2!$BK61","v":0},{"$f":"asisB3!$BF61","v":""},{"$f":"asisB3!$BG61","v":""},{"$f":"asisB3!$BH61","v":""},{"$f":"asisB3!$BI61","v":""},{"$f":"asisB3!$BJ61","v":""},{"$f":"asisB3!$BK61","v":0},null,null,null,null,null,null,0,0,0,0,0,0]
[null,null,null,null,null,{"$f":"IF(filEst!F62=\"\",\"\",filEst!F62)","v":""},{"$f":"IF(filEst!G62=\"\",\"\",filEst!G62)","v":""},{"$f":"IF(filEst!L62=\"\",\"\",filEst!L62)","v":""},null,null,{"$f":"IF(filEst!K62=\"\",\"\",filEst!K62)","v":""},null,{"$f":"asisB1!$BF62","v":""},{"$f":"asisB1!$BG62","v":""},{"$f":"asisB1!$BH62","v":""},{"$f":"asisB1!$BI62","v":""},{"$f":"asisB1!$BJ62","v":""},{"$f":"asisB1!$BK62","v":0},{"$f":"asisB2!$BF62","v":""},{"$f":"asisB2!$BG62","v":""},{"$f":"asisB2!$BH62","v":""},{"$f":"asisB2!$BI62","v":""},{"$f":"asisB2!$BJ62","v":""},{"$f":"asisB2!$BK62","v":0},{"$f":"asisB3!$BF62","v":""},{"$f":"asisB3!$BG62","v":""},{"$f":"asisB3!$BH62","v":""},{"$f":"asisB3!$BI62","v":""},{"$f":"asisB3!$BJ62","v":""},{"$f":"asisB3!$BK62","v":0},null,null,null,null,null,null,0,0,0,0,0,0]
[null,null,null,null,null,{"$f":"IF(filEst!F63=\"\",\"\",filEst!F63)","v":""},{"$f":"IF(filEst!G63=\"\",\"\",filEst!G63)","v":""},{"$f":"IF(filEst!L63=\"\",\"\",filEst!L63)","v":""},null,null,{"$f":"IF(filEst!K63=\"\",\"\",filEst!K63)","v":""},null,{"$f":"asisB1!$BF63","v":""},{"$f":"asisB1!$BG63","v":""},{"$f":"asisB1!$BH63","v":""},{"$f":"asisB1!$BI63","v":""},{"$f":"asisB1!$BJ63","v":""},{"$f":"asisB1!$BK63","v":0},{"$f":"asisB2!$BF63","v":""},{"$f":"asisB2!$BG63","v":""},{"$f":"asisB2!$BH63","v":""},{"$f":"asisB2!$BI63","v":""},{"$f":"asisB2!$BJ63","v":""},{"$f":"asisB2!$BK63","v":0},{"$f":"asisB3!$BF63","v":""},{"$f":"asisB3!$BG63","v":""},{"$f":"asisB3!$BH63","v":""},{"$f":"asisB3!$BI63","v":""},{"$f":"asisB3!$BJ63","v":""},{"$f":"asisB3!$BK63","v":0},null,null,null,null,null,null,0,0,0,0,0,0]
[null,null,null,null,null,{"$f":"IF(filEst!F64=\"\",\"\",filEst!F64)","v":""},{"$f":"IF(filEst!G64=\"\",\"\",filEst!G64)","v":""},{"$f":"IF(filEst!L64=\"\",\"\",filEst!L64)","v":""},null,null,{"$f":"IF(filEst!K64=\"\",\"\",filEst!K64)","v":""},null,{"$f":"asisB1!$BF64","v":""},{"$f":"asisB1!$BG64","v":""},{"$f":"asisB1!$BH64","v":""},{"$f":"asisB1!$BI64","v":""},{"$f":"asisB1!$BJ64","v":""},{"$f":"asisB1!$BK64","v":0},{"$f":"asisB2!$BF64","v":""},{"$f":"asisB2!$BG64","v":""},{"$f":"asisB2!$BH64","v":""},{"$f":"asisB2!$BI64","v":""},{"$f":"asisB2!$BJ64","v":""},{"$f":"asisB2!$BK64","v":0},{"$f":"asisB3!$BF64","v":""},{"$f":"asisB3!$BG64","v":""},{"$f":"asisB3!$BH64","v":""},{"$f":"asisB3!$BI64","v":""},{"$f":"asisB3!$BJ64","v":""},{"$f":"asisB3!$BK64","v":0},null,null,null,null,null,null,0,0,0,0,0,0]
[null,null,null,null,null,{"$f":"IF(filEst!F65=\"\",\"\",filEst!F65)","v":""},{"$f":"IF(filEst!G65=\"\",\"\",filEst!G65)","v":""},{"$f":"IF(filEst!L65=\"\",\"\",filEst!L65)","v":""},null,null,{"$f":"IF(filEst!K65=\"\",\"\",filEst!K65)","v":""},null,{"$f":"asisB1!$BF65","v":""},{"$f":"asisB1!$BG65","v":""},{"$f":"asisB1!$BH65","v":""},{"$f":"asisB1!$BI65","v":""},{"$f":"asisB1!$BJ65","v":""},{"$f":"asisB1!$BK65","v":0},{"$f":"asisB2!$BF65","v":""},{"$f":"asisB2!$BG65","v":""},{"$f":"asisB2!$BH65","v":""},{"$f":"asisB2!$BI65","v":""},{"$f":"asisB2!$BJ65","v":""},{"$f":"asisB2!$BK65","v":0},{"$f":"asisB3!$BF65","v":""},{"$f":"asisB3!$BG65","v":""},{"$f":"asisB3!$BH65","v":""},{"$f":"asisB3!$BI65","v":""},{"$f":"asisB3!$BJ65","v":""},{"$f":"asisB3!$BK65","v":0},null,null,null,null,null,null,0,0,0,0,0,0]
[null,null,null,null,null,{"$f":"IF(filEst!F66=\"\",\"\",filEst!F66)","v":""},{"$f":"IF(filEst!G66=\"\",\"\",filEst!G66)","v":""},{"$f":"IF(filEst!L66=\"\",\"\",filEst!L66)","v":""},null,null,{"$f":"IF(filEst!K66=\"\",\"\",filEst!K66)","v":""},null,{"$f":"asisB1!$BF66","v":""},{"$f":"asisB1!$BG66","v":""},{"$f":"asisB1!$BH66","v":""},{"$f":"asisB1!$BI66","v":""},{"$f":"asisB1!$BJ66","v":""},{"$f":"asisB1!$BK66","v":0},{"$f":"asisB2!$BF66","v":""},{"$f":"asisB2!$BG66","v":""},{"$f":"asisB2!$BH66","v":""},{"$f":"asisB2!$BI66","v":""},{"$f":"asisB2!$BJ66","v":""},{"$f":"asisB2!$BK66","v":0},{"$f":"asisB3!$BF66","v":""},{"$f":"asisB3!$BG66","v":""},{"$f":"asisB3!$BH66","v":""},{"$f":"asisB3!$BI66","v":""},{"$f":"asisB3!$BJ66","v":""},{"$f":"asisB3!$BK66","v":0},null,null,null,null,null,null,0,0,0,0,0,0]
[null,null,null,null,null,{"$f":"IF(filEst!F67=\"\",\"\",filEst!F67)","v":""},{"$f":"IF(filEst!G67=\"\",\"\",filEst!G67)","v":""},{"$f":"IF(filEst!L67=\"\",\"\",filEst!L67)","v":""},null,null,{"$f":"IF(filEst!K67=\"\",\"\",filEst!K67)","v":""},null,{"$f":"asisB1!$BF67","v":""},{"$f":"asisB1!$BG67","v":""},{"$f":"asisB1!$BH67","v":""},{"$f":"asisB1!$BI67","v":""},{"$f":"asisB1!$BJ67","v":""},{"$f":"asisB1!$BK67","v":0},{"$f":"asisB2!$BF67","v":""},{"$f":"asisB2!$BG67","v":""},{"$f":"asisB2!$BH67","v":""},{"$f":"asisB2!$BI67","v":""},{"$f":"asisB2!$BJ67","v":""},{"$f":"asisB2!$BK67","v":0},{"$f":"asisB3!$BF67","v":""},{"$f":"asisB3!$BG67","v":""},{"$f":"asisB3!$BH67","v":""},{"$f":"asisB3!$BI67","v":""},{"$f":"asisB3!$BJ67","v":""},{"$f":"asisB3!$BK67","v":0},null,null,null,null,null,null,0,0,0,0,0,0]
[null,null,null,null,null,{"$f":"IF(filEst!F68=\"\",\"\",filEst!F68)","v":""},{"$f":"IF(filEst!G68=\"\",\"\",filEst!G68)","v":""},{"$f":"IF(filEst!L68=\"\",\"\",filEst!L68)","v":""},null,null,{"$f":"IF(filEst!K68=\"\",\"\",filEst!K68)","v":""},null,{"$f":"asisB1!$BF68","v":""},{"$f":"asisB1!$BG68","v":""},{"$f":"asisB1!$BH68","v":""},{"$f":"asisB1!$BI68","v":""},{"$f":"asisB1!$BJ68","v":""},{"$f":"asisB1!$BK68","v":0},{"$f":"asisB2!$BF68","v":""},{"$f":"asisB2!$BG68","v":""},{"$f":"asisB2!$BH68","v":""},{"$f":"asisB2!$BI68","v":""},{"$f":"asisB2!$BJ68","v":""},{"$f":"asisB2!$BK68","v":0},{"$f":"asisB3!$BF68","v":""},{"$f":"asisB3!$BG68","v":""},{"$f":"asisB3!$BH68","v":""},{"$f":"asisB3!$BI68","v":""},{"$f":"asisB3!$BJ68","v":""},{"$f":"asisB3!$BK68","v":0},null,null,null,null,null,null,0,0,0,0,0,0]
[null,null,null,null,null,{"$f":"IF(filEst!F69=\"\",\"\",filEst!F69)","v":""},{"$f":"IF(filEst!G69=\"\",\"\",filEst!G69)","v":""},{"$f":"IF(filEst!L69=\"\",\"\",filEst!L69)","v":""},null,null,{"$f":"IF(filEst!K69=\"\",\"\",filEst!K69)","v":""},null,{"$f":"asisB1!$BF69","v":""},{"$f":"asisB1!$BG69","v":""},{"$f":"asisB1!$BH69","v":""},{"$f":"asisB1!$BI69","v":""},{"$f":"asisB1!$BJ69","v":""},{"$f":"asisB1!$BK69","v":0},{"$f":"asisB2!$BF69","v":""},{"$f":"asisB2!$BG69","v":""},{"$f":"asisB2!$BH69","v":""},{"$f":"asisB2!$BI69","v":""},{"$f":"asisB2!$BJ69","v":""},{"$f":"asisB2!$BK69","v":0},{"$f":"asisB3!$BF69","v":""},{"$f":"asisB3!$BG69","v":""},{"$f":"asisB3!$BH69","v":""},{"$f":"asisB3!$BI69","v":""},{"$f":"asisB3!$BJ69","v":""},{"$f":"asisB3!$BK69","v":0},null,null,null,null,null,null,0,0,0,0,0,0]
[null,null,null,null,null,{"$f":"IF(filEst!F70=\"\",\"\",filEst!F70)","v":""},{"$f":"IF(filEst!G70=\"\",\"\",filEst!G70)","v":""},{"$f":"IF(filEst!L70=\"\",\"\",filEst!L70)","v":""},null,null,{"$f":"IF(filEst!K70=\"\",\"\",filEst!K70)","v":""},null,{"$f":"asisB1!$BF70","v":""},{"$f":"asisB1!$BG70","v":""},{"$f":"asisB1!$BH70","v":""},{"$f":"asisB1!$BI70","v":""},{"$f":"asisB1!$BJ70","v":""},{"$f":"asisB1!$BK70","v":0},{"$f":"asisB2!$BF70","v":""},{"$f":"asisB2!$BG70","v":""},{"$f":"asisB2!$BH70","v":""},{"$f":"asisB2!$BI70","v":""},{"$f":"asisB2!$BJ70","v":""},{"$f":"asisB2!$BK70","v":0},{"$f":"asisB3!$BF70","v":""},{"$f":"asisB3!$BG70","v":""},{"$f":"asisB3!$BH70","v":""},{"$f":"asisB3!$BI70","v":""},{"$f":"asisB3!$BJ70","v":""},{"$f":"asisB3!$BK70","v":0},null,null,null,null,null,null,0,0,0,0,0,0]
[null,null,null,null,null,null,null,null,null,null,null,null,null,null,null,null,null,null,null,null,null,null,null,null,null,null,null,null,null,null,null,null,null,null,null,null,null,null,null,null,null,{"$f":"datpro!H25","v":"RETENIDO"}]
[]
[]
[]
[]
[]
[]
[]
[]
[]
[null,null,null,null,null,null,"select_load",{"$f":"main!$AE$10","v":50}]
[null,null,null,null,null,null,"actual_save",50]
[]
[]
[]
[]
[]
[]
[]
[]
[]
[]
[]
[]
[]
[]
[]
[]
[]
[]
[null,null,null,null,null,null,"alto de fila",10]
[null,null,null,null,null,null,"ancho col nro",1]
[null,null,null,null,null,null,"ancho col est",25]
[null,null,null,null,null,null,"ancho col indicadores",2]
[null,null,null,null,null,null,"ancho col prom ind",2.5]
[null,null,null,null,null,null,"ancho nota prof",3.3]
[null,null,null,null,null,null,"ancho nota bim",2.5]
[null,null,null,null,null,null,"tamaño fuente",8]
[null,null,null,null,null,null,"alto indicador",120]
[null,null,null,null,null,null,"bimestre",4]
[null,null,null,null,null,null,"nroest",17]
[null,null,null,null,null,null,"hiden_cri_eva",1]
[null,null,null,null,null,null,"alto fila crieva",80]
[null,null,null,null,null,null,"alto fila actv",80]
[null,null,null,null,null,null,"paneles",0]
[null,null,null,null,null,null,"sit_bim_comp",1]
[null,null,null,null,null,null,"sit_bim_abrv",0.5]
[null,null,null,null,null,null,"cod_area"]
[null,null,null,null,null,null,"hiden_actividedes",1]
[null,null,null,null,null,null,"minedu",1]
[null,null,null,null,null,null,"distjs",0]

{"sheet":"EEA","index":17,"n_rows":59,"n_cols":15,"rows_kept":59,"cut":false,"hidden":false,"merged":[[2,1,2,7],[45,1,45,7],[1,0,1,10]]}
[]
[{"$f":"CONCATENATE(\"UNIDAD EDUCATIVA \",datpro!$E$7)","v":"UNIDAD EDUCATIVA "},null,null,null,null,null,null,null,null,null,null,null,null,"Ξ"]
[null,"ESTADISTICAS GESTION  2023",null,null,null,null,null,null,null,null,null,null,null,"Cerrar"]
[]
[null,null,{"$f":"CONCATENATE(\"AREA: \",datpro!E14,\"\")","v":"AREA: 0"},null,null,null,null,null,null,null,null,null,null,null,"©  2023"]
[null,null,{"$f":"CONCATENATE(\"Maestro(a): \",datpro!E9)","v":"Maestro(a): "},null,null,null,null,null,null,null,null,null,null,null,"PROYECTO REMDIZ"]
[null,null,{"$f":"CONCATENATE(\" \",datpro!E11,\" (\",datpro!E12,\")\")","v":"  ()"}]
[]
[]
[]
[]
[]
[null,null,"ESTUDIANTES","M","F","TOTAL","%"]
[null,null,"INSCRITOS",{"$f":"CA!H72","v":0},{"$f":"CA!H71","v":0},{"$f":"SUM(D14:E14)","v":0},{"$f":"IF(F14=0,\"\", (F14*100)/F14)","v":""}]
[null,null,"RETIRADOS",{"$f":"CA!I72","v":0},{"$f":"CA!I71","v":0},{"$f":"SUM(D15:E15)","v":0},{"$f":"IF(F14=0,\"\",(F15*100)/F14)","v":""}]
[null,null,"EFECTIVOS",{"$f":"D14-D15","v":0},{"$f":"E14-E15","v":0},{"$f":"F14-F15","v":0},{"$f":"IF(F14=0,\"\",(F16*100)/F14)","v":""}]
[]
[]
[]
[null,null,"ESTUDIANTES","M","F","TOTAL","%"]
[null,null,"EFECTIVOS",{"$f":"D16","v":0},{"$f":"E16","v":0},{"$f":"SUM(D21:E21)","v":0},{"$f":"IF(F21=0,\"\",(F21*100)/F21)","v":""}]
[null,null,"PROMOVIDOS",{"$f":"D21-D23","v":0},{"$f":"E21-E23","v":0},{"$f":"SUM(D22:E22)","v":0},{"$f":"IF(F21=0,\"\",(F22*100)/F21)","v":""}]
[null,null,"RETENIDOS",{"$f":"CA!J72","v":0},{"$f":"CA!J71","v":0},{"$f":"SUM(D23:E23)","v":0},{"$f":"IF(F21=0,\"\",F23*100/F21)","v":""}]
[null,null,"TOTAL",{"$f":"SUM(D22:D23)","v":0},{"$f":"SUM(E22:E23)","v":0},{"$f":"SUM(F22:F23)","v":0},{"$f":"IF(F24=0,\"\",F24*100/F24)","v":""}]
[]
[]
[]
[]
[]
[]
[]
[]
[]
[]
[]
[]
[]
[]
[]
[]
[]
[]
[]
[]
[]
[null,"FIRMA MAESTRO(A)                                                                                                              FIRMA DIRECTOR(A)"]
[]
[]
[]
[]
[]
[]
[]
[]
[]
[]
[]
[]
["Ξ","Cerrar"]

{"sheet":"CB1","index":18,"n_rows":169,"n_cols":66,"rows_kept":169,"cut":false,"hidden":false,"merged":[[1,5,1,39],[32,10,32,11],[56,10,56,11],[69,10,69,11],[58,10,58,11],[59,10,59,11],[60,10,60,11],[61,10,61,11],[62,10,62,11],[63,10,63,11],[64,10,64,11],[65,10,65,11],[66,10,66,11],[67,10,67,11],[68,10,68,11],[57,10,57,11],[54,10,54,11],[55,10,55,11],[46,10,46,11],[47,10,47,11],[48,10,48,11],[49,10,49,11],[50,10,50,11],[53,10,53,11],[73,10,73,11],[74,10,74,11],[70,10,70,11],[71,10,71,11],[72,10,72,11],[38,10,38,11],[39,10,39,11],[40,10,40,11],[51,10,51,11],[52,10,52,11],[41,10,41,11],[42,10,42,11],[27,10,27,11],[28,10,28,11],[29,10,29,11],[30,10,30,11],[31,10,31,11],[18,60,19,60],[20,10,20,11],[21,10,21,11],[45,10,45,11],[34,10,34,11],[35,10,35,11],[36,10,36,11],[37,10,37,11],[43,10,43,11],[44,10,44,11],[33,10,33,11],[22,10,22,11],[23,10,23,11],[24,10,24,11],[25,10,25,11],[26,10,26,11]]}
[]
[null,null,null,null,null,"CENTRALIZADOR  1er.  TRIMESTRE    GESTION 2023",null,null,null,null,null,null,null,null,null,null,null,null,null,null,null,null,null,null,null,null,null,null,null,null,null,null,null,null,null,null,null,null,null,null,null,null,null,null,null,null,null,null,null,null,null,null,null,null,null,null,null,null,null,null,null,"Ξ","Cerrar"]
[null,null,null,null,null,null,{"$f":"datpro!$E$6","v":0},"sie",null,null,"UNIDAD EDUCATIVA ",null,null,null,null,{"$f":"datpro!$E$7","v":0}]
[null,null,null,null,null,null,{"$f":"datpro!$M$14","v":50},"nroEst",null,null,"NIVEL ",null,null,null,null,{"$f":"datpro!$E$10","v":""},null,null,null,null,null,null,null,null,null,null,null,null,null,null,null,null,null,null,null,null,null,null,null,null,null,null,null,null,null,null,null,null,null,null,null,null,null,null,null,null,null,null,null,null,null,8,"Tamaño de fuente (8..16)",null,null,"©  2023"]
[null,null,null,null,null,null,{"$f":"datpro!$C$12","v":"S"},"par",null,null,"AÑO DE ESCOLARIDAD",null,null,null,null,{"$f":"CONCATENATE( datpro!$E$11,\"  -  \",datpro!$E$12)","v":"  -  "},null,null,null,null,null,null,null,null,null,null,null,null,null,null,null,null,null,null,null,null,null,null,null,null,null,null,null,null,null,null,null,null,null,null,null,null,null,null,null,null,null,null,null,null,null,10,"Alto de Fila (10..20)",null,null,"PROYECTO REMDIZ"]
[null,null,null,null,null,null,{"$f":"DAY(TODAY())","v":6},"dia",null,null,"DIRECTORA/OR",null,null,null,null,{"$f":"datpro!$E$8","v":0},null,null,null,null,null,null,null,null,null,null,null,null,null,null,null,null,null,null,null,null,null,null,null,null,null,null,null,null,null,null,null,null,null,null,null,null,null,null,null,null,null,null,null,null,null,2,"Ancho de Columna (1..7) Modos"]
[null,null,null,null,null,null,{"$f":"MONTH(TODAY())","v":3},"mes",null,null,"MAESTRA/O",null,null,null,null,{"$f":"datpro!$E$9","v":0}]
[null,null,null,null,null,null,1,"tri",null,null,null,null,null,null,null,null,null,null,null,null,null,null,null,null,null,null,null,null,null,null,null,null,null,null,null,null,null,null,null,null,null,null,null,null,null,null,null,null,null,null,null,null,null,null,null,null,null,null,null,null,null,0,"Nro. Decimales para el area (ancho)"]
[null,null,null,null,null,null,{"$f":"datpro!$E$15","v":""},"cod",null,null,null,null,null,null,null,null,null,null,null,null,null,null,null,null,null,null,null,null,null,null,null,null,null,null,null,null,null,null,null,null,null,null,null,null,null,null,null,null,null,null,null,null,null,null,null,null,null,null,null,null,null,1,"Nro. Decimales para el Promedio",null,"Estudiantes destacados"]
[null,null,null,null,null,null,{"$f":"datpro!$M$16","v":13},"nroAre"]
[null,null,null,null,null,null,{"$f":"datpro!$C$10","v":"S"},"nivel"]
[null,null,null,null,null,null,"CB1","shet"]
[]
[null,null,null,null,null,null,null,null,null,null,null,null,null,null,null,"CAcyl"]
[null,null,null,null,null,null,"F21:AN70","AN",null,null,null,null,null,null,null,1,null,null,null,null,2,3,4,5,6,7,null,null,8,null,null,null,null,null,null,null,9]
[null,null,null,null,null,null,null,null,null,null,null,null,null,null,null,"ValB1",null,null,null,null,"ValB1","ValB1","ValB1","ValB1","ValB1","ValB1",null,null,"ValB1",null,null,null,null,null,null,null,"ValB1"]
[null,null,null,null,null,null,null,null,null,null,null,null,{"$f":"datpro!$H$41","v":0},{"$f":"datpro!$H$42","v":0},{"$f":"datpro!$H$43","v":0},{"$f":"datpro!$H$44","v":1},{"$f":"datpro!$H$45","v":0},{"$f":"datpro!$H$46","v":0},{"$f":"datpro!$H$47","v":0},{"$f":"datpro!$H$48","v":0},{"$f":"datpro!$H$49","v":1},{"$f":"datpro!$H$50","v":1},{"$f":"datpro!$H$51","v":1},{"$f":"datpro!$H$52","v":1},{"$f":"datpro!$H$53","v":1},{"$f":"datpro!$H$54","v":1},{"$f":"datpro!$H$55","v":0},{"$f":"datpro!$H$56","v":0},{"$f":"datpro!$H$57","v":1},{"$f":"datpro!$H$58","v":0},{"$f":"datpro!$H$59","v":0},{"$f":"datpro!$H$60","v":0},{"$f":"datpro!$H$61","v":0},{"$f":"datpro!$H$62","v":0},{"$f":"datpro!$H$63","v":0},{"$f":"datpro!$H$64","v":0},{"$f":"datpro!$H$65","v":1}]
[null,null,null,null,null,null,null,null,null,null,null,null,{"$f":"datpro!$E41","v":"LENGUA CASTELLANA"},{"$f":"datpro!$E42","v":"LENGUA ORIGINARIA"},{"$f":"datpro!$E43","v":"LENGUA EXTRANGERA primaria"},{"$f":"datpro!$E44","v":"COMUNICACIÓN Y LENGUAJES "},{"$f":"datpro!$E45","v":"LENGUA EXTRANJERA"},{"$f":"datpro!$E46","v":"HISTORIA"},{"$f":"datpro!$E47","v":"CIVICA"},{"$f":"datpro!$E48","v":"GEOGRAFIA"},{"$f":"datpro!$E49","v":"CIENCIAS SOCIALES"},{"$f":"datpro!$E50","v":"EDUCACION FISICA Y DEPORTES"},{"$f":"datpro!$E51","v":"EDUCACION MUSICAL"},{"$f":"datpro!$E52","v":"ARTES PLASTICAS Y VISUALES"},{"$f":"datpro!$E53","v":"MATEMATICAS"},{"$f":"datpro!$E54","v":"TECNICA TECNOLOGIA"},{"$f":"datpro!$E55","v":0},{"$f":"datpro!$E56","v":0},{"$f":"datpro!$E57","v":"CIENCIAS NATURALES"},{"$f":"datpro!$E58","v":0},{"$f":"datpro!$E59","v":"FISICA"},{"$f":"datpro!$E60","v":"QUIMICA"},{"$f":"datpro!$E61","v":0},{"$f":"datpro!$E62","v":0},{"$f":"datpro!$E63","v":0},{"$f":"datpro!$E64","v":"COSMOVISIONES, FILOSOFIA O PSICOLOGIA"},{"$f":"datpro!$E65","v":"VALORES, ESPIRITUALIDAD Y RELIGIONES"},{"$f":"datpro!$E66","v":"PROMEDIO"},"REPROBADAS"]
[null,null,null,null,null,null,"COD",null,null,null,null,null,{"$f":"datpro!$D41","v":"LCA"},{"$f":"datpro!$D42","v":"LOR"},{"$f":"datpro!$D43","v":"LEXP"},{"$f":"datpro!$D44","v":"CYL"},{"$f":"datpro!$D45","v":"LEX"},{"$f":"datpro!$D46","v":"HIS"},{"$f":"datpro!$D47","v":"CIV"},{"$f":"datpro!$D48","v":"GEO"},{"$f":"datpro!$D49","v":"CSO"},{"$f":"datpro!$D50","v":"EFD"},{"$f":"datpro!$D51","v":"EMU"},{"$f":"datpro!$D52","v":"APV"},{"$f":"datpro!$D53","v":"MAT"},{"$f":"datpro!$D54","v":"TEC"},{"$f":"datpro!$D55","v":"BIO"},{"$f":"datpro!$D56","v":"GEO"},{"$f":"datpro!$D57","v":"CNA"},{"$f":"datpro!$D58","v":"CNFQ"},{"$f":"datpro!$D59","v":"FIS"},{"$f":"datpro!$D60","v":"QMC"},{"$f":"datpro!$D61","v":"CN.FQ"},{"$f":"datpro!$D62","v":"FIL"},{"$f":"datpro!$D63","v":"PSI"},{"$f":"datpro!$D64","v":"CFP"},{"$f":"datpro!$D65","v":"VER"},{"$f":"datpro!$D66","v":"PROM."},"REPROBADAS",null,null,"SUMAS",{"$f":"datpro!$D44","v":"CYL"},{"$f":"datpro!$D45","v":"LEX"},{"$f":"datpro!$D49","v":"CSO"},{"$f":"datpro!$D50","v":"EFD"},{"$f":"datpro!$D51","v":"EMU"},{"$f":"datpro!$D52","v":"APV"},{"$f":"datpro!$D53","v":"MAT"},{"$f":"datpro!$D54","v":"TEC"},{"$f":"datpro!$D57","v":"CNA"},{"$f":"datpro!$D59","v":"FIS"},{"$f":"datpro!$D60","v":"QMC"},{"$f":"datpro!$D61","v":"CN.FQ"},{"$f":"datpro!$D64","v":"CFP"},{"$f":"datpro!$D65","v":"VER"},{"$f":"datpro!$D66","v":"PROM."}]
[null,null,null,null,null,"Nº","B1","gen ","v1","v2","APELLIDOS Y NOMBRES","=","\u0082","\u0082","\u0082","\u0082","\u0082","\u0082","\u0082","\u0082","\u0082","\u0082","\u0082","\u0082","\u0082","\u0082","\u0082","\u0082","\u0082","\u0082","\u0082","\u0082","\u0082","\u0082","\u0082","\u0082","\u0082",{"$f":"datpro!$M$16","v":13},"=","OBSERVACIONES",null,null,null,null,null,null,null,null,null,null,null,null,null,"PROM",null,null,null,null,null,null,null,null,"INFORME TUTOR"]
[null,null,null,null,null,{"$f":"IF(filEst!F21=\"\",\"\",filEst!F21)","v":""},{"$f":"IF(filEst!G21=\"\",\"\",filEst!G21)","v":""},{"$f":"IF(filEst!L21=\"\",\"\",filEst!L21)","v":""},null,null,{"$f":"IF(filEst!K21=\"\",\"\",filEst!K21)","v":""},null,null,null,null,null,null,null,null,null,null,null,null,null,null,null,null,null,null,null,null,null,null,null,null,null,null,{"$f":"IF(P21=\"\",\"\",ROUND((AP21/$G$10),$BJ$9))","v":""},{"$f":"IF(P21=\"\",\"\",COUNTIF(M21:AK21,\"<50,50\"))","v":""},null,null,{"$f":"SUM(AQ21:BD21)","v":0},{"$f":"IF(P21=\"\",\"\",P21)","v":""},{"$f":"IF(Q21=\"\",\"\",Q21)","v":""},{"$f":"IF(U21=\"\",\"\",U21)","v":""},"","","","","",{"$f":"IF(AC21=\"\",\"\",AC21)","v":""},{"$f":"IF(AE21=\"\",\"\",AE21)","v":""},{"$f":"IF(AF21=\"\",\"\",AF21)","v":""},null,{"$f":"IF(AJ21=\"\",\"\",AJ21)","v":""},{"$f":"IF(AK21=\"\",\"\",AK21)","v":""},{"$f":"IF(AL21=\"\",\"\",AL21)","v":""},{"$f":"AM21","v":""}]
[null,null,null,null,null,{"$f":"IF(filEst!F22=\"\",\"\",filEst!F22)","v":""},{"$f":"IF(filEst!G22=\"\",\"\",filEst!G22)","v":""},{"$f":"IF(filEst!L22=\"\",\"\",filEst!L22)","v":""},null,null,{"$f":"IF(filEst!K22=\"\",\"\",filEst!K22)","v":""},null,null,null,null,null,null,null,null,null,null,null,null,null,null,null,null,null,null,null,null,null,null,null,null,null,null,{"$f":"IF(P22=\"\",\"\",ROUND((AP22/$G$10),$BJ$9))","v":""},{"$f":"IF(P22=\"\",\"\",COUNTIF(M22:AK22,\"<50,50\"))","v":""},null,null,{"$f":"SUM(AQ22:BD22)","v":0},{"$f":"IF(P22=\"\",\"\",P22)","v":""},{"$f":"IF(Q22=\"\",\"\",Q22)","v":""},{"$f":"IF(U22=\"\",\"\",U22)","v":""},"","","","","",{"$f":"IF(AC22=\"\",\"\",AC22)","v":""},{"$f":"IF(AE22=\"\",\"\",AE22)","v":""},"",null,{"$f":"IF(AJ22=\"\",\"\",AJ22)","v":""},"",{"$f":"IF(AL22=\"\",\"\",AL22)","v":""},{"$f":"AM22","v":""}]
[null,null,null,null,null,{"$f":"IF(filEst!F23=\"\",\"\",filEst!F23)","v":""},{"$f":"IF(filEst!G23=\"\",\"\",filEst!G23)","v":""},{"$f":"IF(filEst!L23=\"\",\"\",filEst!L23)","v":""},null,null,{"$f":"IF(filEst!K23=\"\",\"\",filEst!K23)","v":""},null,null,null,null,null,null,null,null,null,null,null,null,null,null,null,null,null,null,null,null,null,null,null,null,null,null,{"$f":"IF(P23=\"\",\"\",ROUND((AP23/$G$10),$BJ$9))","v":""},"",null,null,0,"","","","","","","","","","","",null,"","","",""]
[null,null,null,null,null,{"$f":"IF(filEst!F24=\"\",\"\",filEst!F24)","v":""},{"$f":"IF(filEst!G24=\"\",\"\",filEst!G24)","v":""},{"$f":"IF(filEst!L24=\"\",\"\",filEst!L24)","v":""},null,null,{"$f":"IF(filEst!K24=\"\",\"\",filEst!K24)","v":""},null,null,null,null,null,null,null,null,null,null,null,null,null,null,null,null,null,null,null,null,null,null,null,null,null,null,"","",null,null,0,"","","","","","","","","","","",null,"","","",""]
[null,null,null,null,null,{"$f":"IF(filEst!F25=\"\",\"\",filEst!F25)","v":""},{"$f":"IF(filEst!G25=\"\",\"\",filEst!G25)","v":""},{"$f":"IF(filEst!L25=\"\",\"\",filEst!L25)","v":""},null,null,{"$f":"IF(filEst!K25=\"\",\"\",filEst!K25)","v":""},null,null,null,null,null,null,null,null,null,null,null,null,null,null,null,null,null,null,null,null,null,null,null,null,null,null,"","",null,null,0,"","","","","","","","","","","",null,"","","",""]
[null,null,null,null,null,{"$f":"IF(filEst!F26=\"\",\"\",filEst!F26)","v":""},{"$f":"IF(filEst!G26=\"\",\"\",filEst!G26)","v":""},{"$f":"IF(filEst!L26=\"\",\"\",filEst!L26)","v":""},null,null,{"$f":"IF(filEst!K26=\"\",\"\",filEst!K26)","v":""},null,null,null,null,null,null,null,null,null,null,null,null,null,null,null,null,null,null,null,null,null,null,null,null,null,null,"","",null,null,0,"","","","","","","","","","","",null,"","","",""]
[null,null,null,null,null,{"$f":"IF(filEst!F27=\"\",\"\",filEst!F27)","v":""},{"$f":"IF(filEst!G27=\"\",\"\",filEst!G27)","v":""},{"$f":"IF(filEst!L27=\"\",\"\",filEst!L27)","v":""},null,null,{"$f":"IF(filEst!K27=\"\",\"\",filEst!K27)","v":""},null,null,null,null,null,null,null,null,null,null,null,null,null,null,null,null,null,null,null,null,null,null,null,null,null,null,"",{"$f":"IF(P27=\"\",\"\",COUNTIF(M27:AK27,\"<50,50\"))","v":""},null,null,0,"","","","","","","","","","","",null,"","","",""]
[null,null,null,null,null,{"$f":"IF(filEst!F28=\"\",\"\",filEst!F28)","v":""},{"$f":"IF(filEst!G28=\"\",\"\",filEst!G28)","v":""},{"$f":"IF(filEst!L28=\"\",\"\",filEst!L28)","v":""},null,null,{"$f":"IF(filEst!K28=\"\",\"\",filEst!K28)","v":""},null,null,null,null,null,null,null,null,null,null,null,null,null,null,null,null,null,null,null,null,null,null,null,null,null,null,"","",null,null,0,"","","","","","","","","","","",null,"","","",""]
[null,null,null,null,null,{"$f":"IF(filEst!F29=\"\",\"\",filEst!F29)","v":""},{"$f":"IF(filEst!G29=\"\",\"\",filEst!G29)","v":""},{"$f":"IF(filEst!L29=\"\",\"\",filEst!L29)","v":""},null,null,{"$f":"IF(filEst!K29=\"\",\"\",filEst!K29)","v":""},null,null,null,null,null,null,null,null,null,null,null,null,null,null,null,null,null,null,null,null,null,null,null,null,null,null,"","",null,null,0,"","","","","","","","","","","",null,"","","",""]
[null,null,null,null,null,{"$f":"IF(filEst!F30=\"\",\"\",filEst!F30)","v":""},{"$f":"IF(filEst!G30=\"\",\"\",filEst!G30)","v":""},{"$f":"IF(filEst!L30=\"\",\"\",filEst!L30)","v":""},null,null,{"$f":"IF(filEst!K30=\"\",\"\",filEst!K30)","v":""},null,null,null,null,null,null,null,null,null,null,null,null,null,null,null,null,null,null,null,null,null,null,null,null,null,null,"","",null,null,0,"","","","","","","","","","","",null,"","","",""]
[null,null,null,null,null,{"$f":"IF(filEst!F31=\"\",\"\",filEst!F31)","v":""},{"$f":"IF(filEst!G31=\"\",\"\",filEst!G31)","v":""},{"$f":"IF(filEst!L31=\"\",\"\",filEst!L31)","v":""},null,null,{"$f":"IF(filEst!K31=\"\",\"\",filEst!K31)","v":""},null,null,null,null,null,null,null,null,null,null,null,null,null,null,null,null,null,null,null,null,null,null,null,null,null,null,"","",null,null,0,"","","","","","","","","","","",null,"","","",""]
[null,null,null,null,null,{"$f":"IF(filEst!F32=\"\",\"\",filEst!F32)","v":""},{"$f":"IF(filEst!G32=\"\",\"\",filEst!G32)","v":""},{"$f":"IF(filEst!L32=\"\",\"\",filEst!L32)","v":""},null,null,{"$f":"IF(filEst!K32=\"\",\"\",filEst!K32)","v":""},null,null,null,null,null,null,null,null,null,null,null,null,null,null,null,null,null,null,null,null,null,null,null,null,null,null,"","",null,null,0,"","","","","","","",{"$f":"IF(Z32=\"\",\"\",Z32)","v":""},"","","",null,"","","",""]
[null,null,null,null,null,{"$f":"IF(filEst!F33=\"\",\"\",filEst!F33)","v":""},{"$f":"IF(filEst!G33=\"\",\"\",filEst!G33)","v":""},{"$f":"IF(filEst!L33=\"\",\"\",filEst!L33)","v":""},null,null,{"$f":"IF(filEst!K33=\"\",\"\",filEst!K33)","v":""},null,null,null,null,null,null,null,null,null,null,null,null,null,null,null,null,null,null,null,null,null,null,null,null,null,null,"","",null,null,0,"","","","","","","","","","","",null,"","","",""]
[null,null,null,null,null,{"$f":"IF(filEst!F34=\"\",\"\",filEst!F34)","v":""},{"$f":"IF(filEst!G34=\"\",\"\",filEst!G34)","v":""},{"$f":"IF(filEst!L34=\"\",\"\",filEst!L34)","v":""},null,null,{"$f":"IF(filEst!K34=\"\",\"\",filEst!K34)","v":""},null,null,null,null,null,null,null,null,null,null,null,null,null,null,null,null,null,null,null,null,null,null,null,null,null,null,{"$f":"IF(P34=\"\",\"\",ROUND((AP34/$G$10),$BJ$9))","v":""},"",null,null,0,"","","","","","","","","","","",null,"","","",""]
[null,null,null,null,null,{"$f":"IF(filEst!F35=\"\",\"\",filEst!F35)","v":""},{"$f":"IF(filEst!G35=\"\",\"\",filEst!G35)","v":""},{"$f":"IF(filEst!L35=\"\",\"\",filEst!L35)","v":""},null,null,{"$f":"IF(filEst!K35=\"\",\"\",filEst!K35)","v":""},null,null,null,null,null,null,null,null,null,null,null,null,null,null,null,null,null,null,null,null,null,null,null,null,null,null,"","",null,null,0,"","","","","","","","","","","",null,"","","",""]
[null,null,null,null,null,{"$f":"IF(filEst!F36=\"\",\"\",filEst!F36)","v":""},{"$f":"IF(filEst!G36=\"\",\"\",filEst!G36)","v":""},{"$f":"IF(filEst!L36=\"\",\"\",filEst!L36)","v":""},null,null,{"$f":"IF(filEst!K36=\"\",\"\",filEst!K36)","v":""},null,null,null,null,null,null,null,null,null,null,null,null,null,null,null,null,null,null,null,null,null,null,null,null,null,null,"","",null,null,0,"","","","","","","","","","","",null,"","","",""]
[null,null,null,null,null,{"$f":"IF(filEst!F37=\"\",\"\",filEst!F37)","v":""},{"$f":"IF(filEst!G37=\"\",\"\",filEst!G37)","v":""},{"$f":"IF(filEst!L37=\"\",\"\",filEst!L37)","v":""},null,null,{"$f":"IF(filEst!K37=\"\",\"\",filEst!K37)","v":""},null,null,null,null,null,null,null,null,null,null,null,null,null,null,null,null,null,null,null,null,null,null,null,null,null,null,"","",null,null,0,"","","","","","","","","","","",null,"","","",""]
[null,null,null,null,null,{"$f":"IF(filEst!F38=\"\",\"\",filEst!F38)","v":""},{"$f":"IF(filEst!G38=\"\",\"\",filEst!G38)","v":""},{"$f":"IF(filEst!L38=\"\",\"\",filEst!L38)","v":""},null,null,{"$f":"IF(filEst!K38=\"\",\"\",filEst!K38)","v":""},null,null,null,null,null,null,null,null,null,null,null,null,null,null,null,null,null,null,null,null,null,null,null,null,null,null,"","",null,null,0,"","","","","","","","","","","",null,"","","",""]
[null,null,null,null,null,{"$f":"IF(filEst!F39=\"\",\"\",filEst!F39)","v":""},{"$f":"IF(filEst!G39=\"\",\"\",filEst!G39)","v":""},{"$f":"IF(filEst!L39=\"\",\"\",filEst!L39)","v":""},null,null,{"$f":"IF(filEst!K39=\"\",\"\",filEst!K39)","v":""},null,null,null,null,null,null,null,null,null,null,null,null,null,null,null,null,null,null,null,null,null,null,null,null,null,null,"","",null,null,0,"","","","","","","","","","","",null,"","","",""]
[null,null,null,null,null,{"$f":"IF(filEst!F40=\"\",\"\",filEst!F40)","v":""},{"$f":"IF(filEst!G40=\"\",\"\",filEst!G40)","v":""},{"$f":"IF(filEst!L40=\"\",\"\",filEst!L40)","v":""},null,null,{"$f":"IF(filEst!K40=\"\",\"\",filEst!K40)","v":""},null,null,null,null,null,null,null,null,null,null,null,null,null,null,null,null,null,null,null,null,null,null,null,null,null,null,"","",null,null,0,"","","","","","","","","","","",null,"","","",""]
[null,null,null,null,null,{"$f":"IF(filEst!F41=\"\",\"\",filEst!F41)","v":""},{"$f":"IF(filEst!G41=\"\",\"\",filEst!G41)","v":""},{"$f":"IF(filEst!L41=\"\",\"\",filEst!L41)","v":""},null,null,{"$f":"IF(filEst!K41=\"\",\"\",filEst!K41)","v":""},null,null,null,null,null,null,null,null,null,null,null,null,null,null,null,null,null,null,null,null,null,null,null,null,null,null,"","",null,null,0,"","","","","","","","","","","",null,"","","",""]
[null,null,null,null,null,{"$f":"IF(filEst!F42=\"\",\"\",filEst!F42)","v":""},{"$f":"IF(filEst!G42=\"\",\"\",filEst!G42)","v":""},{"$f":"IF(filEst!L42=\"\",\"\",filEst!L42)","v":""},null,null,{"$f":"IF(filEst!K42=\"\",\"\",filEst!K42)","v":""},null,null,null,null,null,null,null,null,null,null,null,null,null,null,null,null,null,null,null,null,null,null,null,null,null,null,"","",null,null,0,"","","","","","","","","","","",null,"","","",""]
[null,null,null,null,null,{"$f":"IF(filEst!F43=\"\",\"\",filEst!F43)","v":""},{"$f":"IF(filEst!G43=\"\",\"\",filEst!G43)","v":""},{"$f":"IF(filEst!L43=\"\",\"\",filEst!L43)","v":""},null,null,{"$f":"IF(filEst!K43=\"\",\"\",filEst!K43)","v":""},null,null,null,null,null,null,null,null,null,null,null,null,null,null,null,null,null,null,null,null,null,null,null,null,null,null,"","",null,null,0,"","","","","","","","","","","",null,"","","",""]
[null,null,null,null,null,{"$f":"IF(filEst!F44=\"\",\"\",filEst!F44)","v":""},{"$f":"IF(filEst!G44=\"\",\"\",filEst!G44)","v":""},{"$f":"IF(filEst!L44=\"\",\"\",filEst!L44)","v":""},null,null,{"$f":"IF(filEst!K44=\"\",\"\",filEst!K44)","v":""},null,null,null,null,null,null,null,null,null,null,null,null,null,null,null,null,null,null,null,null,null,null,null,null,null,null,"","",null,null,0,"","","","","","","","","","","",null,"","","",""]
[null,null,null,null,null,{"$f":"IF(filEst!F45=\"\",\"\",filEst!F45)","v":""},{"$f":"IF(filEst!G45=\"\",\"\",filEst!G45)","v":""},{"$f":"IF(filEst!L45=\"\",\"\",filEst!L45)","v":""},null,null,{"$f":"IF(filEst!K45=\"\",\"\",filEst!K45)","v":""},null,null,null,null,null,null,null,null,null,null,null,null,null,null,null,null,null,null,null,null,null,null,null,null,null,null,"","",null,null,0,"","","","","","","","","","","",null,"","","",""]
[null,null,null,null,null,{"$f":"IF(filEst!F46=\"\",\"\",filEst!F46)","v":""},{"$f":"IF(filEst!G46=\"\",\"\",filEst!G46)","v":""},{"$f":"IF(filEst!L46=\"\",\"\",filEst!L46)","v":""},null,null,{"$f":"IF(filEst!K46=\"\",\"\",filEst!K46)","v":""},null,null,null,null,null,null,null,null,null,null,null,null,null,null,null,null,null,null,null,null,null,null,null,null,null,null,"","",null,null,0,"","","","","","","","","","","",null,"","","",""]
[null,null,null,null,null,{"$f":"IF(filEst!F47=\"\",\"\",filEst!F47)","v":""},{"$f":"IF(filEst!G47=\"\",\"\",filEst!G47)","v":""},{"$f":"IF(filEst!L47=\"\",\"\",filEst!L47)","v":""},null,null,{"$f":"IF(filEst!K47=\"\",\"\",filEst!K47)","v":""},null,null,null,null,null,null,null,null,null,null,null,null,null,null,null,null,null,null,null,null,null,null,null,null,null,null,"","",null,null,0,"","","","","","","","","","","",null,"","","",""]
[null,null,null,null,null,{"$f":"IF(filEst!F48=\"\",\"\",filEst!F48)","v":""},{"$f":"IF(filEst!G48=\"\",\"\",filEst!G48)","v":""},{"$f":"IF(filEst!L48=\"\",\"\",filEst!L48)","v":""},null,null,{"$f":"IF(filEst!K48=\"\",\"\",filEst!K48)","v":""},null,null,null,null,null,null,null,null,null,null,null,null,null,null,null,null,null,null,null,null,null,null,null,null,null,null,"","",null,null,0,"","","","","","","","","","","",null,"","","",""]
[null,null,null,null,null,{"$f":"IF(filEst!F49=\"\",\"\",filEst!F49)","v":""},{"$f":"IF(filEst!G49=\"\",\"\",filEst!G49)","v":""},{"$f":"IF(filEst!L49=\"\",\"\",filEst!L49)","v":""},null,null,{"$f":"IF(filEst!K49=\"\",\"\",filEst!K49)","v":""},null,null,null,null,null,null,null,null,null,null,null,null,null,null,null,null,null,null,null,null,null,null,null,null,null,null,"","",null,null,0,"","","","","","","","","","","",null,"","","",""]
[null,null,null,null,null,{"$f":"IF(filEst!F50=\"\",\"\",filEst!F50)","v":""},{"$f":"IF(filEst!G50=\"\",\"\",filEst!G50)","v":""},{"$f":"IF(filEst!L50=\"\",\"\",filEst!L50)","v":""},null,null,{"$f":"IF(filEst!K50=\"\",\"\",filEst!K50)","v":""},null,null,null,null,null,null,null,null,null,null,null,null,null,null,null,null,null,null,null,null,null,null,null,null,null,null,"","",null,null,0,"","","","","","","","","","","",null,"","","",""]
[null,null,null,null,null,{"$f":"IF(filEst!F51=\"\",\"\",filEst!F51)","v":""},{"$f":"IF(filEst!G51=\"\",\"\",filEst!G51)","v":""},{"$f":"IF(filEst!L51=\"\",\"\",filEst!L51)","v":""},null,null,{"$f":"IF(filEst!K51=\"\",\"\",filEst!K51)","v":""},null,null,null,null,null,null,null,null,null,null,null,null,null,null,null,null,null,null,null,null,null,null,null,null,null,null,"","",null,null,0,"","","","","","","","","","","",null,"","","",""]
[null,null,null,null,null,{"$f":"IF(filEst!F52=\"\",\"\",filEst!F52)","v":""},{"$f":"IF(filEst!G52=\"\",\"\",filEst!G52)","v":""},{"$f":"IF(filEst!L52=\"\",\"\",filEst!L52)","v":""},null,null,{"$f":"IF(filEst!K52=\"\",\"\",filEst!K52)","v":""},null,null,null,null,null,null,null,null,null,null,null,null,null,null,null,null,null,null,null,null,null,null,null,null,null,null,"","",null,null,0,"","","","","","","","","","","",null,"","","",""]
[null,null,null,null,null,{"$f":"IF(filEst!F53=\"\",\"\",filEst!F53)","v":""},{"$f":"IF(filEst!G53=\"\",\"\",filEst!G53)","v":""},{"$f":"IF(filEst!L53=\"\",\"\",filEst!L53)","v":""},null,null,{"$f":"IF(filEst!K53=\"\",\"\",filEst!K53)","v":""},null,null,null,null,null,null,null,null,null,null,null,null,null,null,null,null,null,null,null,null,null,null,null,null,null,null,"","",null,null,0,"","","","","","","","","","","",null,"","","",""]
[null,null,null,null,null,{"$f":"IF(filEst!F54=\"\",\"\",filEst!F54)","v":""},{"$f":"IF(filEst!G54=\"\",\"\",filEst!G54)","v":""},{"$f":"IF(filEst!L54=\"\",\"\",filEst!L54)","v":""},null,null,{"$f":"IF(filEst!K54=\"\",\"\",filEst!K54)","v":""},null,null,null,null,null,null,null,null,null,null,null,null,null,null,null,null,null,null,null,null,null,null,null,null,null,null,"","",null,null,0,"","","","","","","","","","","",null,"","","",""]
[null,null,null,null,null,{"$f":"IF(filEst!F55=\"\",\"\",filEst!F55)","v":""},{"$f":"IF(filEst!G55=\"\",\"\",filEst!G55)","v":""},{"$f":"IF(filEst!L55=\"\",\"\",filEst!L55)","v":""},null,null,{"$f":"IF(filEst!K55=\"\",\"\",filEst!K55)","v":""},null,null,null,null,null,null,null,null,null,null,null,null,null,null,null,null,null,null,null,null,null,null,null,null,null,null,"","",null,null,0,"","","","","","","","","","","",null,"","","",""]
[null,null,null,null,null,{"$f":"IF(filEst!F56=\"\",\"\",filEst!F56)","v":""},{"$f":"IF(filEst!G56=\"\",\"\",filEst!G56)","v":""},{"$f":"IF(filEst!L56=\"\",\"\",filEst!L56)","v":""},null,null,{"$f":"IF(filEst!K56=\"\",\"\",filEst!K56)","v":""},null,null,null,null,null,null,null,null,null,null,null,null,null,null,null,null,null,null,null,null,null,null,null,null,null,null,"","",null,null,0,"","","","","","","","","","","",null,"","","",""]
[null,null,null,null,null,{"$f":"IF(filEst!F57=\"\",\"\",filEst!F57)","v":""},{"$f":"IF(filEst!G57=\"\",\"\",filEst!G57)","v":""},{"$f":"IF(filEst!L57=\"\",\"\",filEst!L57)","v":""},null,null,{"$f":"IF(filEst!K57=\"\",\"\",filEst!K57)","v":""},null,null,null,null,null,null,null,null,null,null,null,null,null,null,null,null,null,null,null,null,null,null,null,null,null,null,"","",null,null,0,"","","","","","","","","","","",null,"","","",""]
[null,null,null,null,null,{"$f":"IF(filEst!F58=\"\",\"\",filEst!F58)","v":""},{"$f":"IF(filEst!G58=\"\",\"\",filEst!G58)","v":""},{"$f":"IF(filEst!L58=\"\",\"\",filEst!L58)","v":""},null,null,{"$f":"IF(filEst!K58=\"\",\"\",filEst!K58)","v":""},null,null,null,null,null,null,null,null,null,null,null,null,null,null,null,null,null,null,null,null,null,null,null,null,null,null,"","",null,null,0,"","","","","","","","","","","",null,"","","",""]
[null,null,null,null,null,{"$f":"IF(filEst!F59=\"\",\"\",filEst!F59)","v":""},{"$f":"IF(filEst!G59=\"\",\"\",filEst!G59)","v":""},{"$f":"IF(filEst!L59=\"\",\"\",filEst!L59)","v":""},null,null,{"$f":"IF(filEst!K59=\"\",\"\",filEst!K59)","v":""},null,null,null,null,null,null,null,null,null,null,null,null,null,null,null,null,null,null,null,null,null,null,null,null,null,null,"","",null,null,0,"","","","","","","","","","","",null,"","","",""]
[null,null,null,null,null,{"$f":"IF(filEst!F60=\"\",\"\",filEst!F60)","v":""},{"$f":"IF(filEst!G60=\"\",\"\",filEst!G60)","v":""},{"$f":"IF(filEst!L60=\"\",\"\",filEst!L60)","v":""},null,null,{"$f":"IF(filEst!K60=\"\",\"\",filEst!K60)","v":""},null,null,null,null,null,null,null,null,null,null,null,null,null,null,null,null,null,null,null,null,null,null,null,null,null,null,"","",null,null,0,"","","","","","","","","","","",null,"","","",""]
[null,null,null,null,null,{"$f":"IF(filEst!F61=\"\",\"\",filEst!F61)","v":""},{"$f":"IF(filEst!G61=\"\",\"\",filEst!G61)","v":""},{"$f":"IF(filEst!L61=\"\",\"\",filEst!L61)","v":""},null,null,{"$f":"IF(filEst!K61=\"\",\"\",filEst!K61)","v":""},null,null,null,null,null,null,null,null,null,null,null,null,null,null,null,null,null,null,null,null,null,null,null,null,null,null,"","",null,null,0,"","","","","","","","","","","",null,"","","",""]
[null,null,null,null,null,{"$f":"IF(filEst!F62=\"\",\"\",filEst!F62)","v":""},{"$f":"IF(filEst!G62=\"\",\"\",filEst!G62)","v":""},{"$f":"IF(filEst!L62=\"\",\"\",filEst!L62)","v":""},null,null,{"$f":"IF(filEst!K62=\"\",\"\",filEst!K62)","v":""},null,null,null,null,null,null,null,null,null,null,null,null,null,null,null,null,null,null,null,null,null,null,null,null,null,null,"","",null,null,0,"","","","","","","","","","","",null,"","","",""]
[null,null,null,null,null,{"$f":"IF(filEst!F63=\"\",\"\",filEst!F63)","v":""},{"$f":"IF(filEst!G63=\"\",\"\",filEst!G63)","v":""},{"$f":"IF(filEst!L63=\"\",\"\",filEst!L63)","v":""},null,null,{"$f":"IF(filEst!K63=\"\",\"\",filEst!K63)","v":""},null,null,null,null,null,null,null,null,null,null,null,null,null,null,null,null,null,null,null,null,null,null,null,null,null,null,"","",null,null,0,"","","","","","","","","","","",null,"","","",""]
[null,null,null,null,null,{"$f":"IF(filEst!F64=\"\",\"\",filEst!F64)","v":""},{"$f":"IF(filEst!G64=\"\",\"\",filEst!G64)","v":""},{"$f":"IF(filEst!L64=\"\",\"\",filEst!L64)","v":""},null,null,{"$f":"IF(filEst!K64=\"\",\"\",filEst!K64)","v":""},null,null,null,null,null,null,null,null,null,null,null,null,null,null,null,null,null,null,null,null,null,null,null,null,null,null,"","",null,null,0,"","","","","","","","","","","",null,"","","",""]
[null,null,null,null,null,{"$f":"IF(filEst!F65=\"\",\"\",filEst!F65)","v":""},{"$f":"IF(filEst!G65=\"\",\"\",filEst!G65)","v":""},{"$f":"IF(filEst!L65=\"\",\"\",filEst!L65)","v":""},null,null,{"$f":"IF(filEst!K65=\"\",\"\",filEst!K65)","v":""},null,null,null,null,null,null,null,null,null,null,null,null,null,null,null,null,null,null,null,null,null,null,null,null,null,null,"","",null,null,0,"","","","","","","","","","","",null,"","","",""]
[null,null,null,null,null,{"$f":"IF(filEst!F66=\"\",\"\",filEst!F66)","v":""},{"$f":"IF(filEst!G66=\"\",\"\",filEst!G66)","v":""},{"$f":"IF(filEst!L66=\"\",\"\",filEst!L66)","v":""},null,null,{"$f":"IF(filEst!K66=\"\",\"\",filEst!K66)","v":""},null,null,null,null,null,null,null,null,null,null,null,null,null,null,null,null,null,null,null,null,null,null,null,null,null,null,"","",null,null,0,"","","","","","","","","","","",null,"","","",""]
[null,null,null,null,null,{"$f":"IF(filEst!F67=\"\",\"\",filEst!F67)","v":""},{"$f":"IF(filEst!G67=\"\",\"\",filEst!G67)","v":""},{"$f":"IF(filEst!L67=\"\",\"\",filEst!L67)","v":""},null,null,{"$f":"IF(filEst!K67=\"\",\"\",filEst!K67)","v":""},null,null,null,null,null,null,null,null,null,null,null,null,null,null,null,null,null,null,null,null,null,null,null,null,null,null,"","",null,null,0,"","","","","","","","","","","",null,"","","",""]
[null,null,null,null,null,{"$f":"IF(filEst!F68=\"\",\"\",filEst!F68)","v":""},{"$f":"IF(filEst!G68=\"\",\"\",filEst!G68)","v":""},{"$f":"IF(filEst!L68=\"\",\"\",filEst!L68)","v":""},null,null,{"$f":"IF(filEst!K68=\"\",\"\",filEst!K68)","v":""},null,null,null,null,null,null,null,null,null,null,null,null,null,null,null,null,null,null,null,null,null,null,null,null,null,null,"","",null,null,0,"","","","","","","","","","","",null,"","","",""]
[null,null,null,null,null,{"$f":"IF(filEst!F69=\"\",\"\",filEst!F69)","v":""},{"$f":"IF(filEst!G69=\"\",\"\",filEst!G69)","v":""},{"$f":"IF(filEst!L69=\"\",\"\",filEst!L69)","v":""},null,null,{"$f":"IF(filEst!K69=\"\",\"\",filEst!K69)","v":""},null,null,null,null,null,null,null,null,null,null,null,null,null,null,null,null,null,null,null,null,null,null,null,null,null,null,"","",null,null,0,"","","","","","","","","","","",null,"","","",""]
[null,null,null,null,null,{"$f":"IF(filEst!F70=\"\",\"\",filEst!F70)","v":""},{"$f":"IF(filEst!G70=\"\",\"\",filEst!G70)","v":""},{"$f":"IF(filEst!L70=\"\",\"\",filEst!L70)","v":""},null,null,{"$f":"IF(filEst!K70=\"\",\"\",filEst!K70)","v":""},null,null,null,null,null,null,null,null,null,null,null,null,null,null,null,null,null,null,null,null,null,null,null,null,null,null,"","",null,null,0,"","","","","","","","","","","",null,"","","",""]
[null,null,null,null,null,null,"Tinscritos",{"$f":"COUNTIF($K21:$K70,\"\")","v":50},{"$f":"$H$73-H71","v":0},{"$f":"I71-I72","v":0},"PROMEDIO DE APROVECHAMIENTO  ",null,{"$f":"IF($J$71=\"\",\"\",IF($J$71=0,\"\",ROUND(((SUM(M21:M70))/$J$71),0)))","v":""},{"$f":"IF($J$71=\"\",\"\",IF($J$71=0,\"\",ROUND(((SUM(N21:N70))/$J$71),0)))","v":""},{"$f":"IF($J$71=\"\",\"\",IF($J$71=0,\"\",ROUND(((SUM(O21:O70))/$J$71),0)))","v":""},{"$f":"IF($J$71=\"\",\"\",IF($J$71=0,\"\",ROUND(((SUM(P21:P70))/$J$71),0)))","v":""},{"$f":"IF($J$71=\"\",\"\",IF($J$71=0,\"\",ROUND(((SUM(Q21:Q70))/$J$71),0)))","v":""},{"$f":"IF($J$71=\"\",\"\",IF($J$71=0,\"\",ROUND(((SUM(R21:R70))/$J$71),0)))","v":""},"","","","","","","","","","","","","","","","","","","",{"$f":"IF($J$71=\"\",\"\",IF($J$71=0,\"\",ROUND(((SUM(AL21:AL70))/$J$71),$BJ$9)))","v":""}]
[null,null,null,null,null,null,"Tretirados",{"$f":"COUNTIF(AL21:AL70,\"\")","v":50},{"$f":"$H$72-H71","v":0},null,"NUMERO DE PROMOVIDOS  ",null,{"$f":"IF(M71=\"\",\"\",IF(M71=0,\"\",COUNTIF(M21:M70,\">=50,50\")))","v":""},{"$f":"IF(N71=\"\",\"\",IF(N71=0,\"\",COUNTIF(N21:N70,\">=50,50\")))","v":""},{"$f":"IF(O71=\"\",\"\",IF(O71=0,\"\",COUNTIF(O21:O70,\">=50,50\")))","v":""},{"$f":"IF(P71=\"\",\"\",IF(P71=0,\"\",COUNTIF(P21:P70,\">=50,50\")))","v":""},{"$f":"IF(Q71=\"\",\"\",IF(Q71=0,\"\",COUNTIF(Q21:Q70,\">=50,50\")))","v":""},{"$f":"IF(R71=\"\",\"\",IF(R71=0,\"\",COUNTIF(R21:R70,\">=50,50\")))","v":""},"","","","","","","","","","","","","","","","","","",""]
[null,null,null,null,null,null,"Tregistro",50,null,null,"NUMERO DE RETENIDOS  ",null,{"$f":"IF(M71=\"\",\"\",IF(M71=0,\"\",COUNTIF(M21:M70,\"<50,50\")))","v":""},{"$f":"IF(N71=\"\",\"\",IF(N71=0,\"\",COUNTIF(N21:N70,\"<50,50\")))","v":""},{"$f":"IF(O71=\"\",\"\",IF(O71=0,\"\",COUNTIF(O21:O70,\"<50,50\")))","v":""},{"$f":"IF(P71=\"\",\"\",IF(P71=0,\"\",COUNTIF(P21:P70,\"<50,50\")))","v":""},{"$f":"IF(Q71=\"\",\"\",IF(Q71=0,\"\",COUNTIF(Q21:Q70,\"<50,50\")))","v":""},{"$f":"IF(R71=\"\",\"\",IF(R71=0,\"\",COUNTIF(R21:R70,\"<50,50\")))","v":""},"","","","","","","","","","","","","","","","","","",""]
[null,null,null,null,null,null,null,null,null,null,"PORCENTAJE DE PROMOVIDOS  ",null,{"$f":"IF(M72=\"\",\"\",IF(M72=0,\"\",(M72*100)/$J$71))","v":""},{"$f":"IF(N72=\"\",\"\",IF(N72=0,\"\",(N72*100)/$J$71))","v":""},"","","","","","","","","","","","","","","","","","","","","","",""]
[null,null,null,null,null,null,null,null,null,null,"PORCENTAJE DE RETENIDOS  ",null,{"$f":"IF(M73=\"\",\"\",IF(M73=0,\"\",100-M74))","v":""},{"$f":"IF(N73=\"\",\"\",IF(N73=0,\"\",100-N74))","v":""},"","",{"$f":"IF(Q73=\"\",\"\",IF(Q73=0,\"\",100-Q74))","v":""},"","","","","","","","","","","","","","","","","","","",""]
[]
[]
[]
[]
[]
[null,null,null,null,null,null,"select_load",{"$f":"main!$AE$10","v":50}]
[null,null,null,null,null,null,"actual_save",50]
[]
[]
[]
[]
[]
[]
[]
[]
[]
[]
[]
[]
[]
[]
[]
[]
[null,null,null,null,null,null,null,null,null,null,null,null,13,14,15,16]
[]
[null,null,null,null,null,null,"alto de fila",10]
[null,null,null,null,null,null,"ancho col nro",1]
[null,null,null,null,null,null,"ancho col est",25]
[null,null,null,null,null,null,"ancho col indicadores",2,null,null,null,null,"Nro","Nes","Par","Pto"]
[null,null,null,null,null,null,"ancho col prom ind",2.5,null,null,null,null,0,0,0]
[null,null,null,null,null,null,"ancho nota prof",3.3,null,null,null,null,2,26,2.57]
[null,null,null,null,null,null,"ancho nota bim",2.5,null,null,null,null,2.29,28,2.86]
[null,null,null,null,null,null,"tamaño fuente",8,null,null,null,null,2.57,30,3.14]
[null,null,null,null,null,null,"alto indicador",120,null,null,null,null,2.86,32,3.43]
[null,null,null,null,null,null,"bimestre",4,null,null,null,null,3.14,34,3.71]
[null,null,null,null,null,null,"nroest",17,null,null,null,null,3.43,36,4]
[null,null,null,null,null,null,"hiden_cri_eva",1,null,null,null,null,3.71,38,4.29]
[null,null,null,null,null,null,"alto fila crieva",80]
[null,null,null,null,null,null,"alto fila actv",80]
[null,null,null,null,null,null,"paneles",0]
[null,null,null,null,null,null,"title_cbx",1]
[null,null,null,null,null,null,"sit_bim_abrv",0.5]
[null,null,null,null,null,null,"cod_area"]
[null,null,null,null,null,null,"hiden_actividedes",1]
[null,null,null,null,null,null,"minedu",1]
[null,null,54,null,null,null,"distjs",0]
[null,null,51,null,null,null,"hiden_val_cua",0]
[null,null,44]
[null,null,52]
[null,null,52]
[null,null,49]
[null,null,51]
[null,null,51]
[null,null,49]
[null,null,53]
[null,null,50]
[null,null,47]
[null,null,53]
[null,null,51]
[null,null,60]
[null,null,52]
[null,null,54]
[null,null,55]
[null,null,56]
[null,null,51]
[null,null,53]
[null,null,51]
[null,null,59]
[null,null,49]
[null,null,49]
[null,null,39]
[null,null,58]
[null,null,49]
[null,null,50]
[null,null,55]
[null,null,48]
[null,null,53]
[null,null,50]
[null,null,46]
[null,null,49]
[null,null,56]
[null,null,56]
[null,null,49]
[null,null,47]
[null,null,49]
[null,null,52]
[null,null,56]
[null,null,49]
[null,null,45]
[null,null,50]
[null,null,58]
[null,null,44]
[null,null,56]
[null,null,46]

{"sheet":"CB2","index":19,"n_rows":122,"n_cols":66,"rows_kept":122,"cut":false,"hidden":false,"merged":[[71,10,71,11],[72,10,72,11],[73,10,73,11],[74,10,74,11],[65,10,65,11],[66,10,66,11],[67,10,67,11],[68,10,68,11],[69,10,69,11],[70,10,70,11],[64,10,64,11],[53,10,53,11],[54,10,54,11],[55,10,55,11],[56,10,56,11],[57,10,57,11],[58,10,58,11],[59,10,59,11],[60,10,60,11],[61,10,61,11],[62,10,62,11],[63,10,63,11],[52,10,52,11],[41,10,41,11],[42,10,42,11],[43,10,43,11],[44,10,44,11],[45,10,45,11],[46,10,46,11],[47,10,47,11],[48,10,48,11],[49,10,49,11],[50,10,50,11],[51,10,51,11],[40,10,40,11],[29,10,29,11],[30,10,30,11],[31,10,31,11],[32,10,32,11],[33,10,33,11],[34,10,34,11],[35,10,35,11],[36,10,36,11],[37,10,37,11],[38,10,38,11],[39,10,39,11],[28,10,28,11],[22,10,22,11],[23,10,23,11],[24,10,24,11],[25,10,25,11],[26,10,26,11],[27,10,27,11],[18,60,19,60],[18,63,19,63],[20,10,20,11],[21,10,21,11],[1,5,1,39]]}
[]
[null,null,null,null,"Ξ","CENTRALIZADOR  2do.  TRIMESTRE    GESTION 2023",null,null,null,null,null,null,null,null,null,null,null,null,null,null,null,null,null,null,null,null,null,null,null,null,null,null,null,null,null,null,null,null,null,null,null,null,null,null,null,null,null,null,null,null,null,null,null,null,null,null,null,null,null,null,null,"Ξ","Cerrar"]
[null,null,null,null,null,null,{"$f":"datpro!$E$6","v":0},"sie",null,null,"UNIDAD EDUCATIVA ",null,null,null,null,{"$f":"datpro!$E$7","v":0}]
[null,null,null,null,null,null,{"$f":"datpro!$M$14","v":50},"nroEst",null,null,"NIVEL ",null,null,null,null,{"$f":"datpro!$E$10","v":""},null,null,null,null,null,null,null,null,null,null,null,null,null,null,null,null,null,null,null,null,null,null,null,null,null,null,null,null,null,null,null,null,null,null,null,null,null,null,null,null,null,null,null,null,null,8,"Tamaño de fuente (8..16)",null,null,"©  2023"]
[null,null,null,null,null,null,{"$f":"datpro!$C$12","v":"S"},"par",null,null,"AÑO DE ESCOLARIDAD",null,null,null,null,{"$f":"CONCATENATE( datpro!$E$11,\"  -  \",datpro!$E$12)","v":"  -  "},null,null,null,null,null,null,null,null,null,null,null,null,null,null,null,null,null,null,null,null,null,null,null,null,null,null,null,null,null,null,null,null,null,null,null,null,null,null,null,null,null,null,null,null,null,10,"Alto de Fila (10..20)",null,null,"PROYECTO REMDIZ"]
[null,null,null,null,null,null,{"$f":"DAY(TODAY())","v":6},"dia",null,null,"DIRECTORA/OR",null,null,null,null,{"$f":"datpro!$E$8","v":0},null,null,null,null,null,null,null,null,null,null,null,null,null,null,null,null,null,null,null,null,null,null,null,null,null,null,null,null,null,null,null,null,null,null,null,null,null,null,null,null,null,null,null,null,null,2,"Ancho de Columna (1..5) Modos"]
[null,null,null,null,null,null,{"$f":"MONTH(TODAY())","v":3},"mes",null,null,"MAESTRA/O",null,null,null,null,{"$f":"datpro!$E$9","v":0}]
[null,null,null,null,null,null,2,"tri",null,null,null,null,null,null,null,null,null,null,null,null,null,null,null,null,null,null,null,null,null,null,null,null,null,null,null,null,null,null,null,null,null,null,null,null,null,null,null,null,null,null,null,null,null,null,null,null,null,null,null,null,null,0,"Nro. Decimales para el area (ancho)"]
[null,null,null,null,null,null,{"$f":"datpro!$E$15","v":""},"cod",null,null,null,null,null,null,null,null,null,null,null,null,null,null,null,null,null,null,null,null,null,null,null,null,null,null,null,null,null,null,null,null,null,null,null,null,null,null,null,null,null,null,null,null,null,null,null,null,null,null,null,null,null,1,"Nro. Decimales para el Promedio"]
[null,null,null,null,null,null,{"$f":"datpro!$M$16","v":13},"nroAre"]
[null,null,null,null,null,null,{"$f":"datpro!$C$10","v":"S"},"nivel"]
[null,null,null,null,null,null,"CB2","shet"]
[]
[]
[null,null,null,null,null,null,"F21:AN70","AN",null,null,null,null,null,null,null,1,null,null,null,null,2,3,4,5,6,7,null,null,8,null,null,null,null,null,null,null,9]
[null,null,null,null,null,null,null,null,null,null,null,null,null,null,null,"ValB2",null,null,null,null,"ValB2","ValB2","ValB2","ValB2","ValB2","ValB2",null,null,"ValB2",null,null,null,null,null,null,null,"ValB2"]
[null,null,null,null,null,null,null,null,null,null,null,null,{"$f":"datpro!$H$41","v":0},{"$f":"datpro!$H$42","v":0},{"$f":"datpro!$H$43","v":0},{"$f":"datpro!$H$44","v":1},{"$f":"datpro!$H$45","v":0},{"$f":"datpro!$H$46","v":0},{"$f":"datpro!$H$47","v":0},{"$f":"datpro!$H$48","v":0},{"$f":"datpro!$H$49","v":1},{"$f":"datpro!$H$50","v":1},{"$f":"datpro!$H$51","v":1},{"$f":"datpro!$H$52","v":1},{"$f":"datpro!$H$53","v":1},{"$f":"datpro!$H$54","v":1},{"$f":"datpro!$H$55","v":0},{"$f":"datpro!$H$56","v":0},{"$f":"datpro!$H$57","v":1},{"$f":"datpro!$H$58","v":0},{"$f":"datpro!$H$59","v":0},{"$f":"datpro!$H$60","v":0},{"$f":"datpro!$H$61","v":0},{"$f":"datpro!$H$62","v":0},{"$f":"datpro!$H$63","v":0},{"$f":"datpro!$H$64","v":0},{"$f":"datpro!$H$65","v":1}]
[null,null,null,null,null,null,null,null,null,null,null,null,{"$f":"datpro!$E41","v":"LENGUA CASTELLANA"},{"$f":"datpro!$E42","v":"LENGUA ORIGINARIA"},{"$f":"datpro!$E43","v":"LENGUA EXTRANGERA primaria"},{"$f":"datpro!$E44","v":"COMUNICACIÓN Y LENGUAJES "},{"$f":"datpro!$E45","v":"LENGUA EXTRANJERA"},{"$f":"datpro!$E46","v":"HISTORIA"},{"$f":"datpro!$E47","v":"CIVICA"},{"$f":"datpro!$E48","v":"GEOGRAFIA"},{"$f":"datpro!$E49","v":"CIENCIAS SOCIALES"},{"$f":"datpro!$E50","v":"EDUCACION FISICA Y DEPORTES"},{"$f":"datpro!$E51","v":"EDUCACION MUSICAL"},{"$f":"datpro!$E52","v":"ARTES PLASTICAS Y VISUALES"},{"$f":"datpro!$E53","v":"MATEMATICAS"},{"$f":"datpro!$E54","v":"TECNICA TECNOLOGIA"},{"$f":"datpro!$E55","v":0},{"$f":"datpro!$E56","v":0},{"$f":"datpro!$E57","v":"CIENCIAS NATURALES"},{"$f":"datpro!$E58","v":0},{"$f":"datpro!$E59","v":"FISICA"},{"$f":"datpro!$E60","v":"QUIMICA"},{"$f":"datpro!$E61","v":0},{"$f":"datpro!$E62","v":0},{"$f":"datpro!$E63","v":0},{"$f":"datpro!$E64","v":"COSMOVISIONES, FILOSOFIA O PSICOLOGIA"},{"$f":"datpro!$E65","v":"VALORES, ESPIRITUALIDAD Y RELIGIONES"},{"$f":"datpro!$E66","v":"PROMEDIO"},"REPROBADAS"]
[null,null,null,null,null,null,"COD",null,null,null,null,null,{"$f":"datpro!$D41","v":"LCA"},{"$f":"datpro!$D42","v":"LOR"},{"$f":"datpro!$D43","v":"LEXP"},{"$f":"datpro!$D44","v":"CYL"},{"$f":"datpro!$D45","v":"LEX"},{"$f":"datpro!$D46","v":"HIS"},{"$f":"datpro!$D47","v":"CIV"},{"$f":"datpro!$D48","v":"GEO"},{"$f":"datpro!$D49","v":"CSO"},{"$f":"datpro!$D50","v":"EFD"},{"$f":"datpro!$D51","v":"EMU"},{"$f":"datpro!$D52","v":"APV"},{"$f":"datpro!$D53","v":"MAT"},{"$f":"datpro!$D54","v":"TEC"},{"$f":"datpro!$D55","v":"BIO"},{"$f":"datpro!$D56","v":"GEO"},{"$f":"datpro!$D57","v":"CNA"},{"$f":"datpro!$D58","v":"CNFQ"},{"$f":"datpro!$D59","v":"FIS"},{"$f":"datpro!$D60","v":"QMC"},{"$f":"datpro!$D61","v":"CN.FQ"},{"$f":"datpro!$D62","v":"FIL"},{"$f":"datpro!$D63","v":"PSI"},{"$f":"datpro!$D64","v":"CFP"},{"$f":"datpro!$D65","v":"VER"},{"$f":"datpro!$D66","v":"PROM."},"REPROBADAS",null,null,"SUMAS",{"$f":"datpro!$D44","v":"CYL"},{"$f":"datpro!$D45","v":"LEX"},{"$f":"datpro!$D49","v":"CSO"},{"$f":"datpro!$D50","v":"EFD"},{"$f":"datpro!$D51","v":"EMU"},{"$f":"datpro!$D52","v":"APV"},{"$f":"datpro!$D53","v":"MAT"},{"$f":"datpro!$D54","v":"TEC"},{"$f":"datpro!$D57","v":"CNA"},{"$f":"datpro!$D59","v":"FIS"},{"$f":"datpro!$D60","v":"QMC"},{"$f":"datpro!$D61","v":"CN.FQ"},{"$f":"datpro!$D64","v":"CFP"},{"$f":"datpro!$D65","v":"VER"},{"$f":"datpro!$D66","v":"PROM."}]
[null,null,null,null,null,"Nº","B2","gen ","v1","v2","APELLIDOS Y NOMBRES","=","\u0082","\u0082","\u0082","\u0082","\u0082","\u0082","\u0082","\u0082","\u0082","\u0082","\u0082","\u0082","\u0082","\u0082","\u0082","\u0082","\u0082","\u0082","\u0082","\u0082","\u0082","\u0082","\u0082","\u0082","\u0082",{"$f":"datpro!$M$16","v":13},"=","OBSERVACIONES",null,null,null,null,null,null,null,null,null,null,null,null,null,"PROM",null,null,null,null,null,null,null,null,"INFORME TUTOR"]
[null,null,null,null,null,{"$f":"IF(filEst!F21=\"\",\"\",filEst!F21)","v":""},{"$f":"IF(filEst!G21=\"\",\"\",filEst!G21)","v":""},{"$f":"IF(filEst!L21=\"\",\"\",filEst!L21)","v":""},null,null,{"$f":"IF(filEst!K21=\"\",\"\",filEst!K21)","v":""},null,null,null,null,null,null,null,null,null,null,null,null,null,null,null,null,null,null,null,null,null,null,null,null,null,null,null,{"$f":"IF(P21=\"\",\"\",COUNTIF(M21:AK21,\"<50,50\"))","v":""},null,null,{"$f":"SUM(AQ21:BD21)","v":0},{"$f":"IF(P21=\"\",\"\",P21)","v":""},{"$f":"IF(Q21=\"\",\"\",Q21)","v":""},{"$f":"IF(U21=\"\",\"\",U21)","v":""},"","","","","",{"$f":"IF(AC21=\"\",\"\",AC21)","v":""},{"$f":"IF(AE21=\"\",\"\",AE21)","v":""},{"$f":"IF(AF21=\"\",\"\",AF21)","v":""},null,{"$f":"IF(AJ21=\"\",\"\",AJ21)","v":""},{"$f":"IF(AK21=\"\",\"\",AK21)","v":""},{"$f":"IF(AL21=\"\",\"\",AL21)","v":""},{"$f":"AM21","v":""}]
[null,null,null,null,null,{"$f":"IF(filEst!F22=\"\",\"\",filEst!F22)","v":""},{"$f":"IF(filEst!G22=\"\",\"\",filEst!G22)","v":""},{"$f":"IF(filEst!L22=\"\",\"\",filEst!L22)","v":""},null,null,{"$f":"IF(filEst!K22=\"\",\"\",filEst!K22)","v":""},null,null,null,null,null,null,null,null,null,null,null,null,null,null,null,null,null,null,null,null,null,null,null,null,null,null,null,{"$f":"IF(P22=\"\",\"\",COUNTIF(M22:AK22,\"<50,50\"))","v":""},null,null,{"$f":"SUM(AQ22:BD22)","v":0},{"$f":"IF(P22=\"\",\"\",P22)","v":""},"","","","","","","",{"$f":"IF(AC22=\"\",\"\",AC22)","v":""},{"$f":"IF(AE22=\"\",\"\",AE22)","v":""},"",null,{"$f":"IF(AJ22=\"\",\"\",AJ22)","v":""},"","",{"$f":"AM22","v":""}]
[null,null,null,null,null,{"$f":"IF(filEst!F23=\"\",\"\",filEst!F23)","v":""},{"$f":"IF(filEst!G23=\"\",\"\",filEst!G23)","v":""},{"$f":"IF(filEst!L23=\"\",\"\",filEst!L23)","v":""},null,null,{"$f":"IF(filEst!K23=\"\",\"\",filEst!K23)","v":""},null,null,null,null,null,null,null,null,null,null,null,null,null,null,null,null,null,null,null,null,null,null,null,null,null,null,null,"",null,null,0,"","","","","","","","","","","",null,"","","",""]
[null,null,null,null,null,{"$f":"IF(filEst!F24=\"\",\"\",filEst!F24)","v":""},{"$f":"IF(filEst!G24=\"\",\"\",filEst!G24)","v":""},{"$f":"IF(filEst!L24=\"\",\"\",filEst!L24)","v":""},null,null,{"$f":"IF(filEst!K24=\"\",\"\",filEst!K24)","v":""},null,null,null,null,null,null,null,null,null,null,null,null,null,null,null,null,null,null,null,null,null,null,null,null,null,null,null,"",null,null,0,"","","","","","","","","","","",null,"","","",""]
[null,null,null,null,null,{"$f":"IF(filEst!F25=\"\",\"\",filEst!F25)","v":""},{"$f":"IF(filEst!G25=\"\",\"\",filEst!G25)","v":""},{"$f":"IF(filEst!L25=\"\",\"\",filEst!L25)","v":""},null,null,{"$f":"IF(filEst!K25=\"\",\"\",filEst!K25)","v":""},null,null,null,null,null,null,null,null,null,null,null,null,null,null,null,null,null,null,null,null,null,null,null,null,null,null,null,"",null,null,0,"","","","","","","","","","","",null,"","","",""]
[null,null,null,null,null,{"$f":"IF(filEst!F26=\"\",\"\",filEst!F26)","v":""},{"$f":"IF(filEst!G26=\"\",\"\",filEst!G26)","v":""},{"$f":"IF(filEst!L26=\"\",\"\",filEst!L26)","v":""},null,null,{"$f":"IF(filEst!K26=\"\",\"\",filEst!K26)","v":""},null,null,null,null,null,null,null,null,null,null,null,null,null,null,null,null,null,null,null,null,null,null,null,null,null,null,null,"",null,null,0,"","","","","","","","","","","",null,"","","",""]
[null,null,null,null,null,{"$f":"IF(filEst!F27=\"\",\"\",filEst!F27)","v":""},{"$f":"IF(filEst!G27=\"\",\"\",filEst!G27)","v":""},{"$f":"IF(filEst!L27=\"\",\"\",filEst!L27)","v":""},null,null,{"$f":"IF(filEst!K27=\"\",\"\",filEst!K27)","v":""},null,null,null,null,null,null,null,null,null,null,null,null,null,null,null,null,null,null,null,null,null,null,null,null,null,null,null,{"$f":"IF(P27=\"\",\"\",COUNTIF(M27:AK27,\"<50,50\"))","v":""},null,null,0,"","","","","","","","","","","",null,"","","",""]
[null,null,null,null,null,{"$f":"IF(filEst!F28=\"\",\"\",filEst!F28)","v":""},{"$f":"IF(filEst!G28=\"\",\"\",filEst!G28)","v":""},{"$f":"IF(filEst!L28=\"\",\"\",filEst!L28)","v":""},null,null,{"$f":"IF(filEst!K28=\"\",\"\",filEst!K28)","v":""},null,null,null,null,null,null,null,null,null,null,null,null,null,null,null,null,null,null,null,null,null,null,null,null,null,null,null,"",null,null,0,"","","","","","","","","","","",null,"","","",""]
[null,null,null,null,null,{"$f":"IF(filEst!F29=\"\",\"\",filEst!F29)","v":""},{"$f":"IF(filEst!G29=\"\",\"\",filEst!G29)","v":""},{"$f":"IF(filEst!L29=\"\",\"\",filEst!L29)","v":""},null,null,{"$f":"IF(filEst!K29=\"\",\"\",filEst!K29)","v":""},null,null,null,null,null,null,null,null,null,null,null,null,null,null,null,null,null,null,null,null,null,null,null,null,null,null,null,"",null,null,0,"","","","","","","","","","","",null,"","","",""]
[null,null,null,null,null,{"$f":"IF(filEst!F30=\"\",\"\",filEst!F30)","v":""},{"$f":"IF(filEst!G30=\"\",\"\",filEst!G30)","v":""},{"$f":"IF(filEst!L30=\"\",\"\",filEst!L30)","v":""},null,null,{"$f":"IF(filEst!K30=\"\",\"\",filEst!K30)","v":""},null,null,null,null,null,null,null,null,null,null,null,null,null,null,null,null,null,null,null,null,null,null,null,null,null,null,null,"",null,null,0,"","","","","","","","","","","",null,"","","",""]
[null,null,null,null,null,{"$f":"IF(filEst!F31=\"\",\"\",filEst!F31)","v":""},{"$f":"IF(filEst!G31=\"\",\"\",filEst!G31)","v":""},{"$f":"IF(filEst!L31=\"\",\"\",filEst!L31)","v":""},null,null,{"$f":"IF(filEst!K31=\"\",\"\",filEst!K31)","v":""},null,null,null,null,null,null,null,null,null,null,null,null,null,null,null,null,null,null,null,null,null,null,null,null,null,null,null,"",null,null,0,"","","","","","","","","","","",null,"","","",""]
[null,null,null,null,null,{"$f":"IF(filEst!F32=\"\",\"\",filEst!F32)","v":""},{"$f":"IF(filEst!G32=\"\",\"\",filEst!G32)","v":""},{"$f":"IF(filEst!L32=\"\",\"\",filEst!L32)","v":""},null,null,{"$f":"IF(filEst!K32=\"\",\"\",filEst!K32)","v":""},null,null,null,null,null,null,null,null,null,null,null,null,null,null,null,null,null,null,null,null,null,null,null,null,null,null,null,"",null,null,0,"","","","","","","","","","","",null,"","","",""]
[null,null,null,null,null,{"$f":"IF(filEst!F33=\"\",\"\",filEst!F33)","v":""},{"$f":"IF(filEst!G33=\"\",\"\",filEst!G33)","v":""},{"$f":"IF(filEst!L33=\"\",\"\",filEst!L33)","v":""},null,null,{"$f":"IF(filEst!K33=\"\",\"\",filEst!K33)","v":""},null,null,null,null,null,null,null,null,null,null,null,null,null,null,null,null,null,null,null,null,null,null,null,null,null,null,null,"",null,null,0,"","","","","","","","","","","",null,"","","",""]
[null,null,null,null,null,{"$f":"IF(filEst!F34=\"\",\"\",filEst!F34)","v":""},{"$f":"IF(filEst!G34=\"\",\"\",filEst!G34)","v":""},{"$f":"IF(filEst!L34=\"\",\"\",filEst!L34)","v":""},null,null,{"$f":"IF(filEst!K34=\"\",\"\",filEst!K34)","v":""},null,null,null,null,null,null,null,null,null,null,null,null,null,null,null,null,null,null,null,null,null,null,null,null,null,null,null,"",null,null,0,"","","","","","","","","","","",null,"","","",""]
[null,null,null,null,null,{"$f":"IF(filEst!F35=\"\",\"\",filEst!F35)","v":""},{"$f":"IF(filEst!G35=\"\",\"\",filEst!G35)","v":""},{"$f":"IF(filEst!L35=\"\",\"\",filEst!L35)","v":""},null,null,{"$f":"IF(filEst!K35=\"\",\"\",filEst!K35)","v":""},null,null,null,null,null,null,null,null,null,null,null,null,null,null,null,null,null,null,null,null,null,null,null,null,null,null,null,"",null,null,0,"","","","","","","","","","","",null,"","","",""]
[null,null,null,null,null,{"$f":"IF(filEst!F36=\"\",\"\",filEst!F36)","v":""},{"$f":"IF(filEst!G36=\"\",\"\",filEst!G36)","v":""},{"$f":"IF(filEst!L36=\"\",\"\",filEst!L36)","v":""},null,null,{"$f":"IF(filEst!K36=\"\",\"\",filEst!K36)","v":""},null,null,null,null,null,null,null,null,null,null,null,null,null,null,null,null,null,null,null,null,null,null,null,null,null,null,null,"",null,null,0,"","","","","","","","","","","",null,"","","",""]
[null,null,null,null,null,{"$f":"IF(filEst!F37=\"\",\"\",filEst!F37)","v":""},{"$f":"IF(filEst!G37=\"\",\"\",filEst!G37)","v":""},{"$f":"IF(filEst!L37=\"\",\"\",filEst!L37)","v":""},null,null,{"$f":"IF(filEst!K37=\"\",\"\",filEst!K37)","v":""},null,null,null,null,null,null,null,null,null,null,null,null,null,null,null,null,null,null,null,null,null,null,null,null,null,null,null,"",null,null,0,"","",{"$f":"IF(U37=\"\",\"\",U37)","v":""},"","","","","","","","",null,"","","",""]
[null,null,null,null,null,{"$f":"IF(filEst!F38=\"\",\"\",filEst!F38)","v":""},{"$f":"IF(filEst!G38=\"\",\"\",filEst!G38)","v":""},{"$f":"IF(filEst!L38=\"\",\"\",filEst!L38)","v":""},null,null,{"$f":"IF(filEst!K38=\"\",\"\",filEst!K38)","v":""},null,null,null,null,null,null,null,null,null,null,null,null,null,null,null,null,null,null,null,null,null,null,null,null,null,null,null,"",null,null,0,"","","","","","","","","","","",null,"","","",""]
[null,null,null,null,null,{"$f":"IF(filEst!F39=\"\",\"\",filEst!F39)","v":""},{"$f":"IF(filEst!G39=\"\",\"\",filEst!G39)","v":""},{"$f":"IF(filEst!L39=\"\",\"\",filEst!L39)","v":""},null,null,{"$f":"IF(filEst!K39=\"\",\"\",filEst!K39)","v":""},null,null,null,null,null,null,null,null,null,null,null,null,null,null,null,null,null,null,null,null,null,null,null,null,null,null,null,"",null,null,0,"","","","","","","","","","","",null,"","","",""]
[null,null,null,null,null,{"$f":"IF(filEst!F40=\"\",\"\",filEst!F40)","v":""},{"$f":"IF(filEst!G40=\"\",\"\",filEst!G40)","v":""},{"$f":"IF(filEst!L40=\"\",\"\",filEst!L40)","v":""},null,null,{"$f":"IF(filEst!K40=\"\",\"\",filEst!K40)","v":""},null,null,null,null,null,null,null,null,null,null,null,null,null,null,null,null,null,null,null,null,null,null,null,null,null,null,null,"",null,null,0,"","","","","","","","","","","",null,"","","",""]
[null,null,null,null,null,{"$f":"IF(filEst!F41=\"\",\"\",filEst!F41)","v":""},{"$f":"IF(filEst!G41=\"\",\"\",filEst!G41)","v":""},{"$f":"IF(filEst!L41=\"\",\"\",filEst!L41)","v":""},null,null,{"$f":"IF(filEst!K41=\"\",\"\",filEst!K41)","v":""},null,null,null,null,null,null,null,null,null,null,null,null,null,null,null,null,null,null,null,null,null,null,null,null,null,null,null,"",null,null,0,"","","","","","","","","","","",null,"","","",""]
[null,null,null,null,null,{"$f":"IF(filEst!F42=\"\",\"\",filEst!F42)","v":""},{"$f":"IF(filEst!G42=\"\",\"\",filEst!G42)","v":""},{"$f":"IF(filEst!L42=\"\",\"\",filEst!L42)","v":""},null,null,{"$f":"IF(filEst!K42=\"\",\"\",filEst!K42)","v":""},null,null,null,null,null,null,null,null,null,null,null,null,null,null,null,null,null,null,null,null,null,null,null,null,null,null,null,"",null,null,0,"","","","","","","","","","","",null,"","","",""]
[null,null,null,null,null,{"$f":"IF(filEst!F43=\"\",\"\",filEst!F43)","v":""},{"$f":"IF(filEst!G43=\"\",\"\",filEst!G43)","v":""},{"$f":"IF(filEst!L43=\"\",\"\",filEst!L43)","v":""},null,null,{"$f":"IF(filEst!K43=\"\",\"\",filEst!K43)","v":""},null,null,null,null,null,null,null,null,null,null,null,null,null,null,null,null,null,null,null,null,null,null,null,null,null,null,null,"",null,null,0,"","","","","","","","","","","",null,"","","",""]
[null,null,null,null,null,{"$f":"IF(filEst!F44=\"\",\"\",filEst!F44)","v":""},{"$f":"IF(filEst!G44=\"\",\"\",filEst!G44)","v":""},{"$f":"IF(filEst!L44=\"\",\"\",filEst!L44)","v":""},null,null,{"$f":"IF(filEst!K44=\"\",\"\",filEst!K44)","v":""},null,null,null,null,null,null,null,null,null,null,null,null,null,null,null,null,null,null,null,null,null,null,null,null,null,null,null,"",null,null,0,"","","","","","","","","","","",null,"","","",""]
[null,null,null,null,null,{"$f":"IF(filEst!F45=\"\",\"\",filEst!F45)","v":""},{"$f":"IF(filEst!G45=\"\",\"\",filEst!G45)","v":""},{"$f":"IF(filEst!L45=\"\",\"\",filEst!L45)","v":""},null,null,{"$f":"IF(filEst!K45=\"\",\"\",filEst!K45)","v":""},null,null,null,null,null,null,null,null,null,null,null,null,null,null,null,null,null,null,null,null,null,null,null,null,null,null,null,"",null,null,0,"","","","","","","","","","","",null,"","","",""]
[null,null,null,null,null,{"$f":"IF(filEst!F46=\"\",\"\",filEst!F46)","v":""},{"$f":"IF(filEst!G46=\"\",\"\",filEst!G46)","v":""},{"$f":"IF(filEst!L46=\"\",\"\",filEst!L46)","v":""},null,null,{"$f":"IF(filEst!K46=\"\",\"\",filEst!K46)","v":""},null,null,null,null,null,null,null,null,null,null,null,null,null,null,null,null,null,null,null,null,null,null,null,null,null,null,null,"",null,null,0,"","","","","","","","","","","",null,"","","",""]
[null,null,null,null,null,{"$f":"IF(filEst!F47=\"\",\"\",filEst!F47)","v":""},{"$f":"IF(filEst!G47=\"\",\"\",filEst!G47)","v":""},{"$f":"IF(filEst!L47=\"\",\"\",filEst!L47)","v":""},null,null,{"$f":"IF(filEst!K47=\"\",\"\",filEst!K47)","v":""},null,null,null,null,null,null,null,null,null,null,null,null,null,null,null,null,null,null,null,null,null,null,null,null,null,null,null,"",null,null,0,"","","","","","","","","","","",null,"","","",""]
[null,null,null,null,null,{"$f":"IF(filEst!F48=\"\",\"\",filEst!F48)","v":""},{"$f":"IF(filEst!G48=\"\",\"\",filEst!G48)","v":""},{"$f":"IF(filEst!L48=\"\",\"\",filEst!L48)","v":""},null,null,{"$f":"IF(filEst!K48=\"\",\"\",filEst!K48)","v":""},null,null,null,null,null,null,null,null,null,null,null,null,null,null,null,null,null,null,null,null,null,null,null,null,null,null,null,"",null,null,0,"","","","","","","","","","","",null,"","","",""]
[null,null,null,null,null,{"$f":"IF(filEst!F49=\"\",\"\",filEst!F49)","v":""},{"$f":"IF(filEst!G49=\"\",\"\",filEst!G49)","v":""},{"$f":"IF(filEst!L49=\"\",\"\",filEst!L49)","v":""},null,null,{"$f":"IF(filEst!K49=\"\",\"\",filEst!K49)","v":""},null,null,null,null,null,null,null,null,null,null,null,null,null,null,null,null,null,null,null,null,null,null,null,null,null,null,null,"",null,null,0,"","","","","","","","","","","",null,"","","",""]
[null,null,null,null,null,{"$f":"IF(filEst!F50=\"\",\"\",filEst!F50)","v":""},{"$f":"IF(filEst!G50=\"\",\"\",filEst!G50)","v":""},{"$f":"IF(filEst!L50=\"\",\"\",filEst!L50)","v":""},null,null,{"$f":"IF(filEst!K50=\"\",\"\",filEst!K50)","v":""},null,null,null,null,null,null,null,null,null,null,null,null,null,null,null,null,null,null,null,null,null,null,null,null,null,null,null,"",null,null,0,"","","","","","","","","","","",null,"","","",""]
[null,null,null,null,null,{"$f":"IF(filEst!F51=\"\",\"\",filEst!F51)","v":""},{"$f":"IF(filEst!G51=\"\",\"\",filEst!G51)","v":""},{"$f":"IF(filEst!L51=\"\",\"\",filEst!L51)","v":""},null,null,{"$f":"IF(filEst!K51=\"\",\"\",filEst!K51)","v":""},null,null,null,null,null,null,null,null,null,null,null,null,null,null,null,null,null,null,null,null,null,null,null,null,null,null,null,"",null,null,0,"","","","","","","","","","","",null,"","","",""]
[null,null,null,null,null,{"$f":"IF(filEst!F52=\"\",\"\",filEst!F52)","v":""},{"$f":"IF(filEst!G52=\"\",\"\",filEst!G52)","v":""},{"$f":"IF(filEst!L52=\"\",\"\",filEst!L52)","v":""},null,null,{"$f":"IF(filEst!K52=\"\",\"\",filEst!K52)","v":""},null,null,null,null,null,null,null,null,null,null,null,null,null,null,null,null,null,null,null,null,null,null,null,null,null,null,null,"",null,null,0,"","","","","","","","","","","",null,"","","",""]
[null,null,null,null,null,{"$f":"IF(filEst!F53=\"\",\"\",filEst!F53)","v":""},{"$f":"IF(filEst!G53=\"\",\"\",filEst!G53)","v":""},{"$f":"IF(filEst!L53=\"\",\"\",filEst!L53)","v":""},null,null,{"$f":"IF(filEst!K53=\"\",\"\",filEst!K53)","v":""},null,null,null,null,null,null,null,null,null,null,null,null,null,null,null,null,null,null,null,null,null,null,null,null,null,null,null,"",null,null,0,"","","","","","","","","","","",null,"","","",""]
[null,null,null,null,null,{"$f":"IF(filEst!F54=\"\",\"\",filEst!F54)","v":""},{"$f":"IF(filEst!G54=\"\",\"\",filEst!G54)","v":""},{"$f":"IF(filEst!L54=\"\",\"\",filEst!L54)","v":""},null,null,{"$f":"IF(filEst!K54=\"\",\"\",filEst!K54)","v":""},null,null,null,null,null,null,null,null,null,null,null,null,null,null,null,null,null,null,null,null,null,null,null,null,null,null,null,"",null,null,0,"","","","","","","","","","","",null,"","","",""]
[null,null,null,null,null,{"$f":"IF(filEst!F55=\"\",\"\",filEst!F55)","v":""},{"$f":"IF(filEst!G55=\"\",\"\",filEst!G55)","v":""},{"$f":"IF(filEst!L55=\"\",\"\",filEst!L55)","v":""},null,null,{"$f":"IF(filEst!K55=\"\",\"\",filEst!K55)","v":""},null,null,null,null,null,null,null,null,null,null,null,null,null,null,null,null,null,null,null,null,null,null,null,null,null,null,null,"",null,null,0,"","","","","","","","","","","",null,"","","",""]
[null,null,null,null,null,{"$f":"IF(filEst!F56=\"\",\"\",filEst!F56)","v":""},{"$f":"IF(filEst!G56=\"\",\"\",filEst!G56)","v":""},{"$f":"IF(filEst!L56=\"\",\"\",filEst!L56)","v":""},null,null,{"$f":"IF(filEst!K56=\"\",\"\",filEst!K56)","v":""},null,null,null,null,null,null,null,null,null,null,null,null,null,null,null,null,null,null,null,null,null,null,null,null,null,null,null,"",null,null,0,"","","","","","","","","","","",null,"","","",""]
[null,null,null,null,null,{"$f":"IF(filEst!F57=\"\",\"\",filEst!F57)","v":""},{"$f":"IF(filEst!G57=\"\",\"\",filEst!G57)","v":""},{"$f":"IF(filEst!L57=\"\",\"\",filEst!L57)","v":""},null,null,{"$f":"IF(filEst!K57=\"\",\"\",filEst!K57)","v":""},null,null,null,null,null,null,null,null,null,null,null,null,null,null,null,null,null,null,null,null,null,null,null,null,null,null,null,"",null,null,0,"","","","","","","","","","","",null,"","","",""]
[null,null,null,null,null,{"$f":"IF(filEst!F58=\"\",\"\",filEst!F58)","v":""},{"$f":"IF(filEst!G58=\"\",\"\",filEst!G58)","v":""},{"$f":"IF(filEst!L58=\"\",\"\",filEst!L58)","v":""},null,null,{"$f":"IF(filEst!K58=\"\",\"\",filEst!K58)","v":""},null,null,null,null,null,null,null,null,null,null,null,null,null,null,null,null,null,null,null,null,null,null,null,null,null,null,null,"",null,null,0,"","","","","","","","","","","",null,"","","",""]
[null,null,null,null,null,{"$f":"IF(filEst!F59=\"\",\"\",filEst!F59)","v":""},{"$f":"IF(filEst!G59=\"\",\"\",filEst!G59)","v":""},{"$f":"IF(filEst!L59=\"\",\"\",filEst!L59)","v":""},null,null,{"$f":"IF(filEst!K59=\"\",\"\",filEst!K59)","v":""},null,null,null,null,null,null,null,null,null,null,null,null,null,null,null,null,null,null,null,null,null,null,null,null,null,null,null,"",null,null,0,"","","","","","","","","","","",null,"","","",""]
[null,null,null,null,null,{"$f":"IF(filEst!F60=\"\",\"\",filEst!F60)","v":""},{"$f":"IF(filEst!G60=\"\",\"\",filEst!G60)","v":""},{"$f":"IF(filEst!L60=\"\",\"\",filEst!L60)","v":""},null,null,{"$f":"IF(filEst!K60=\"\",\"\",filEst!K60)","v":""},null,null,null,null,null,null,null,null,null,null,null,null,null,null,null,null,null,null,null,null,null,null,null,null,null,null,null,"",null,null,0,"","","","","","","","","","","",null,"","","",""]
[null,null,null,null,null,{"$f":"IF(filEst!F61=\"\",\"\",filEst!F61)","v":""},{"$f":"IF(filEst!G61=\"\",\"\",filEst!G61)","v":""},{"$f":"IF(filEst!L61=\"\",\"\",filEst!L61)","v":""},null,null,{"$f":"IF(filEst!K61=\"\",\"\",filEst!K61)","v":""},null,null,null,null,null,null,null,null,null,null,null,null,null,null,null,null,null,null,null,null,null,null,null,null,null,null,null,"",null,null,0,"","","","","","","","","","","",null,"","","",""]
[null,null,null,null,null,{"$f":"IF(filEst!F62=\"\",\"\",filEst!F62)","v":""},{"$f":"IF(filEst!G62=\"\",\"\",filEst!G62)","v":""},{"$f":"IF(filEst!L62=\"\",\"\",filEst!L62)","v":""},null,null,{"$f":"IF(filEst!K62=\"\",\"\",filEst!K62)","v":""},null,null,null,null,null,null,null,null,null,null,null,null,null,null,null,null,null,null,null,null,null,null,null,null,null,null,null,"",null,null,0,"","","","","","","","","","","",null,"","","",""]
[null,null,null,null,null,{"$f":"IF(filEst!F63=\"\",\"\",filEst!F63)","v":""},{"$f":"IF(filEst!G63=\"\",\"\",filEst!G63)","v":""},{"$f":"IF(filEst!L63=\"\",\"\",filEst!L63)","v":""},null,null,{"$f":"IF(filEst!K63=\"\",\"\",filEst!K63)","v":""},null,null,null,null,null,null,null,null,null,null,null,null,null,null,null,null,null,null,null,null,null,null,null,null,null,null,null,"",null,null,0,"","","","","","","","","","","",null,"","","",""]
[null,null,null,null,null,{"$f":"IF(filEst!F64=\"\",\"\",filEst!F64)","v":""},{"$f":"IF(filEst!G64=\"\",\"\",filEst!G64)","v":""},{"$f":"IF(filEst!L64=\"\",\"\",filEst!L64)","v":""},null,null,{"$f":"IF(filEst!K64=\"\",\"\",filEst!K64)","v":""},null,null,null,null,null,null,null,null,null,null,null,null,null,null,null,null,null,null,null,null,null,null,null,null,null,null,null,"",null,null,0,"","","","","","","","","","","",null,"","","",""]
[null,null,null,null,null,{"$f":"IF(filEst!F65=\"\",\"\",filEst!F65)","v":""},{"$f":"IF(filEst!G65=\"\",\"\",filEst!G65)","v":""},{"$f":"IF(filEst!L65=\"\",\"\",filEst!L65)","v":""},null,null,{"$f":"IF(filEst!K65=\"\",\"\",filEst!K65)","v":""},null,null,null,null,null,null,null,null,null,null,null,null,null,null,null,null,null,null,null,null,null,null,null,null,null,null,null,"",null,null,0,"","","","","","","","","","","",null,"","","",""]
[null,null,null,null,null,{"$f":"IF(filEst!F66=\"\",\"\",filEst!F66)","v":""},{"$f":"IF(filEst!G66=\"\",\"\",filEst!G66)","v":""},{"$f":"IF(filEst!L66=\"\",\"\",filEst!L66)","v":""},null,null,{"$f":"IF(filEst!K66=\"\",\"\",filEst!K66)","v":""},null,null,null,null,null,null,null,null,null,null,null,null,null,null,null,null,null,null,null,null,null,null,null,null,null,null,null,"",null,null,0,"","","","","","","","","","","",null,"","","",""]
[null,null,null,null,null,{"$f":"IF(filEst!F67=\"\",\"\",filEst!F67)","v":""},{"$f":"IF(filEst!G67=\"\",\"\",filEst!G67)","v":""},{"$f":"IF(filEst!L67=\"\",\"\",filEst!L67)","v":""},null,null,{"$f":"IF(filEst!K67=\"\",\"\",filEst!K67)","v":""},null,null,null,null,null,null,null,null,null,null,null,null,null,null,null,null,null,null,null,null,null,null,null,null,null,null,null,"",null,null,0,"","","","","","","","","","","",null,"","","",""]
[null,null,null,null,null,{"$f":"IF(filEst!F68=\"\",\"\",filEst!F68)","v":""},{"$f":"IF(filEst!G68=\"\",\"\",filEst!G68)","v":""},{"$f":"IF(filEst!L68=\"\",\"\",filEst!L68)","v":""},null,null,{"$f":"IF(filEst!K68=\"\",\"\",filEst!K68)","v":""},null,null,null,null,null,null,null,null,null,null,null,null,null,null,null,null,null,null,null,null,null,null,null,null,null,null,null,"",null,null,0,"","","","","","","","","","","",null,"","","",""]
[null,null,null,null,null,{"$f":"IF(filEst!F69=\"\",\"\",filEst!F69)","v":""},{"$f":"IF(filEst!G69=\"\",\"\",filEst!G69)","v":""},{"$f":"IF(filEst!L69=\"\",\"\",filEst!L69)","v":""},null,null,{"$f":"IF(filEst!K69=\"\",\"\",filEst!K69)","v":""},null,null,null,null,null,null,null,null,null,null,null,null,null,null,null,null,null,null,null,null,null,null,null,null,null,null,null,"",null,null,0,"","","","","","","","","","","",null,"","","",""]
[null,null,null,null,null,{"$f":"IF(filEst!F70=\"\",\"\",filEst!F70)","v":""},{"$f":"IF(filEst!G70=\"\",\"\",filEst!G70)","v":""},{"$f":"IF(filEst!L70=\"\",\"\",filEst!L70)","v":""},null,null,{"$f":"IF(filEst!K70=\"\",\"\",filEst!K70)","v":""},null,null,null,null,null,null,null,null,null,null,null,null,null,null,null,null,null,null,null,null,null,null,null,null,null,null,null,"",null,null,0,"","","","","","","","","","","",null,"","","",""]
[null,null,null,null,null,null,"Tinscritos",{"$f":"COUNTIF($K21:$K70,\"\")","v":50},{"$f":"$H$73-H71","v":0},{"$f":"I71-I72","v":0},"PROMEDIO DE APROVECHAMIENTO  ",null,{"$f":"IF($J$71=\"\",\"\",IF($J$71=0,\"\",ROUND(((SUM(M21:M70))/$J$71),0)))","v":""},{"$f":"IF($J$71=\"\",\"\",IF($J$71=0,\"\",ROUND(((SUM(N21:N70))/$J$71),0)))","v":""},{"$f":"IF($J$71=\"\",\"\",IF($J$71=0,\"\",ROUND(((SUM(O21:O70))/$J$71),0)))","v":""},{"$f":"IF($J$71=\"\",\"\",IF($J$71=0,\"\",ROUND(((SUM(P21:P70))/$J$71),0)))","v":""},{"$f":"IF($J$71=\"\",\"\",IF($J$71=0,\"\",ROUND(((SUM(Q21:Q70))/$J$71),0)))","v":""},{"$f":"IF($J$71=\"\",\"\",IF($J$71=0,\"\",ROUND(((SUM(R21:R70))/$J$71),0)))","v":""},"","","","","","","","","","","","","","","","","","","",{"$f":"IF($J$71=\"\",\"\",IF($J$71=0,\"\",ROUND(((SUM(AL21:AL70))/$J$71),$BJ$9)))","v":""}]
[null,null,null,null,null,null,"Tretirados",{"$f":"COUNTIF(AL21:AL70,\"\")","v":50},{"$f":"$H$72-H71","v":0},null,"NUMERO DE PROMOVIDOS  ",null,{"$f":"IF(M71=\"\",\"\",IF(M71=0,\"\",COUNTIF(M21:M70,\">=50,50\")))","v":""},{"$f":"IF(N71=\"\",\"\",IF(N71=0,\"\",COUNTIF(N21:N70,\">=50,50\")))","v":""},{"$f":"IF(O71=\"\",\"\",IF(O71=0,\"\",COUNTIF(O21:O70,\">=50,50\")))","v":""},{"$f":"IF(P71=\"\",\"\",IF(P71=0,\"\",COUNTIF(P21:P70,\">=50,50\")))","v":""},{"$f":"IF(Q71=\"\",\"\",IF(Q71=0,\"\",COUNTIF(Q21:Q70,\">=50,50\")))","v":""},{"$f":"IF(R71=\"\",\"\",IF(R71=0,\"\",COUNTIF(R21:R70,\">=50,50\")))","v":""},"","","","","","","","","","","","","","","","","","",""]
[null,null,null,null,null,null,"Tregistro",50,null,null,"NUMERO DE RETENIDOS  ",null,{"$f":"IF(M71=\"\",\"\",IF(M71=0,\"\",COUNTIF(M21:M70,\"<50,50\")))","v":""},{"$f":"IF(N71=\"\",\"\",IF(N71=0,\"\",COUNTIF(N21:N70,\"<50,50\")))","v":""},{"$f":"IF(O71=\"\",\"\",IF(O71=0,\"\",COUNTIF(O21:O70,\"<50,50\")))","v":""},{"$f":"IF(P71=\"\",\"\",IF(P71=0,\"\",COUNTIF(P21:P70,\"<50,50\")))","v":""},{"$f":"IF(Q71=\"\",\"\",IF(Q71=0,\"\",COUNTIF(Q21:Q70,\"<50,50\")))","v":""},{"$f":"IF(R71=\"\",\"\",IF(R71=0,\"\",COUNTIF(R21:R70,\"<50,50\")))","v":""},"","","","","","","","","","","","","","","","","","",""]
[null,null,null,null,null,null,null,null,null,null,"PORCENTAJE DE PROMOVIDOS  ",null,{"$f":"IF(M72=\"\",\"\",IF(M72=0,\"\",(M72*100)/$J$71))","v":""},{"$f":"IF(N72=\"\",\"\",IF(N72=0,\"\",(N72*100)/$J$71))","v":""},"","","","","","","","","","","","","","","","","","","","","","",""]
[null,null,null,null,null,null,null,null,null,null,"PORCENTAJE DE RETENIDOS  ",null,{"$f":"IF(M73=\"\",\"\",IF(M73=0,\"\",100-M74))","v":""},{"$f":"IF(N73=\"\",\"\",IF(N73=0,\"\",100-N74))","v":""},"","",{"$f":"IF(Q73=\"\",\"\",IF(Q73=0,\"\",100-Q74))","v":""},"","","","","","","","","","","","","","","","","","","",""]
[]
[]
[]
[]
[]
[null,null,null,null,null,null,"select_load",{"$f":"main!$AE$10","v":50}]
[null,null,null,null,null,null,"actual_save"]
[]
[]
[]
[]
[]
[]
[]
[]
[]
[]
[]
[]
[]
[]
[]
[]
[]
[]
[null,null,null,null,null,null,"alto de fila",10]
[null,null,null,null,null,null,"ancho col nro",1]
[null,null,null,null,null,null,"ancho col est",25]
[null,null,null,null,null,null,"ancho col indicadores",2]
[null,null,null,null,null,null,"ancho col prom ind",2.5]
[null,null,null,null,null,null,"ancho nota prof",3.3]
[null,null,null,null,null,null,"ancho nota bim",2.5]
[null,null,null,null,null,null,"tamaño fuente",8]
[null,null,null,null,null,null,"alto indicador",120]
[null,null,null,null,null,null,"bimestre",4]
[null,null,null,null,null,null,"nroest",17]
[null,null,null,null,null,null,"hiden_cri_eva",1]
[null,null,null,null,null,null,"alto fila crieva",80]
[null,null,null,null,null,null,"alto fila actv",80]
[null,null,null,null,null,null,"paneles",0]
[null,null,null,null,null,null,"title_cbx",1]
[null,null,null,null,null,null,"sit_bim_abrv",0.5]
[null,null,null,null,null,null,"cod_area"]
[null,null,null,null,null,null,"hiden_actividedes",1]
[null,null,null,null,null,null,"minedu",1]
[null,null,null,null,null,null,"distjs",0]
[null,null,null,null,null,null,null,0]

{"sheet":"CB3","index":20,"n_rows":122,"n_cols":66,"rows_kept":122,"cut":false,"hidden":false,"merged":[[71,10,71,11],[72,10,72,11],[73,10,73,11],[74,10,74,11],[65,10,65,11],[66,10,66,11],[67,10,67,11],[68,10,68,11],[69,10,69,11],[70,10,70,11],[64,10,64,11],[53,10,53,11],[54,10,54,11],[55,10,55,11],[56,10,56,11],[57,10,57,11],[58,10,58,11],[59,10,59,11],[60,10,60,11],[61,10,61,11],[62,10,62,11],[63,10,63,11],[52,10,52,11],[41,10,41,11],[42,10,42,11],[43,10,43,11],[44,10,44,11],[45,10,45,11],[46,10,46,11],[47,10,47,11],[48,10,48,11],[49,10,49,11],[50,10,50,11],[51,10,51,11],[40,10,40,11],[29,10,29,11],[30,10,30,11],[31,10,31,11],[32,10,32,11],[33,10,33,11],[34,10,34,11],[35,10,35,11],[36,10,36,11],[37,10,37,11],[38,10,38,11],[39,10,39,11],[18,60,19,60],[20,10,20,11],[21,10,21,11],[1,5,1,38],[28,10,28,11],[22,10,22,11],[23,10,23,11],[24,10,24,11],[25,10,25,11],[26,10,26,11],[27,10,27,11]]}
[]
[null,null,null,null,null,"CENTRALIZADOR  3er.  TRIMESTRE    GESTION 2023",null,null,null,null,null,null,null,null,null,null,null,null,null,null,null,null,null,null,null,null,null,null,null,null,null,null,null,null,null,null,null,null,null,null,null,null,null,null,null,null,null,null,null,null,null,null,null,null,null,null,null,null,null,null,null,"Ξ","Cerrar"]
[null,null,null,null,null,null,{"$f":"datpro!$E$6","v":0},"sie",null,null,"UNIDAD EDUCATIVA ",null,null,null,null,{"$f":"datpro!$E$7","v":0}]
[null,null,null,null,null,null,{"$f":"datpro!$M$14","v":50},"nroEst",null,null,"NIVEL ",null,null,null,null,{"$f":"datpro!$E$10","v":""},null,null,null,null,null,null,null,null,null,null,null,null,null,null,null,null,null,null,null,null,null,null,null,null,null,null,null,null,null,null,null,null,null,null,null,null,null,null,null,null,null,null,null,null,null,8,"Tamaño de fuente (8..16)",null,null,"©  2023"]
[null,null,null,null,null,null,{"$f":"datpro!$C$12","v":"S"},"par",null,null,"AÑO DE ESCOLARIDAD",null,null,null,null,{"$f":"CONCATENATE( datpro!$E$11,\"  -  \",datpro!$E$12)","v":"  -  "},null,null,null,null,null,null,null,null,null,null,null,null,null,null,null,null,null,null,null,null,null,null,null,null,null,null,null,null,null,null,null,null,null,null,null,null,null,null,null,null,null,null,null,null,null,10,"Alto de Fila (10..20)",null,null,"PROYECTO REMDIZ"]
[null,null,null,null,null,null,{"$f":"DAY(TODAY())","v":6},"dia",null,null,"DIRECTORA/OR",null,null,null,null,{"$f":"datpro!$E$8","v":0},null,null,null,null,null,null,null,null,null,null,null,null,null,null,null,null,null,null,null,null,null,null,null,null,null,null,null,null,null,null,null,null,null,null,null,null,null,null,null,null,null,null,null,null,null,2,"Ancho de Columna (1..5) Modos"]
[null,null,null,null,null,null,{"$f":"MONTH(TODAY())","v":3},"mes",null,null,"MAESTRA/O",null,null,null,null,{"$f":"datpro!$E$9","v":0}]
[null,null,null,null,null,null,3,"tri",null,null,null,null,null,null,null,null,null,null,null,null,null,null,null,null,null,null,null,null,null,null,null,null,null,null,null,null,null,null,null,null,null,null,null,null,null,null,null,null,null,null,null,null,null,null,null,null,null,null,null,null,null,0,"Nro. Decimales para el area (ancho)"]
[null,null,null,null,null,null,{"$f":"datpro!$E$15","v":""},"cod",null,null,null,null,null,null,null,null,null,null,null,null,null,null,null,null,null,null,null,null,null,null,null,null,null,null,null,null,null,null,null,null,null,null,null,null,null,null,null,null,null,null,null,null,null,null,null,null,null,null,null,null,null,1,"Nro. Decimales para el Promedio"]
[null,null,null,null,null,null,{"$f":"datpro!$M$16","v":13},"nroAre"]
[null,null,null,null,null,null,{"$f":"datpro!$C$10","v":"S"},"nivel"]
[null,null,null,null,null,null,"CB3","shet"]
[]
[]
[null,null,null,null,null,null,"F21:AN70","AN",null,null,null,null,null,null,null,1,null,null,null,null,2,3,4,5,6,7,null,null,8,null,null,null,null,null,null,null,9]
[null,null,null,null,null,null,null,null,null,null,null,null,null,null,null,"ValB3",null,null,null,null,"ValB3","ValB3","ValB3","ValB3","ValB3","ValB3",null,null,"ValB3",null,null,null,null,null,null,null,"ValB3"]
[null,null,null,null,null,null,null,null,null,null,null,null,{"$f":"datpro!$H$41","v":0},{"$f":"datpro!$H$42","v":0},{"$f":"datpro!$H$43","v":0},{"$f":"datpro!$H$44","v":1},{"$f":"datpro!$H$45","v":0},{"$f":"datpro!$H$46","v":0},{"$f":"datpro!$H$47","v":0},{"$f":"datpro!$H$48","v":0},{"$f":"datpro!$H$49","v":1},{"$f":"datpro!$H$50","v":1},{"$f":"datpro!$H$51","v":1},{"$f":"datpro!$H$52","v":1},{"$f":"datpro!$H$53","v":1},{"$f":"datpro!$H$54","v":1},{"$f":"datpro!$H$55","v":0},{"$f":"datpro!$H$56","v":0},{"$f":"datpro!$H$57","v":1},{"$f":"datpro!$H$58","v":0},{"$f":"datpro!$H$59","v":0},{"$f":"datpro!$H$60","v":0},{"$f":"datpro!$H$61","v":0},{"$f":"datpro!$H$62","v":0},{"$f":"datpro!$H$63","v":0},{"$f":"datpro!$H$64","v":0},{"$f":"datpro!$H$65","v":1}]
[null,null,null,null,null,null,null,null,null,null,null,null,{"$f":"datpro!$E41","v":"LENGUA CASTELLANA"},{"$f":"datpro!$E42","v":"LENGUA ORIGINARIA"},{"$f":"datpro!$E43","v":"LENGUA EXTRANGERA primaria"},{"$f":"datpro!$E44","v":"COMUNICACIÓN Y LENGUAJES "},{"$f":"datpro!$E45","v":"LENGUA EXTRANJERA"},{"$f":"datpro!$E46","v":"HISTORIA"},{"$f":"datpro!$E47","v":"CIVICA"},{"$f":"datpro!$E48","v":"GEOGRAFIA"},{"$f":"datpro!$E49","v":"CIENCIAS SOCIALES"},{"$f":"datpro!$E50","v":"EDUCACION FISICA Y DEPORTES"},{"$f":"datpro!$E51","v":"EDUCACION MUSICAL"},{"$f":"datpro!$E52","v":"ARTES PLASTICAS Y VISUALES"},{"$f":"datpro!$E53","v":"MATEMATICAS"},{"$f":"datpro!$E54","v":"TECNICA TECNOLOGIA"},{"$f":"datpro!$E55","v":0},{"$f":"datpro!$E56","v":0},{"$f":"datpro!$E57","v":"CIENCIAS NATURALES"},{"$f":"datpro!$E58","v":0},{"$f":"datpro!$E59","v":"FISICA"},{"$f":"datpro!$E60","v":"QUIMICA"},{"$f":"datpro!$E61","v":0},{"$f":"datpro!$E62","v":0},{"$f":"datpro!$E63","v":0},{"$f":"datpro!$E64","v":"COSMOVISIONES, FILOSOFIA O PSICOLOGIA"},{"$f":"datpro!$E65","v":"VALORES, ESPIRITUALIDAD Y RELIGIONES"},{"$f":"datpro!$E66","v":"PROMEDIO"},"REPROBADAS"]
[null,null,null,null,null,null,"COD",null,null,null,null,null,{"$f":"datpro!$D41","v":"LCA"},{"$f":"datpro!$D42","v":"LOR"},{"$f":"datpro!$D43","v":"LEXP"},{"$f":"datpro!$D44","v":"CYL"},{"$f":"datpro!$D45","v":"LEX"},{"$f":"datpro!$D46","v":"HIS"},{"$f":"datpro!$D47","v":"CIV"},{"$f":"datpro!$D48","v":"GEO"},{"$f":"datpro!$D49","v":"CSO"},{"$f":"datpro!$D50","v":"EFD"},{"$f":"datpro!$D51","v":"EMU"},{"$f":"datpro!$D52","v":"APV"},{"$f":"datpro!$D53","v":"MAT"},{"$f":"datpro!$D54","v":"TEC"},{"$f":"datpro!$D55","v":"BIO"},{"$f":"datpro!$D56","v":"GEO"},{"$f":"datpro!$D57","v":"CNA"},{"$f":"datpro!$D58","v":"CNFQ"},{"$f":"datpro!$D59","v":"FIS"},{"$f":"datpro!$D60","v":"QMC"},{"$f":"datpro!$D61","v":"CN.FQ"},{"$f":"datpro!$D62","v":"FIL"},{"$f":"datpro!$D63","v":"PSI"},{"$f":"datpro!$D64","v":"CFP"},{"$f":"datpro!$D65","v":"VER"},{"$f":"datpro!$D66","v":"PROM."},"REPROBADAS",null,null,"SUMAS",{"$f":"datpro!$D44","v":"CYL"},{"$f":"datpro!$D45","v":"LEX"},{"$f":"datpro!$D49","v":"CSO"},{"$f":"datpro!$D50","v":"EFD"},{"$f":"datpro!$D51","v":"EMU"},{"$f":"datpro!$D52","v":"APV"},{"$f":"datpro!$D53","v":"MAT"},{"$f":"datpro!$D54","v":"TEC"},{"$f":"datpro!$D57","v":"CNA"},{"$f":"datpro!$D59","v":"FIS"},{"$f":"datpro!$D60","v":"QMC"},{"$f":"datpro!$D61","v":"CN.FQ"},{"$f":"datpro!$D64","v":"CFP"},{"$f":"datpro!$D65","v":"VER"},{"$f":"datpro!$D66","v":"PROM."}]
[null,null,null,null,null,"Nº","B3","gen ","v1","v2","APELLIDOS Y NOMBRES","=","\u0082","\u0082","\u0082","\u0082","\u0082","\u0082","\u0082","\u0082","\u0082","\u0082","\u0082","\u0082","\u0082","\u0082","\u0082","\u0082","\u0082","\u0082","\u0082","\u0082","\u0082","\u0082","\u0082","\u0082","\u0082",{"$f":"datpro!$M$16","v":13},"=","OBSERVACIONES",null,null,null,null,null,null,null,null,null,null,null,null,null,null,null,null,null,null,null,null,null,null,"INFORME TUTOR"]
[null,null,null,null,null,{"$f":"IF(filEst!F21=\"\",\"\",filEst!F21)","v":""},{"$f":"IF(filEst!G21=\"\",\"\",filEst!G21)","v":""},{"$f":"IF(filEst!L21=\"\",\"\",filEst!L21)","v":""},null,null,{"$f":"IF(filEst!K21=\"\",\"\",filEst!K21)","v":""},null,null,null,null,null,null,null,null,null,null,null,null,null,null,null,null,null,null,null,null,null,null,null,null,null,null,null,{"$f":"IF(P21=\"\",\"\",COUNTIF(M21:AK21,\"<50,50\"))","v":""},null,null,{"$f":"SUM(AQ21:BD21)","v":0},{"$f":"IF(P21=\"\",\"\",P21)","v":""},{"$f":"IF(Q21=\"\",\"\",Q21)","v":""},{"$f":"IF(U21=\"\",\"\",U21)","v":""},"","","","","",{"$f":"IF(AC21=\"\",\"\",AC21)","v":""},{"$f":"IF(AE21=\"\",\"\",AE21)","v":""},{"$f":"IF(AF21=\"\",\"\",AF21)","v":""},null,{"$f":"IF(AJ21=\"\",\"\",AJ21)","v":""},{"$f":"IF(AK21=\"\",\"\",AK21)","v":""},{"$f":"IF(AL21=\"\",\"\",AL21)","v":""},{"$f":"AM21","v":""}]
[null,null,null,null,null,{"$f":"IF(filEst!F22=\"\",\"\",filEst!F22)","v":""},{"$f":"IF(filEst!G22=\"\",\"\",filEst!G22)","v":""},{"$f":"IF(filEst!L22=\"\",\"\",filEst!L22)","v":""},null,null,{"$f":"IF(filEst!K22=\"\",\"\",filEst!K22)","v":""},null,null,null,null,null,null,null,null,null,null,null,null,null,null,null,null,null,null,null,null,null,null,null,null,null,null,null,{"$f":"IF(P22=\"\",\"\",COUNTIF(M22:AK22,\"<50,50\"))","v":""},null,null,{"$f":"SUM(AQ22:BD22)","v":0},{"$f":"IF(P22=\"\",\"\",P22)","v":""},"","","","","","","",{"$f":"IF(AC22=\"\",\"\",AC22)","v":""},{"$f":"IF(AE22=\"\",\"\",AE22)","v":""},"",null,{"$f":"IF(AJ22=\"\",\"\",AJ22)","v":""},"","",{"$f":"AM22","v":""}]
[null,null,null,null,null,{"$f":"IF(filEst!F23=\"\",\"\",filEst!F23)","v":""},{"$f":"IF(filEst!G23=\"\",\"\",filEst!G23)","v":""},{"$f":"IF(filEst!L23=\"\",\"\",filEst!L23)","v":""},null,null,{"$f":"IF(filEst!K23=\"\",\"\",filEst!K23)","v":""},null,null,null,null,null,null,null,null,null,null,null,null,null,null,null,null,null,null,null,null,null,null,null,null,null,null,null,"",null,null,0,"","","","","",{"$f":"IF(X23=\"\",\"\",X23)","v":""},"","","","","",null,"","","",""]
[null,null,null,null,null,{"$f":"IF(filEst!F24=\"\",\"\",filEst!F24)","v":""},{"$f":"IF(filEst!G24=\"\",\"\",filEst!G24)","v":""},{"$f":"IF(filEst!L24=\"\",\"\",filEst!L24)","v":""},null,null,{"$f":"IF(filEst!K24=\"\",\"\",filEst!K24)","v":""},null,null,null,null,null,null,null,null,null,null,null,null,null,null,null,null,null,null,null,null,null,null,null,null,null,null,null,"",null,null,0,"","","","","","","","","","","",null,"","","",""]
[null,null,null,null,null,{"$f":"IF(filEst!F25=\"\",\"\",filEst!F25)","v":""},{"$f":"IF(filEst!G25=\"\",\"\",filEst!G25)","v":""},{"$f":"IF(filEst!L25=\"\",\"\",filEst!L25)","v":""},null,null,{"$f":"IF(filEst!K25=\"\",\"\",filEst!K25)","v":""},null,null,null,null,null,null,null,null,null,null,null,null,null,null,null,null,null,null,null,null,null,null,null,null,null,null,null,"",null,null,0,"","","","","","","","","","","",null,"","","",""]
[null,null,null,null,null,{"$f":"IF(filEst!F26=\"\",\"\",filEst!F26)","v":""},{"$f":"IF(filEst!G26=\"\",\"\",filEst!G26)","v":""},{"$f":"IF(filEst!L26=\"\",\"\",filEst!L26)","v":""},null,null,{"$f":"IF(filEst!K26=\"\",\"\",filEst!K26)","v":""},null,null,null,null,null,null,null,null,null,null,null,null,null,null,null,null,null,null,null,null,null,null,null,null,null,null,null,"",null,null,0,"","","","","","","","","","","",null,"","","",""]
[null,null,null,null,null,{"$f":"IF(filEst!F27=\"\",\"\",filEst!F27)","v":""},{"$f":"IF(filEst!G27=\"\",\"\",filEst!G27)","v":""},{"$f":"IF(filEst!L27=\"\",\"\",filEst!L27)","v":""},null,null,{"$f":"IF(filEst!K27=\"\",\"\",filEst!K27)","v":""},null,null,null,null,null,null,null,null,null,null,null,null,null,null,null,null,null,null,null,null,null,null,null,null,null,null,null,{"$f":"IF(P27=\"\",\"\",COUNTIF(M27:AK27,\"<50,50\"))","v":""},null,null,0,"","","","","","","","","","","",null,"","","",""]
[null,null,null,null,null,{"$f":"IF(filEst!F28=\"\",\"\",filEst!F28)","v":""},{"$f":"IF(filEst!G28=\"\",\"\",filEst!G28)","v":""},{"$f":"IF(filEst!L28=\"\",\"\",filEst!L28)","v":""},null,null,{"$f":"IF(filEst!K28=\"\",\"\",filEst!K28)","v":""},null,null,null,null,null,null,null,null,null,null,null,null,null,null,null,null,null,null,null,null,null,null,null,null,null,null,null,"",null,null,0,"","","","","","","","","","","",null,"","","",""]
[null,null,null,null,null,{"$f":"IF(filEst!F29=\"\",\"\",filEst!F29)","v":""},{"$f":"IF(filEst!G29=\"\",\"\",filEst!G29)","v":""},{"$f":"IF(filEst!L29=\"\",\"\",filEst!L29)","v":""},null,null,{"$f":"IF(filEst!K29=\"\",\"\",filEst!K29)","v":""},null,null,null,null,null,null,null,null,null,null,null,null,null,null,null,null,null,null,null,null,null,null,null,null,null,null,null,"",null,null,0,"","","","","","","","","","","",null,"","","",""]
[null,null,null,null,null,{"$f":"IF(filEst!F30=\"\",\"\",filEst!F30)","v":""},{"$f":"IF(filEst!G30=\"\",\"\",filEst!G30)","v":""},{"$f":"IF(filEst!L30=\"\",\"\",filEst!L30)","v":""},null,null,{"$f":"IF(filEst!K30=\"\",\"\",filEst!K30)","v":""},null,null,null,null,null,null,null,null,null,null,null,null,null,null,null,null,null,null,null,null,null,null,null,null,null,null,null,"",null,null,0,"","","","","","","","","","","",null,"","","",""]
[null,null,null,null,null,{"$f":"IF(filEst!F31=\"\",\"\",filEst!F31)","v":""},{"$f":"IF(filEst!G31=\"\",\"\",filEst!G31)","v":""},{"$f":"IF(filEst!L31=\"\",\"\",filEst!L31)","v":""},null,null,{"$f":"IF(filEst!K31=\"\",\"\",filEst!K31)","v":""},null,null,null,null,null,null,null,null,null,null,null,null,null,null,null,null,null,null,null,null,null,null,null,null,null,null,null,"",null,null,0,"","","","","","","","","","","",null,"","","",""]
[null,null,null,null,null,{"$f":"IF(filEst!F32=\"\",\"\",filEst!F32)","v":""},{"$f":"IF(filEst!G32=\"\",\"\",filEst!G32)","v":""},{"$f":"IF(filEst!L32=\"\",\"\",filEst!L32)","v":""},null,null,{"$f":"IF(filEst!K32=\"\",\"\",filEst!K32)","v":""},null,null,null,null,null,null,null,null,null,null,null,null,null,null,null,null,null,null,null,null,null,null,null,null,null,null,null,"",null,null,0,"","","","","","","","","","","",null,"","","",""]
[null,null,null,null,null,{"$f":"IF(filEst!F33=\"\",\"\",filEst!F33)","v":""},{"$f":"IF(filEst!G33=\"\",\"\",filEst!G33)","v":""},{"$f":"IF(filEst!L33=\"\",\"\",filEst!L33)","v":""},null,null,{"$f":"IF(filEst!K33=\"\",\"\",filEst!K33)","v":""},null,null,null,null,null,null,null,null,null,null,null,null,null,null,null,null,null,null,null,null,null,null,null,null,null,null,null,"",null,null,0,"","","","","","","","","","","",null,"","","",""]
[null,null,null,null,null,{"$f":"IF(filEst!F34=\"\",\"\",filEst!F34)","v":""},{"$f":"IF(filEst!G34=\"\",\"\",filEst!G34)","v":""},{"$f":"IF(filEst!L34=\"\",\"\",filEst!L34)","v":""},null,null,{"$f":"IF(filEst!K34=\"\",\"\",filEst!K34)","v":""},null,null,null,null,null,null,null,null,null,null,null,null,null,null,null,null,null,null,null,null,null,null,null,null,null,null,null,"",null,null,0,"","","","","","","","","","","",null,"","","",""]
[null,null,null,null,null,{"$f":"IF(filEst!F35=\"\",\"\",filEst!F35)","v":""},{"$f":"IF(filEst!G35=\"\",\"\",filEst!G35)","v":""},{"$f":"IF(filEst!L35=\"\",\"\",filEst!L35)","v":""},null,null,{"$f":"IF(filEst!K35=\"\",\"\",filEst!K35)","v":""},null,null,null,null,null,null,null,null,null,null,null,null,null,null,null,null,null,null,null,null,null,null,null,null,null,null,null,"",null,null,0,"","","","","","","","","","","",null,"","","",""]
[null,null,null,null,null,{"$f":"IF(filEst!F36=\"\",\"\",filEst!F36)","v":""},{"$f":"IF(filEst!G36=\"\",\"\",filEst!G36)","v":""},{"$f":"IF(filEst!L36=\"\",\"\",filEst!L36)","v":""},null,null,{"$f":"IF(filEst!K36=\"\",\"\",filEst!K36)","v":""},null,null,null,null,null,null,null,null,null,null,null,null,null,null,null,null,null,null,null,null,null,null,null,null,null,null,null,"",null,null,0,"","","","","","","","","","","",null,"","","",""]
[null,null,null,null,null,{"$f":"IF(filEst!F37=\"\",\"\",filEst!F37)","v":""},{"$f":"IF(filEst!G37=\"\",\"\",filEst!G37)","v":""},{"$f":"IF(filEst!L37=\"\",\"\",filEst!L37)","v":""},null,null,{"$f":"IF(filEst!K37=\"\",\"\",filEst!K37)","v":""},null,null,null,null,null,null,null,null,null,null,null,null,null,null,null,null,null,null,null,null,null,null,null,null,null,null,null,"",null,null,0,"","",{"$f":"IF(U37=\"\",\"\",U37)","v":""},"","","","","","","","",null,"","","",""]
[null,null,null,null,null,{"$f":"IF(filEst!F38=\"\",\"\",filEst!F38)","v":""},{"$f":"IF(filEst!G38=\"\",\"\",filEst!G38)","v":""},{"$f":"IF(filEst!L38=\"\",\"\",filEst!L38)","v":""},null,null,{"$f":"IF(filEst!K38=\"\",\"\",filEst!K38)","v":""},null,null,null,null,null,null,null,null,null,null,null,null,null,null,null,null,null,null,null,null,null,null,null,null,null,null,null,"",null,null,0,"","","","","","","","","","","",null,"","","",""]
[null,null,null,null,null,{"$f":"IF(filEst!F39=\"\",\"\",filEst!F39)","v":""},{"$f":"IF(filEst!G39=\"\",\"\",filEst!G39)","v":""},{"$f":"IF(filEst!L39=\"\",\"\",filEst!L39)","v":""},null,null,{"$f":"IF(filEst!K39=\"\",\"\",filEst!K39)","v":""},null,null,null,null,null,null,null,null,null,null,null,null,null,null,null,null,null,null,null,null,null,null,null,null,null,null,null,"",null,null,0,"","","","","","","","","","","",null,"","","",""]
[null,null,null,null,null,{"$f":"IF(filEst!F40=\"\",\"\",filEst!F40)","v":""},{"$f":"IF(filEst!G40=\"\",\"\",filEst!G40)","v":""},{"$f":"IF(filEst!L40=\"\",\"\",filEst!L40)","v":""},null,null,{"$f":"IF(filEst!K40=\"\",\"\",filEst!K40)","v":""},null,null,null,null,null,null,null,null,null,null,null,null,null,null,null,null,null,null,null,null,null,null,null,null,null,null,null,"",null,null,0,"","","","","","","","","","","",null,"","","",""]
[null,null,null,null,null,{"$f":"IF(filEst!F41=\"\",\"\",filEst!F41)","v":""},{"$f":"IF(filEst!G41=\"\",\"\",filEst!G41)","v":""},{"$f":"IF(filEst!L41=\"\",\"\",filEst!L41)","v":""},null,null,{"$f":"IF(filEst!K41=\"\",\"\",filEst!K41)","v":""},null,null,null,null,null,null,null,null,null,null,null,null,null,null,null,null,null,null,null,null,null,null,null,null,null,null,null,"",null,null,0,"","","","","","","","","","","",null,"","","",""]
[null,null,null,null,null,{"$f":"IF(filEst!F42=\"\",\"\",filEst!F42)","v":""},{"$f":"IF(filEst!G42=\"\",\"\",filEst!G42)","v":""},{"$f":"IF(filEst!L42=\"\",\"\",filEst!L42)","v":""},null,null,{"$f":"IF(filEst!K42=\"\",\"\",filEst!K42)","v":""},null,null,null,null,null,null,null,null,null,null,null,null,null,null,null,null,null,null,null,null,null,null,null,null,null,null,null,"",null,null,0,"","","","","","","","","","","",null,"","","",""]
[null,null,null,null,null,{"$f":"IF(filEst!F43=\"\",\"\",filEst!F43)","v":""},{"$f":"IF(filEst!G43=\"\",\"\",filEst!G43)","v":""},{"$f":"IF(filEst!L43=\"\",\"\",filEst!L43)","v":""},null,null,{"$f":"IF(filEst!K43=\"\",\"\",filEst!K43)","v":""},null,null,null,null,null,null,null,null,null,null,null,null,null,null,null,null,null,null,null,null,null,null,null,null,null,null,null,"",null,null,0,"","","","","","","","","","","",null,"","","",""]
[null,null,null,null,null,{"$f":"IF(filEst!F44=\"\",\"\",filEst!F44)","v":""},{"$f":"IF(filEst!G44=\"\",\"\",filEst!G44)","v":""},{"$f":"IF(filEst!L44=\"\",\"\",filEst!L44)","v":""},null,null,{"$f":"IF(filEst!K44=\"\",\"\",filEst!K44)","v":""},null,null,null,null,null,null,null,null,null,null,null,null,null,null,null,null,null,null,null,null,null,null,null,null,null,null,null,"",null,null,0,"","","","","","","","","","","",null,"","","",""]
[null,null,null,null,null,{"$f":"IF(filEst!F45=\"\",\"\",filEst!F45)","v":""},{"$f":"IF(filEst!G45=\"\",\"\",filEst!G45)","v":""},{"$f":"IF(filEst!L45=\"\",\"\",filEst!L45)","v":""},null,null,{"$f":"IF(filEst!K45=\"\",\"\",filEst!K45)","v":""},null,null,null,null,null,null,null,null,null,null,null,null,null,null,null,null,null,null,null,null,null,null,null,null,null,null,null,"",null,null,0,"","","","","","","","","","","",null,"","","",""]
[null,null,null,null,null,{"$f":"IF(filEst!F46=\"\",\"\",filEst!F46)","v":""},{"$f":"IF(filEst!G46=\"\",\"\",filEst!G46)","v":""},{"$f":"IF(filEst!L46=\"\",\"\",filEst!L46)","v":""},null,null,{"$f":"IF(filEst!K46=\"\",\"\",filEst!K46)","v":""},null,null,null,null,null,null,null,null,null,null,null,null,null,null,null,null,null,null,null,null,null,null,null,null,null,null,null,"",null,null,0,"","","","","","","","","","","",null,"","","",""]
[null,null,null,null,null,{"$f":"IF(filEst!F47=\"\",\"\",filEst!F47)","v":""},{"$f":"IF(filEst!G47=\"\",\"\",filEst!G47)","v":""},{"$f":"IF(filEst!L47=\"\",\"\",filEst!L47)","v":""},null,null,{"$f":"IF(filEst!K47=\"\",\"\",filEst!K47)","v":""},null,null,null,null,null,null,null,null,null,null,null,null,null,null,null,null,null,null,null,null,null,null,null,null,null,null,null,"",null,null,0,"","","","","","","","","","","",null,"","","",""]
[null,null,null,null,null,{"$f":"IF(filEst!F48=\"\",\"\",filEst!F48)","v":""},{"$f":"IF(filEst!G48=\"\",\"\",filEst!G48)","v":""},{"$f":"IF(filEst!L48=\"\",\"\",filEst!L48)","v":""},null,null,{"$f":"IF(filEst!K48=\"\",\"\",filEst!K48)","v":""},null,null,null,null,null,null,null,null,null,null,null,null,null,null,null,null,null,null,null,null,null,null,null,null,null,null,null,"",null,null,0,"","","","","","","","","","","",null,"","","",""]
[null,null,null,null,null,{"$f":"IF(filEst!F49=\"\",\"\",filEst!F49)","v":""},{"$f":"IF(filEst!G49=\"\",\"\",filEst!G49)","v":""},{"$f":"IF(filEst!L49=\"\",\"\",filEst!L49)","v":""},null,null,{"$f":"IF(filEst!K49=\"\",\"\",filEst!K49)","v":""},null,null,null,null,null,null,null,null,null,null,null,null,null,null,null,null,null,null,null,null,null,null,null,null,null,null,null,"",null,null,0,"","","","","","","","","","","",null,"","","",""]
[null,null,null,null,null,{"$f":"IF(filEst!F50=\"\",\"\",filEst!F50)","v":""},{"$f":"IF(filEst!G50=\"\",\"\",filEst!G50)","v":""},{"$f":"IF(filEst!L50=\"\",\"\",filEst!L50)","v":""},null,null,{"$f":"IF(filEst!K50=\"\",\"\",filEst!K50)","v":""},null,null,null,null,null,null,null,null,null,null,null,null,null,null,null,null,null,null,null,null,null,null,null,null,null,null,null,"",null,null,0,"","","","","","","","","","","",null,"","","",""]
[null,null,null,null,null,{"$f":"IF(filEst!F51=\"\",\"\",filEst!F51)","v":""},{"$f":"IF(filEst!G51=\"\",\"\",filEst!G51)","v":""},{"$f":"IF(filEst!L51=\"\",\"\",filEst!L51)","v":""},null,null,{"$f":"IF(filEst!K51=\"\",\"\",filEst!K51)","v":""},null,null,null,null,null,null,null,null,null,null,null,null,null,null,null,null,null,null,null,null,null,null,null,null,null,null,null,"",null,null,0,"","","","","","","","","","","",null,"","","",""]
[null,null,null,null,null,{"$f":"IF(filEst!F52=\"\",\"\",filEst!F52)","v":""},{"$f":"IF(filEst!G52=\"\",\"\",filEst!G52)","v":""},{"$f":"IF(filEst!L52=\"\",\"\",filEst!L52)","v":""},null,null,{"$f":"IF(filEst!K52=\"\",\"\",filEst!K52)","v":""},null,null,null,null,null,null,null,null,null,null,null,null,null,null,null,null,null,null,null,null,null,null,null,null,null,null,null,"",null,null,0,"","","","","","","","","","","",null,"","","",""]
[null,null,null,null,null,{"$f":"IF(filEst!F53=\"\",\"\",filEst!F53)","v":""},{"$f":"IF(filEst!G53=\"\",\"\",filEst!G53)","v":""},{"$f":"IF(filEst!L53=\"\",\"\",filEst!L53)","v":""},null,null,{"$f":"IF(filEst!K53=\"\",\"\",filEst!K53)","v":""},null,null,null,null,null,null,null,null,null,null,null,null,null,null,null,null,null,null,null,null,null,null,null,null,null,null,null,"",null,null,0,"","","","","","","","","","","",null,"","","",""]
[null,null,null,null,null,{"$f":"IF(filEst!F54=\"\",\"\",filEst!F54)","v":""},{"$f":"IF(filEst!G54=\"\",\"\",filEst!G54)","v":""},{"$f":"IF(filEst!L54=\"\",\"\",filEst!L54)","v":""},null,null,{"$f":"IF(filEst!K54=\"\",\"\",filEst!K54)","v":""},null,null,null,null,null,null,null,null,null,null,null,null,null,null,null,null,null,null,null,null,null,null,null,null,null,null,null,"",null,null,0,"","","","","","","","","","","",null,"","","",""]
[null,null,null,null,null,{"$f":"IF(filEst!F55=\"\",\"\",filEst!F55)","v":""},{"$f":"IF(filEst!G55=\"\",\"\",filEst!G55)","v":""},{"$f":"IF(filEst!L55=\"\",\"\",filEst!L55)","v":""},null,null,{"$f":"IF(filEst!K55=\"\",\"\",filEst!K55)","v":""},null,null,null,null,null,null,null,null,null,null,null,null,null,null,null,null,null,null,null,null,null,null,null,null,null,null,null,"",null,null,0,"","","","","","","","","","","",null,"","","",""]
[null,null,null,null,null,{"$f":"IF(filEst!F56=\"\",\"\",filEst!F56)","v":""},{"$f":"IF(filEst!G56=\"\",\"\",filEst!G56)","v":""},{"$f":"IF(filEst!L56=\"\",\"\",filEst!L56)","v":""},null,null,{"$f":"IF(filEst!K56=\"\",\"\",filEst!K56)","v":""},null,null,null,null,null,null,null,null,null,null,null,null,null,null,null,null,null,null,null,null,null,null,null,null,null,null,null,"",null,null,0,"","","","","","","","","","","",null,"","","",""]
[null,null,null,null,null,{"$f":"IF(filEst!F57=\"\",\"\",filEst!F57)","v":""},{"$f":"IF(filEst!G57=\"\",\"\",filEst!G57)","v":""},{"$f":"IF(filEst!L57=\"\",\"\",filEst!L57)","v":""},null,null,{"$f":"IF(filEst!K57=\"\",\"\",filEst!K57)","v":""},null,null,null,null,null,null,null,null,null,null,null,null,null,null,null,null,null,null,null,null,null,null,null,null,null,null,null,"",null,null,0,"","","","","","","","","","","",null,"","","",""]
[null,null,null,null,null,{"$f":"IF(filEst!F58=\"\",\"\",filEst!F58)","v":""},{"$f":"IF(filEst!G58=\"\",\"\",filEst!G58)","v":""},{"$f":"IF(filEst!L58=\"\",\"\",filEst!L58)","v":""},null,null,{"$f":"IF(filEst!K58=\"\",\"\",filEst!K58)","v":""},null,null,null,null,null,null,null,null,null,null,null,null,null,null,null,null,null,null,null,null,null,null,null,null,null,null,null,"",null,null,0,"","","","","","","","","","","",null,"","","",""]
[null,null,null,null,null,{"$f":"IF(filEst!F59=\"\",\"\",filEst!F59)","v":""},{"$f":"IF(filEst!G59=\"\",\"\",filEst!G59)","v":""},{"$f":"IF(filEst!L59=\"\",\"\",filEst!L59)","v":""},null,null,{"$f":"IF(filEst!K59=\"\",\"\",filEst!K59)","v":""},null,null,null,null,null,null,null,null,null,null,null,null,null,null,null,null,null,null,null,null,null,null,null,null,null,null,null,"",null,null,0,"","","","","","","","","","","",null,"","","",""]
[null,null,null,null,null,{"$f":"IF(filEst!F60=\"\",\"\",filEst!F60)","v":""},{"$f":"IF(filEst!G60=\"\",\"\",filEst!G60)","v":""},{"$f":"IF(filEst!L60=\"\",\"\",filEst!L60)","v":""},null,null,{"$f":"IF(filEst!K60=\"\",\"\",filEst!K60)","v":""},null,null,null,null,null,null,null,null,null,null,null,null,null,null,null,null,null,null,null,null,null,null,null,null,null,null,null,"",null,null,0,"","","","","","","","","","","",null,"","","",""]
[null,null,null,null,null,{"$f":"IF(filEst!F61=\"\",\"\",filEst!F61)","v":""},{"$f":"IF(filEst!G61=\"\",\"\",filEst!G61)","v":""},{"$f":"IF(filEst!L61=\"\",\"\",filEst!L61)","v":""},null,null,{"$f":"IF(filEst!K61=\"\",\"\",filEst!K61)","v":""},null,null,null,null,null,null,null,null,null,null,null,null,null,null,null,null,null,null,null,null,null,null,null,null,null,null,null,"",null,null,0,"","","","","","","","","","","",null,"","","",""]
[null,null,null,null,null,{"$f":"IF(filEst!F62=\"\",\"\",filEst!F62)","v":""},{"$f":"IF(filEst!G62=\"\",\"\",filEst!G62)","v":""},{"$f":"IF(filEst!L62=\"\",\"\",filEst!L62)","v":""},null,null,{"$f":"IF(filEst!K62=\"\",\"\",filEst!K62)","v":""},null,null,null,null,null,null,null,null,null,null,null,null,null,null,null,null,null,null,null,null,null,null,null,null,null,null,null,"",null,null,0,"","","","","","","","","","","",null,"","","",""]
[null,null,null,null,null,{"$f":"IF(filEst!F63=\"\",\"\",filEst!F63)","v":""},{"$f":"IF(filEst!G63=\"\",\"\",filEst!G63)","v":""},{"$f":"IF(filEst!L63=\"\",\"\",filEst!L63)","v":""},null,null,{"$f":"IF(filEst!K63=\"\",\"\",filEst!K63)","v":""},null,null,null,null,null,null,null,null,null,null,null,null,null,null,null,null,null,null,null,null,null,null,null,null,null,null,null,"",null,null,0,"","","","","","","","","","","",null,"","","",""]
[null,null,null,null,null,{"$f":"IF(filEst!F64=\"\",\"\",filEst!F64)","v":""},{"$f":"IF(filEst!G64=\"\",\"\",filEst!G64)","v":""},{"$f":"IF(filEst!L64=\"\",\"\",filEst!L64)","v":""},null,null,{"$f":"IF(filEst!K64=\"\",\"\",filEst!K64)","v":""},null,null,null,null,null,null,null,null,null,null,null,null,null,null,null,null,null,null,null,null,null,null,null,null,null,null,null,"",null,null,0,"","","","","","","","","","","",null,"","","",""]
[null,null,null,null,null,{"$f":"IF(filEst!F65=\"\",\"\",filEst!F65)","v":""},{"$f":"IF(filEst!G65=\"\",\"\",filEst!G65)","v":""},{"$f":"IF(filEst!L65=\"\",\"\",filEst!L65)","v":""},null,null,{"$f":"IF(filEst!K65=\"\",\"\",filEst!K65)","v":""},null,null,null,null,null,null,null,null,null,null,null,null,null,null,null,null,null,null,null,null,null,null,null,null,null,null,null,"",null,null,0,"","","","","","","","","","","",null,"","","",""]
[null,null,null,null,null,{"$f":"IF(filEst!F66=\"\",\"\",filEst!F66)","v":""},{"$f":"IF(filEst!G66=\"\",\"\",filEst!G66)","v":""},{"$f":"IF(filEst!L66=\"\",\"\",filEst!L66)","v":""},null,null,{"$f":"IF(filEst!K66=\"\",\"\",filEst!K66)","v":""},null,null,null,null,null,null,null,null,null,null,null,null,null,null,null,null,null,null,null,null,null,null,null,null,null,null,null,"",null,null,0,"","","","","","","","","","","",null,"","","",""]
[null,null,null,null,null,{"$f":"IF(filEst!F67=\"\",\"\",filEst!F67)","v":""},{"$f":"IF(filEst!G67=\"\",\"\",filEst!G67)","v":""},{"$f":"IF(filEst!L67=\"\",\"\",filEst!L67)","v":""},null,null,{"$f":"IF(filEst!K67=\"\",\"\",filEst!K67)","v":""},null,null,null,null,null,null,null,null,null,null,null,null,null,null,null,null,null,null,null,null,null,null,null,null,null,null,null,"",null,null,0,"","","","","","","","","","","",null,"","","",""]
[null,null,null,null,null,{"$f":"IF(filEst!F68=\"\",\"\",filEst!F68)","v":""},{"$f":"IF(filEst!G68=\"\",\"\",filEst!G68)","v":""},{"$f":"IF(filEst!L68=\"\",\"\",filEst!L68)","v":""},null,null,{"$f":"IF(filEst!K68=\"\",\"\",filEst!K68)","v":""},null,null,null,null,null,null,null,null,null,null,null,null,null,null,null,null,null,null,null,null,null,null,null,null,null,null,null,"",null,null,0,"","","","","","","","","","","",null,"","","",""]
[null,null,null,null,null,{"$f":"IF(filEst!F69=\"\",\"\",filEst!F69)","v":""},{"$f":"IF(filEst!G69=\"\",\"\",filEst!G69)","v":""},{"$f":"IF(filEst!L69=\"\",\"\",filEst!L69)","v":""},null,null,{"$f":"IF(filEst!K69=\"\",\"\",filEst!K69)","v":""},null,null,null,null,null,null,null,null,null,null,null,null,null,null,null,null,null,null,null,null,null,null,null,null,null,null,null,"",null,null,0,"","","","","","","","","","","",null,"","","",""]
[null,null,null,null,null,{"$f":"IF(filEst!F70=\"\",\"\",filEst!F70)","v":""},{"$f":"IF(filEst!G70=\"\",\"\",filEst!G70)","v":""},{"$f":"IF(filEst!L70=\"\",\"\",filEst!L70)","v":""},null,null,{"$f":"IF(filEst!K70=\"\",\"\",filEst!K70)","v":""},null,null,null,null,null,null,null,null,null,null,null,null,null,null,null,null,null,null,null,null,null,null,null,null,null,null,null,"",null,null,0,"","","","","","","","","","","",null,"","","",""]
[null,null,null,null,null,null,"Tinscritos",{"$f":"COUNTIF($K21:$K70,\"\")","v":50},{"$f":"$H$73-H71","v":0},{"$f":"I71-I72","v":0},"PROMEDIO DE APROVECHAMIENTO  ",null,{"$f":"IF($J$71=\"\",\"\",IF($J$71=0,\"\",ROUND(((SUM(M21:M70))/$J$71),0)))","v":""},{"$f":"IF($J$71=\"\",\"\",IF($J$71=0,\"\",ROUND(((SUM(N21:N70))/$J$71),0)))","v":""},{"$f":"IF($J$71=\"\",\"\",IF($J$71=0,\"\",ROUND(((SUM(O21:O70))/$J$71),0)))","v":""},{"$f":"IF($J$71=\"\",\"\",IF($J$71=0,\"\",ROUND(((SUM(P21:P70))/$J$71),0)))","v":""},{"$f":"IF($J$71=\"\",\"\",IF($J$71=0,\"\",ROUND(((SUM(Q21:Q70))/$J$71),0)))","v":""},{"$f":"IF($J$71=\"\",\"\",IF($J$71=0,\"\",ROUND(((SUM(R21:R70))/$J$71),0)))","v":""},"","","","","","","","","","","","","","","","","","","",{"$f":"IF($J$71=\"\",\"\",IF($J$71=0,\"\",ROUND(((SUM(AL21:AL70))/$J$71),$BJ$9)))","v":""}]
[null,null,null,null,null,null,"Tretirados",{"$f":"COUNTIF(AL21:AL70,\"\")","v":50},{"$f":"$H$72-H71","v":0},null,"NUMERO DE PROMOVIDOS  ",null,{"$f":"IF(M71=\"\",\"\",IF(M71=0,\"\",COUNTIF(M21:M70,\">=50,50\")))","v":""},{"$f":"IF(N71=\"\",\"\",IF(N71=0,\"\",COUNTIF(N21:N70,\">=50,50\")))","v":""},{"$f":"IF(O71=\"\",\"\",IF(O71=0,\"\",COUNTIF(O21:O70,\">=50,50\")))","v":""},{"$f":"IF(P71=\"\",\"\",IF(P71=0,\"\",COUNTIF(P21:P70,\">=50,50\")))","v":""},{"$f":"IF(Q71=\"\",\"\",IF(Q71=0,\"\",COUNTIF(Q21:Q70,\">=50,50\")))","v":""},{"$f":"IF(R71=\"\",\"\",IF(R71=0,\"\",COUNTIF(R21:R70,\">=50,50\")))","v":""},"","","","","","","","","","","","","","","","","","",""]
[null,null,null,null,null,null,"Tregistro",50,null,null,"NUMERO DE RETENIDOS  ",null,{"$f":"IF(M71=\"\",\"\",IF(M71=0,\"\",COUNTIF(M21:M70,\"<50,50\")))","v":""},{"$f":"IF(N71=\"\",\"\",IF(N71=0,\"\",COUNTIF(N21:N70,\"<50,50\")))","v":""},{"$f":"IF(O71=\"\",\"\",IF(O71=0,\"\",COUNTIF(O21:O70,\"<50,50\")))","v":""},{"$f":"IF(P71=\"\",\"\",IF(P71=0,\"\",COUNTIF(P21:P70,\"<50,50\")))","v":""},{"$f":"IF(Q71=\"\",\"\",IF(Q71=0,\"\",COUNTIF(Q21:Q70,\"<50,50\")))","v":""},{"$f":"IF(R71=\"\",\"\",IF(R71=0,\"\",COUNTIF(R21:R70,\"<50,50\")))","v":""},"","","","","","","","","","","","","","","","","","",""]
[null,null,null,null,null,null,null,null,null,null,"PORCENTAJE DE PROMOVIDOS  ",null,{"$f":"IF(M72=\"\",\"\",IF(M72=0,\"\",(M72*100)/$J$71))","v":""},{"$f":"IF(N72=\"\",\"\",IF(N72=0,\"\",(N72*100)/$J$71))","v":""},"","","","","","","","","","","","","","","","","","","","","","",""]
[null,null,null,null,null,null,null,null,null,null,"PORCENTAJE DE RETENIDOS  ",null,{"$f":"IF(M73=\"\",\"\",IF(M73=0,\"\",100-M74))","v":""},{"$f":"IF(N73=\"\",\"\",IF(N73=0,\"\",100-N74))","v":""},"","",{"$f":"IF(Q73=\"\",\"\",IF(Q73=0,\"\",100-Q74))","v":""},"","","","","","","","","","","","","","","","","","","",""]
[]
[]
[]
[]
[]
[null,null,null,null,null,null,"select_load",{"$f":"main!$AE$10","v":50}]
[null,null,null,null,null,null,"actual_save"]
[]
[]
[]
[]
[]
[]
[]
[]
[]
[]
[]
[]
[]
[]
[]
[]
[]
[]
[null,null,null,null,null,null,"alto de fila",10]
[null,null,null,null,null,null,"ancho col nro",1]
[null,null,null,null,null,null,"ancho col est",25]
[null,null,null,null,null,null,"ancho col indicadores",2]
[null,null,null,null,null,null,"ancho col prom ind",2.5]
[null,null,null,null,null,null,"ancho nota prof",3.3]
[null,null,null,null,null,null,"ancho nota bim",2.5]
[null,null,null,null,null,null,"tamaño fuente",8]
[null,null,null,null,null,null,"alto indicador",120]
[null,null,null,null,null,null,"bimestre",4]
[null,null,null,null,null,null,"nroest",17]
[null,null,null,null,null,null,"hiden_cri_eva",1]
[null,null,null,null,null,null,"alto fila crieva",80]
[null,null,null,null,null,null,"alto fila actv",80]
[null,null,null,null,null,null,"paneles",0]
[null,null,null,null,null,null,"title_cbx",1]
[null,null,null,null,null,null,"sit_bim_abrv",0.5]
[null,null,null,null,null,null,"cod_area"]
[null,null,null,null,null,null,"hiden_actividedes",1]
[null,null,null,null,null,null,"minedu",1]
[null,null,null,null,null,null,"distjs",0]
[null,null,null,null,null,null,null,0]

{"sheet":"infTut","index":21,"n_rows":169,"n_cols":31,"rows_kept":169,"cut":false,"hidden":false,"merged":[[1,5,1,28],[72,10,72,11],[73,10,73,11],[74,10,74,11],[70,10,70,11],[71,10,71,11]]}
[]
[null,null,null,null,null,"REPORTE 1º TRIMESTRE",null,null,null,null,null,null,null,null,null,null,null,null,null,null,null,null,null,null,null,null,null,null,null,"Ξ","Cerrar"]
[null,null,null,null,null,null,{"$f":"datpro!$E$6","v":0},"sie",null,null,"UNIDAD EDUCATIVA ",null,{"$f":"datpro!$E$7","v":0},null,null,null,null,null,null,null,null,null,null,null,null,null,null,null,null,"Å","Volver Tri 1"]
[null,null,null,null,null,null,{"$f":"datpro!$M$14","v":50},"nroEst",null,null,"NIVEL ",null,{"$f":"datpro!$E$10","v":""},null,null,null,null,null,null,null,null,null,null,null,null,null,null,null,null,"Å","Volver Tri 2"]
[null,null,null,null,null,null,{"$f":"datpro!$C$12","v":"S"},"par",null,null,"AÑO DE ESCOLARIDAD",null,{"$f":"CONCATENATE( datpro!$E$11,\"  -  \",datpro!$E$12)","v":"  -  "},null,null,null,null,null,null,null,null,null,null,null,null,null,null,null,null,"Å","Volver Tri 3"]
[null,null,null,null,null,null,{"$f":"DAY(TODAY())","v":6},"dia",null,null,"DIRECTORA/OR",null,{"$f":"datpro!$E$8","v":0},null,null,null,null,null,null,null,null,null,null,null,null,null,null,null,null,"Å","Volver Anual"]
[null,null,null,null,null,null,{"$f":"MONTH(TODAY())","v":3},"mes",null,null,"MAESTRA/O",null,{"$f":"datpro!$E$9","v":0}]
[null,null,null,null,null,null,1,"tri"]
[null,null,null,null,null,null,{"$f":"datpro!$E$15","v":""},"cod"]
[null,null,null,null,null,null,{"$f":"datpro!$M$16","v":13},"nroAre"]
[null,null,null,null,null,null,{"$f":"datpro!$C$10","v":"S"},"nivel"]
[null,null,null,null,null,null,"CB1","shet"]
[]
[null,null,null,null,null,null,null,null,null,null,null,null,"CAcyl"]
[null,null,null,null,null,null,"F21:AB70","AB",null,null,null,null,1,null,2,3,4,5,6,7,8,null,null,null,null,9]
[null,null,null,null,null,null,null,null,null,null,null,null,"ValB1",null,"ValB1","ValB1","ValB1","ValB1","ValB1","ValB1","ValB1",null,null,null,null,"ValB1"]
[null,null,null,null,null,null,null,null,null,null,null,null,{"$f":"datpro!$H$44","v":1},{"$f":"datpro!$H$45","v":0},{"$f":"datpro!$H$49","v":1},{"$f":"datpro!$H$50","v":1},{"$f":"datpro!$H$51","v":1},{"$f":"datpro!$H$52","v":1},{"$f":"datpro!$H$53","v":1},{"$f":"datpro!$H$54","v":1},{"$f":"datpro!$H$57","v":1},{"$f":"datpro!$H$59","v":0},{"$f":"datpro!$H$60","v":0},{"$f":"datpro!$H$61","v":0},{"$f":"datpro!$H$64","v":0},{"$f":"datpro!$H$65","v":1}]
[null,null,null,null,null,null,null,null,null,null,null,null,{"$f":"datpro!$E44","v":"COMUNICACIÓN Y LENGUAJES "},{"$f":"datpro!$E45","v":"LENGUA EXTRANJERA"},{"$f":"datpro!$E49","v":"CIENCIAS SOCIALES"},{"$f":"datpro!$E50","v":"EDUCACION FISICA Y DEPORTES"},{"$f":"datpro!$E51","v":"EDUCACION MUSICAL"},{"$f":"datpro!$E52","v":"ARTES PLASTICAS Y VISUALES"},{"$f":"datpro!$E53","v":"MATEMATICAS"},{"$f":"datpro!$E54","v":"TECNICA TECNOLOGIA"},{"$f":"datpro!$E57","v":"CIENCIAS NATURALES"},{"$f":"datpro!$E59","v":"FISICA"},{"$f":"datpro!$E60","v":"QUIMICA"},{"$f":"datpro!$E61","v":0},{"$f":"datpro!$E64","v":"COSMOVISIONES, FILOSOFIA O PSICOLOGIA"},{"$f":"datpro!$E65","v":"VALORES, ESPIRITUALIDAD Y RELIGIONES"},{"$f":"datpro!$E66","v":"PROMEDIO"},"REPROBADAS"]
[null,null,null,null,null,null,"COD",null,null,null,null,null,{"$f":"datpro!$D44","v":"CYL"},{"$f":"datpro!$D45","v":"LEX"},{"$f":"datpro!$D49","v":"CSO"},{"$f":"datpro!$D50","v":"EFD"},{"$f":"datpro!$D51","v":"EMU"},{"$f":"datpro!$D52","v":"APV"},{"$f":"datpro!$D53","v":"MAT"},{"$f":"datpro!$D54","v":"TEC"},{"$f":"datpro!$D57","v":"CNA"},{"$f":"datpro!$D59","v":"FIS"},{"$f":"datpro!$D60","v":"QMC"},{"$f":"datpro!$D61","v":"CN.FQ"},{"$f":"datpro!$D64","v":"CFP"},{"$f":"datpro!$D65","v":"VER"},{"$f":"datpro!$D66","v":"PROM."},"REPROBADAS"]
[null,null,null,null,null,"Nº","B1","gen ","v1","v2","APELLIDOS Y NOMBRES"]
[]
[]
[]
[]
[]
[]
[]
[]
[]
[]
[]
[]
[]
[]
[]
[]
[]
[]
[]
[]
[]
[]
[]
[]
[]
[]
[]
[]
[]
[]
[]
[]
[]
[]
[]
[]
[]
[]
[]
[]
[]
[]
[]
[]
[]
[]
[]
[]
[]
[]
[]
[]
[]
[]
[]
[]
[]
[]
[]
[]
[null,null,null,null,null,null,"select_load",{"$f":"main!$AE$10","v":50}]
[null,null,null,null,null,null,"actual_save",{"$f":"main!$AE$17","v":0}]
[]
[]
[]
[]
[]
[]
[]
[]
[]
[]
[]
[]
[]
[]
[]
[]
[]
[]
[]
[]
[]
[]
[]
[]
[]
[]
[]
[]
[]
[]
[]
[]
[]
[]
[]
[]
[]
[]
[null,null,54]
[null,null,51]
[null,null,44]
[null,null,52]
[null,null,52]
[null,null,49]
[null,null,51]
[null,null,51]
[null,null,49]
[null,null,53]
[null,null,50]
[null,null,47]
[null,null,53]
[null,null,51]
[null,null,60]
[null,null,52]
[null,null,54]
[null,null,55]
[null,null,56]
[null,null,51]
[null,null,53]
[null,null,51]
[null,null,59]
[null,null,49]
[null,null,49]
[null,null,39]
[null,null,58]
[null,null,49]
[null,null,50]
[null,null,55]
[null,null,48]
[null,null,53]
[null,null,50]
[null,null,46]
[null,null,49]
[null,null,56]
[null,null,56]
[null,null,49]
[null,null,47]
[null,null,49]
[null,null,52]
[null,null,56]
[null,null,49]
[null,null,45]
[null,null,50]
[null,null,58]
[null,null,44]
[null,null,56]
[null,null,46]

{"sheet":"CADT","index":22,"n_rows":82,"n_cols":118,"rows_kept":82,"cut":false,"hidden":false,"merged":[[3,11,3,41],[2,11,2,41],[8,11,8,41],[7,11,7,41],[6,11,6,41],[5,11,5,41],[4,11,4,41],[1,5,1,92],[67,10,67,11],[68,10,68,11],[69,10,69,11],[16,11,18,11],[65,10,65,11],[66,10,66,11],[54,10,54,11],[48,10,48,11],[37,10,37,11],[38,10,38,11],[39,10,39,11],[40,10,40,11],[41,10,41,11],[42,10,42,11],[43,10,43,11],[49,10,49,11],[50,10,50,11],[51,10,51,11],[52,10,52,11],[53,10,53,11],[61,10,61,11],[62,10,62,11],[63,10,63,11],[64,10,64,11],[55,10,55,11],[56,10,56,11],[57,10,57,11],[58,10,58,11],[59,10,59,11],[60,10,60,11],[46,10,46,11],[47,10,47,11],[20,10,20,11],[21,10,21,11],[22,10,22,11],[23,10,23,11],[36,10,36,11],[25,10,25,11],[26,10,26,11],[27,10,27,11],[28,10,28,11],[29,10,29,11],[30,10,30,11],[31,10,31,11],[16,98,19,98],[16,12,18,16],[16,17,18,21],[44,10,44,11],[45,10,45,11],[19,10,19,11],[16,22,18,26],[16,27,18,31],[16,32,18,36],[16,96,19,96],[32,10,32,11],[33,10,33,11],[34,10,34,11],[35,10,35,11],[24,10,24,11],[16,117,19,117],[16,113,19,113],[16,72,18,76],[16,77,18,81],[16,82,18,86],[16,87,18,91],[16,102,19,102],[16,94,19,94],[16,95,19,95],[16,99,19,99],[16,100,19,100],[16,101,19,101],[16,110,19,110],[16,103,19,103],[16,104,19,104],[16,105,19,105],[16,112,19,112],[16,114,19,114],[16,115,19,115],[16,116,19,116],[16,37,18,41],[16,42,18,46],[16,47,18,51],[16,52,18,56],[16,57,18,61],[16,62,18,66],[16,67,18,71],[16,106,19,106],[16,108,19,108],[16,109,19,109],[16,107,19,107],[16,97,19,97]]}
[]
[null,null,null,null,null,"CENTRALIZADOR DETALLO DEL TUTOR  -  GESTION 2023"]
[null,null,null,null,null,null,"UE",null,null,null,"UNIDAD EDUCATIVA ",{"$f":"datpro!$E$7","v":0}]
[null,null,null,null,null,null,{"$f":"datpro!$M$14","v":50},null,null,null,"NIVEL ",{"$f":"datpro!$E$10","v":""}]
[null,null,null,null,null,null,"S2D",null,null,null,"AÑO DE ESCOLARIDAD",{"$f":"CONCATENATE( datpro!$E$11,\"  -  \",datpro!$E$12)","v":"  -  "}]
[null,null,null,null,null,null,null,null,null,null,"DIRECTORA/OR",{"$f":"datpro!$E$8","v":0}]
[null,null,null,null,null,null,"MAE",null,null,null,"MAESTRA/O",{"$f":"datpro!$E$9","v":0}]
[]
[null,null,null,null,"Ξ",null,"LEX"]
[]
[]
[]
[]
[]
[null,null,null,null,null,null,"F21:CO70","CO"]
[null,null,null,null,null,null,null,null,null,null,null,null,null,null,null,null,null,null,null,null,null,null,null,null,null,null,null,null,null,null,null,null,null,null,null,null,null,null,null,null,null,null,null,null,null,null,null,null,null,null,null,null,null,null,null,null,null,null,null,null,null,null,null,null,null,null,null,null,null,null,null,null,null,null,null,null,null,null,null,null,null,null,null,null,null,null,null,null,null,null,null,null,null,null,"Q","V",null,null,null,"AA","AF","AK","AP","AU","AZ","BE","BJ","BO","BT","BY"]
[null,null,null,null,null,null,null,null,null,null,null,"AREAS",{"$f":"datpro!$E44","v":"COMUNICACIÓN Y LENGUAJES "},null,null,null,null,{"$f":"datpro!$E45","v":"LENGUA EXTRANJERA"},null,null,null,null,{"$f":"datpro!$E46","v":"HISTORIA"},null,null,null,null,{"$f":"datpro!$E47","v":"CIVICA"},null,null,null,null,{"$f":"datpro!$E48","v":"GEOGRAFIA"},null,null,null,null,{"$f":"datpro!$E49","v":"CIENCIAS SOCIALES"},null,null,null,null,{"$f":"datpro!$E50","v":"EDUCACION FISICA Y DEPORTES"},null,null,null,null,{"$f":"datpro!$E51","v":"EDUCACION MUSICAL"},null,null,null,null,{"$f":"datpro!$E52","v":"ARTES PLASTICAS Y VISUALES"},null,null,null,null,{"$f":"datpro!$E53","v":"MATEMATICAS"},null,null,null,null,{"$f":"datpro!$E54","v":"TECNICA TECNOLOGIA"},null,null,null,null,{"$f":"datpro!$E57","v":"CIENCIAS NATURALES"},null,null,null,null,{"$f":"datpro!$E59","v":"FISICA"},null,null,null,null,{"$f":"datpro!$E60","v":"QUIMICA"},null,null,null,null,{"$f":"datpro!$E64","v":"COSMOVISIONES, FILOSOFIA O PSICOLOGIA"},null,null,null,null,{"$f":"datpro!$E65","v":"VALORES, ESPIRITUALIDAD Y RELIGIONES"},null,null,null,null,{"$f":"CQ9","v":0},null,"cyl","lex","his","civ","geo","cso","efd","emu","apv","mst","ttec","cnbg","fis","qmc","cfp","ver","prom",null,"NRO","ESTUDIANTE","CB1","CB2","CB3","B4"]
[null,null,null,null,null,null,null,null,null,null,null,null,null,null,null,null,null,null,null,null,null,null,null,null,null,null,null,null,null,null,null,null,null,null,null,null,null,null,null,null,null,null,null,null,null,null,null,null,null,null,null,null,null,null,null,null,null,null,null,null,null,null,null,null,null,null,null,null,null,null,null,null,null,null,null,null,null,null,null,null,null,null,null,null,null,null,null,null,null,null,null,null,0]
[null,null,null,null,null,null,null,null,null,null,null,null,null,null,null,null,null,null,null,null,null,null,null,null,null,null,null,null,null,null,null,null,null,null,null,null,null,null,null,null,null,null,null,null,null,null,null,null,null,null,null,null,null,null,null,null,null,null,null,null,null,null,null,null,null,null,null,null,null,null,null,null,null,null,null,null,null,null,null,null,null,null,null,null,null,null,null,null,null,null,null,null,{"$f":"datpro!$M$16","v":13}]
[null,null,null,null,null,"Nº","CADT",null,null,null,"APELLIDOS Y NOMBRES",null,"T1","T2","T3","B4","PA","T1","T2","T3","B4","PA","T1","T2","T3","B4","PA","T1","T2","T3","B4","PA","T1","T2","T3","B4","PA","T1","T2","T3","B4","PA","T1","T2","T3","B4","PA","T1","T2","T3","B4","PA","T1","T2","T3","B4","PA","T1","T2","T3","B4","PA","T1","T2","T3","B4","PA","T1","T2","T3","B4","PA","T1","T2","T3","B4","PA","T1","T2","T3","B4","PA","T1","T2","T3","B4","PA","T1","T2","T3","B4","PA","P.F."]
[null,null,null,null,null,{"$f":"IF(filEst!F21=\"\",\"\",filEst!F21)","v":""},{"$f":"IF(filEst!G21=\"\",\"\",filEst!G21)","v":""},{"$f":"IF(filEst!L21=\"\",\"\",filEst!L21)","v":""},null,null,{"$f":"IF(filEst!K21=\"\",\"\",filEst!K21)","v":""},null,{"$f":"IF('CB1'!$P21=\"\",\"\",'CB1'!$P21)","v":""},{"$f":"IF('CB2'!$P21=\"\",\"\",'CB2'!$P21)","v":""},{"$f":"IF('CB3'!$P21=\"\",\"\",'CB3'!$P21)","v":""},null,{"$f":"IF(M21=\"\",\"\",ROUND(SUM(M21:P21)/$CO$17,$CO$18))","v":""},{"$f":"IF('CB1'!$Q21=\"\",\"\",'CB1'!$Q21)","v":""},{"$f":"IF('CB2'!$Q21=\"\",\"\",'CB2'!$Q21)","v":""},{"$f":"IF('CB3'!$Q21=\"\",\"\",'CB3'!$Q21)","v":""},null,{"$f":"IF(R21=\"\",\"\",ROUND(SUM(R21:U21)/$CO$17,$CO$18))","v":""},{"$f":"IF('CB1'!$R21=\"\",\"\",'CB1'!$R21)","v":""},{"$f":"IF('CB2'!$R21=\"\",\"\",'CB2'!$R21)","v":""},{"$f":"IF('CB3'!$R21=\"\",\"\",'CB3'!$R21)","v":""},null,{"$f":"IF(W21=\"\",\"\",ROUND(SUM(W21:Z21)/$CO$17,$CO$18))","v":""},{"$f":"IF('CB1'!$S21=\"\",\"\",'CB1'!$S21)","v":""},{"$f":"IF('CB2'!$S21=\"\",\"\",'CB2'!$S21)","v":""},{"$f":"IF('CB3'!$S21=\"\",\"\",'CB3'!$S21)","v":""},null,{"$f":"IF(AB21=\"\",\"\",ROUND(SUM(AB21:AE21)/$CO$17,$CO$18))","v":""},{"$f":"IF('CB1'!$T21=\"\",\"\",'CB1'!$T21)","v":""},{"$f":"IF('CB2'!$T21=\"\",\"\",'CB2'!$T21)","v":""},{"$f":"IF('CB3'!$T21=\"\",\"\",'CB3'!$T21)","v":""},null,{"$f":"IF(AG21=\"\",\"\",ROUND(SUM(AG21:AJ21)/$CO$17,$CO$18))","v":""},{"$f":"IF('CB1'!$U21=\"\",\"\",'CB1'!$U21)","v":""},{"$f":"IF('CB2'!$U21=\"\",\"\",'CB2'!$U21)","v":""},{"$f":"IF('CB3'!$U21=\"\",\"\",'CB3'!$U21)","v":""},null,{"$f":"IF(AL21=\"\",\"\",ROUND(SUM(AL21:AO21)/$CO$17,$CO$18))","v":""},{"$f":"IF('CB1'!$V21=\"\",\"\",'CB1'!$V21)","v":""},{"$f":"IF('CB2'!$V21=\"\",\"\",'CB2'!$V21)","v":""},{"$f":"IF('CB3'!$V21=\"\",\"\",'CB3'!$V21)","v":""},null,{"$f":"IF(AQ21=\"\",\"\",ROUND(SUM(AQ21:AT21)/$CO$17,$CO$18))","v":""},{"$f":"IF('CB1'!$W21=\"\",\"\",'CB1'!$W21)","v":""},{"$f":"IF('CB2'!$W21=\"\",\"\",'CB2'!$W21)","v":""},{"$f":"IF('CB3'!$W21=\"\",\"\",'CB3'!$W21)","v":""},null,{"$f":"IF(AV21=\"\",\"\",ROUND(SUM(AV21:AY21)/$CO$17,$CO$18))","v":""},{"$f":"IF('CB1'!$X21=\"\",\"\",'CB1'!$X21)","v":""},{"$f":"IF('CB2'!$X21=\"\",\"\",'CB2'!$X21)","v":""},{"$f":"IF('CB3'!$X21=\"\",\"\",'CB3'!$X21)","v":""},null,{"$f":"IF(BA21=\"\",\"\",ROUND(SUM(BA21:BD21)/$CO$17,$CO$18))","v":""},{"$f":"IF('CB1'!$Y21=\"\",\"\",'CB1'!$Y21)","v":""},{"$f":"IF('CB2'!$Y21=\"\",\"\",'CB2'!$Y21)","v":""},{"$f":"IF('CB3'!$Y21=\"\",\"\",'CB3'!$Y21)","v":""},null,{"$f":"IF(BF21=\"\",\"\",ROUND(SUM(BF21:BI21)/$CO$17,$CO$18))","v":""},{"$f":"IF('CB1'!$Z21=\"\",\"\",'CB1'!$Z21)","v":""},{"$f":"IF('CB2'!$Z21=\"\",\"\",'CB2'!$Z21)","v":""},{"$f":"IF('CB3'!$Z21=\"\",\"\",'CB3'!$Z21)","v":""},null,{"$f":"IF(BK21=\"\",\"\",ROUND(SUM(BK21:BN21)/$CO$17,$CO$18))","v":""},{"$f":"IF('CB1'!$AC21=\"\",\"\",'CB1'!$AC21)","v":""},{"$f":"IF('CB2'!$AC21=\"\",\"\",'CB2'!$AC21)","v":""},{"$f":"IF('CB3'!$AC21=\"\",\"\",'CB3'!$AC21)","v":""},null,{"$f":"IF(BP21=\"\",\"\",ROUND(SUM(BP21:BS21)/$CO$17,$CO$18))","v":""},{"$f":"IF('CB1'!$AE21=\"\",\"\",'CB1'!$AE21)","v":""},{"$f":"IF('CB2'!$AE21=\"\",\"\",'CB2'!$AE21)","v":""},{"$f":"IF('CB3'!$AE21=\"\",\"\",'CB3'!$AE21)","v":""},null,{"$f":"IF(BU21=\"\",\"\",ROUND(SUM(BU21:BX21)/$CO$17,$CO$18))","v":""},{"$f":"IF('CB1'!$AF21=\"\",\"\",'CB1'!$AF21)","v":""},{"$f":"IF('CB2'!$AF21=\"\",\"\",'CB2'!$AF21)","v":""},{"$f":"IF('CB3'!$AF21=\"\",\"\",'CB3'!$AF21)","v":""},null,{"$f":"IF(BZ21=\"\",\"\",ROUND(SUM(BZ21:CC21)/$CO$17,$CO$18))","v":""},{"$f":"IF('CB1'!$AJ21=\"\",\"\",'CB1'!$AJ21)","v":""},{"$f":"IF('CB2'!$AJ21=\"\",\"\",'CB2'!$AJ21)","v":""},{"$f":"IF('CB3'!$AJ21=\"\",\"\",'CB3'!$AJ21)","v":""},null,{"$f":"IF(CE21=\"\",\"\",ROUND(SUM(CE21:CH21)/$CO$17,$CO$18))","v":""},{"$f":"IF('CB1'!$AK21=\"\",\"\",'CB1'!$AK21)","v":""},{"$f":"IF('CB2'!$AK21=\"\",\"\",'CB2'!$AK21)","v":""},{"$f":"IF('CB3'!$AK21=\"\",\"\",'CB3'!$AK21)","v":""},null,{"$f":"IF(CJ21=\"\",\"\",ROUND(SUM(CJ21:CM21)/$CO$17,$CO$18))","v":""},{"$f":"IF(CQ21=\"\",\"\",ROUND((SUM(CQ21:DF21)/$CO$19),$CO$18))","v":""},null,{"$f":"Q21","v":""},{"$f":"V21","v":""},{"$f":"AA21","v":""},{"$f":"AF21","v":""},{"$f":"AK21","v":""},{"$f":"AP21","v":""},{"$f":"AU21","v":""},{"$f":"AZ21","v":""},{"$f":"BE21","v":""},{"$f":"BJ21","v":""},{"$f":"BO21","v":""},{"$f":"BT21","v":""},{"$f":"BY21","v":""},{"$f":"CD21","v":""},{"$f":"CI21","v":""},{"$f":"CN21","v":""},{"$f":"SUM(CQ21:DF21)","v":0},null,{"$f":"F21","v":""},{"$f":"K21","v":""},{"$f":"'CB1'!$AL21","v":""},{"$f":"'CB2'!$AL21","v":0},{"$f":"'CB3'!$AL21","v":0}]
[null,null,null,null,null,{"$f":"IF(filEst!F22=\"\",\"\",filEst!F22)","v":""},{"$f":"IF(filEst!G22=\"\",\"\",filEst!G22)","v":""},{"$f":"IF(filEst!L22=\"\",\"\",filEst!L22)","v":""},null,null,{"$f":"IF(filEst!K22=\"\",\"\",filEst!K22)","v":""},null,{"$f":"IF('CB1'!$P22=\"\",\"\",'CB1'!$P22)","v":""},{"$f":"IF('CB2'!$P22=\"\",\"\",'CB2'!$P22)","v":""},{"$f":"IF('CB3'!$P22=\"\",\"\",'CB3'!$P22)","v":""},null,{"$f":"IF(M22=\"\",\"\",ROUND(SUM(M22:P22)/$CO$17,$CO$18))","v":""},{"$f":"IF('CB1'!$Q22=\"\",\"\",'CB1'!$Q22)","v":""},{"$f":"IF('CB2'!$Q22=\"\",\"\",'CB2'!$Q22)","v":""},{"$f":"IF('CB3'!$Q22=\"\",\"\",'CB3'!$Q22)","v":""},null,{"$f":"IF(R22=\"\",\"\",ROUND(SUM(R22:U22)/$CO$17,$CO$18))","v":""},{"$f":"IF('CB1'!$R22=\"\",\"\",'CB1'!$R22)","v":""},{"$f":"IF('CB2'!$R22=\"\",\"\",'CB2'!$R22)","v":""},{"$f":"IF('CB3'!$R22=\"\",\"\",'CB3'!$R22)","v":""},null,{"$f":"IF(W22=\"\",\"\",ROUND(SUM(W22:Z22)/$CO$17,$CO$18))","v":""},{"$f":"IF('CB1'!$S22=\"\",\"\",'CB1'!$S22)","v":""},{"$f":"IF('CB2'!$S22=\"\",\"\",'CB2'!$S22)","v":""},{"$f":"IF('CB3'!$S22=\"\",\"\",'CB3'!$S22)","v":""},null,{"$f":"IF(AB22=\"\",\"\",ROUND(SUM(AB22:AE22)/$CO$17,$CO$18))","v":""},{"$f":"IF('CB1'!$T22=\"\",\"\",'CB1'!$T22)","v":""},{"$f":"IF('CB2'!$T22=\"\",\"\",'CB2'!$T22)","v":""},{"$f":"IF('CB3'!$T22=\"\",\"\",'CB3'!$T22)","v":""},null,{"$f":"IF(AG22=\"\",\"\",ROUND(SUM(AG22:AJ22)/$CO$17,$CO$18))","v":""},{"$f":"IF('CB1'!$U22=\"\",\"\",'CB1'!$U22)","v":""},{"$f":"IF('CB2'!$U22=\"\",\"\",'CB2'!$U22)","v":""},{"$f":"IF('CB3'!$U22=\"\",\"\",'CB3'!$U22)","v":""},null,{"$f":"IF(AL22=\"\",\"\",ROUND(SUM(AL22:AO22)/$CO$17,$CO$18))","v":""},{"$f":"IF('CB1'!$V22=\"\",\"\",'CB1'!$V22)","v":""},{"$f":"IF('CB2'!$V22=\"\",\"\",'CB2'!$V22)","v":""},{"$f":"IF('CB3'!$V22=\"\",\"\",'CB3'!$V22)","v":""},null,{"$f":"IF(AQ22=\"\",\"\",ROUND(SUM(AQ22:AT22)/$CO$17,$CO$18))","v":""},{"$f":"IF('CB1'!$W22=\"\",\"\",'CB1'!$W22)","v":""},{"$f":"IF('CB2'!$W22=\"\",\"\",'CB2'!$W22)","v":""},{"$f":"IF('CB3'!$W22=\"\",\"\",'CB3'!$W22)","v":""},null,{"$f":"IF(AV22=\"\",\"\",ROUND(SUM(AV22:AY22)/$CO$17,$CO$18))","v":""},{"$f":"IF('CB1'!$X22=\"\",\"\",'CB1'!$X22)","v":""},{"$f":"IF('CB2'!$X22=\"\",\"\",'CB2'!$X22)","v":""},{"$f":"IF('CB3'!$X22=\"\",\"\",'CB3'!$X22)","v":""},null,{"$f":"IF(BA22=\"\",\"\",ROUND(SUM(BA22:BD22)/$CO$17,$CO$18))","v":""},{"$f":"IF('CB1'!$Y22=\"\",\"\",'CB1'!$Y22)","v":""},{"$f":"IF('CB2'!$Y22=\"\",\"\",'CB2'!$Y22)","v":""},{"$f":"IF('CB3'!$Y22=\"\",\"\",'CB3'!$Y22)","v":""},null,{"$f":"IF(BF22=\"\",\"\",ROUND(SUM(BF22:BI22)/$CO$17,$CO$18))","v":""},{"$f":"IF('CB1'!$Z22=\"\",\"\",'CB1'!$Z22)","v":""},{"$f":"IF('CB2'!$Z22=\"\",\"\",'CB2'!$Z22)","v":""},{"$f":"IF('CB3'!$Z22=\"\",\"\",'CB3'!$Z22)","v":""},null,{"$f":"IF(BK22=\"\",\"\",ROUND(SUM(BK22:BN22)/$CO$17,$CO$18))","v":""},{"$f":"IF('CB1'!$AC22=\"\",\"\",'CB1'!$AC22)","v":""},{"$f":"IF('CB2'!$AC22=\"\",\"\",'CB2'!$AC22)","v":""},{"$f":"IF('CB3'!$AC22=\"\",\"\",'CB3'!$AC22)","v":""},null,{"$f":"IF(BP22=\"\",\"\",ROUND(SUM(BP22:BS22)/$CO$17,$CO$18))","v":""},{"$f":"IF('CB1'!$AE22=\"\",\"\",'CB1'!$AE22)","v":""},{"$f":"IF('CB2'!$AE22=\"\",\"\",'CB2'!$AE22)","v":""},{"$f":"IF('CB3'!$AE22=\"\",\"\",'CB3'!$AE22)","v":""},null,{"$f":"IF(BU22=\"\",\"\",ROUND(SUM(BU22:BX22)/$CO$17,$CO$18))","v":""},{"$f":"IF('CB1'!$AF22=\"\",\"\",'CB1'!$AF22)","v":""},{"$f":"IF('CB2'!$AF22=\"\",\"\",'CB2'!$AF22)","v":""},{"$f":"IF('CB3'!$AF22=\"\",\"\",'CB3'!$AF22)","v":""},null,{"$f":"IF(BZ22=\"\",\"\",ROUND(SUM(BZ22:CC22)/$CO$17,$CO$18))","v":""},{"$f":"IF('CB1'!$AJ22=\"\",\"\",'CB1'!$AJ22)","v":""},{"$f":"IF('CB2'!$AJ22=\"\",\"\",'CB2'!$AJ22)","v":""},{"$f":"IF('CB3'!$AJ22=\"\",\"\",'CB3'!$AJ22)","v":""},null,{"$f":"IF(CE22=\"\",\"\",ROUND(SUM(CE22:CH22)/$CO$17,$CO$18))","v":""},{"$f":"IF('CB1'!$AK22=\"\",\"\",'CB1'!$AK22)","v":""},{"$f":"IF('CB2'!$AK22=\"\",\"\",'CB2'!$AK22)","v":""},{"$f":"IF('CB3'!$AK22=\"\",\"\",'CB3'!$AK22)","v":""},null,{"$f":"IF(CJ22=\"\",\"\",ROUND(SUM(CJ22:CM22)/$CO$17,$CO$18))","v":""},{"$f":"IF(CQ22=\"\",\"\",ROUND((SUM(CQ22:DF22)/$CO$19),$CO$18))","v":""},null,{"$f":"Q22","v":""},{"$f":"V22","v":""},{"$f":"AA22","v":""},{"$f":"AF22","v":""},{"$f":"AK22","v":""},{"$f":"AP22","v":""},{"$f":"AU22","v":""},{"$f":"AZ22","v":""},{"$f":"BE22","v":""},{"$f":"BJ22","v":""},{"$f":"BO22","v":""},{"$f":"BT22","v":""},{"$f":"BY22","v":""},{"$f":"CD22","v":""},{"$f":"CI22","v":""},{"$f":"CN22","v":""},{"$f":"SUM(CQ22:DF22)","v":0},null,{"$f":"F22","v":""},{"$f":"K22","v":""},{"$f":"'CB1'!$AL22","v":""},{"$f":"'CB2'!$AL22","v":0},{"$f":"'CB3'!$AL22","v":0}]
[null,null,null,null,null,{"$f":"IF(filEst!F23=\"\",\"\",filEst!F23)","v":""},{"$f":"IF(filEst!G23=\"\",\"\",filEst!G23)","v":""},{"$f":"IF(filEst!L23=\"\",\"\",filEst!L23)","v":""},null,null,{"$f":"IF(filEst!K23=\"\",\"\",filEst!K23)","v":""},null,{"$f":"IF('CB1'!$P23=\"\",\"\",'CB1'!$P23)","v":""},{"$f":"IF('CB2'!$P23=\"\",\"\",'CB2'!$P23)","v":""},{"$f":"IF('CB3'!$P23=\"\",\"\",'CB3'!$P23)","v":""},null,{"$f":"IF(M23=\"\",\"\",ROUND(SUM(M23:P23)/$CO$17,$CO$18))","v":""},{"$f":"IF('CB1'!$Q23=\"\",\"\",'CB1'!$Q23)","v":""},{"$f":"IF('CB2'!$Q23=\"\",\"\",'CB2'!$Q23)","v":""},{"$f":"IF('CB3'!$Q23=\"\",\"\",'CB3'!$Q23)","v":""},null,{"$f":"IF(R23=\"\",\"\",ROUND(SUM(R23:U23)/$CO$17,$CO$18))","v":""},{"$f":"IF('CB1'!$R23=\"\",\"\",'CB1'!$R23)","v":""},{"$f":"IF('CB2'!$R23=\"\",\"\",'CB2'!$R23)","v":""},{"$f":"IF('CB3'!$R23=\"\",\"\",'CB3'!$R23)","v":""},null,"",{"$f":"IF('CB1'!$S23=\"\",\"\",'CB1'!$S23)","v":""},{"$f":"IF('CB2'!$S23=\"\",\"\",'CB2'!$S23)","v":""},{"$f":"IF('CB3'!$S23=\"\",\"\",'CB3'!$S23)","v":""},null,"",{"$f":"IF('CB1'!$T23=\"\",\"\",'CB1'!$T23)","v":""},{"$f":"IF('CB2'!$T23=\"\",\"\",'CB2'!$T23)","v":""},{"$f":"IF('CB3'!$T23=\"\",\"\",'CB3'!$T23)","v":""},null,"",{"$f":"IF('CB1'!$U23=\"\",\"\",'CB1'!$U23)","v":""},{"$f":"IF('CB2'!$U23=\"\",\"\",'CB2'!$U23)","v":""},{"$f":"IF('CB3'!$U23=\"\",\"\",'CB3'!$U23)","v":""},null,"",{"$f":"IF('CB1'!$V23=\"\",\"\",'CB1'!$V23)","v":""},{"$f":"IF('CB2'!$V23=\"\",\"\",'CB2'!$V23)","v":""},{"$f":"IF('CB3'!$V23=\"\",\"\",'CB3'!$V23)","v":""},null,"",{"$f":"IF('CB1'!$W23=\"\",\"\",'CB1'!$W23)","v":""},{"$f":"IF('CB2'!$W23=\"\",\"\",'CB2'!$W23)","v":""},{"$f":"IF('CB3'!$W23=\"\",\"\",'CB3'!$W23)","v":""},null,"",{"$f":"IF('CB1'!$X23=\"\",\"\",'CB1'!$X23)","v":""},{"$f":"IF('CB2'!$X23=\"\",\"\",'CB2'!$X23)","v":""},{"$f":"IF('CB3'!$X23=\"\",\"\",'CB3'!$X23)","v":""},null,"",{"$f":"IF('CB1'!$Y23=\"\",\"\",'CB1'!$Y23)","v":""},{"$f":"IF('CB2'!$Y23=\"\",\"\",'CB2'!$Y23)","v":""},{"$f":"IF('CB3'!$Y23=\"\",\"\",'CB3'!$Y23)","v":""},null,"",{"$f":"IF('CB1'!$Z23=\"\",\"\",'CB1'!$Z23)","v":""},{"$f":"IF('CB2'!$Z23=\"\",\"\",'CB2'!$Z23)","v":""},{"$f":"IF('CB3'!$Z23=\"\",\"\",'CB3'!$Z23)","v":""},null,"",{"$f":"IF('CB1'!$AC23=\"\",\"\",'CB1'!$AC23)","v":""},{"$f":"IF('CB2'!$AC23=\"\",\"\",'CB2'!$AC23)","v":""},{"$f":"IF('CB3'!$AC23=\"\",\"\",'CB3'!$AC23)","v":""},null,"",{"$f":"IF('CB1'!$AE23=\"\",\"\",'CB1'!$AE23)","v":""},{"$f":"IF('CB2'!$AE23=\"\",\"\",'CB2'!$AE23)","v":""},{"$f":"IF('CB3'!$AE23=\"\",\"\",'CB3'!$AE23)","v":""},null,"",{"$f":"IF('CB1'!$AF23=\"\",\"\",'CB1'!$AF23)","v":""},{"$f":"IF('CB2'!$AF23=\"\",\"\",'CB2'!$AF23)","v":""},{"$f":"IF('CB3'!$AF23=\"\",\"\",'CB3'!$AF23)","v":""},null,"",{"$f":"IF('CB1'!$AJ23=\"\",\"\",'CB1'!$AJ23)","v":""},{"$f":"IF('CB2'!$AJ23=\"\",\"\",'CB2'!$AJ23)","v":""},{"$f":"IF('CB3'!$AJ23=\"\",\"\",'CB3'!$AJ23)","v":""},null,{"$f":"IF(CE23=\"\",\"\",ROUND(SUM(CE23:CH23)/$CO$17,$CO$18))","v":""},{"$f":"IF('CB1'!$AK23=\"\",\"\",'CB1'!$AK23)","v":""},{"$f":"IF('CB2'!$AK23=\"\",\"\",'CB2'!$AK23)","v":""},{"$f":"IF('CB3'!$AK23=\"\",\"\",'CB3'!$AK23)","v":""},null,{"$f":"IF(CJ23=\"\",\"\",ROUND(SUM(CJ23:CM23)/$CO$17,$CO$18))","v":""},{"$f":"IF(CQ23=\"\",\"\",ROUND((SUM(CQ23:DF23)/$CO$19),$CO$18))","v":""},null,"","","","","","","","","","","",{"$f":"BT23","v":""},"","","","",{"$f":"SUM(CQ23:DF23)","v":0},null,"","",{"$f":"'CB1'!$AL23","v":""},{"$f":"'CB2'!$AL23","v":0},{"$f":"'CB3'!$AL23","v":0}]
[null,null,null,null,null,{"$f":"IF(filEst!F24=\"\",\"\",filEst!F24)","v":""},{"$f":"IF(filEst!G24=\"\",\"\",filEst!G24)","v":""},{"$f":"IF(filEst!L24=\"\",\"\",filEst!L24)","v":""},null,null,{"$f":"IF(filEst!K24=\"\",\"\",filEst!K24)","v":""},null,{"$f":"IF('CB1'!$P24=\"\",\"\",'CB1'!$P24)","v":""},{"$f":"IF('CB2'!$P24=\"\",\"\",'CB2'!$P24)","v":""},{"$f":"IF('CB3'!$P24=\"\",\"\",'CB3'!$P24)","v":""},null,"",{"$f":"IF('CB1'!$Q24=\"\",\"\",'CB1'!$Q24)","v":""},{"$f":"IF('CB2'!$Q24=\"\",\"\",'CB2'!$Q24)","v":""},{"$f":"IF('CB3'!$Q24=\"\",\"\",'CB3'!$Q24)","v":""},null,"",{"$f":"IF('CB1'!$R24=\"\",\"\",'CB1'!$R24)","v":""},{"$f":"IF('CB2'!$R24=\"\",\"\",'CB2'!$R24)","v":""},{"$f":"IF('CB3'!$R24=\"\",\"\",'CB3'!$R24)","v":""},null,"",{"$f":"IF('CB1'!$S24=\"\",\"\",'CB1'!$S24)","v":""},{"$f":"IF('CB2'!$S24=\"\",\"\",'CB2'!$S24)","v":""},{"$f":"IF('CB3'!$S24=\"\",\"\",'CB3'!$S24)","v":""},null,"",{"$f":"IF('CB1'!$T24=\"\",\"\",'CB1'!$T24)","v":""},{"$f":"IF('CB2'!$T24=\"\",\"\",'CB2'!$T24)","v":""},{"$f":"IF('CB3'!$T24=\"\",\"\",'CB3'!$T24)","v":""},null,"",{"$f":"IF('CB1'!$U24=\"\",\"\",'CB1'!$U24)","v":""},{"$f":"IF('CB2'!$U24=\"\",\"\",'CB2'!$U24)","v":""},{"$f":"IF('CB3'!$U24=\"\",\"\",'CB3'!$U24)","v":""},null,"",{"$f":"IF('CB1'!$V24=\"\",\"\",'CB1'!$V24)","v":""},{"$f":"IF('CB2'!$V24=\"\",\"\",'CB2'!$V24)","v":""},{"$f":"IF('CB3'!$V24=\"\",\"\",'CB3'!$V24)","v":""},null,"",{"$f":"IF('CB1'!$W24=\"\",\"\",'CB1'!$W24)","v":""},{"$f":"IF('CB2'!$W24=\"\",\"\",'CB2'!$W24)","v":""},{"$f":"IF('CB3'!$W24=\"\",\"\",'CB3'!$W24)","v":""},null,"",{"$f":"IF('CB1'!$X24=\"\",\"\",'CB1'!$X24)","v":""},{"$f":"IF('CB2'!$X24=\"\",\"\",'CB2'!$X24)","v":""},{"$f":"IF('CB3'!$X24=\"\",\"\",'CB3'!$X24)","v":""},null,"",{"$f":"IF('CB1'!$Y24=\"\",\"\",'CB1'!$Y24)","v":""},{"$f":"IF('CB2'!$Y24=\"\",\"\",'CB2'!$Y24)","v":""},{"$f":"IF('CB3'!$Y24=\"\",\"\",'CB3'!$Y24)","v":""},null,"",{"$f":"IF('CB1'!$Z24=\"\",\"\",'CB1'!$Z24)","v":""},{"$f":"IF('CB2'!$Z24=\"\",\"\",'CB2'!$Z24)","v":""},{"$f":"IF('CB3'!$Z24=\"\",\"\",'CB3'!$Z24)","v":""},null,"",{"$f":"IF('CB1'!$AC24=\"\",\"\",'CB1'!$AC24)","v":""},{"$f":"IF('CB2'!$AC24=\"\",\"\",'CB2'!$AC24)","v":""},{"$f":"IF('CB3'!$AC24=\"\",\"\",'CB3'!$AC24)","v":""},null,"",{"$f":"IF('CB1'!$AE24=\"\",\"\",'CB1'!$AE24)","v":""},{"$f":"IF('CB2'!$AE24=\"\",\"\",'CB2'!$AE24)","v":""},{"$f":"IF('CB3'!$AE24=\"\",\"\",'CB3'!$AE24)","v":""},null,"",{"$f":"IF('CB1'!$AF24=\"\",\"\",'CB1'!$AF24)","v":""},{"$f":"IF('CB2'!$AF24=\"\",\"\",'CB2'!$AF24)","v":""},{"$f":"IF('CB3'!$AF24=\"\",\"\",'CB3'!$AF24)","v":""},null,"",{"$f":"IF('CB1'!$AJ24=\"\",\"\",'CB1'!$AJ24)","v":""},{"$f":"IF('CB2'!$AJ24=\"\",\"\",'CB2'!$AJ24)","v":""},{"$f":"IF('CB3'!$AJ24=\"\",\"\",'CB3'!$AJ24)","v":""},null,"",{"$f":"IF('CB1'!$AK24=\"\",\"\",'CB1'!$AK24)","v":""},{"$f":"IF('CB2'!$AK24=\"\",\"\",'CB2'!$AK24)","v":""},{"$f":"IF('CB3'!$AK24=\"\",\"\",'CB3'!$AK24)","v":""},null,"","",null,"","","","","",{"$f":"AP24","v":""},"","","","","","","","","","",0,null,"","",{"$f":"'CB1'!$AL24","v":""},{"$f":"'CB2'!$AL24","v":0},{"$f":"'CB3'!$AL24","v":0}]
[null,null,null,null,null,{"$f":"IF(filEst!F25=\"\",\"\",filEst!F25)","v":""},{"$f":"IF(filEst!G25=\"\",\"\",filEst!G25)","v":""},{"$f":"IF(filEst!L25=\"\",\"\",filEst!L25)","v":""},null,null,{"$f":"IF(filEst!K25=\"\",\"\",filEst!K25)","v":""},null,{"$f":"IF('CB1'!$P25=\"\",\"\",'CB1'!$P25)","v":""},{"$f":"IF('CB2'!$P25=\"\",\"\",'CB2'!$P25)","v":""},{"$f":"IF('CB3'!$P25=\"\",\"\",'CB3'!$P25)","v":""},null,"",{"$f":"IF('CB1'!$Q25=\"\",\"\",'CB1'!$Q25)","v":""},{"$f":"IF('CB2'!$Q25=\"\",\"\",'CB2'!$Q25)","v":""},{"$f":"IF('CB3'!$Q25=\"\",\"\",'CB3'!$Q25)","v":""},null,"",{"$f":"IF('CB1'!$R25=\"\",\"\",'CB1'!$R25)","v":""},{"$f":"IF('CB2'!$R25=\"\",\"\",'CB2'!$R25)","v":""},{"$f":"IF('CB3'!$R25=\"\",\"\",'CB3'!$R25)","v":""},null,"",{"$f":"IF('CB1'!$S25=\"\",\"\",'CB1'!$S25)","v":""},{"$f":"IF('CB2'!$S25=\"\",\"\",'CB2'!$S25)","v":""},{"$f":"IF('CB3'!$S25=\"\",\"\",'CB3'!$S25)","v":""},null,"",{"$f":"IF('CB1'!$T25=\"\",\"\",'CB1'!$T25)","v":""},{"$f":"IF('CB2'!$T25=\"\",\"\",'CB2'!$T25)","v":""},{"$f":"IF('CB3'!$T25=\"\",\"\",'CB3'!$T25)","v":""},null,"",{"$f":"IF('CB1'!$U25=\"\",\"\",'CB1'!$U25)","v":""},{"$f":"IF('CB2'!$U25=\"\",\"\",'CB2'!$U25)","v":""},{"$f":"IF('CB3'!$U25=\"\",\"\",'CB3'!$U25)","v":""},null,"",{"$f":"IF('CB1'!$V25=\"\",\"\",'CB1'!$V25)","v":""},{"$f":"IF('CB2'!$V25=\"\",\"\",'CB2'!$V25)","v":""},{"$f":"IF('CB3'!$V25=\"\",\"\",'CB3'!$V25)","v":""},null,"",{"$f":"IF('CB1'!$W25=\"\",\"\",'CB1'!$W25)","v":""},{"$f":"IF('CB2'!$W25=\"\",\"\",'CB2'!$W25)","v":""},{"$f":"IF('CB3'!$W25=\"\",\"\",'CB3'!$W25)","v":""},null,"",{"$f":"IF('CB1'!$X25=\"\",\"\",'CB1'!$X25)","v":""},{"$f":"IF('CB2'!$X25=\"\",\"\",'CB2'!$X25)","v":""},{"$f":"IF('CB3'!$X25=\"\",\"\",'CB3'!$X25)","v":""},null,"",{"$f":"IF('CB1'!$Y25=\"\",\"\",'CB1'!$Y25)","v":""},{"$f":"IF('CB2'!$Y25=\"\",\"\",'CB2'!$Y25)","v":""},{"$f":"IF('CB3'!$Y25=\"\",\"\",'CB3'!$Y25)","v":""},null,"",{"$f":"IF('CB1'!$Z25=\"\",\"\",'CB1'!$Z25)","v":""},{"$f":"IF('CB2'!$Z25=\"\",\"\",'CB2'!$Z25)","v":""},{"$f":"IF('CB3'!$Z25=\"\",\"\",'CB3'!$Z25)","v":""},null,"",{"$f":"IF('CB1'!$AC25=\"\",\"\",'CB1'!$AC25)","v":""},{"$f":"IF('CB2'!$AC25=\"\",\"\",'CB2'!$AC25)","v":""},{"$f":"IF('CB3'!$AC25=\"\",\"\",'CB3'!$AC25)","v":""},null,"",{"$f":"IF('CB1'!$AE25=\"\",\"\",'CB1'!$AE25)","v":""},{"$f":"IF('CB2'!$AE25=\"\",\"\",'CB2'!$AE25)","v":""},{"$f":"IF('CB3'!$AE25=\"\",\"\",'CB3'!$AE25)","v":""},null,"",{"$f":"IF('CB1'!$AF25=\"\",\"\",'CB1'!$AF25)","v":""},{"$f":"IF('CB2'!$AF25=\"\",\"\",'CB2'!$AF25)","v":""},{"$f":"IF('CB3'!$AF25=\"\",\"\",'CB3'!$AF25)","v":""},null,"",{"$f":"IF('CB1'!$AJ25=\"\",\"\",'CB1'!$AJ25)","v":""},{"$f":"IF('CB2'!$AJ25=\"\",\"\",'CB2'!$AJ25)","v":""},{"$f":"IF('CB3'!$AJ25=\"\",\"\",'CB3'!$AJ25)","v":""},null,"",{"$f":"IF('CB1'!$AK25=\"\",\"\",'CB1'!$AK25)","v":""},{"$f":"IF('CB2'!$AK25=\"\",\"\",'CB2'!$AK25)","v":""},{"$f":"IF('CB3'!$AK25=\"\",\"\",'CB3'!$AK25)","v":""},null,"","",null,"","","","","","","","","","","","","","",{"$f":"CI25","v":""},"",0,null,"","",{"$f":"'CB1'!$AL25","v":""},{"$f":"'CB2'!$AL25","v":0},{"$f":"'CB3'!$AL25","v":0}]
[null,null,null,null,null,{"$f":"IF(filEst!F26=\"\",\"\",filEst!F26)","v":""},{"$f":"IF(filEst!G26=\"\",\"\",filEst!G26)","v":""},{"$f":"IF(filEst!L26=\"\",\"\",filEst!L26)","v":""},null,null,{"$f":"IF(filEst!K26=\"\",\"\",filEst!K26)","v":""},null,{"$f":"IF('CB1'!$P26=\"\",\"\",'CB1'!$P26)","v":""},{"$f":"IF('CB2'!$P26=\"\",\"\",'CB2'!$P26)","v":""},{"$f":"IF('CB3'!$P26=\"\",\"\",'CB3'!$P26)","v":""},null,"",{"$f":"IF('CB1'!$Q26=\"\",\"\",'CB1'!$Q26)","v":""},{"$f":"IF('CB2'!$Q26=\"\",\"\",'CB2'!$Q26)","v":""},{"$f":"IF('CB3'!$Q26=\"\",\"\",'CB3'!$Q26)","v":""},null,{"$f":"IF(R26=\"\",\"\",ROUND(SUM(R26:U26)/$CO$17,$CO$18))","v":""},{"$f":"IF('CB1'!$R26=\"\",\"\",'CB1'!$R26)","v":""},{"$f":"IF('CB2'!$R26=\"\",\"\",'CB2'!$R26)","v":""},{"$f":"IF('CB3'!$R26=\"\",\"\",'CB3'!$R26)","v":""},null,"",{"$f":"IF('CB1'!$S26=\"\",\"\",'CB1'!$S26)","v":""},{"$f":"IF('CB2'!$S26=\"\",\"\",'CB2'!$S26)","v":""},{"$f":"IF('CB3'!$S26=\"\",\"\",'CB3'!$S26)","v":""},null,"",{"$f":"IF('CB1'!$T26=\"\",\"\",'CB1'!$T26)","v":""},{"$f":"IF('CB2'!$T26=\"\",\"\",'CB2'!$T26)","v":""},{"$f":"IF('CB3'!$T26=\"\",\"\",'CB3'!$T26)","v":""},null,"",{"$f":"IF('CB1'!$U26=\"\",\"\",'CB1'!$U26)","v":""},{"$f":"IF('CB2'!$U26=\"\",\"\",'CB2'!$U26)","v":""},{"$f":"IF('CB3'!$U26=\"\",\"\",'CB3'!$U26)","v":""},null,"",{"$f":"IF('CB1'!$V26=\"\",\"\",'CB1'!$V26)","v":""},{"$f":"IF('CB2'!$V26=\"\",\"\",'CB2'!$V26)","v":""},{"$f":"IF('CB3'!$V26=\"\",\"\",'CB3'!$V26)","v":""},null,"",{"$f":"IF('CB1'!$W26=\"\",\"\",'CB1'!$W26)","v":""},{"$f":"IF('CB2'!$W26=\"\",\"\",'CB2'!$W26)","v":""},{"$f":"IF('CB3'!$W26=\"\",\"\",'CB3'!$W26)","v":""},null,"",{"$f":"IF('CB1'!$X26=\"\",\"\",'CB1'!$X26)","v":""},{"$f":"IF('CB2'!$X26=\"\",\"\",'CB2'!$X26)","v":""},{"$f":"IF('CB3'!$X26=\"\",\"\",'CB3'!$X26)","v":""},null,"",{"$f":"IF('CB1'!$Y26=\"\",\"\",'CB1'!$Y26)","v":""},{"$f":"IF('CB2'!$Y26=\"\",\"\",'CB2'!$Y26)","v":""},{"$f":"IF('CB3'!$Y26=\"\",\"\",'CB3'!$Y26)","v":""},null,"",{"$f":"IF('CB1'!$Z26=\"\",\"\",'CB1'!$Z26)","v":""},{"$f":"IF('CB2'!$Z26=\"\",\"\",'CB2'!$Z26)","v":""},{"$f":"IF('CB3'!$Z26=\"\",\"\",'CB3'!$Z26)","v":""},null,"",{"$f":"IF('CB1'!$AC26=\"\",\"\",'CB1'!$AC26)","v":""},{"$f":"IF('CB2'!$AC26=\"\",\"\",'CB2'!$AC26)","v":""},{"$f":"IF('CB3'!$AC26=\"\",\"\",'CB3'!$AC26)","v":""},null,"",{"$f":"IF('CB1'!$AE26=\"\",\"\",'CB1'!$AE26)","v":""},{"$f":"IF('CB2'!$AE26=\"\",\"\",'CB2'!$AE26)","v":""},{"$f":"IF('CB3'!$AE26=\"\",\"\",'CB3'!$AE26)","v":""},null,"",{"$f":"IF('CB1'!$AF26=\"\",\"\",'CB1'!$AF26)","v":""},{"$f":"IF('CB2'!$AF26=\"\",\"\",'CB2'!$AF26)","v":""},{"$f":"IF('CB3'!$AF26=\"\",\"\",'CB3'!$AF26)","v":""},null,"",{"$f":"IF('CB1'!$AJ26=\"\",\"\",'CB1'!$AJ26)","v":""},{"$f":"IF('CB2'!$AJ26=\"\",\"\",'CB2'!$AJ26)","v":""},{"$f":"IF('CB3'!$AJ26=\"\",\"\",'CB3'!$AJ26)","v":""},null,"",{"$f":"IF('CB1'!$AK26=\"\",\"\",'CB1'!$AK26)","v":""},{"$f":"IF('CB2'!$AK26=\"\",\"\",'CB2'!$AK26)","v":""},{"$f":"IF('CB3'!$AK26=\"\",\"\",'CB3'!$AK26)","v":""},null,"","",null,"","","","","","","","","","","","",{"$f":"BY26","v":""},"","","",0,null,"","",{"$f":"'CB1'!$AL26","v":""},{"$f":"'CB2'!$AL26","v":0},{"$f":"'CB3'!$AL26","v":0}]
[null,null,null,null,null,{"$f":"IF(filEst!F27=\"\",\"\",filEst!F27)","v":""},{"$f":"IF(filEst!G27=\"\",\"\",filEst!G27)","v":""},{"$f":"IF(filEst!L27=\"\",\"\",filEst!L27)","v":""},null,null,{"$f":"IF(filEst!K27=\"\",\"\",filEst!K27)","v":""},null,{"$f":"IF('CB1'!$P27=\"\",\"\",'CB1'!$P27)","v":""},{"$f":"IF('CB2'!$P27=\"\",\"\",'CB2'!$P27)","v":""},{"$f":"IF('CB3'!$P27=\"\",\"\",'CB3'!$P27)","v":""},null,"",{"$f":"IF('CB1'!$Q27=\"\",\"\",'CB1'!$Q27)","v":""},{"$f":"IF('CB2'!$Q27=\"\",\"\",'CB2'!$Q27)","v":""},{"$f":"IF('CB3'!$Q27=\"\",\"\",'CB3'!$Q27)","v":""},null,{"$f":"IF(R27=\"\",\"\",ROUND(SUM(R27:U27)/$CO$17,$CO$18))","v":""},{"$f":"IF('CB1'!$R27=\"\",\"\",'CB1'!$R27)","v":""},{"$f":"IF('CB2'!$R27=\"\",\"\",'CB2'!$R27)","v":""},{"$f":"IF('CB3'!$R27=\"\",\"\",'CB3'!$R27)","v":""},null,"",{"$f":"IF('CB1'!$S27=\"\",\"\",'CB1'!$S27)","v":""},{"$f":"IF('CB2'!$S27=\"\",\"\",'CB2'!$S27)","v":""},{"$f":"IF('CB3'!$S27=\"\",\"\",'CB3'!$S27)","v":""},null,"",{"$f":"IF('CB1'!$T27=\"\",\"\",'CB1'!$T27)","v":""},{"$f":"IF('CB2'!$T27=\"\",\"\",'CB2'!$T27)","v":""},{"$f":"IF('CB3'!$T27=\"\",\"\",'CB3'!$T27)","v":""},null,"",{"$f":"IF('CB1'!$U27=\"\",\"\",'CB1'!$U27)","v":""},{"$f":"IF('CB2'!$U27=\"\",\"\",'CB2'!$U27)","v":""},{"$f":"IF('CB3'!$U27=\"\",\"\",'CB3'!$U27)","v":""},null,"",{"$f":"IF('CB1'!$V27=\"\",\"\",'CB1'!$V27)","v":""},{"$f":"IF('CB2'!$V27=\"\",\"\",'CB2'!$V27)","v":""},{"$f":"IF('CB3'!$V27=\"\",\"\",'CB3'!$V27)","v":""},null,"",{"$f":"IF('CB1'!$W27=\"\",\"\",'CB1'!$W27)","v":""},{"$f":"IF('CB2'!$W27=\"\",\"\",'CB2'!$W27)","v":""},{"$f":"IF('CB3'!$W27=\"\",\"\",'CB3'!$W27)","v":""},null,"",{"$f":"IF('CB1'!$X27=\"\",\"\",'CB1'!$X27)","v":""},{"$f":"IF('CB2'!$X27=\"\",\"\",'CB2'!$X27)","v":""},{"$f":"IF('CB3'!$X27=\"\",\"\",'CB3'!$X27)","v":""},null,"",{"$f":"IF('CB1'!$Y27=\"\",\"\",'CB1'!$Y27)","v":""},{"$f":"IF('CB2'!$Y27=\"\",\"\",'CB2'!$Y27)","v":""},{"$f":"IF('CB3'!$Y27=\"\",\"\",'CB3'!$Y27)","v":""},null,"",{"$f":"IF('CB1'!$Z27=\"\",\"\",'CB1'!$Z27)","v":""},{"$f":"IF('CB2'!$Z27=\"\",\"\",'CB2'!$Z27)","v":""},{"$f":"IF('CB3'!$Z27=\"\",\"\",'CB3'!$Z27)","v":""},null,"",{"$f":"IF('CB1'!$AC27=\"\",\"\",'CB1'!$AC27)","v":""},{"$f":"IF('CB2'!$AC27=\"\",\"\",'CB2'!$AC27)","v":""},{"$f":"IF('CB3'!$AC27=\"\",\"\",'CB3'!$AC27)","v":""},null,"",{"$f":"IF('CB1'!$AE27=\"\",\"\",'CB1'!$AE27)","v":""},{"$f":"IF('CB2'!$AE27=\"\",\"\",'CB2'!$AE27)","v":""},{"$f":"IF('CB3'!$AE27=\"\",\"\",'CB3'!$AE27)","v":""},null,"",{"$f":"IF('CB1'!$AF27=\"\",\"\",'CB1'!$AF27)","v":""},{"$f":"IF('CB2'!$AF27=\"\",\"\",'CB2'!$AF27)","v":""},{"$f":"IF('CB3'!$AF27=\"\",\"\",'CB3'!$AF27)","v":""},null,"",{"$f":"IF('CB1'!$AJ27=\"\",\"\",'CB1'!$AJ27)","v":""},{"$f":"IF('CB2'!$AJ27=\"\",\"\",'CB2'!$AJ27)","v":""},{"$f":"IF('CB3'!$AJ27=\"\",\"\",'CB3'!$AJ27)","v":""},null,"",{"$f":"IF('CB1'!$AK27=\"\",\"\",'CB1'!$AK27)","v":""},{"$f":"IF('CB2'!$AK27=\"\",\"\",'CB2'!$AK27)","v":""},{"$f":"IF('CB3'!$AK27=\"\",\"\",'CB3'!$AK27)","v":""},null,"","",null,"","","","","","","","","","","","",{"$f":"BY27","v":""},{"$f":"CD27","v":""},"","",0,null,"","",{"$f":"'CB1'!$AL27","v":""},{"$f":"'CB2'!$AL27","v":0},{"$f":"'CB3'!$AL27","v":0}]
[null,null,null,null,null,{"$f":"IF(filEst!F28=\"\",\"\",filEst!F28)","v":""},{"$f":"IF(filEst!G28=\"\",\"\",filEst!G28)","v":""},{"$f":"IF(filEst!L28=\"\",\"\",filEst!L28)","v":""},null,null,{"$f":"IF(filEst!K28=\"\",\"\",filEst!K28)","v":""},null,{"$f":"IF('CB1'!$P28=\"\",\"\",'CB1'!$P28)","v":""},{"$f":"IF('CB2'!$P28=\"\",\"\",'CB2'!$P28)","v":""},{"$f":"IF('CB3'!$P28=\"\",\"\",'CB3'!$P28)","v":""},null,"",{"$f":"IF('CB1'!$Q28=\"\",\"\",'CB1'!$Q28)","v":""},{"$f":"IF('CB2'!$Q28=\"\",\"\",'CB2'!$Q28)","v":""},{"$f":"IF('CB3'!$Q28=\"\",\"\",'CB3'!$Q28)","v":""},null,"",{"$f":"IF('CB1'!$R28=\"\",\"\",'CB1'!$R28)","v":""},{"$f":"IF('CB2'!$R28=\"\",\"\",'CB2'!$R28)","v":""},{"$f":"IF('CB3'!$R28=\"\",\"\",'CB3'!$R28)","v":""},null,"",{"$f":"IF('CB1'!$S28=\"\",\"\",'CB1'!$S28)","v":""},{"$f":"IF('CB2'!$S28=\"\",\"\",'CB2'!$S28)","v":""},{"$f":"IF('CB3'!$S28=\"\",\"\",'CB3'!$S28)","v":""},null,"",{"$f":"IF('CB1'!$T28=\"\",\"\",'CB1'!$T28)","v":""},{"$f":"IF('CB2'!$T28=\"\",\"\",'CB2'!$T28)","v":""},{"$f":"IF('CB3'!$T28=\"\",\"\",'CB3'!$T28)","v":""},null,"",{"$f":"IF('CB1'!$U28=\"\",\"\",'CB1'!$U28)","v":""},{"$f":"IF('CB2'!$U28=\"\",\"\",'CB2'!$U28)","v":""},{"$f":"IF('CB3'!$U28=\"\",\"\",'CB3'!$U28)","v":""},null,"",{"$f":"IF('CB1'!$V28=\"\",\"\",'CB1'!$V28)","v":""},{"$f":"IF('CB2'!$V28=\"\",\"\",'CB2'!$V28)","v":""},{"$f":"IF('CB3'!$V28=\"\",\"\",'CB3'!$V28)","v":""},null,"",{"$f":"IF('CB1'!$W28=\"\",\"\",'CB1'!$W28)","v":""},{"$f":"IF('CB2'!$W28=\"\",\"\",'CB2'!$W28)","v":""},{"$f":"IF('CB3'!$W28=\"\",\"\",'CB3'!$W28)","v":""},null,"",{"$f":"IF('CB1'!$X28=\"\",\"\",'CB1'!$X28)","v":""},{"$f":"IF('CB2'!$X28=\"\",\"\",'CB2'!$X28)","v":""},{"$f":"IF('CB3'!$X28=\"\",\"\",'CB3'!$X28)","v":""},null,"",{"$f":"IF('CB1'!$Y28=\"\",\"\",'CB1'!$Y28)","v":""},{"$f":"IF('CB2'!$Y28=\"\",\"\",'CB2'!$Y28)","v":""},{"$f":"IF('CB3'!$Y28=\"\",\"\",'CB3'!$Y28)","v":""},null,"",{"$f":"IF('CB1'!$Z28=\"\",\"\",'CB1'!$Z28)","v":""},{"$f":"IF('CB2'!$Z28=\"\",\"\",'CB2'!$Z28)","v":""},{"$f":"IF('CB3'!$Z28=\"\",\"\",'CB3'!$Z28)","v":""},null,"",{"$f":"IF('CB1'!$AC28=\"\",\"\",'CB1'!$AC28)","v":""},{"$f":"IF('CB2'!$AC28=\"\",\"\",'CB2'!$AC28)","v":""},{"$f":"IF('CB3'!$AC28=\"\",\"\",'CB3'!$AC28)","v":""},null,"",{"$f":"IF('CB1'!$AE28=\"\",\"\",'CB1'!$AE28)","v":""},{"$f":"IF('CB2'!$AE28=\"\",\"\",'CB2'!$AE28)","v":""},{"$f":"IF('CB3'!$AE28=\"\",\"\",'CB3'!$AE28)","v":""},null,"",{"$f":"IF('CB1'!$AF28=\"\",\"\",'CB1'!$AF28)","v":""},{"$f":"IF('CB2'!$AF28=\"\",\"\",'CB2'!$AF28)","v":""},{"$f":"IF('CB3'!$AF28=\"\",\"\",'CB3'!$AF28)","v":""},null,"",{"$f":"IF('CB1'!$AJ28=\"\",\"\",'CB1'!$AJ28)","v":""},{"$f":"IF('CB2'!$AJ28=\"\",\"\",'CB2'!$AJ28)","v":""},{"$f":"IF('CB3'!$AJ28=\"\",\"\",'CB3'!$AJ28)","v":""},null,"",{"$f":"IF('CB1'!$AK28=\"\",\"\",'CB1'!$AK28)","v":""},{"$f":"IF('CB2'!$AK28=\"\",\"\",'CB2'!$AK28)","v":""},{"$f":"IF('CB3'!$AK28=\"\",\"\",'CB3'!$AK28)","v":""},null,"","",null,"","","","","","","","","","","","","","","","",0,null,"","",{"$f":"'CB1'!$AL28","v":""},{"$f":"'CB2'!$AL28","v":0},{"$f":"'CB3'!$AL28","v":0}]
[null,null,null,null,null,{"$f":"IF(filEst!F29=\"\",\"\",filEst!F29)","v":""},{"$f":"IF(filEst!G29=\"\",\"\",filEst!G29)","v":""},{"$f":"IF(filEst!L29=\"\",\"\",filEst!L29)","v":""},null,null,{"$f":"IF(filEst!K29=\"\",\"\",filEst!K29)","v":""},null,{"$f":"IF('CB1'!$P29=\"\",\"\",'CB1'!$P29)","v":""},{"$f":"IF('CB2'!$P29=\"\",\"\",'CB2'!$P29)","v":""},{"$f":"IF('CB3'!$P29=\"\",\"\",'CB3'!$P29)","v":""},null,"",{"$f":"IF('CB1'!$Q29=\"\",\"\",'CB1'!$Q29)","v":""},{"$f":"IF('CB2'!$Q29=\"\",\"\",'CB2'!$Q29)","v":""},{"$f":"IF('CB3'!$Q29=\"\",\"\",'CB3'!$Q29)","v":""},null,"",{"$f":"IF('CB1'!$R29=\"\",\"\",'CB1'!$R29)","v":""},{"$f":"IF('CB2'!$R29=\"\",\"\",'CB2'!$R29)","v":""},{"$f":"IF('CB3'!$R29=\"\",\"\",'CB3'!$R29)","v":""},null,"",{"$f":"IF('CB1'!$S29=\"\",\"\",'CB1'!$S29)","v":""},{"$f":"IF('CB2'!$S29=\"\",\"\",'CB2'!$S29)","v":""},{"$f":"IF('CB3'!$S29=\"\",\"\",'CB3'!$S29)","v":""},null,"",{"$f":"IF('CB1'!$T29=\"\",\"\",'CB1'!$T29)","v":""},{"$f":"IF('CB2'!$T29=\"\",\"\",'CB2'!$T29)","v":""},{"$f":"IF('CB3'!$T29=\"\",\"\",'CB3'!$T29)","v":""},null,"",{"$f":"IF('CB1'!$U29=\"\",\"\",'CB1'!$U29)","v":""},{"$f":"IF('CB2'!$U29=\"\",\"\",'CB2'!$U29)","v":""},{"$f":"IF('CB3'!$U29=\"\",\"\",'CB3'!$U29)","v":""},null,"",{"$f":"IF('CB1'!$V29=\"\",\"\",'CB1'!$V29)","v":""},{"$f":"IF('CB2'!$V29=\"\",\"\",'CB2'!$V29)","v":""},{"$f":"IF('CB3'!$V29=\"\",\"\",'CB3'!$V29)","v":""},null,"",{"$f":"IF('CB1'!$W29=\"\",\"\",'CB1'!$W29)","v":""},{"$f":"IF('CB2'!$W29=\"\",\"\",'CB2'!$W29)","v":""},{"$f":"IF('CB3'!$W29=\"\",\"\",'CB3'!$W29)","v":""},null,"",{"$f":"IF('CB1'!$X29=\"\",\"\",'CB1'!$X29)","v":""},{"$f":"IF('CB2'!$X29=\"\",\"\",'CB2'!$X29)","v":""},{"$f":"IF('CB3'!$X29=\"\",\"\",'CB3'!$X29)","v":""},null,"",{"$f":"IF('CB1'!$Y29=\"\",\"\",'CB1'!$Y29)","v":""},{"$f":"IF('CB2'!$Y29=\"\",\"\",'CB2'!$Y29)","v":""},{"$f":"IF('CB3'!$Y29=\"\",\"\",'CB3'!$Y29)","v":""},null,"",{"$f":"IF('CB1'!$Z29=\"\",\"\",'CB1'!$Z29)","v":""},{"$f":"IF('CB2'!$Z29=\"\",\"\",'CB2'!$Z29)","v":""},{"$f":"IF('CB3'!$Z29=\"\",\"\",'CB3'!$Z29)","v":""},null,"",{"$f":"IF('CB1'!$AC29=\"\",\"\",'CB1'!$AC29)","v":""},{"$f":"IF('CB2'!$AC29=\"\",\"\",'CB2'!$AC29)","v":""},{"$f":"IF('CB3'!$AC29=\"\",\"\",'CB3'!$AC29)","v":""},null,"",{"$f":"IF('CB1'!$AE29=\"\",\"\",'CB1'!$AE29)","v":""},{"$f":"IF('CB2'!$AE29=\"\",\"\",'CB2'!$AE29)","v":""},{"$f":"IF('CB3'!$AE29=\"\",\"\",'CB3'!$AE29)","v":""},null,"",{"$f":"IF('CB1'!$AF29=\"\",\"\",'CB1'!$AF29)","v":""},{"$f":"IF('CB2'!$AF29=\"\",\"\",'CB2'!$AF29)","v":""},{"$f":"IF('CB3'!$AF29=\"\",\"\",'CB3'!$AF29)","v":""},null,"",{"$f":"IF('CB1'!$AJ29=\"\",\"\",'CB1'!$AJ29)","v":""},{"$f":"IF('CB2'!$AJ29=\"\",\"\",'CB2'!$AJ29)","v":""},{"$f":"IF('CB3'!$AJ29=\"\",\"\",'CB3'!$AJ29)","v":""},null,"",{"$f":"IF('CB1'!$AK29=\"\",\"\",'CB1'!$AK29)","v":""},{"$f":"IF('CB2'!$AK29=\"\",\"\",'CB2'!$AK29)","v":""},{"$f":"IF('CB3'!$AK29=\"\",\"\",'CB3'!$AK29)","v":""},null,"","",null,"","","","","","","","","","","","",{"$f":"BY29","v":""},"",{"$f":"CI29","v":""},"",{"$f":"SUM(CQ29:DF29)","v":0},null,"","",{"$f":"'CB1'!$AL29","v":""},{"$f":"'CB2'!$AL29","v":0},{"$f":"'CB3'!$AL29","v":0}]
[null,null,null,null,null,{"$f":"IF(filEst!F30=\"\",\"\",filEst!F30)","v":""},{"$f":"IF(filEst!G30=\"\",\"\",filEst!G30)","v":""},{"$f":"IF(filEst!L30=\"\",\"\",filEst!L30)","v":""},null,null,{"$f":"IF(filEst!K30=\"\",\"\",filEst!K30)","v":""},null,{"$f":"IF('CB1'!$P30=\"\",\"\",'CB1'!$P30)","v":""},{"$f":"IF('CB2'!$P30=\"\",\"\",'CB2'!$P30)","v":""},{"$f":"IF('CB3'!$P30=\"\",\"\",'CB3'!$P30)","v":""},null,{"$f":"IF(M30=\"\",\"\",ROUND(SUM(M30:P30)/$CO$17,$CO$18))","v":""},{"$f":"IF('CB1'!$Q30=\"\",\"\",'CB1'!$Q30)","v":""},{"$f":"IF('CB2'!$Q30=\"\",\"\",'CB2'!$Q30)","v":""},{"$f":"IF('CB3'!$Q30=\"\",\"\",'CB3'!$Q30)","v":""},null,"",{"$f":"IF('CB1'!$R30=\"\",\"\",'CB1'!$R30)","v":""},{"$f":"IF('CB2'!$R30=\"\",\"\",'CB2'!$R30)","v":""},{"$f":"IF('CB3'!$R30=\"\",\"\",'CB3'!$R30)","v":""},null,"",{"$f":"IF('CB1'!$S30=\"\",\"\",'CB1'!$S30)","v":""},{"$f":"IF('CB2'!$S30=\"\",\"\",'CB2'!$S30)","v":""},{"$f":"IF('CB3'!$S30=\"\",\"\",'CB3'!$S30)","v":""},null,"",{"$f":"IF('CB1'!$T30=\"\",\"\",'CB1'!$T30)","v":""},{"$f":"IF('CB2'!$T30=\"\",\"\",'CB2'!$T30)","v":""},{"$f":"IF('CB3'!$T30=\"\",\"\",'CB3'!$T30)","v":""},null,"",{"$f":"IF('CB1'!$U30=\"\",\"\",'CB1'!$U30)","v":""},{"$f":"IF('CB2'!$U30=\"\",\"\",'CB2'!$U30)","v":""},{"$f":"IF('CB3'!$U30=\"\",\"\",'CB3'!$U30)","v":""},null,"",{"$f":"IF('CB1'!$V30=\"\",\"\",'CB1'!$V30)","v":""},{"$f":"IF('CB2'!$V30=\"\",\"\",'CB2'!$V30)","v":""},{"$f":"IF('CB3'!$V30=\"\",\"\",'CB3'!$V30)","v":""},null,"",{"$f":"IF('CB1'!$W30=\"\",\"\",'CB1'!$W30)","v":""},{"$f":"IF('CB2'!$W30=\"\",\"\",'CB2'!$W30)","v":""},{"$f":"IF('CB3'!$W30=\"\",\"\",'CB3'!$W30)","v":""},null,"",{"$f":"IF('CB1'!$X30=\"\",\"\",'CB1'!$X30)","v":""},{"$f":"IF('CB2'!$X30=\"\",\"\",'CB2'!$X30)","v":""},{"$f":"IF('CB3'!$X30=\"\",\"\",'CB3'!$X30)","v":""},null,"",{"$f":"IF('CB1'!$Y30=\"\",\"\",'CB1'!$Y30)","v":""},{"$f":"IF('CB2'!$Y30=\"\",\"\",'CB2'!$Y30)","v":""},{"$f":"IF('CB3'!$Y30=\"\",\"\",'CB3'!$Y30)","v":""},null,"",{"$f":"IF('CB1'!$Z30=\"\",\"\",'CB1'!$Z30)","v":""},{"$f":"IF('CB2'!$Z30=\"\",\"\",'CB2'!$Z30)","v":""},{"$f":"IF('CB3'!$Z30=\"\",\"\",'CB3'!$Z30)","v":""},null,"",{"$f":"IF('CB1'!$AC30=\"\",\"\",'CB1'!$AC30)","v":""},{"$f":"IF('CB2'!$AC30=\"\",\"\",'CB2'!$AC30)","v":""},{"$f":"IF('CB3'!$AC30=\"\",\"\",'CB3'!$AC30)","v":""},null,"",{"$f":"IF('CB1'!$AE30=\"\",\"\",'CB1'!$AE30)","v":""},{"$f":"IF('CB2'!$AE30=\"\",\"\",'CB2'!$AE30)","v":""},{"$f":"IF('CB3'!$AE30=\"\",\"\",'CB3'!$AE30)","v":""},null,"",{"$f":"IF('CB1'!$AF30=\"\",\"\",'CB1'!$AF30)","v":""},{"$f":"IF('CB2'!$AF30=\"\",\"\",'CB2'!$AF30)","v":""},{"$f":"IF('CB3'!$AF30=\"\",\"\",'CB3'!$AF30)","v":""},null,"",{"$f":"IF('CB1'!$AJ30=\"\",\"\",'CB1'!$AJ30)","v":""},{"$f":"IF('CB2'!$AJ30=\"\",\"\",'CB2'!$AJ30)","v":""},{"$f":"IF('CB3'!$AJ30=\"\",\"\",'CB3'!$AJ30)","v":""},null,"",{"$f":"IF('CB1'!$AK30=\"\",\"\",'CB1'!$AK30)","v":""},{"$f":"IF('CB2'!$AK30=\"\",\"\",'CB2'!$AK30)","v":""},{"$f":"IF('CB3'!$AK30=\"\",\"\",'CB3'!$AK30)","v":""},null,"","",null,"","","","","","","","","","","","","",{"$f":"CD30","v":""},"","",0,null,"","",{"$f":"'CB1'!$AL30","v":""},{"$f":"'CB2'!$AL30","v":0},{"$f":"'CB3'!$AL30","v":0}]
[null,null,null,null,null,{"$f":"IF(filEst!F31=\"\",\"\",filEst!F31)","v":""},{"$f":"IF(filEst!G31=\"\",\"\",filEst!G31)","v":""},{"$f":"IF(filEst!L31=\"\",\"\",filEst!L31)","v":""},null,null,{"$f":"IF(filEst!K31=\"\",\"\",filEst!K31)","v":""},null,{"$f":"IF('CB1'!$P31=\"\",\"\",'CB1'!$P31)","v":""},{"$f":"IF('CB2'!$P31=\"\",\"\",'CB2'!$P31)","v":""},{"$f":"IF('CB3'!$P31=\"\",\"\",'CB3'!$P31)","v":""},null,"",{"$f":"IF('CB1'!$Q31=\"\",\"\",'CB1'!$Q31)","v":""},{"$f":"IF('CB2'!$Q31=\"\",\"\",'CB2'!$Q31)","v":""},{"$f":"IF('CB3'!$Q31=\"\",\"\",'CB3'!$Q31)","v":""},null,"",{"$f":"IF('CB1'!$R31=\"\",\"\",'CB1'!$R31)","v":""},{"$f":"IF('CB2'!$R31=\"\",\"\",'CB2'!$R31)","v":""},{"$f":"IF('CB3'!$R31=\"\",\"\",'CB3'!$R31)","v":""},null,"",{"$f":"IF('CB1'!$S31=\"\",\"\",'CB1'!$S31)","v":""},{"$f":"IF('CB2'!$S31=\"\",\"\",'CB2'!$S31)","v":""},{"$f":"IF('CB3'!$S31=\"\",\"\",'CB3'!$S31)","v":""},null,"",{"$f":"IF('CB1'!$T31=\"\",\"\",'CB1'!$T31)","v":""},{"$f":"IF('CB2'!$T31=\"\",\"\",'CB2'!$T31)","v":""},{"$f":"IF('CB3'!$T31=\"\",\"\",'CB3'!$T31)","v":""},null,"",{"$f":"IF('CB1'!$U31=\"\",\"\",'CB1'!$U31)","v":""},{"$f":"IF('CB2'!$U31=\"\",\"\",'CB2'!$U31)","v":""},{"$f":"IF('CB3'!$U31=\"\",\"\",'CB3'!$U31)","v":""},null,"",{"$f":"IF('CB1'!$V31=\"\",\"\",'CB1'!$V31)","v":""},{"$f":"IF('CB2'!$V31=\"\",\"\",'CB2'!$V31)","v":""},{"$f":"IF('CB3'!$V31=\"\",\"\",'CB3'!$V31)","v":""},null,"",{"$f":"IF('CB1'!$W31=\"\",\"\",'CB1'!$W31)","v":""},{"$f":"IF('CB2'!$W31=\"\",\"\",'CB2'!$W31)","v":""},{"$f":"IF('CB3'!$W31=\"\",\"\",'CB3'!$W31)","v":""},null,"",{"$f":"IF('CB1'!$X31=\"\",\"\",'CB1'!$X31)","v":""},{"$f":"IF('CB2'!$X31=\"\",\"\",'CB2'!$X31)","v":""},{"$f":"IF('CB3'!$X31=\"\",\"\",'CB3'!$X31)","v":""},null,"",{"$f":"IF('CB1'!$Y31=\"\",\"\",'CB1'!$Y31)","v":""},{"$f":"IF('CB2'!$Y31=\"\",\"\",'CB2'!$Y31)","v":""},{"$f":"IF('CB3'!$Y31=\"\",\"\",'CB3'!$Y31)","v":""},null,"",{"$f":"IF('CB1'!$Z31=\"\",\"\",'CB1'!$Z31)","v":""},{"$f":"IF('CB2'!$Z31=\"\",\"\",'CB2'!$Z31)","v":""},{"$f":"IF('CB3'!$Z31=\"\",\"\",'CB3'!$Z31)","v":""},null,"",{"$f":"IF('CB1'!$AC31=\"\",\"\",'CB1'!$AC31)","v":""},{"$f":"IF('CB2'!$AC31=\"\",\"\",'CB2'!$AC31)","v":""},{"$f":"IF('CB3'!$AC31=\"\",\"\",'CB3'!$AC31)","v":""},null,"",{"$f":"IF('CB1'!$AE31=\"\",\"\",'CB1'!$AE31)","v":""},{"$f":"IF('CB2'!$AE31=\"\",\"\",'CB2'!$AE31)","v":""},{"$f":"IF('CB3'!$AE31=\"\",\"\",'CB3'!$AE31)","v":""},null,"",{"$f":"IF('CB1'!$AF31=\"\",\"\",'CB1'!$AF31)","v":""},{"$f":"IF('CB2'!$AF31=\"\",\"\",'CB2'!$AF31)","v":""},{"$f":"IF('CB3'!$AF31=\"\",\"\",'CB3'!$AF31)","v":""},null,"",{"$f":"IF('CB1'!$AJ31=\"\",\"\",'CB1'!$AJ31)","v":""},{"$f":"IF('CB2'!$AJ31=\"\",\"\",'CB2'!$AJ31)","v":""},{"$f":"IF('CB3'!$AJ31=\"\",\"\",'CB3'!$AJ31)","v":""},null,"",{"$f":"IF('CB1'!$AK31=\"\",\"\",'CB1'!$AK31)","v":""},{"$f":"IF('CB2'!$AK31=\"\",\"\",'CB2'!$AK31)","v":""},{"$f":"IF('CB3'!$AK31=\"\",\"\",'CB3'!$AK31)","v":""},null,"","",null,"","","","","","","","","","","","","","","","",0,null,"","",{"$f":"'CB1'!$AL31","v":""},{"$f":"'CB2'!$AL31","v":0},{"$f":"'CB3'!$AL31","v":0}]
[null,null,null,null,null,{"$f":"IF(filEst!F32=\"\",\"\",filEst!F32)","v":""},{"$f":"IF(filEst!G32=\"\",\"\",filEst!G32)","v":""},{"$f":"IF(filEst!L32=\"\",\"\",filEst!L32)","v":""},null,null,{"$f":"IF(filEst!K32=\"\",\"\",filEst!K32)","v":""},null,{"$f":"IF('CB1'!$P32=\"\",\"\",'CB1'!$P32)","v":""},{"$f":"IF('CB2'!$P32=\"\",\"\",'CB2'!$P32)","v":""},{"$f":"IF('CB3'!$P32=\"\",\"\",'CB3'!$P32)","v":""},null,"",{"$f":"IF('CB1'!$Q32=\"\",\"\",'CB1'!$Q32)","v":""},{"$f":"IF('CB2'!$Q32=\"\",\"\",'CB2'!$Q32)","v":""},{"$f":"IF('CB3'!$Q32=\"\",\"\",'CB3'!$Q32)","v":""},null,"",{"$f":"IF('CB1'!$R32=\"\",\"\",'CB1'!$R32)","v":""},{"$f":"IF('CB2'!$R32=\"\",\"\",'CB2'!$R32)","v":""},{"$f":"IF('CB3'!$R32=\"\",\"\",'CB3'!$R32)","v":""},null,"",{"$f":"IF('CB1'!$S32=\"\",\"\",'CB1'!$S32)","v":""},{"$f":"IF('CB2'!$S32=\"\",\"\",'CB2'!$S32)","v":""},{"$f":"IF('CB3'!$S32=\"\",\"\",'CB3'!$S32)","v":""},null,"",{"$f":"IF('CB1'!$T32=\"\",\"\",'CB1'!$T32)","v":""},{"$f":"IF('CB2'!$T32=\"\",\"\",'CB2'!$T32)","v":""},{"$f":"IF('CB3'!$T32=\"\",\"\",'CB3'!$T32)","v":""},null,"",{"$f":"IF('CB1'!$U32=\"\",\"\",'CB1'!$U32)","v":""},{"$f":"IF('CB2'!$U32=\"\",\"\",'CB2'!$U32)","v":""},{"$f":"IF('CB3'!$U32=\"\",\"\",'CB3'!$U32)","v":""},null,"",{"$f":"IF('CB1'!$V32=\"\",\"\",'CB1'!$V32)","v":""},{"$f":"IF('CB2'!$V32=\"\",\"\",'CB2'!$V32)","v":""},{"$f":"IF('CB3'!$V32=\"\",\"\",'CB3'!$V32)","v":""},null,"",{"$f":"IF('CB1'!$W32=\"\",\"\",'CB1'!$W32)","v":""},{"$f":"IF('CB2'!$W32=\"\",\"\",'CB2'!$W32)","v":""},{"$f":"IF('CB3'!$W32=\"\",\"\",'CB3'!$W32)","v":""},null,"",{"$f":"IF('CB1'!$X32=\"\",\"\",'CB1'!$X32)","v":""},{"$f":"IF('CB2'!$X32=\"\",\"\",'CB2'!$X32)","v":""},{"$f":"IF('CB3'!$X32=\"\",\"\",'CB3'!$X32)","v":""},null,"",{"$f":"IF('CB1'!$Y32=\"\",\"\",'CB1'!$Y32)","v":""},{"$f":"IF('CB2'!$Y32=\"\",\"\",'CB2'!$Y32)","v":""},{"$f":"IF('CB3'!$Y32=\"\",\"\",'CB3'!$Y32)","v":""},null,"",{"$f":"IF('CB1'!$Z32=\"\",\"\",'CB1'!$Z32)","v":""},{"$f":"IF('CB2'!$Z32=\"\",\"\",'CB2'!$Z32)","v":""},{"$f":"IF('CB3'!$Z32=\"\",\"\",'CB3'!$Z32)","v":""},null,"",{"$f":"IF('CB1'!$AC32=\"\",\"\",'CB1'!$AC32)","v":""},{"$f":"IF('CB2'!$AC32=\"\",\"\",'CB2'!$AC32)","v":""},{"$f":"IF('CB3'!$AC32=\"\",\"\",'CB3'!$AC32)","v":""},null,"",{"$f":"IF('CB1'!$AE32=\"\",\"\",'CB1'!$AE32)","v":""},{"$f":"IF('CB2'!$AE32=\"\",\"\",'CB2'!$AE32)","v":""},{"$f":"IF('CB3'!$AE32=\"\",\"\",'CB3'!$AE32)","v":""},null,"",{"$f":"IF('CB1'!$AF32=\"\",\"\",'CB1'!$AF32)","v":""},{"$f":"IF('CB2'!$AF32=\"\",\"\",'CB2'!$AF32)","v":""},{"$f":"IF('CB3'!$AF32=\"\",\"\",'CB3'!$AF32)","v":""},null,"",{"$f":"IF('CB1'!$AJ32=\"\",\"\",'CB1'!$AJ32)","v":""},{"$f":"IF('CB2'!$AJ32=\"\",\"\",'CB2'!$AJ32)","v":""},{"$f":"IF('CB3'!$AJ32=\"\",\"\",'CB3'!$AJ32)","v":""},null,"",{"$f":"IF('CB1'!$AK32=\"\",\"\",'CB1'!$AK32)","v":""},{"$f":"IF('CB2'!$AK32=\"\",\"\",'CB2'!$AK32)","v":""},{"$f":"IF('CB3'!$AK32=\"\",\"\",'CB3'!$AK32)","v":""},null,"","",null,"","","","","","","","","","","",{"$f":"BT32","v":""},"","",{"$f":"CI32","v":""},"",0,null,"","",{"$f":"'CB1'!$AL32","v":""},{"$f":"'CB2'!$AL32","v":0},{"$f":"'CB3'!$AL32","v":0}]
[null,null,null,null,null,{"$f":"IF(filEst!F33=\"\",\"\",filEst!F33)","v":""},{"$f":"IF(filEst!G33=\"\",\"\",filEst!G33)","v":""},{"$f":"IF(filEst!L33=\"\",\"\",filEst!L33)","v":""},null,null,{"$f":"IF(filEst!K33=\"\",\"\",filEst!K33)","v":""},null,{"$f":"IF('CB1'!$P33=\"\",\"\",'CB1'!$P33)","v":""},{"$f":"IF('CB2'!$P33=\"\",\"\",'CB2'!$P33)","v":""},{"$f":"IF('CB3'!$P33=\"\",\"\",'CB3'!$P33)","v":""},null,"",{"$f":"IF('CB1'!$Q33=\"\",\"\",'CB1'!$Q33)","v":""},{"$f":"IF('CB2'!$Q33=\"\",\"\",'CB2'!$Q33)","v":""},{"$f":"IF('CB3'!$Q33=\"\",\"\",'CB3'!$Q33)","v":""},null,"",{"$f":"IF('CB1'!$R33=\"\",\"\",'CB1'!$R33)","v":""},{"$f":"IF('CB2'!$R33=\"\",\"\",'CB2'!$R33)","v":""},{"$f":"IF('CB3'!$R33=\"\",\"\",'CB3'!$R33)","v":""},null,"",{"$f":"IF('CB1'!$S33=\"\",\"\",'CB1'!$S33)","v":""},{"$f":"IF('CB2'!$S33=\"\",\"\",'CB2'!$S33)","v":""},{"$f":"IF('CB3'!$S33=\"\",\"\",'CB3'!$S33)","v":""},null,"",{"$f":"IF('CB1'!$T33=\"\",\"\",'CB1'!$T33)","v":""},{"$f":"IF('CB2'!$T33=\"\",\"\",'CB2'!$T33)","v":""},{"$f":"IF('CB3'!$T33=\"\",\"\",'CB3'!$T33)","v":""},null,"",{"$f":"IF('CB1'!$U33=\"\",\"\",'CB1'!$U33)","v":""},{"$f":"IF('CB2'!$U33=\"\",\"\",'CB2'!$U33)","v":""},{"$f":"IF('CB3'!$U33=\"\",\"\",'CB3'!$U33)","v":""},null,"",{"$f":"IF('CB1'!$V33=\"\",\"\",'CB1'!$V33)","v":""},{"$f":"IF('CB2'!$V33=\"\",\"\",'CB2'!$V33)","v":""},{"$f":"IF('CB3'!$V33=\"\",\"\",'CB3'!$V33)","v":""},null,"",{"$f":"IF('CB1'!$W33=\"\",\"\",'CB1'!$W33)","v":""},{"$f":"IF('CB2'!$W33=\"\",\"\",'CB2'!$W33)","v":""},{"$f":"IF('CB3'!$W33=\"\",\"\",'CB3'!$W33)","v":""},null,"",{"$f":"IF('CB1'!$X33=\"\",\"\",'CB1'!$X33)","v":""},{"$f":"IF('CB2'!$X33=\"\",\"\",'CB2'!$X33)","v":""},{"$f":"IF('CB3'!$X33=\"\",\"\",'CB3'!$X33)","v":""},null,"",{"$f":"IF('CB1'!$Y33=\"\",\"\",'CB1'!$Y33)","v":""},{"$f":"IF('CB2'!$Y33=\"\",\"\",'CB2'!$Y33)","v":""},{"$f":"IF('CB3'!$Y33=\"\",\"\",'CB3'!$Y33)","v":""},null,"",{"$f":"IF('CB1'!$Z33=\"\",\"\",'CB1'!$Z33)","v":""},{"$f":"IF('CB2'!$Z33=\"\",\"\",'CB2'!$Z33)","v":""},{"$f":"IF('CB3'!$Z33=\"\",\"\",'CB3'!$Z33)","v":""},null,"",{"$f":"IF('CB1'!$AC33=\"\",\"\",'CB1'!$AC33)","v":""},{"$f":"IF('CB2'!$AC33=\"\",\"\",'CB2'!$AC33)","v":""},{"$f":"IF('CB3'!$AC33=\"\",\"\",'CB3'!$AC33)","v":""},null,"",{"$f":"IF('CB1'!$AE33=\"\",\"\",'CB1'!$AE33)","v":""},{"$f":"IF('CB2'!$AE33=\"\",\"\",'CB2'!$AE33)","v":""},{"$f":"IF('CB3'!$AE33=\"\",\"\",'CB3'!$AE33)","v":""},null,"",{"$f":"IF('CB1'!$AF33=\"\",\"\",'CB1'!$AF33)","v":""},{"$f":"IF('CB2'!$AF33=\"\",\"\",'CB2'!$AF33)","v":""},{"$f":"IF('CB3'!$AF33=\"\",\"\",'CB3'!$AF33)","v":""},null,"",{"$f":"IF('CB1'!$AJ33=\"\",\"\",'CB1'!$AJ33)","v":""},{"$f":"IF('CB2'!$AJ33=\"\",\"\",'CB2'!$AJ33)","v":""},{"$f":"IF('CB3'!$AJ33=\"\",\"\",'CB3'!$AJ33)","v":""},null,"",{"$f":"IF('CB1'!$AK33=\"\",\"\",'CB1'!$AK33)","v":""},{"$f":"IF('CB2'!$AK33=\"\",\"\",'CB2'!$AK33)","v":""},{"$f":"IF('CB3'!$AK33=\"\",\"\",'CB3'!$AK33)","v":""},null,"","",null,"","","","","","","","","","","",{"$f":"BT33","v":""},"","","",{"$f":"CN33","v":""},0,null,"","",{"$f":"'CB1'!$AL33","v":""},{"$f":"'CB2'!$AL33","v":0},{"$f":"'CB3'!$AL33","v":0}]
[null,null,null,null,null,{"$f":"IF(filEst!F34=\"\",\"\",filEst!F34)","v":""},{"$f":"IF(filEst!G34=\"\",\"\",filEst!G34)","v":""},{"$f":"IF(filEst!L34=\"\",\"\",filEst!L34)","v":""},null,null,{"$f":"IF(filEst!K34=\"\",\"\",filEst!K34)","v":""},null,{"$f":"IF('CB1'!$P34=\"\",\"\",'CB1'!$P34)","v":""},{"$f":"IF('CB2'!$P34=\"\",\"\",'CB2'!$P34)","v":""},{"$f":"IF('CB3'!$P34=\"\",\"\",'CB3'!$P34)","v":""},null,"",{"$f":"IF('CB1'!$Q34=\"\",\"\",'CB1'!$Q34)","v":""},{"$f":"IF('CB2'!$Q34=\"\",\"\",'CB2'!$Q34)","v":""},{"$f":"IF('CB3'!$Q34=\"\",\"\",'CB3'!$Q34)","v":""},null,"",{"$f":"IF('CB1'!$R34=\"\",\"\",'CB1'!$R34)","v":""},{"$f":"IF('CB2'!$R34=\"\",\"\",'CB2'!$R34)","v":""},{"$f":"IF('CB3'!$R34=\"\",\"\",'CB3'!$R34)","v":""},null,"",{"$f":"IF('CB1'!$S34=\"\",\"\",'CB1'!$S34)","v":""},{"$f":"IF('CB2'!$S34=\"\",\"\",'CB2'!$S34)","v":""},{"$f":"IF('CB3'!$S34=\"\",\"\",'CB3'!$S34)","v":""},null,"",{"$f":"IF('CB1'!$T34=\"\",\"\",'CB1'!$T34)","v":""},{"$f":"IF('CB2'!$T34=\"\",\"\",'CB2'!$T34)","v":""},{"$f":"IF('CB3'!$T34=\"\",\"\",'CB3'!$T34)","v":""},null,"",{"$f":"IF('CB1'!$U34=\"\",\"\",'CB1'!$U34)","v":""},{"$f":"IF('CB2'!$U34=\"\",\"\",'CB2'!$U34)","v":""},{"$f":"IF('CB3'!$U34=\"\",\"\",'CB3'!$U34)","v":""},null,"",{"$f":"IF('CB1'!$V34=\"\",\"\",'CB1'!$V34)","v":""},{"$f":"IF('CB2'!$V34=\"\",\"\",'CB2'!$V34)","v":""},{"$f":"IF('CB3'!$V34=\"\",\"\",'CB3'!$V34)","v":""},null,"",{"$f":"IF('CB1'!$W34=\"\",\"\",'CB1'!$W34)","v":""},{"$f":"IF('CB2'!$W34=\"\",\"\",'CB2'!$W34)","v":""},{"$f":"IF('CB3'!$W34=\"\",\"\",'CB3'!$W34)","v":""},null,"",{"$f":"IF('CB1'!$X34=\"\",\"\",'CB1'!$X34)","v":""},{"$f":"IF('CB2'!$X34=\"\",\"\",'CB2'!$X34)","v":""},{"$f":"IF('CB3'!$X34=\"\",\"\",'CB3'!$X34)","v":""},null,"",{"$f":"IF('CB1'!$Y34=\"\",\"\",'CB1'!$Y34)","v":""},{"$f":"IF('CB2'!$Y34=\"\",\"\",'CB2'!$Y34)","v":""},{"$f":"IF('CB3'!$Y34=\"\",\"\",'CB3'!$Y34)","v":""},null,"",{"$f":"IF('CB1'!$Z34=\"\",\"\",'CB1'!$Z34)","v":""},{"$f":"IF('CB2'!$Z34=\"\",\"\",'CB2'!$Z34)","v":""},{"$f":"IF('CB3'!$Z34=\"\",\"\",'CB3'!$Z34)","v":""},null,"",{"$f":"IF('CB1'!$AC34=\"\",\"\",'CB1'!$AC34)","v":""},{"$f":"IF('CB2'!$AC34=\"\",\"\",'CB2'!$AC34)","v":""},{"$f":"IF('CB3'!$AC34=\"\",\"\",'CB3'!$AC34)","v":""},null,"",{"$f":"IF('CB1'!$AE34=\"\",\"\",'CB1'!$AE34)","v":""},{"$f":"IF('CB2'!$AE34=\"\",\"\",'CB2'!$AE34)","v":""},{"$f":"IF('CB3'!$AE34=\"\",\"\",'CB3'!$AE34)","v":""},null,"",{"$f":"IF('CB1'!$AF34=\"\",\"\",'CB1'!$AF34)","v":""},{"$f":"IF('CB2'!$AF34=\"\",\"\",'CB2'!$AF34)","v":""},{"$f":"IF('CB3'!$AF34=\"\",\"\",'CB3'!$AF34)","v":""},null,"",{"$f":"IF('CB1'!$AJ34=\"\",\"\",'CB1'!$AJ34)","v":""},{"$f":"IF('CB2'!$AJ34=\"\",\"\",'CB2'!$AJ34)","v":""},{"$f":"IF('CB3'!$AJ34=\"\",\"\",'CB3'!$AJ34)","v":""},null,"",{"$f":"IF('CB1'!$AK34=\"\",\"\",'CB1'!$AK34)","v":""},{"$f":"IF('CB2'!$AK34=\"\",\"\",'CB2'!$AK34)","v":""},{"$f":"IF('CB3'!$AK34=\"\",\"\",'CB3'!$AK34)","v":""},null,"","",null,"","","","","","","","","","","","","","","","",0,null,"","",{"$f":"'CB1'!$AL34","v":""},{"$f":"'CB2'!$AL34","v":0},{"$f":"'CB3'!$AL34","v":0}]
[null,null,null,null,null,{"$f":"IF(filEst!F35=\"\",\"\",filEst!F35)","v":""},{"$f":"IF(filEst!G35=\"\",\"\",filEst!G35)","v":""},{"$f":"IF(filEst!L35=\"\",\"\",filEst!L35)","v":""},null,null,{"$f":"IF(filEst!K35=\"\",\"\",filEst!K35)","v":""},null,{"$f":"IF('CB1'!$P35=\"\",\"\",'CB1'!$P35)","v":""},{"$f":"IF('CB2'!$P35=\"\",\"\",'CB2'!$P35)","v":""},{"$f":"IF('CB3'!$P35=\"\",\"\",'CB3'!$P35)","v":""},null,"",{"$f":"IF('CB1'!$Q35=\"\",\"\",'CB1'!$Q35)","v":""},{"$f":"IF('CB2'!$Q35=\"\",\"\",'CB2'!$Q35)","v":""},{"$f":"IF('CB3'!$Q35=\"\",\"\",'CB3'!$Q35)","v":""},null,"",{"$f":"IF('CB1'!$R35=\"\",\"\",'CB1'!$R35)","v":""},{"$f":"IF('CB2'!$R35=\"\",\"\",'CB2'!$R35)","v":""},{"$f":"IF('CB3'!$R35=\"\",\"\",'CB3'!$R35)","v":""},null,"",{"$f":"IF('CB1'!$S35=\"\",\"\",'CB1'!$S35)","v":""},{"$f":"IF('CB2'!$S35=\"\",\"\",'CB2'!$S35)","v":""},{"$f":"IF('CB3'!$S35=\"\",\"\",'CB3'!$S35)","v":""},null,"",{"$f":"IF('CB1'!$T35=\"\",\"\",'CB1'!$T35)","v":""},{"$f":"IF('CB2'!$T35=\"\",\"\",'CB2'!$T35)","v":""},{"$f":"IF('CB3'!$T35=\"\",\"\",'CB3'!$T35)","v":""},null,"",{"$f":"IF('CB1'!$U35=\"\",\"\",'CB1'!$U35)","v":""},{"$f":"IF('CB2'!$U35=\"\",\"\",'CB2'!$U35)","v":""},{"$f":"IF('CB3'!$U35=\"\",\"\",'CB3'!$U35)","v":""},null,"",{"$f":"IF('CB1'!$V35=\"\",\"\",'CB1'!$V35)","v":""},{"$f":"IF('CB2'!$V35=\"\",\"\",'CB2'!$V35)","v":""},{"$f":"IF('CB3'!$V35=\"\",\"\",'CB3'!$V35)","v":""},null,"",{"$f":"IF('CB1'!$W35=\"\",\"\",'CB1'!$W35)","v":""},{"$f":"IF('CB2'!$W35=\"\",\"\",'CB2'!$W35)","v":""},{"$f":"IF('CB3'!$W35=\"\",\"\",'CB3'!$W35)","v":""},null,"",{"$f":"IF('CB1'!$X35=\"\",\"\",'CB1'!$X35)","v":""},{"$f":"IF('CB2'!$X35=\"\",\"\",'CB2'!$X35)","v":""},{"$f":"IF('CB3'!$X35=\"\",\"\",'CB3'!$X35)","v":""},null,"",{"$f":"IF('CB1'!$Y35=\"\",\"\",'CB1'!$Y35)","v":""},{"$f":"IF('CB2'!$Y35=\"\",\"\",'CB2'!$Y35)","v":""},{"$f":"IF('CB3'!$Y35=\"\",\"\",'CB3'!$Y35)","v":""},null,"",{"$f":"IF('CB1'!$Z35=\"\",\"\",'CB1'!$Z35)","v":""},{"$f":"IF('CB2'!$Z35=\"\",\"\",'CB2'!$Z35)","v":""},{"$f":"IF('CB3'!$Z35=\"\",\"\",'CB3'!$Z35)","v":""},null,"",{"$f":"IF('CB1'!$AC35=\"\",\"\",'CB1'!$AC35)","v":""},{"$f":"IF('CB2'!$AC35=\"\",\"\",'CB2'!$AC35)","v":""},{"$f":"IF('CB3'!$AC35=\"\",\"\",'CB3'!$AC35)","v":""},null,"",{"$f":"IF('CB1'!$AE35=\"\",\"\",'CB1'!$AE35)","v":""},{"$f":"IF('CB2'!$AE35=\"\",\"\",'CB2'!$AE35)","v":""},{"$f":"IF('CB3'!$AE35=\"\",\"\",'CB3'!$AE35)","v":""},null,"",{"$f":"IF('CB1'!$AF35=\"\",\"\",'CB1'!$AF35)","v":""},{"$f":"IF('CB2'!$AF35=\"\",\"\",'CB2'!$AF35)","v":""},{"$f":"IF('CB3'!$AF35=\"\",\"\",'CB3'!$AF35)","v":""},null,"",{"$f":"IF('CB1'!$AJ35=\"\",\"\",'CB1'!$AJ35)","v":""},{"$f":"IF('CB2'!$AJ35=\"\",\"\",'CB2'!$AJ35)","v":""},{"$f":"IF('CB3'!$AJ35=\"\",\"\",'CB3'!$AJ35)","v":""},null,"",{"$f":"IF('CB1'!$AK35=\"\",\"\",'CB1'!$AK35)","v":""},{"$f":"IF('CB2'!$AK35=\"\",\"\",'CB2'!$AK35)","v":""},{"$f":"IF('CB3'!$AK35=\"\",\"\",'CB3'!$AK35)","v":""},null,"","",null,"","","","","","","","","","","","","","","","",0,null,"","",{"$f":"'CB1'!$AL35","v":""},{"$f":"'CB2'!$AL35","v":0},{"$f":"'CB3'!$AL35","v":0}]
[null,null,null,null,null,{"$f":"IF(filEst!F36=\"\",\"\",filEst!F36)","v":""},{"$f":"IF(filEst!G36=\"\",\"\",filEst!G36)","v":""},{"$f":"IF(filEst!L36=\"\",\"\",filEst!L36)","v":""},null,null,{"$f":"IF(filEst!K36=\"\",\"\",filEst!K36)","v":""},null,{"$f":"IF('CB1'!$P36=\"\",\"\",'CB1'!$P36)","v":""},{"$f":"IF('CB2'!$P36=\"\",\"\",'CB2'!$P36)","v":""},{"$f":"IF('CB3'!$P36=\"\",\"\",'CB3'!$P36)","v":""},null,"",{"$f":"IF('CB1'!$Q36=\"\",\"\",'CB1'!$Q36)","v":""},{"$f":"IF('CB2'!$Q36=\"\",\"\",'CB2'!$Q36)","v":""},{"$f":"IF('CB3'!$Q36=\"\",\"\",'CB3'!$Q36)","v":""},null,"",{"$f":"IF('CB1'!$R36=\"\",\"\",'CB1'!$R36)","v":""},{"$f":"IF('CB2'!$R36=\"\",\"\",'CB2'!$R36)","v":""},{"$f":"IF('CB3'!$R36=\"\",\"\",'CB3'!$R36)","v":""},null,"",{"$f":"IF('CB1'!$S36=\"\",\"\",'CB1'!$S36)","v":""},{"$f":"IF('CB2'!$S36=\"\",\"\",'CB2'!$S36)","v":""},{"$f":"IF('CB3'!$S36=\"\",\"\",'CB3'!$S36)","v":""},null,"",{"$f":"IF('CB1'!$T36=\"\",\"\",'CB1'!$T36)","v":""},{"$f":"IF('CB2'!$T36=\"\",\"\",'CB2'!$T36)","v":""},{"$f":"IF('CB3'!$T36=\"\",\"\",'CB3'!$T36)","v":""},null,"",{"$f":"IF('CB1'!$U36=\"\",\"\",'CB1'!$U36)","v":""},{"$f":"IF('CB2'!$U36=\"\",\"\",'CB2'!$U36)","v":""},{"$f":"IF('CB3'!$U36=\"\",\"\",'CB3'!$U36)","v":""},null,"",{"$f":"IF('CB1'!$V36=\"\",\"\",'CB1'!$V36)","v":""},{"$f":"IF('CB2'!$V36=\"\",\"\",'CB2'!$V36)","v":""},{"$f":"IF('CB3'!$V36=\"\",\"\",'CB3'!$V36)","v":""},null,"",{"$f":"IF('CB1'!$W36=\"\",\"\",'CB1'!$W36)","v":""},{"$f":"IF('CB2'!$W36=\"\",\"\",'CB2'!$W36)","v":""},{"$f":"IF('CB3'!$W36=\"\",\"\",'CB3'!$W36)","v":""},null,"",{"$f":"IF('CB1'!$X36=\"\",\"\",'CB1'!$X36)","v":""},{"$f":"IF('CB2'!$X36=\"\",\"\",'CB2'!$X36)","v":""},{"$f":"IF('CB3'!$X36=\"\",\"\",'CB3'!$X36)","v":""},null,"",{"$f":"IF('CB1'!$Y36=\"\",\"\",'CB1'!$Y36)","v":""},{"$f":"IF('CB2'!$Y36=\"\",\"\",'CB2'!$Y36)","v":""},{"$f":"IF('CB3'!$Y36=\"\",\"\",'CB3'!$Y36)","v":""},null,"",{"$f":"IF('CB1'!$Z36=\"\",\"\",'CB1'!$Z36)","v":""},{"$f":"IF('CB2'!$Z36=\"\",\"\",'CB2'!$Z36)","v":""},{"$f":"IF('CB3'!$Z36=\"\",\"\",'CB3'!$Z36)","v":""},null,"",{"$f":"IF('CB1'!$AC36=\"\",\"\",'CB1'!$AC36)","v":""},{"$f":"IF('CB2'!$AC36=\"\",\"\",'CB2'!$AC36)","v":""},{"$f":"IF('CB3'!$AC36=\"\",\"\",'CB3'!$AC36)","v":""},null,"",{"$f":"IF('CB1'!$AE36=\"\",\"\",'CB1'!$AE36)","v":""},{"$f":"IF('CB2'!$AE36=\"\",\"\",'CB2'!$AE36)","v":""},{"$f":"IF('CB3'!$AE36=\"\",\"\",'CB3'!$AE36)","v":""},null,"",{"$f":"IF('CB1'!$AF36=\"\",\"\",'CB1'!$AF36)","v":""},{"$f":"IF('CB2'!$AF36=\"\",\"\",'CB2'!$AF36)","v":""},{"$f":"IF('CB3'!$AF36=\"\",\"\",'CB3'!$AF36)","v":""},null,"",{"$f":"IF('CB1'!$AJ36=\"\",\"\",'CB1'!$AJ36)","v":""},{"$f":"IF('CB2'!$AJ36=\"\",\"\",'CB2'!$AJ36)","v":""},{"$f":"IF('CB3'!$AJ36=\"\",\"\",'CB3'!$AJ36)","v":""},null,"",{"$f":"IF('CB1'!$AK36=\"\",\"\",'CB1'!$AK36)","v":""},{"$f":"IF('CB2'!$AK36=\"\",\"\",'CB2'!$AK36)","v":""},{"$f":"IF('CB3'!$AK36=\"\",\"\",'CB3'!$AK36)","v":""},null,"","",null,"","","","","","","","","","","","","","","",{"$f":"CN36","v":""},0,null,"","",{"$f":"'CB1'!$AL36","v":""},{"$f":"'CB2'!$AL36","v":0},{"$f":"'CB3'!$AL36","v":0}]
[null,null,null,null,null,{"$f":"IF(filEst!F37=\"\",\"\",filEst!F37)","v":""},{"$f":"IF(filEst!G37=\"\",\"\",filEst!G37)","v":""},{"$f":"IF(filEst!L37=\"\",\"\",filEst!L37)","v":""},null,null,{"$f":"IF(filEst!K37=\"\",\"\",filEst!K37)","v":""},null,{"$f":"IF('CB1'!$P37=\"\",\"\",'CB1'!$P37)","v":""},{"$f":"IF('CB2'!$P37=\"\",\"\",'CB2'!$P37)","v":""},{"$f":"IF('CB3'!$P37=\"\",\"\",'CB3'!$P37)","v":""},null,"",{"$f":"IF('CB1'!$Q37=\"\",\"\",'CB1'!$Q37)","v":""},{"$f":"IF('CB2'!$Q37=\"\",\"\",'CB2'!$Q37)","v":""},{"$f":"IF('CB3'!$Q37=\"\",\"\",'CB3'!$Q37)","v":""},null,"",{"$f":"IF('CB1'!$R37=\"\",\"\",'CB1'!$R37)","v":""},{"$f":"IF('CB2'!$R37=\"\",\"\",'CB2'!$R37)","v":""},{"$f":"IF('CB3'!$R37=\"\",\"\",'CB3'!$R37)","v":""},null,"",{"$f":"IF('CB1'!$S37=\"\",\"\",'CB1'!$S37)","v":""},{"$f":"IF('CB2'!$S37=\"\",\"\",'CB2'!$S37)","v":""},{"$f":"IF('CB3'!$S37=\"\",\"\",'CB3'!$S37)","v":""},null,"",{"$f":"IF('CB1'!$T37=\"\",\"\",'CB1'!$T37)","v":""},{"$f":"IF('CB2'!$T37=\"\",\"\",'CB2'!$T37)","v":""},{"$f":"IF('CB3'!$T37=\"\",\"\",'CB3'!$T37)","v":""},null,"",{"$f":"IF('CB1'!$U37=\"\",\"\",'CB1'!$U37)","v":""},{"$f":"IF('CB2'!$U37=\"\",\"\",'CB2'!$U37)","v":""},{"$f":"IF('CB3'!$U37=\"\",\"\",'CB3'!$U37)","v":""},null,"",{"$f":"IF('CB1'!$V37=\"\",\"\",'CB1'!$V37)","v":""},{"$f":"IF('CB2'!$V37=\"\",\"\",'CB2'!$V37)","v":""},{"$f":"IF('CB3'!$V37=\"\",\"\",'CB3'!$V37)","v":""},null,"",{"$f":"IF('CB1'!$W37=\"\",\"\",'CB1'!$W37)","v":""},{"$f":"IF('CB2'!$W37=\"\",\"\",'CB2'!$W37)","v":""},{"$f":"IF('CB3'!$W37=\"\",\"\",'CB3'!$W37)","v":""},null,"",{"$f":"IF('CB1'!$X37=\"\",\"\",'CB1'!$X37)","v":""},{"$f":"IF('CB2'!$X37=\"\",\"\",'CB2'!$X37)","v":""},{"$f":"IF('CB3'!$X37=\"\",\"\",'CB3'!$X37)","v":""},null,"",{"$f":"IF('CB1'!$Y37=\"\",\"\",'CB1'!$Y37)","v":""},{"$f":"IF('CB2'!$Y37=\"\",\"\",'CB2'!$Y37)","v":""},{"$f":"IF('CB3'!$Y37=\"\",\"\",'CB3'!$Y37)","v":""},null,"",{"$f":"IF('CB1'!$Z37=\"\",\"\",'CB1'!$Z37)","v":""},{"$f":"IF('CB2'!$Z37=\"\",\"\",'CB2'!$Z37)","v":""},{"$f":"IF('CB3'!$Z37=\"\",\"\",'CB3'!$Z37)","v":""},null,"",{"$f":"IF('CB1'!$AC37=\"\",\"\",'CB1'!$AC37)","v":""},{"$f":"IF('CB2'!$AC37=\"\",\"\",'CB2'!$AC37)","v":""},{"$f":"IF('CB3'!$AC37=\"\",\"\",'CB3'!$AC37)","v":""},null,"",{"$f":"IF('CB1'!$AE37=\"\",\"\",'CB1'!$AE37)","v":""},{"$f":"IF('CB2'!$AE37=\"\",\"\",'CB2'!$AE37)","v":""},{"$f":"IF('CB3'!$AE37=\"\",\"\",'CB3'!$AE37)","v":""},null,"",{"$f":"IF('CB1'!$AF37=\"\",\"\",'CB1'!$AF37)","v":""},{"$f":"IF('CB2'!$AF37=\"\",\"\",'CB2'!$AF37)","v":""},{"$f":"IF('CB3'!$AF37=\"\",\"\",'CB3'!$AF37)","v":""},null,"",{"$f":"IF('CB1'!$AJ37=\"\",\"\",'CB1'!$AJ37)","v":""},{"$f":"IF('CB2'!$AJ37=\"\",\"\",'CB2'!$AJ37)","v":""},{"$f":"IF('CB3'!$AJ37=\"\",\"\",'CB3'!$AJ37)","v":""},null,"",{"$f":"IF('CB1'!$AK37=\"\",\"\",'CB1'!$AK37)","v":""},{"$f":"IF('CB2'!$AK37=\"\",\"\",'CB2'!$AK37)","v":""},{"$f":"IF('CB3'!$AK37=\"\",\"\",'CB3'!$AK37)","v":""},null,"","",null,"","","","","","","","","","","","","","","","",0,null,"","",{"$f":"'CB1'!$AL37","v":""},{"$f":"'CB2'!$AL37","v":0},{"$f":"'CB3'!$AL37","v":0}]
[null,null,null,null,null,{"$f":"IF(filEst!F38=\"\",\"\",filEst!F38)","v":""},{"$f":"IF(filEst!G38=\"\",\"\",filEst!G38)","v":""},{"$f":"IF(filEst!L38=\"\",\"\",filEst!L38)","v":""},null,null,{"$f":"IF(filEst!K38=\"\",\"\",filEst!K38)","v":""},null,{"$f":"IF('CB1'!$P38=\"\",\"\",'CB1'!$P38)","v":""},{"$f":"IF('CB2'!$P38=\"\",\"\",'CB2'!$P38)","v":""},{"$f":"IF('CB3'!$P38=\"\",\"\",'CB3'!$P38)","v":""},null,"",{"$f":"IF('CB1'!$Q38=\"\",\"\",'CB1'!$Q38)","v":""},{"$f":"IF('CB2'!$Q38=\"\",\"\",'CB2'!$Q38)","v":""},{"$f":"IF('CB3'!$Q38=\"\",\"\",'CB3'!$Q38)","v":""},null,"",{"$f":"IF('CB1'!$R38=\"\",\"\",'CB1'!$R38)","v":""},{"$f":"IF('CB2'!$R38=\"\",\"\",'CB2'!$R38)","v":""},{"$f":"IF('CB3'!$R38=\"\",\"\",'CB3'!$R38)","v":""},null,"",{"$f":"IF('CB1'!$S38=\"\",\"\",'CB1'!$S38)","v":""},{"$f":"IF('CB2'!$S38=\"\",\"\",'CB2'!$S38)","v":""},{"$f":"IF('CB3'!$S38=\"\",\"\",'CB3'!$S38)","v":""},null,"",{"$f":"IF('CB1'!$T38=\"\",\"\",'CB1'!$T38)","v":""},{"$f":"IF('CB2'!$T38=\"\",\"\",'CB2'!$T38)","v":""},{"$f":"IF('CB3'!$T38=\"\",\"\",'CB3'!$T38)","v":""},null,"",{"$f":"IF('CB1'!$U38=\"\",\"\",'CB1'!$U38)","v":""},{"$f":"IF('CB2'!$U38=\"\",\"\",'CB2'!$U38)","v":""},{"$f":"IF('CB3'!$U38=\"\",\"\",'CB3'!$U38)","v":""},null,"",{"$f":"IF('CB1'!$V38=\"\",\"\",'CB1'!$V38)","v":""},{"$f":"IF('CB2'!$V38=\"\",\"\",'CB2'!$V38)","v":""},{"$f":"IF('CB3'!$V38=\"\",\"\",'CB3'!$V38)","v":""},null,"",{"$f":"IF('CB1'!$W38=\"\",\"\",'CB1'!$W38)","v":""},{"$f":"IF('CB2'!$W38=\"\",\"\",'CB2'!$W38)","v":""},{"$f":"IF('CB3'!$W38=\"\",\"\",'CB3'!$W38)","v":""},null,"",{"$f":"IF('CB1'!$X38=\"\",\"\",'CB1'!$X38)","v":""},{"$f":"IF('CB2'!$X38=\"\",\"\",'CB2'!$X38)","v":""},{"$f":"IF('CB3'!$X38=\"\",\"\",'CB3'!$X38)","v":""},null,"",{"$f":"IF('CB1'!$Y38=\"\",\"\",'CB1'!$Y38)","v":""},{"$f":"IF('CB2'!$Y38=\"\",\"\",'CB2'!$Y38)","v":""},{"$f":"IF('CB3'!$Y38=\"\",\"\",'CB3'!$Y38)","v":""},null,"",{"$f":"IF('CB1'!$Z38=\"\",\"\",'CB1'!$Z38)","v":""},{"$f":"IF('CB2'!$Z38=\"\",\"\",'CB2'!$Z38)","v":""},{"$f":"IF('CB3'!$Z38=\"\",\"\",'CB3'!$Z38)","v":""},null,"",{"$f":"IF('CB1'!$AC38=\"\",\"\",'CB1'!$AC38)","v":""},{"$f":"IF('CB2'!$AC38=\"\",\"\",'CB2'!$AC38)","v":""},{"$f":"IF('CB3'!$AC38=\"\",\"\",'CB3'!$AC38)","v":""},null,"",{"$f":"IF('CB1'!$AE38=\"\",\"\",'CB1'!$AE38)","v":""},{"$f":"IF('CB2'!$AE38=\"\",\"\",'CB2'!$AE38)","v":""},{"$f":"IF('CB3'!$AE38=\"\",\"\",'CB3'!$AE38)","v":""},null,"",{"$f":"IF('CB1'!$AF38=\"\",\"\",'CB1'!$AF38)","v":""},{"$f":"IF('CB2'!$AF38=\"\",\"\",'CB2'!$AF38)","v":""},{"$f":"IF('CB3'!$AF38=\"\",\"\",'CB3'!$AF38)","v":""},null,"",{"$f":"IF('CB1'!$AJ38=\"\",\"\",'CB1'!$AJ38)","v":""},{"$f":"IF('CB2'!$AJ38=\"\",\"\",'CB2'!$AJ38)","v":""},{"$f":"IF('CB3'!$AJ38=\"\",\"\",'CB3'!$AJ38)","v":""},null,"",{"$f":"IF('CB1'!$AK38=\"\",\"\",'CB1'!$AK38)","v":""},{"$f":"IF('CB2'!$AK38=\"\",\"\",'CB2'!$AK38)","v":""},{"$f":"IF('CB3'!$AK38=\"\",\"\",'CB3'!$AK38)","v":""},null,"","",null,"","","","","","","","","","","","","","","","",0,null,"","",{"$f":"'CB1'!$AL38","v":""},{"$f":"'CB2'!$AL38","v":0},{"$f":"'CB3'!$AL38","v":0}]
[null,null,null,null,null,{"$f":"IF(filEst!F39=\"\",\"\",filEst!F39)","v":""},{"$f":"IF(filEst!G39=\"\",\"\",filEst!G39)","v":""},{"$f":"IF(filEst!L39=\"\",\"\",filEst!L39)","v":""},null,null,{"$f":"IF(filEst!K39=\"\",\"\",filEst!K39)","v":""},null,{"$f":"IF('CB1'!$P39=\"\",\"\",'CB1'!$P39)","v":""},{"$f":"IF('CB2'!$P39=\"\",\"\",'CB2'!$P39)","v":""},{"$f":"IF('CB3'!$P39=\"\",\"\",'CB3'!$P39)","v":""},null,"",{"$f":"IF('CB1'!$Q39=\"\",\"\",'CB1'!$Q39)","v":""},{"$f":"IF('CB2'!$Q39=\"\",\"\",'CB2'!$Q39)","v":""},{"$f":"IF('CB3'!$Q39=\"\",\"\",'CB3'!$Q39)","v":""},null,"",{"$f":"IF('CB1'!$R39=\"\",\"\",'CB1'!$R39)","v":""},{"$f":"IF('CB2'!$R39=\"\",\"\",'CB2'!$R39)","v":""},{"$f":"IF('CB3'!$R39=\"\",\"\",'CB3'!$R39)","v":""},null,"",{"$f":"IF('CB1'!$S39=\"\",\"\",'CB1'!$S39)","v":""},{"$f":"IF('CB2'!$S39=\"\",\"\",'CB2'!$S39)","v":""},{"$f":"IF('CB3'!$S39=\"\",\"\",'CB3'!$S39)","v":""},null,"",{"$f":"IF('CB1'!$T39=\"\",\"\",'CB1'!$T39)","v":""},{"$f":"IF('CB2'!$T39=\"\",\"\",'CB2'!$T39)","v":""},{"$f":"IF('CB3'!$T39=\"\",\"\",'CB3'!$T39)","v":""},null,"",{"$f":"IF('CB1'!$U39=\"\",\"\",'CB1'!$U39)","v":""},{"$f":"IF('CB2'!$U39=\"\",\"\",'CB2'!$U39)","v":""},{"$f":"IF('CB3'!$U39=\"\",\"\",'CB3'!$U39)","v":""},null,"",{"$f":"IF('CB1'!$V39=\"\",\"\",'CB1'!$V39)","v":""},{"$f":"IF('CB2'!$V39=\"\",\"\",'CB2'!$V39)","v":""},{"$f":"IF('CB3'!$V39=\"\",\"\",'CB3'!$V39)","v":""},null,"",{"$f":"IF('CB1'!$W39=\"\",\"\",'CB1'!$W39)","v":""},{"$f":"IF('CB2'!$W39=\"\",\"\",'CB2'!$W39)","v":""},{"$f":"IF('CB3'!$W39=\"\",\"\",'CB3'!$W39)","v":""},null,"",{"$f":"IF('CB1'!$X39=\"\",\"\",'CB1'!$X39)","v":""},{"$f":"IF('CB2'!$X39=\"\",\"\",'CB2'!$X39)","v":""},{"$f":"IF('CB3'!$X39=\"\",\"\",'CB3'!$X39)","v":""},null,"",{"$f":"IF('CB1'!$Y39=\"\",\"\",'CB1'!$Y39)","v":""},{"$f":"IF('CB2'!$Y39=\"\",\"\",'CB2'!$Y39)","v":""},{"$f":"IF('CB3'!$Y39=\"\",\"\",'CB3'!$Y39)","v":""},null,"",{"$f":"IF('CB1'!$Z39=\"\",\"\",'CB1'!$Z39)","v":""},{"$f":"IF('CB2'!$Z39=\"\",\"\",'CB2'!$Z39)","v":""},{"$f":"IF('CB3'!$Z39=\"\",\"\",'CB3'!$Z39)","v":""},null,"",{"$f":"IF('CB1'!$AC39=\"\",\"\",'CB1'!$AC39)","v":""},{"$f":"IF('CB2'!$AC39=\"\",\"\",'CB2'!$AC39)","v":""},{"$f":"IF('CB3'!$AC39=\"\",\"\",'CB3'!$AC39)","v":""},null,"",{"$f":"IF('CB1'!$AE39=\"\",\"\",'CB1'!$AE39)","v":""},{"$f":"IF('CB2'!$AE39=\"\",\"\",'CB2'!$AE39)","v":""},{"$f":"IF('CB3'!$AE39=\"\",\"\",'CB3'!$AE39)","v":""},null,"",{"$f":"IF('CB1'!$AF39=\"\",\"\",'CB1'!$AF39)","v":""},{"$f":"IF('CB2'!$AF39=\"\",\"\",'CB2'!$AF39)","v":""},{"$f":"IF('CB3'!$AF39=\"\",\"\",'CB3'!$AF39)","v":""},null,"",{"$f":"IF('CB1'!$AJ39=\"\",\"\",'CB1'!$AJ39)","v":""},{"$f":"IF('CB2'!$AJ39=\"\",\"\",'CB2'!$AJ39)","v":""},{"$f":"IF('CB3'!$AJ39=\"\",\"\",'CB3'!$AJ39)","v":""},null,"",{"$f":"IF('CB1'!$AK39=\"\",\"\",'CB1'!$AK39)","v":""},{"$f":"IF('CB2'!$AK39=\"\",\"\",'CB2'!$AK39)","v":""},{"$f":"IF('CB3'!$AK39=\"\",\"\",'CB3'!$AK39)","v":""},null,"","",null,"","","","","","","","","","","","","","","","",0,null,"","",{"$f":"'CB1'!$AL39","v":""},{"$f":"'CB2'!$AL39","v":0},{"$f":"'CB3'!$AL39","v":0}]
[null,null,null,null,null,{"$f":"IF(filEst!F40=\"\",\"\",filEst!F40)","v":""},{"$f":"IF(filEst!G40=\"\",\"\",filEst!G40)","v":""},{"$f":"IF(filEst!L40=\"\",\"\",filEst!L40)","v":""},null,null,{"$f":"IF(filEst!K40=\"\",\"\",filEst!K40)","v":""},null,{"$f":"IF('CB1'!$P40=\"\",\"\",'CB1'!$P40)","v":""},{"$f":"IF('CB2'!$P40=\"\",\"\",'CB2'!$P40)","v":""},{"$f":"IF('CB3'!$P40=\"\",\"\",'CB3'!$P40)","v":""},null,"",{"$f":"IF('CB1'!$Q40=\"\",\"\",'CB1'!$Q40)","v":""},{"$f":"IF('CB2'!$Q40=\"\",\"\",'CB2'!$Q40)","v":""},{"$f":"IF('CB3'!$Q40=\"\",\"\",'CB3'!$Q40)","v":""},null,"",{"$f":"IF('CB1'!$R40=\"\",\"\",'CB1'!$R40)","v":""},{"$f":"IF('CB2'!$R40=\"\",\"\",'CB2'!$R40)","v":""},{"$f":"IF('CB3'!$R40=\"\",\"\",'CB3'!$R40)","v":""},null,"",{"$f":"IF('CB1'!$S40=\"\",\"\",'CB1'!$S40)","v":""},{"$f":"IF('CB2'!$S40=\"\",\"\",'CB2'!$S40)","v":""},{"$f":"IF('CB3'!$S40=\"\",\"\",'CB3'!$S40)","v":""},null,"",{"$f":"IF('CB1'!$T40=\"\",\"\",'CB1'!$T40)","v":""},{"$f":"IF('CB2'!$T40=\"\",\"\",'CB2'!$T40)","v":""},{"$f":"IF('CB3'!$T40=\"\",\"\",'CB3'!$T40)","v":""},null,"",{"$f":"IF('CB1'!$U40=\"\",\"\",'CB1'!$U40)","v":""},{"$f":"IF('CB2'!$U40=\"\",\"\",'CB2'!$U40)","v":""},{"$f":"IF('CB3'!$U40=\"\",\"\",'CB3'!$U40)","v":""},null,"",{"$f":"IF('CB1'!$V40=\"\",\"\",'CB1'!$V40)","v":""},{"$f":"IF('CB2'!$V40=\"\",\"\",'CB2'!$V40)","v":""},{"$f":"IF('CB3'!$V40=\"\",\"\",'CB3'!$V40)","v":""},null,"",{"$f":"IF('CB1'!$W40=\"\",\"\",'CB1'!$W40)","v":""},{"$f":"IF('CB2'!$W40=\"\",\"\",'CB2'!$W40)","v":""},{"$f":"IF('CB3'!$W40=\"\",\"\",'CB3'!$W40)","v":""},null,"",{"$f":"IF('CB1'!$X40=\"\",\"\",'CB1'!$X40)","v":""},{"$f":"IF('CB2'!$X40=\"\",\"\",'CB2'!$X40)","v":""},{"$f":"IF('CB3'!$X40=\"\",\"\",'CB3'!$X40)","v":""},null,"",{"$f":"IF('CB1'!$Y40=\"\",\"\",'CB1'!$Y40)","v":""},{"$f":"IF('CB2'!$Y40=\"\",\"\",'CB2'!$Y40)","v":""},{"$f":"IF('CB3'!$Y40=\"\",\"\",'CB3'!$Y40)","v":""},null,"",{"$f":"IF('CB1'!$Z40=\"\",\"\",'CB1'!$Z40)","v":""},{"$f":"IF('CB2'!$Z40=\"\",\"\",'CB2'!$Z40)","v":""},{"$f":"IF('CB3'!$Z40=\"\",\"\",'CB3'!$Z40)","v":""},null,"",{"$f":"IF('CB1'!$AC40=\"\",\"\",'CB1'!$AC40)","v":""},{"$f":"IF('CB2'!$AC40=\"\",\"\",'CB2'!$AC40)","v":""},{"$f":"IF('CB3'!$AC40=\"\",\"\",'CB3'!$AC40)","v":""},null,"",{"$f":"IF('CB1'!$AE40=\"\",\"\",'CB1'!$AE40)","v":""},{"$f":"IF('CB2'!$AE40=\"\",\"\",'CB2'!$AE40)","v":""},{"$f":"IF('CB3'!$AE40=\"\",\"\",'CB3'!$AE40)","v":""},null,"",{"$f":"IF('CB1'!$AF40=\"\",\"\",'CB1'!$AF40)","v":""},{"$f":"IF('CB2'!$AF40=\"\",\"\",'CB2'!$AF40)","v":""},{"$f":"IF('CB3'!$AF40=\"\",\"\",'CB3'!$AF40)","v":""},null,"",{"$f":"IF('CB1'!$AJ40=\"\",\"\",'CB1'!$AJ40)","v":""},{"$f":"IF('CB2'!$AJ40=\"\",\"\",'CB2'!$AJ40)","v":""},{"$f":"IF('CB3'!$AJ40=\"\",\"\",'CB3'!$AJ40)","v":""},null,"",{"$f":"IF('CB1'!$AK40=\"\",\"\",'CB1'!$AK40)","v":""},{"$f":"IF('CB2'!$AK40=\"\",\"\",'CB2'!$AK40)","v":""},{"$f":"IF('CB3'!$AK40=\"\",\"\",'CB3'!$AK40)","v":""},null,"","",null,"","","","","","","","","","","","","","","","",0,null,"","",{"$f":"'CB1'!$AL40","v":""},{"$f":"'CB2'!$AL40","v":0},{"$f":"'CB3'!$AL40","v":0}]
[null,null,null,null,null,{"$f":"IF(filEst!F41=\"\",\"\",filEst!F41)","v":""},{"$f":"IF(filEst!G41=\"\",\"\",filEst!G41)","v":""},{"$f":"IF(filEst!L41=\"\",\"\",filEst!L41)","v":""},null,null,{"$f":"IF(filEst!K41=\"\",\"\",filEst!K41)","v":""},null,{"$f":"IF('CB1'!$P41=\"\",\"\",'CB1'!$P41)","v":""},{"$f":"IF('CB2'!$P41=\"\",\"\",'CB2'!$P41)","v":""},{"$f":"IF('CB3'!$P41=\"\",\"\",'CB3'!$P41)","v":""},null,"",{"$f":"IF('CB1'!$Q41=\"\",\"\",'CB1'!$Q41)","v":""},{"$f":"IF('CB2'!$Q41=\"\",\"\",'CB2'!$Q41)","v":""},{"$f":"IF('CB3'!$Q41=\"\",\"\",'CB3'!$Q41)","v":""},null,"",{"$f":"IF('CB1'!$R41=\"\",\"\",'CB1'!$R41)","v":""},{"$f":"IF('CB2'!$R41=\"\",\"\",'CB2'!$R41)","v":""},{"$f":"IF('CB3'!$R41=\"\",\"\",'CB3'!$R41)","v":""},null,"",{"$f":"IF('CB1'!$S41=\"\",\"\",'CB1'!$S41)","v":""},{"$f":"IF('CB2'!$S41=\"\",\"\",'CB2'!$S41)","v":""},{"$f":"IF('CB3'!$S41=\"\",\"\",'CB3'!$S41)","v":""},null,"",{"$f":"IF('CB1'!$T41=\"\",\"\",'CB1'!$T41)","v":""},{"$f":"IF('CB2'!$T41=\"\",\"\",'CB2'!$T41)","v":""},{"$f":"IF('CB3'!$T41=\"\",\"\",'CB3'!$T41)","v":""},null,"",{"$f":"IF('CB1'!$U41=\"\",\"\",'CB1'!$U41)","v":""},{"$f":"IF('CB2'!$U41=\"\",\"\",'CB2'!$U41)","v":""},{"$f":"IF('CB3'!$U41=\"\",\"\",'CB3'!$U41)","v":""},null,"",{"$f":"IF('CB1'!$V41=\"\",\"\",'CB1'!$V41)","v":""},{"$f":"IF('CB2'!$V41=\"\",\"\",'CB2'!$V41)","v":""},{"$f":"IF('CB3'!$V41=\"\",\"\",'CB3'!$V41)","v":""},null,"",{"$f":"IF('CB1'!$W41=\"\",\"\",'CB1'!$W41)","v":""},{"$f":"IF('CB2'!$W41=\"\",\"\",'CB2'!$W41)","v":""},{"$f":"IF('CB3'!$W41=\"\",\"\",'CB3'!$W41)","v":""},null,"",{"$f":"IF('CB1'!$X41=\"\",\"\",'CB1'!$X41)","v":""},{"$f":"IF('CB2'!$X41=\"\",\"\",'CB2'!$X41)","v":""},{"$f":"IF('CB3'!$X41=\"\",\"\",'CB3'!$X41)","v":""},null,"",{"$f":"IF('CB1'!$Y41=\"\",\"\",'CB1'!$Y41)","v":""},{"$f":"IF('CB2'!$Y41=\"\",\"\",'CB2'!$Y41)","v":""},{"$f":"IF('CB3'!$Y41=\"\",\"\",'CB3'!$Y41)","v":""},null,"",{"$f":"IF('CB1'!$Z41=\"\",\"\",'CB1'!$Z41)","v":""},{"$f":"IF('CB2'!$Z41=\"\",\"\",'CB2'!$Z41)","v":""},{"$f":"IF('CB3'!$Z41=\"\",\"\",'CB3'!$Z41)","v":""},null,"",{"$f":"IF('CB1'!$AC41=\"\",\"\",'CB1'!$AC41)","v":""},{"$f":"IF('CB2'!$AC41=\"\",\"\",'CB2'!$AC41)","v":""},{"$f":"IF('CB3'!$AC41=\"\",\"\",'CB3'!$AC41)","v":""},null,"",{"$f":"IF('CB1'!$AE41=\"\",\"\",'CB1'!$AE41)","v":""},{"$f":"IF('CB2'!$AE41=\"\",\"\",'CB2'!$AE41)","v":""},{"$f":"IF('CB3'!$AE41=\"\",\"\",'CB3'!$AE41)","v":""},null,"",{"$f":"IF('CB1'!$AF41=\"\",\"\",'CB1'!$AF41)","v":""},{"$f":"IF('CB2'!$AF41=\"\",\"\",'CB2'!$AF41)","v":""},{"$f":"IF('CB3'!$AF41=\"\",\"\",'CB3'!$AF41)","v":""},null,"",{"$f":"IF('CB1'!$AJ41=\"\",\"\",'CB1'!$AJ41)","v":""},{"$f":"IF('CB2'!$AJ41=\"\",\"\",'CB2'!$AJ41)","v":""},{"$f":"IF('CB3'!$AJ41=\"\",\"\",'CB3'!$AJ41)","v":""},null,"",{"$f":"IF('CB1'!$AK41=\"\",\"\",'CB1'!$AK41)","v":""},{"$f":"IF('CB2'!$AK41=\"\",\"\",'CB2'!$AK41)","v":""},{"$f":"IF('CB3'!$AK41=\"\",\"\",'CB3'!$AK41)","v":""},null,"","",null,"","","","","","","","","","","","","","","","",0,null,"","",{"$f":"'CB1'!$AL41","v":""},{"$f":"'CB2'!$AL41","v":0},{"$f":"'CB3'!$AL41","v":0}]
[null,null,null,null,null,{"$f":"IF(filEst!F42=\"\",\"\",filEst!F42)","v":""},{"$f":"IF(filEst!G42=\"\",\"\",filEst!G42)","v":""},{"$f":"IF(filEst!L42=\"\",\"\",filEst!L42)","v":""},null,null,{"$f":"IF(filEst!K42=\"\",\"\",filEst!K42)","v":""},null,{"$f":"IF('CB1'!$P42=\"\",\"\",'CB1'!$P42)","v":""},{"$f":"IF('CB2'!$P42=\"\",\"\",'CB2'!$P42)","v":""},{"$f":"IF('CB3'!$P42=\"\",\"\",'CB3'!$P42)","v":""},null,"",{"$f":"IF('CB1'!$Q42=\"\",\"\",'CB1'!$Q42)","v":""},{"$f":"IF('CB2'!$Q42=\"\",\"\",'CB2'!$Q42)","v":""},{"$f":"IF('CB3'!$Q42=\"\",\"\",'CB3'!$Q42)","v":""},null,"",{"$f":"IF('CB1'!$R42=\"\",\"\",'CB1'!$R42)","v":""},{"$f":"IF('CB2'!$R42=\"\",\"\",'CB2'!$R42)","v":""},{"$f":"IF('CB3'!$R42=\"\",\"\",'CB3'!$R42)","v":""},null,"",{"$f":"IF('CB1'!$S42=\"\",\"\",'CB1'!$S42)","v":""},{"$f":"IF('CB2'!$S42=\"\",\"\",'CB2'!$S42)","v":""},{"$f":"IF('CB3'!$S42=\"\",\"\",'CB3'!$S42)","v":""},null,"",{"$f":"IF('CB1'!$T42=\"\",\"\",'CB1'!$T42)","v":""},{"$f":"IF('CB2'!$T42=\"\",\"\",'CB2'!$T42)","v":""},{"$f":"IF('CB3'!$T42=\"\",\"\",'CB3'!$T42)","v":""},null,"",{"$f":"IF('CB1'!$U42=\"\",\"\",'CB1'!$U42)","v":""},{"$f":"IF('CB2'!$U42=\"\",\"\",'CB2'!$U42)","v":""},{"$f":"IF('CB3'!$U42=\"\",\"\",'CB3'!$U42)","v":""},null,"",{"$f":"IF('CB1'!$V42=\"\",\"\",'CB1'!$V42)","v":""},{"$f":"IF('CB2'!$V42=\"\",\"\",'CB2'!$V42)","v":""},{"$f":"IF('CB3'!$V42=\"\",\"\",'CB3'!$V42)","v":""},null,"",{"$f":"IF('CB1'!$W42=\"\",\"\",'CB1'!$W42)","v":""},{"$f":"IF('CB2'!$W42=\"\",\"\",'CB2'!$W42)","v":""},{"$f":"IF('CB3'!$W42=\"\",\"\",'CB3'!$W42)","v":""},null,"",{"$f":"IF('CB1'!$X42=\"\",\"\",'CB1'!$X42)","v":""},{"$f":"IF('CB2'!$X42=\"\",\"\",'CB2'!$X42)","v":""},{"$f":"IF('CB3'!$X42=\"\",\"\",'CB3'!$X42)","v":""},null,"",{"$f":"IF('CB1'!$Y42=\"\",\"\",'CB1'!$Y42)","v":""},{"$f":"IF('CB2'!$Y42=\"\",\"\",'CB2'!$Y42)","v":""},{"$f":"IF('CB3'!$Y42=\"\",\"\",'CB3'!$Y42)","v":""},null,"",{"$f":"IF('CB1'!$Z42=\"\",\"\",'CB1'!$Z42)","v":""},{"$f":"IF('CB2'!$Z42=\"\",\"\",'CB2'!$Z42)","v":""},{"$f":"IF('CB3'!$Z42=\"\",\"\",'CB3'!$Z42)","v":""},null,"",{"$f":"IF('CB1'!$AC42=\"\",\"\",'CB1'!$AC42)","v":""},{"$f":"IF('CB2'!$AC42=\"\",\"\",'CB2'!$AC42)","v":""},{"$f":"IF('CB3'!$AC42=\"\",\"\",'CB3'!$AC42)","v":""},null,"",{"$f":"IF('CB1'!$AE42=\"\",\"\",'CB1'!$AE42)","v":""},{"$f":"IF('CB2'!$AE42=\"\",\"\",'CB2'!$AE42)","v":""},{"$f":"IF('CB3'!$AE42=\"\",\"\",'CB3'!$AE42)","v":""},null,"",{"$f":"IF('CB1'!$AF42=\"\",\"\",'CB1'!$AF42)","v":""},{"$f":"IF('CB2'!$AF42=\"\",\"\",'CB2'!$AF42)","v":""},{"$f":"IF('CB3'!$AF42=\"\",\"\",'CB3'!$AF42)","v":""},null,"",{"$f":"IF('CB1'!$AJ42=\"\",\"\",'CB1'!$AJ42)","v":""},{"$f":"IF('CB2'!$AJ42=\"\",\"\",'CB2'!$AJ42)","v":""},{"$f":"IF('CB3'!$AJ42=\"\",\"\",'CB3'!$AJ42)","v":""},null,"",{"$f":"IF('CB1'!$AK42=\"\",\"\",'CB1'!$AK42)","v":""},{"$f":"IF('CB2'!$AK42=\"\",\"\",'CB2'!$AK42)","v":""},{"$f":"IF('CB3'!$AK42=\"\",\"\",'CB3'!$AK42)","v":""},null,"","",null,"","","","","","","","","","","","","","","","",0,null,"","",{"$f":"'CB1'!$AL42","v":""},{"$f":"'CB2'!$AL42","v":0},{"$f":"'CB3'!$AL42","v":0}]
[null,null,null,null,null,{"$f":"IF(filEst!F43=\"\",\"\",filEst!F43)","v":""},{"$f":"IF(filEst!G43=\"\",\"\",filEst!G43)","v":""},{"$f":"IF(filEst!L43=\"\",\"\",filEst!L43)","v":""},null,null,{"$f":"IF(filEst!K43=\"\",\"\",filEst!K43)","v":""},null,{"$f":"IF('CB1'!$P43=\"\",\"\",'CB1'!$P43)","v":""},{"$f":"IF('CB2'!$P43=\"\",\"\",'CB2'!$P43)","v":""},{"$f":"IF('CB3'!$P43=\"\",\"\",'CB3'!$P43)","v":""},null,"",{"$f":"IF('CB1'!$Q43=\"\",\"\",'CB1'!$Q43)","v":""},{"$f":"IF('CB2'!$Q43=\"\",\"\",'CB2'!$Q43)","v":""},{"$f":"IF('CB3'!$Q43=\"\",\"\",'CB3'!$Q43)","v":""},null,"",{"$f":"IF('CB1'!$R43=\"\",\"\",'CB1'!$R43)","v":""},{"$f":"IF('CB2'!$R43=\"\",\"\",'CB2'!$R43)","v":""},{"$f":"IF('CB3'!$R43=\"\",\"\",'CB3'!$R43)","v":""},null,"",{"$f":"IF('CB1'!$S43=\"\",\"\",'CB1'!$S43)","v":""},{"$f":"IF('CB2'!$S43=\"\",\"\",'CB2'!$S43)","v":""},{"$f":"IF('CB3'!$S43=\"\",\"\",'CB3'!$S43)","v":""},null,"",{"$f":"IF('CB1'!$T43=\"\",\"\",'CB1'!$T43)","v":""},{"$f":"IF('CB2'!$T43=\"\",\"\",'CB2'!$T43)","v":""},{"$f":"IF('CB3'!$T43=\"\",\"\",'CB3'!$T43)","v":""},null,"",{"$f":"IF('CB1'!$U43=\"\",\"\",'CB1'!$U43)","v":""},{"$f":"IF('CB2'!$U43=\"\",\"\",'CB2'!$U43)","v":""},{"$f":"IF('CB3'!$U43=\"\",\"\",'CB3'!$U43)","v":""},null,"",{"$f":"IF('CB1'!$V43=\"\",\"\",'CB1'!$V43)","v":""},{"$f":"IF('CB2'!$V43=\"\",\"\",'CB2'!$V43)","v":""},{"$f":"IF('CB3'!$V43=\"\",\"\",'CB3'!$V43)","v":""},null,"",{"$f":"IF('CB1'!$W43=\"\",\"\",'CB1'!$W43)","v":""},{"$f":"IF('CB2'!$W43=\"\",\"\",'CB2'!$W43)","v":""},{"$f":"IF('CB3'!$W43=\"\",\"\",'CB3'!$W43)","v":""},null,"",{"$f":"IF('CB1'!$X43=\"\",\"\",'CB1'!$X43)","v":""},{"$f":"IF('CB2'!$X43=\"\",\"\",'CB2'!$X43)","v":""},{"$f":"IF('CB3'!$X43=\"\",\"\",'CB3'!$X43)","v":""},null,"",{"$f":"IF('CB1'!$Y43=\"\",\"\",'CB1'!$Y43)","v":""},{"$f":"IF('CB2'!$Y43=\"\",\"\",'CB2'!$Y43)","v":""},{"$f":"IF('CB3'!$Y43=\"\",\"\",'CB3'!$Y43)","v":""},null,"",{"$f":"IF('CB1'!$Z43=\"\",\"\",'CB1'!$Z43)","v":""},{"$f":"IF('CB2'!$Z43=\"\",\"\",'CB2'!$Z43)","v":""},{"$f":"IF('CB3'!$Z43=\"\",\"\",'CB3'!$Z43)","v":""},null,"",{"$f":"IF('CB1'!$AC43=\"\",\"\",'CB1'!$AC43)","v":""},{"$f":"IF('CB2'!$AC43=\"\",\"\",'CB2'!$AC43)","v":""},{"$f":"IF('CB3'!$AC43=\"\",\"\",'CB3'!$AC43)","v":""},null,"",{"$f":"IF('CB1'!$AE43=\"\",\"\",'CB1'!$AE43)","v":""},{"$f":"IF('CB2'!$AE43=\"\",\"\",'CB2'!$AE43)","v":""},{"$f":"IF('CB3'!$AE43=\"\",\"\",'CB3'!$AE43)","v":""},null,"",{"$f":"IF('CB1'!$AF43=\"\",\"\",'CB1'!$AF43)","v":""},{"$f":"IF('CB2'!$AF43=\"\",\"\",'CB2'!$AF43)","v":""},{"$f":"IF('CB3'!$AF43=\"\",\"\",'CB3'!$AF43)","v":""},null,"",{"$f":"IF('CB1'!$AJ43=\"\",\"\",'CB1'!$AJ43)","v":""},{"$f":"IF('CB2'!$AJ43=\"\",\"\",'CB2'!$AJ43)","v":""},{"$f":"IF('CB3'!$AJ43=\"\",\"\",'CB3'!$AJ43)","v":""},null,"",{"$f":"IF('CB1'!$AK43=\"\",\"\",'CB1'!$AK43)","v":""},{"$f":"IF('CB2'!$AK43=\"\",\"\",'CB2'!$AK43)","v":""},{"$f":"IF('CB3'!$AK43=\"\",\"\",'CB3'!$AK43)","v":""},null,"","",null,"","","","","","","","","","","","","","","","",0,null,"","",{"$f":"'CB1'!$AL43","v":""},{"$f":"'CB2'!$AL43","v":0},{"$f":"'CB3'!$AL43","v":0}]
[null,null,null,null,null,{"$f":"IF(filEst!F44=\"\",\"\",filEst!F44)","v":""},{"$f":"IF(filEst!G44=\"\",\"\",filEst!G44)","v":""},{"$f":"IF(filEst!L44=\"\",\"\",filEst!L44)","v":""},null,null,{"$f":"IF(filEst!K44=\"\",\"\",filEst!K44)","v":""},null,{"$f":"IF('CB1'!$P44=\"\",\"\",'CB1'!$P44)","v":""},{"$f":"IF('CB2'!$P44=\"\",\"\",'CB2'!$P44)","v":""},{"$f":"IF('CB3'!$P44=\"\",\"\",'CB3'!$P44)","v":""},null,"",{"$f":"IF('CB1'!$Q44=\"\",\"\",'CB1'!$Q44)","v":""},{"$f":"IF('CB2'!$Q44=\"\",\"\",'CB2'!$Q44)","v":""},{"$f":"IF('CB3'!$Q44=\"\",\"\",'CB3'!$Q44)","v":""},null,"",{"$f":"IF('CB1'!$R44=\"\",\"\",'CB1'!$R44)","v":""},{"$f":"IF('CB2'!$R44=\"\",\"\",'CB2'!$R44)","v":""},{"$f":"IF('CB3'!$R44=\"\",\"\",'CB3'!$R44)","v":""},null,"",{"$f":"IF('CB1'!$S44=\"\",\"\",'CB1'!$S44)","v":""},{"$f":"IF('CB2'!$S44=\"\",\"\",'CB2'!$S44)","v":""},{"$f":"IF('CB3'!$S44=\"\",\"\",'CB3'!$S44)","v":""},null,"",{"$f":"IF('CB1'!$T44=\"\",\"\",'CB1'!$T44)","v":""},{"$f":"IF('CB2'!$T44=\"\",\"\",'CB2'!$T44)","v":""},{"$f":"IF('CB3'!$T44=\"\",\"\",'CB3'!$T44)","v":""},null,"",{"$f":"IF('CB1'!$U44=\"\",\"\",'CB1'!$U44)","v":""},{"$f":"IF('CB2'!$U44=\"\",\"\",'CB2'!$U44)","v":""},{"$f":"IF('CB3'!$U44=\"\",\"\",'CB3'!$U44)","v":""},null,"",{"$f":"IF('CB1'!$V44=\"\",\"\",'CB1'!$V44)","v":""},{"$f":"IF('CB2'!$V44=\"\",\"\",'CB2'!$V44)","v":""},{"$f":"IF('CB3'!$V44=\"\",\"\",'CB3'!$V44)","v":""},null,"",{"$f":"IF('CB1'!$W44=\"\",\"\",'CB1'!$W44)","v":""},{"$f":"IF('CB2'!$W44=\"\",\"\",'CB2'!$W44)","v":""},{"$f":"IF('CB3'!$W44=\"\",\"\",'CB3'!$W44)","v":""},null,"",{"$f":"IF('CB1'!$X44=\"\",\"\",'CB1'!$X44)","v":""},{"$f":"IF('CB2'!$X44=\"\",\"\",'CB2'!$X44)","v":""},{"$f":"IF('CB3'!$X44=\"\",\"\",'CB3'!$X44)","v":""},null,"",{"$f":"IF('CB1'!$Y44=\"\",\"\",'CB1'!$Y44)","v":""},{"$f":"IF('CB2'!$Y44=\"\",\"\",'CB2'!$Y44)","v":""},{"$f":"IF('CB3'!$Y44=\"\",\"\",'CB3'!$Y44)","v":""},null,"",{"$f":"IF('CB1'!$Z44=\"\",\"\",'CB1'!$Z44)","v":""},{"$f":"IF('CB2'!$Z44=\"\",\"\",'CB2'!$Z44)","v":""},{"$f":"IF('CB3'!$Z44=\"\",\"\",'CB3'!$Z44)","v":""},null,"",{"$f":"IF('CB1'!$AC44=\"\",\"\",'CB1'!$AC44)","v":""},{"$f":"IF('CB2'!$AC44=\"\",\"\",'CB2'!$AC44)","v":""},{"$f":"IF('CB3'!$AC44=\"\",\"\",'CB3'!$AC44)","v":""},null,"",{"$f":"IF('CB1'!$AE44=\"\",\"\",'CB1'!$AE44)","v":""},{"$f":"IF('CB2'!$AE44=\"\",\"\",'CB2'!$AE44)","v":""},{"$f":"IF('CB3'!$AE44=\"\",\"\",'CB3'!$AE44)","v":""},null,"",{"$f":"IF('CB1'!$AF44=\"\",\"\",'CB1'!$AF44)","v":""},{"$f":"IF('CB2'!$AF44=\"\",\"\",'CB2'!$AF44)","v":""},{"$f":"IF('CB3'!$AF44=\"\",\"\",'CB3'!$AF44)","v":""},null,"",{"$f":"IF('CB1'!$AJ44=\"\",\"\",'CB1'!$AJ44)","v":""},{"$f":"IF('CB2'!$AJ44=\"\",\"\",'CB2'!$AJ44)","v":""},{"$f":"IF('CB3'!$AJ44=\"\",\"\",'CB3'!$AJ44)","v":""},null,"",{"$f":"IF('CB1'!$AK44=\"\",\"\",'CB1'!$AK44)","v":""},{"$f":"IF('CB2'!$AK44=\"\",\"\",'CB2'!$AK44)","v":""},{"$f":"IF('CB3'!$AK44=\"\",\"\",'CB3'!$AK44)","v":""},null,"","",null,"","","","","","","","","","","","","","","","",0,null,"","",{"$f":"'CB1'!$AL44","v":""},{"$f":"'CB2'!$AL44","v":0},{"$f":"'CB3'!$AL44","v":0}]
[null,null,null,null,null,{"$f":"IF(filEst!F45=\"\",\"\",filEst!F45)","v":""},{"$f":"IF(filEst!G45=\"\",\"\",filEst!G45)","v":""},{"$f":"IF(filEst!L45=\"\",\"\",filEst!L45)","v":""},null,null,{"$f":"IF(filEst!K45=\"\",\"\",filEst!K45)","v":""},null,{"$f":"IF('CB1'!$P45=\"\",\"\",'CB1'!$P45)","v":""},{"$f":"IF('CB2'!$P45=\"\",\"\",'CB2'!$P45)","v":""},{"$f":"IF('CB3'!$P45=\"\",\"\",'CB3'!$P45)","v":""},null,"",{"$f":"IF('CB1'!$Q45=\"\",\"\",'CB1'!$Q45)","v":""},{"$f":"IF('CB2'!$Q45=\"\",\"\",'CB2'!$Q45)","v":""},{"$f":"IF('CB3'!$Q45=\"\",\"\",'CB3'!$Q45)","v":""},null,"",{"$f":"IF('CB1'!$R45=\"\",\"\",'CB1'!$R45)","v":""},{"$f":"IF('CB2'!$R45=\"\",\"\",'CB2'!$R45)","v":""},{"$f":"IF('CB3'!$R45=\"\",\"\",'CB3'!$R45)","v":""},null,"",{"$f":"IF('CB1'!$S45=\"\",\"\",'CB1'!$S45)","v":""},{"$f":"IF('CB2'!$S45=\"\",\"\",'CB2'!$S45)","v":""},{"$f":"IF('CB3'!$S45=\"\",\"\",'CB3'!$S45)","v":""},null,"",{"$f":"IF('CB1'!$T45=\"\",\"\",'CB1'!$T45)","v":""},{"$f":"IF('CB2'!$T45=\"\",\"\",'CB2'!$T45)","v":""},{"$f":"IF('CB3'!$T45=\"\",\"\",'CB3'!$T45)","v":""},null,"",{"$f":"IF('CB1'!$U45=\"\",\"\",'CB1'!$U45)","v":""},{"$f":"IF('CB2'!$U45=\"\",\"\",'CB2'!$U45)","v":""},{"$f":"IF('CB3'!$U45=\"\",\"\",'CB3'!$U45)","v":""},null,"",{"$f":"IF('CB1'!$V45=\"\",\"\",'CB1'!$V45)","v":""},{"$f":"IF('CB2'!$V45=\"\",\"\",'CB2'!$V45)","v":""},{"$f":"IF('CB3'!$V45=\"\",\"\",'CB3'!$V45)","v":""},null,"",{"$f":"IF('CB1'!$W45=\"\",\"\",'CB1'!$W45)","v":""},{"$f":"IF('CB2'!$W45=\"\",\"\",'CB2'!$W45)","v":""},{"$f":"IF('CB3'!$W45=\"\",\"\",'CB3'!$W45)","v":""},null,"",{"$f":"IF('CB1'!$X45=\"\",\"\",'CB1'!$X45)","v":""},{"$f":"IF('CB2'!$X45=\"\",\"\",'CB2'!$X45)","v":""},{"$f":"IF('CB3'!$X45=\"\",\"\",'CB3'!$X45)","v":""},null,"",{"$f":"IF('CB1'!$Y45=\"\",\"\",'CB1'!$Y45)","v":""},{"$f":"IF('CB2'!$Y45=\"\",\"\",'CB2'!$Y45)","v":""},{"$f":"IF('CB3'!$Y45=\"\",\"\",'CB3'!$Y45)","v":""},null,"",{"$f":"IF('CB1'!$Z45=\"\",\"\",'CB1'!$Z45)","v":""},{"$f":"IF('CB2'!$Z45=\"\",\"\",'CB2'!$Z45)","v":""},{"$f":"IF('CB3'!$Z45=\"\",\"\",'CB3'!$Z45)","v":""},null,"",{"$f":"IF('CB1'!$AC45=\"\",\"\",'CB1'!$AC45)","v":""},{"$f":"IF('CB2'!$AC45=\"\",\"\",'CB2'!$AC45)","v":""},{"$f":"IF('CB3'!$AC45=\"\",\"\",'CB3'!$AC45)","v":""},null,"",{"$f":"IF('CB1'!$AE45=\"\",\"\",'CB1'!$AE45)","v":""},{"$f":"IF('CB2'!$AE45=\"\",\"\",'CB2'!$AE45)","v":""},{"$f":"IF('CB3'!$AE45=\"\",\"\",'CB3'!$AE45)","v":""},null,"",{"$f":"IF('CB1'!$AF45=\"\",\"\",'CB1'!$AF45)","v":""},{"$f":"IF('CB2'!$AF45=\"\",\"\",'CB2'!$AF45)","v":""},{"$f":"IF('CB3'!$AF45=\"\",\"\",'CB3'!$AF45)","v":""},null,"",{"$f":"IF('CB1'!$AJ45=\"\",\"\",'CB1'!$AJ45)","v":""},{"$f":"IF('CB2'!$AJ45=\"\",\"\",'CB2'!$AJ45)","v":""},{"$f":"IF('CB3'!$AJ45=\"\",\"\",'CB3'!$AJ45)","v":""},null,"",{"$f":"IF('CB1'!$AK45=\"\",\"\",'CB1'!$AK45)","v":""},{"$f":"IF('CB2'!$AK45=\"\",\"\",'CB2'!$AK45)","v":""},{"$f":"IF('CB3'!$AK45=\"\",\"\",'CB3'!$AK45)","v":""},null,"","",null,"","","","","","","","","","","","","","","","",0,null,"","",{"$f":"'CB1'!$AL45","v":""},{"$f":"'CB2'!$AL45","v":0},{"$f":"'CB3'!$AL45","v":0}]
[null,null,null,null,null,{"$f":"IF(filEst!F46=\"\",\"\",filEst!F46)","v":""},{"$f":"IF(filEst!G46=\"\",\"\",filEst!G46)","v":""},{"$f":"IF(filEst!L46=\"\",\"\",filEst!L46)","v":""},null,null,{"$f":"IF(filEst!K46=\"\",\"\",filEst!K46)","v":""},null,{"$f":"IF('CB1'!$P46=\"\",\"\",'CB1'!$P46)","v":""},{"$f":"IF('CB2'!$P46=\"\",\"\",'CB2'!$P46)","v":""},{"$f":"IF('CB3'!$P46=\"\",\"\",'CB3'!$P46)","v":""},null,"",{"$f":"IF('CB1'!$Q46=\"\",\"\",'CB1'!$Q46)","v":""},{"$f":"IF('CB2'!$Q46=\"\",\"\",'CB2'!$Q46)","v":""},{"$f":"IF('CB3'!$Q46=\"\",\"\",'CB3'!$Q46)","v":""},null,"",{"$f":"IF('CB1'!$R46=\"\",\"\",'CB1'!$R46)","v":""},{"$f":"IF('CB2'!$R46=\"\",\"\",'CB2'!$R46)","v":""},{"$f":"IF('CB3'!$R46=\"\",\"\",'CB3'!$R46)","v":""},null,"",{"$f":"IF('CB1'!$S46=\"\",\"\",'CB1'!$S46)","v":""},{"$f":"IF('CB2'!$S46=\"\",\"\",'CB2'!$S46)","v":""},{"$f":"IF('CB3'!$S46=\"\",\"\",'CB3'!$S46)","v":""},null,"",{"$f":"IF('CB1'!$T46=\"\",\"\",'CB1'!$T46)","v":""},{"$f":"IF('CB2'!$T46=\"\",\"\",'CB2'!$T46)","v":""},{"$f":"IF('CB3'!$T46=\"\",\"\",'CB3'!$T46)","v":""},null,"",{"$f":"IF('CB1'!$U46=\"\",\"\",'CB1'!$U46)","v":""},{"$f":"IF('CB2'!$U46=\"\",\"\",'CB2'!$U46)","v":""},{"$f":"IF('CB3'!$U46=\"\",\"\",'CB3'!$U46)","v":""},null,"",{"$f":"IF('CB1'!$V46=\"\",\"\",'CB1'!$V46)","v":""},{"$f":"IF('CB2'!$V46=\"\",\"\",'CB2'!$V46)","v":""},{"$f":"IF('CB3'!$V46=\"\",\"\",'CB3'!$V46)","v":""},null,"",{"$f":"IF('CB1'!$W46=\"\",\"\",'CB1'!$W46)","v":""},{"$f":"IF('CB2'!$W46=\"\",\"\",'CB2'!$W46)","v":""},{"$f":"IF('CB3'!$W46=\"\",\"\",'CB3'!$W46)","v":""},null,"",{"$f":"IF('CB1'!$X46=\"\",\"\",'CB1'!$X46)","v":""},{"$f":"IF('CB2'!$X46=\"\",\"\",'CB2'!$X46)","v":""},{"$f":"IF('CB3'!$X46=\"\",\"\",'CB3'!$X46)","v":""},null,"",{"$f":"IF('CB1'!$Y46=\"\",\"\",'CB1'!$Y46)","v":""},{"$f":"IF('CB2'!$Y46=\"\",\"\",'CB2'!$Y46)","v":""},{"$f":"IF('CB3'!$Y46=\"\",\"\",'CB3'!$Y46)","v":""},null,"",{"$f":"IF('CB1'!$Z46=\"\",\"\",'CB1'!$Z46)","v":""},{"$f":"IF('CB2'!$Z46=\"\",\"\",'CB2'!$Z46)","v":""},{"$f":"IF('CB3'!$Z46=\"\",\"\",'CB3'!$Z46)","v":""},null,"",{"$f":"IF('CB1'!$AC46=\"\",\"\",'CB1'!$AC46)","v":""},{"$f":"IF('CB2'!$AC46=\"\",\"\",'CB2'!$AC46)","v":""},{"$f":"IF('CB3'!$AC46=\"\",\"\",'CB3'!$AC46)","v":""},null,"",{"$f":"IF('CB1'!$AE46=\"\",\"\",'CB1'!$AE46)","v":""},{"$f":"IF('CB2'!$AE46=\"\",\"\",'CB2'!$AE46)","v":""},{"$f":"IF('CB3'!$AE46=\"\",\"\",'CB3'!$AE46)","v":""},null,"",{"$f":"IF('CB1'!$AF46=\"\",\"\",'CB1'!$AF46)","v":""},{"$f":"IF('CB2'!$AF46=\"\",\"\",'CB2'!$AF46)","v":""},{"$f":"IF('CB3'!$AF46=\"\",\"\",'CB3'!$AF46)","v":""},null,"",{"$f":"IF('CB1'!$AJ46=\"\",\"\",'CB1'!$AJ46)","v":""},{"$f":"IF('CB2'!$AJ46=\"\",\"\",'CB2'!$AJ46)","v":""},{"$f":"IF('CB3'!$AJ46=\"\",\"\",'CB3'!$AJ46)","v":""},null,"",{"$f":"IF('CB1'!$AK46=\"\",\"\",'CB1'!$AK46)","v":""},{"$f":"IF('CB2'!$AK46=\"\",\"\",'CB2'!$AK46)","v":""},{"$f":"IF('CB3'!$AK46=\"\",\"\",'CB3'!$AK46)","v":""},null,"","",null,"","","","","","","","","","","","","","","","",0,null,"","",{"$f":"'CB1'!$AL46","v":""},{"$f":"'CB2'!$AL46","v":0},{"$f":"'CB3'!$AL46","v":0}]
[null,null,null,null,null,{"$f":"IF(filEst!F47=\"\",\"\",filEst!F47)","v":""},{"$f":"IF(filEst!G47=\"\",\"\",filEst!G47)","v":""},{"$f":"IF(filEst!L47=\"\",\"\",filEst!L47)","v":""},null,null,{"$f":"IF(filEst!K47=\"\",\"\",filEst!K47)","v":""},null,{"$f":"IF('CB1'!$P47=\"\",\"\",'CB1'!$P47)","v":""},{"$f":"IF('CB2'!$P47=\"\",\"\",'CB2'!$P47)","v":""},{"$f":"IF('CB3'!$P47=\"\",\"\",'CB3'!$P47)","v":""},null,"",{"$f":"IF('CB1'!$Q47=\"\",\"\",'CB1'!$Q47)","v":""},{"$f":"IF('CB2'!$Q47=\"\",\"\",'CB2'!$Q47)","v":""},{"$f":"IF('CB3'!$Q47=\"\",\"\",'CB3'!$Q47)","v":""},null,"",{"$f":"IF('CB1'!$R47=\"\",\"\",'CB1'!$R47)","v":""},{"$f":"IF('CB2'!$R47=\"\",\"\",'CB2'!$R47)","v":""},{"$f":"IF('CB3'!$R47=\"\",\"\",'CB3'!$R47)","v":""},null,"",{"$f":"IF('CB1'!$S47=\"\",\"\",'CB1'!$S47)","v":""},{"$f":"IF('CB2'!$S47=\"\",\"\",'CB2'!$S47)","v":""},{"$f":"IF('CB3'!$S47=\"\",\"\",'CB3'!$S47)","v":""},null,"",{"$f":"IF('CB1'!$T47=\"\",\"\",'CB1'!$T47)","v":""},{"$f":"IF('CB2'!$T47=\"\",\"\",'CB2'!$T47)","v":""},{"$f":"IF('CB3'!$T47=\"\",\"\",'CB3'!$T47)","v":""},null,"",{"$f":"IF('CB1'!$U47=\"\",\"\",'CB1'!$U47)","v":""},{"$f":"IF('CB2'!$U47=\"\",\"\",'CB2'!$U47)","v":""},{"$f":"IF('CB3'!$U47=\"\",\"\",'CB3'!$U47)","v":""},null,"",{"$f":"IF('CB1'!$V47=\"\",\"\",'CB1'!$V47)","v":""},{"$f":"IF('CB2'!$V47=\"\",\"\",'CB2'!$V47)","v":""},{"$f":"IF('CB3'!$V47=\"\",\"\",'CB3'!$V47)","v":""},null,"",{"$f":"IF('CB1'!$W47=\"\",\"\",'CB1'!$W47)","v":""},{"$f":"IF('CB2'!$W47=\"\",\"\",'CB2'!$W47)","v":""},{"$f":"IF('CB3'!$W47=\"\",\"\",'CB3'!$W47)","v":""},null,"",{"$f":"IF('CB1'!$X47=\"\",\"\",'CB1'!$X47)","v":""},{"$f":"IF('CB2'!$X47=\"\",\"\",'CB2'!$X47)","v":""},{"$f":"IF('CB3'!$X47=\"\",\"\",'CB3'!$X47)","v":""},null,"",{"$f":"IF('CB1'!$Y47=\"\",\"\",'CB1'!$Y47)","v":""},{"$f":"IF('CB2'!$Y47=\"\",\"\",'CB2'!$Y47)","v":""},{"$f":"IF('CB3'!$Y47=\"\",\"\",'CB3'!$Y47)","v":""},null,"",{"$f":"IF('CB1'!$Z47=\"\",\"\",'CB1'!$Z47)","v":""},{"$f":"IF('CB2'!$Z47=\"\",\"\",'CB2'!$Z47)","v":""},{"$f":"IF('CB3'!$Z47=\"\",\"\",'CB3'!$Z47)","v":""},null,"",{"$f":"IF('CB1'!$AC47=\"\",\"\",'CB1'!$AC47)","v":""},{"$f":"IF('CB2'!$AC47=\"\",\"\",'CB2'!$AC47)","v":""},{"$f":"IF('CB3'!$AC47=\"\",\"\",'CB3'!$AC47)","v":""},null,"",{"$f":"IF('CB1'!$AE47=\"\",\"\",'CB1'!$AE47)","v":""},{"$f":"IF('CB2'!$AE47=\"\",\"\",'CB2'!$AE47)","v":""},{"$f":"IF('CB3'!$AE47=\"\",\"\",'CB3'!$AE47)","v":""},null,"",{"$f":"IF('CB1'!$AF47=\"\",\"\",'CB1'!$AF47)","v":""},{"$f":"IF('CB2'!$AF47=\"\",\"\",'CB2'!$AF47)","v":""},{"$f":"IF('CB3'!$AF47=\"\",\"\",'CB3'!$AF47)","v":""},null,"",{"$f":"IF('CB1'!$AJ47=\"\",\"\",'CB1'!$AJ47)","v":""},{"$f":"IF('CB2'!$AJ47=\"\",\"\",'CB2'!$AJ47)","v":""},{"$f":"IF('CB3'!$AJ47=\"\",\"\",'CB3'!$AJ47)","v":""},null,"",{"$f":"IF('CB1'!$AK47=\"\",\"\",'CB1'!$AK47)","v":""},{"$f":"IF('CB2'!$AK47=\"\",\"\",'CB2'!$AK47)","v":""},{"$f":"IF('CB3'!$AK47=\"\",\"\",'CB3'!$AK47)","v":""},null,"","",null,"","","","","","","","","","","","","","","","",0,null,"","",{"$f":"'CB1'!$AL47","v":""},{"$f":"'CB2'!$AL47","v":0},{"$f":"'CB3'!$AL47","v":0}]
[null,null,null,null,null,{"$f":"IF(filEst!F48=\"\",\"\",filEst!F48)","v":""},{"$f":"IF(filEst!G48=\"\",\"\",filEst!G48)","v":""},{"$f":"IF(filEst!L48=\"\",\"\",filEst!L48)","v":""},null,null,{"$f":"IF(filEst!K48=\"\",\"\",filEst!K48)","v":""},null,{"$f":"IF('CB1'!$P48=\"\",\"\",'CB1'!$P48)","v":""},{"$f":"IF('CB2'!$P48=\"\",\"\",'CB2'!$P48)","v":""},{"$f":"IF('CB3'!$P48=\"\",\"\",'CB3'!$P48)","v":""},null,"",{"$f":"IF('CB1'!$Q48=\"\",\"\",'CB1'!$Q48)","v":""},{"$f":"IF('CB2'!$Q48=\"\",\"\",'CB2'!$Q48)","v":""},{"$f":"IF('CB3'!$Q48=\"\",\"\",'CB3'!$Q48)","v":""},null,"",{"$f":"IF('CB1'!$R48=\"\",\"\",'CB1'!$R48)","v":""},{"$f":"IF('CB2'!$R48=\"\",\"\",'CB2'!$R48)","v":""},{"$f":"IF('CB3'!$R48=\"\",\"\",'CB3'!$R48)","v":""},null,"",{"$f":"IF('CB1'!$S48=\"\",\"\",'CB1'!$S48)","v":""},{"$f":"IF('CB2'!$S48=\"\",\"\",'CB2'!$S48)","v":""},{"$f":"IF('CB3'!$S48=\"\",\"\",'CB3'!$S48)","v":""},null,"",{"$f":"IF('CB1'!$T48=\"\",\"\",'CB1'!$T48)","v":""},{"$f":"IF('CB2'!$T48=\"\",\"\",'CB2'!$T48)","v":""},{"$f":"IF('CB3'!$T48=\"\",\"\",'CB3'!$T48)","v":""},null,"",{"$f":"IF('CB1'!$U48=\"\",\"\",'CB1'!$U48)","v":""},{"$f":"IF('CB2'!$U48=\"\",\"\",'CB2'!$U48)","v":""},{"$f":"IF('CB3'!$U48=\"\",\"\",'CB3'!$U48)","v":""},null,"",{"$f":"IF('CB1'!$V48=\"\",\"\",'CB1'!$V48)","v":""},{"$f":"IF('CB2'!$V48=\"\",\"\",'CB2'!$V48)","v":""},{"$f":"IF('CB3'!$V48=\"\",\"\",'CB3'!$V48)","v":""},null,"",{"$f":"IF('CB1'!$W48=\"\",\"\",'CB1'!$W48)","v":""},{"$f":"IF('CB2'!$W48=\"\",\"\",'CB2'!$W48)","v":""},{"$f":"IF('CB3'!$W48=\"\",\"\",'CB3'!$W48)","v":""},null,"",{"$f":"IF('CB1'!$X48=\"\",\"\",'CB1'!$X48)","v":""},{"$f":"IF('CB2'!$X48=\"\",\"\",'CB2'!$X48)","v":""},{"$f":"IF('CB3'!$X48=\"\",\"\",'CB3'!$X48)","v":""},null,"",{"$f":"IF('CB1'!$Y48=\"\",\"\",'CB1'!$Y48)","v":""},{"$f":"IF('CB2'!$Y48=\"\",\"\",'CB2'!$Y48)","v":""},{"$f":"IF('CB3'!$Y48=\"\",\"\",'CB3'!$Y48)","v":""},null,"",{"$f":"IF('CB1'!$Z48=\"\",\"\",'CB1'!$Z48)","v":""},{"$f":"IF('CB2'!$Z48=\"\",\"\",'CB2'!$Z48)","v":""},{"$f":"IF('CB3'!$Z48=\"\",\"\",'CB3'!$Z48)","v":""},null,"",{"$f":"IF('CB1'!$AC48=\"\",\"\",'CB1'!$AC48)","v":""},{"$f":"IF('CB2'!$AC48=\"\",\"\",'CB2'!$AC48)","v":""},{"$f":"IF('CB3'!$AC48=\"\",\"\",'CB3'!$AC48)","v":""},null,"",{"$f":"IF('CB1'!$AE48=\"\",\"\",'CB1'!$AE48)","v":""},{"$f":"IF('CB2'!$AE48=\"\",\"\",'CB2'!$AE48)","v":""},{"$f":"IF('CB3'!$AE48=\"\",\"\",'CB3'!$AE48)","v":""},null,"",{"$f":"IF('CB1'!$AF48=\"\",\"\",'CB1'!$AF48)","v":""},{"$f":"IF('CB2'!$AF48=\"\",\"\",'CB2'!$AF48)","v":""},{"$f":"IF('CB3'!$AF48=\"\",\"\",'CB3'!$AF48)","v":""},null,"",{"$f":"IF('CB1'!$AJ48=\"\",\"\",'CB1'!$AJ48)","v":""},{"$f":"IF('CB2'!$AJ48=\"\",\"\",'CB2'!$AJ48)","v":""},{"$f":"IF('CB3'!$AJ48=\"\",\"\",'CB3'!$AJ48)","v":""},null,"",{"$f":"IF('CB1'!$AK48=\"\",\"\",'CB1'!$AK48)","v":""},{"$f":"IF('CB2'!$AK48=\"\",\"\",'CB2'!$AK48)","v":""},{"$f":"IF('CB3'!$AK48=\"\",\"\",'CB3'!$AK48)","v":""},null,"","",null,"","","","","","","","","","","","","","","","",0,null,"","",{"$f":"'CB1'!$AL48","v":""},{"$f":"'CB2'!$AL48","v":0},{"$f":"'CB3'!$AL48","v":0}]
[null,null,null,null,null,{"$f":"IF(filEst!F49=\"\",\"\",filEst!F49)","v":""},{"$f":"IF(filEst!G49=\"\",\"\",filEst!G49)","v":""},{"$f":"IF(filEst!L49=\"\",\"\",filEst!L49)","v":""},null,null,{"$f":"IF(filEst!K49=\"\",\"\",filEst!K49)","v":""},null,{"$f":"IF('CB1'!$P49=\"\",\"\",'CB1'!$P49)","v":""},{"$f":"IF('CB2'!$P49=\"\",\"\",'CB2'!$P49)","v":""},{"$f":"IF('CB3'!$P49=\"\",\"\",'CB3'!$P49)","v":""},null,"",{"$f":"IF('CB1'!$Q49=\"\",\"\",'CB1'!$Q49)","v":""},{"$f":"IF('CB2'!$Q49=\"\",\"\",'CB2'!$Q49)","v":""},{"$f":"IF('CB3'!$Q49=\"\",\"\",'CB3'!$Q49)","v":""},null,"",{"$f":"IF('CB1'!$R49=\"\",\"\",'CB1'!$R49)","v":""},{"$f":"IF('CB2'!$R49=\"\",\"\",'CB2'!$R49)","v":""},{"$f":"IF('CB3'!$R49=\"\",\"\",'CB3'!$R49)","v":""},null,"",{"$f":"IF('CB1'!$S49=\"\",\"\",'CB1'!$S49)","v":""},{"$f":"IF('CB2'!$S49=\"\",\"\",'CB2'!$S49)","v":""},{"$f":"IF('CB3'!$S49=\"\",\"\",'CB3'!$S49)","v":""},null,"",{"$f":"IF('CB1'!$T49=\"\",\"\",'CB1'!$T49)","v":""},{"$f":"IF('CB2'!$T49=\"\",\"\",'CB2'!$T49)","v":""},{"$f":"IF('CB3'!$T49=\"\",\"\",'CB3'!$T49)","v":""},null,"",{"$f":"IF('CB1'!$U49=\"\",\"\",'CB1'!$U49)","v":""},{"$f":"IF('CB2'!$U49=\"\",\"\",'CB2'!$U49)","v":""},{"$f":"IF('CB3'!$U49=\"\",\"\",'CB3'!$U49)","v":""},null,"",{"$f":"IF('CB1'!$V49=\"\",\"\",'CB1'!$V49)","v":""},{"$f":"IF('CB2'!$V49=\"\",\"\",'CB2'!$V49)","v":""},{"$f":"IF('CB3'!$V49=\"\",\"\",'CB3'!$V49)","v":""},null,"",{"$f":"IF('CB1'!$W49=\"\",\"\",'CB1'!$W49)","v":""},{"$f":"IF('CB2'!$W49=\"\",\"\",'CB2'!$W49)","v":""},{"$f":"IF('CB3'!$W49=\"\",\"\",'CB3'!$W49)","v":""},null,"",{"$f":"IF('CB1'!$X49=\"\",\"\",'CB1'!$X49)","v":""},{"$f":"IF('CB2'!$X49=\"\",\"\",'CB2'!$X49)","v":""},{"$f":"IF('CB3'!$X49=\"\",\"\",'CB3'!$X49)","v":""},null,"",{"$f":"IF('CB1'!$Y49=\"\",\"\",'CB1'!$Y49)","v":""},{"$f":"IF('CB2'!$Y49=\"\",\"\",'CB2'!$Y49)","v":""},{"$f":"IF('CB3'!$Y49=\"\",\"\",'CB3'!$Y49)","v":""},null,"",{"$f":"IF('CB1'!$Z49=\"\",\"\",'CB1'!$Z49)","v":""},{"$f":"IF('CB2'!$Z49=\"\",\"\",'CB2'!$Z49)","v":""},{"$f":"IF('CB3'!$Z49=\"\",\"\",'CB3'!$Z49)","v":""},null,"",{"$f":"IF('CB1'!$AC49=\"\",\"\",'CB1'!$AC49)","v":""},{"$f":"IF('CB2'!$AC49=\"\",\"\",'CB2'!$AC49)","v":""},{"$f":"IF('CB3'!$AC49=\"\",\"\",'CB3'!$AC49)","v":""},null,"",{"$f":"IF('CB1'!$AE49=\"\",\"\",'CB1'!$AE49)","v":""},{"$f":"IF('CB2'!$AE49=\"\",\"\",'CB2'!$AE49)","v":""},{"$f":"IF('CB3'!$AE49=\"\",\"\",'CB3'!$AE49)","v":""},null,"",{"$f":"IF('CB1'!$AF49=\"\",\"\",'CB1'!$AF49)","v":""},{"$f":"IF('CB2'!$AF49=\"\",\"\",'CB2'!$AF49)","v":""},{"$f":"IF('CB3'!$AF49=\"\",\"\",'CB3'!$AF49)","v":""},null,"",{"$f":"IF('CB1'!$AJ49=\"\",\"\",'CB1'!$AJ49)","v":""},{"$f":"IF('CB2'!$AJ49=\"\",\"\",'CB2'!$AJ49)","v":""},{"$f":"IF('CB3'!$AJ49=\"\",\"\",'CB3'!$AJ49)","v":""},null,"",{"$f":"IF('CB1'!$AK49=\"\",\"\",'CB1'!$AK49)","v":""},{"$f":"IF('CB2'!$AK49=\"\",\"\",'CB2'!$AK49)","v":""},{"$f":"IF('CB3'!$AK49=\"\",\"\",'CB3'!$AK49)","v":""},null,"","",null,"","","","","","","","","","","","","","","","",0,null,"","",{"$f":"'CB1'!$AL49","v":""},{"$f":"'CB2'!$AL49","v":0},{"$f":"'CB3'!$AL49","v":0}]
[null,null,null,null,null,{"$f":"IF(filEst!F50=\"\",\"\",filEst!F50)","v":""},{"$f":"IF(filEst!G50=\"\",\"\",filEst!G50)","v":""},{"$f":"IF(filEst!L50=\"\",\"\",filEst!L50)","v":""},null,null,{"$f":"IF(filEst!K50=\"\",\"\",filEst!K50)","v":""},null,{"$f":"IF('CB1'!$P50=\"\",\"\",'CB1'!$P50)","v":""},{"$f":"IF('CB2'!$P50=\"\",\"\",'CB2'!$P50)","v":""},{"$f":"IF('CB3'!$P50=\"\",\"\",'CB3'!$P50)","v":""},null,"",{"$f":"IF('CB1'!$Q50=\"\",\"\",'CB1'!$Q50)","v":""},{"$f":"IF('CB2'!$Q50=\"\",\"\",'CB2'!$Q50)","v":""},{"$f":"IF('CB3'!$Q50=\"\",\"\",'CB3'!$Q50)","v":""},null,"",{"$f":"IF('CB1'!$R50=\"\",\"\",'CB1'!$R50)","v":""},{"$f":"IF('CB2'!$R50=\"\",\"\",'CB2'!$R50)","v":""},{"$f":"IF('CB3'!$R50=\"\",\"\",'CB3'!$R50)","v":""},null,"",{"$f":"IF('CB1'!$S50=\"\",\"\",'CB1'!$S50)","v":""},{"$f":"IF('CB2'!$S50=\"\",\"\",'CB2'!$S50)","v":""},{"$f":"IF('CB3'!$S50=\"\",\"\",'CB3'!$S50)","v":""},null,"",{"$f":"IF('CB1'!$T50=\"\",\"\",'CB1'!$T50)","v":""},{"$f":"IF('CB2'!$T50=\"\",\"\",'CB2'!$T50)","v":""},{"$f":"IF('CB3'!$T50=\"\",\"\",'CB3'!$T50)","v":""},null,"",{"$f":"IF('CB1'!$U50=\"\",\"\",'CB1'!$U50)","v":""},{"$f":"IF('CB2'!$U50=\"\",\"\",'CB2'!$U50)","v":""},{"$f":"IF('CB3'!$U50=\"\",\"\",'CB3'!$U50)","v":""},null,"",{"$f":"IF('CB1'!$V50=\"\",\"\",'CB1'!$V50)","v":""},{"$f":"IF('CB2'!$V50=\"\",\"\",'CB2'!$V50)","v":""},{"$f":"IF('CB3'!$V50=\"\",\"\",'CB3'!$V50)","v":""},null,"",{"$f":"IF('CB1'!$W50=\"\",\"\",'CB1'!$W50)","v":""},{"$f":"IF('CB2'!$W50=\"\",\"\",'CB2'!$W50)","v":""},{"$f":"IF('CB3'!$W50=\"\",\"\",'CB3'!$W50)","v":""},null,"",{"$f":"IF('CB1'!$X50=\"\",\"\",'CB1'!$X50)","v":""},{"$f":"IF('CB2'!$X50=\"\",\"\",'CB2'!$X50)","v":""},{"$f":"IF('CB3'!$X50=\"\",\"\",'CB3'!$X50)","v":""},null,"",{"$f":"IF('CB1'!$Y50=\"\",\"\",'CB1'!$Y50)","v":""},{"$f":"IF('CB2'!$Y50=\"\",\"\",'CB2'!$Y50)","v":""},{"$f":"IF('CB3'!$Y50=\"\",\"\",'CB3'!$Y50)","v":""},null,"",{"$f":"IF('CB1'!$Z50=\"\",\"\",'CB1'!$Z50)","v":""},{"$f":"IF('CB2'!$Z50=\"\",\"\",'CB2'!$Z50)","v":""},{"$f":"IF('CB3'!$Z50=\"\",\"\",'CB3'!$Z50)","v":""},null,"",{"$f":"IF('CB1'!$AC50=\"\",\"\",'CB1'!$AC50)","v":""},{"$f":"IF('CB2'!$AC50=\"\",\"\",'CB2'!$AC50)","v":""},{"$f":"IF('CB3'!$AC50=\"\",\"\",'CB3'!$AC50)","v":""},null,"",{"$f":"IF('CB1'!$AE50=\"\",\"\",'CB1'!$AE50)","v":""},{"$f":"IF('CB2'!$AE50=\"\",\"\",'CB2'!$AE50)","v":""},{"$f":"IF('CB3'!$AE50=\"\",\"\",'CB3'!$AE50)","v":""},null,"",{"$f":"IF('CB1'!$AF50=\"\",\"\",'CB1'!$AF50)","v":""},{"$f":"IF('CB2'!$AF50=\"\",\"\",'CB2'!$AF50)","v":""},{"$f":"IF('CB3'!$AF50=\"\",\"\",'CB3'!$AF50)","v":""},null,"",{"$f":"IF('CB1'!$AJ50=\"\",\"\",'CB1'!$AJ50)","v":""},{"$f":"IF('CB2'!$AJ50=\"\",\"\",'CB2'!$AJ50)","v":""},{"$f":"IF('CB3'!$AJ50=\"\",\"\",'CB3'!$AJ50)","v":""},null,"",{"$f":"IF('CB1'!$AK50=\"\",\"\",'CB1'!$AK50)","v":""},{"$f":"IF('CB2'!$AK50=\"\",\"\",'CB2'!$AK50)","v":""},{"$f":"IF('CB3'!$AK50=\"\",\"\",'CB3'!$AK50)","v":""},null,"","",null,"","","","","","","","","","","","","","","","",0,null,"","",{"$f":"'CB1'!$AL50","v":""},{"$f":"'CB2'!$AL50","v":0},{"$f":"'CB3'!$AL50","v":0}]
[null,null,null,null,null,{"$f":"IF(filEst!F51=\"\",\"\",filEst!F51)","v":""},{"$f":"IF(filEst!G51=\"\",\"\",filEst!G51)","v":""},{"$f":"IF(filEst!L51=\"\",\"\",filEst!L51)","v":""},null,null,{"$f":"IF(filEst!K51=\"\",\"\",filEst!K51)","v":""},null,{"$f":"IF('CB1'!$P51=\"\",\"\",'CB1'!$P51)","v":""},{"$f":"IF('CB2'!$P51=\"\",\"\",'CB2'!$P51)","v":""},{"$f":"IF('CB3'!$P51=\"\",\"\",'CB3'!$P51)","v":""},null,"",{"$f":"IF('CB1'!$Q51=\"\",\"\",'CB1'!$Q51)","v":""},{"$f":"IF('CB2'!$Q51=\"\",\"\",'CB2'!$Q51)","v":""},{"$f":"IF('CB3'!$Q51=\"\",\"\",'CB3'!$Q51)","v":""},null,"",{"$f":"IF('CB1'!$R51=\"\",\"\",'CB1'!$R51)","v":""},{"$f":"IF('CB2'!$R51=\"\",\"\",'CB2'!$R51)","v":""},{"$f":"IF('CB3'!$R51=\"\",\"\",'CB3'!$R51)","v":""},null,"",{"$f":"IF('CB1'!$S51=\"\",\"\",'CB1'!$S51)","v":""},{"$f":"IF('CB2'!$S51=\"\",\"\",'CB2'!$S51)","v":""},{"$f":"IF('CB3'!$S51=\"\",\"\",'CB3'!$S51)","v":""},null,"",{"$f":"IF('CB1'!$T51=\"\",\"\",'CB1'!$T51)","v":""},{"$f":"IF('CB2'!$T51=\"\",\"\",'CB2'!$T51)","v":""},{"$f":"IF('CB3'!$T51=\"\",\"\",'CB3'!$T51)","v":""},null,"",{"$f":"IF('CB1'!$U51=\"\",\"\",'CB1'!$U51)","v":""},{"$f":"IF('CB2'!$U51=\"\",\"\",'CB2'!$U51)","v":""},{"$f":"IF('CB3'!$U51=\"\",\"\",'CB3'!$U51)","v":""},null,"",{"$f":"IF('CB1'!$V51=\"\",\"\",'CB1'!$V51)","v":""},{"$f":"IF('CB2'!$V51=\"\",\"\",'CB2'!$V51)","v":""},{"$f":"IF('CB3'!$V51=\"\",\"\",'CB3'!$V51)","v":""},null,"",{"$f":"IF('CB1'!$W51=\"\",\"\",'CB1'!$W51)","v":""},{"$f":"IF('CB2'!$W51=\"\",\"\",'CB2'!$W51)","v":""},{"$f":"IF('CB3'!$W51=\"\",\"\",'CB3'!$W51)","v":""},null,"",{"$f":"IF('CB1'!$X51=\"\",\"\",'CB1'!$X51)","v":""},{"$f":"IF('CB2'!$X51=\"\",\"\",'CB2'!$X51)","v":""},{"$f":"IF('CB3'!$X51=\"\",\"\",'CB3'!$X51)","v":""},null,"",{"$f":"IF('CB1'!$Y51=\"\",\"\",'CB1'!$Y51)","v":""},{"$f":"IF('CB2'!$Y51=\"\",\"\",'CB2'!$Y51)","v":""},{"$f":"IF('CB3'!$Y51=\"\",\"\",'CB3'!$Y51)","v":""},null,"",{"$f":"IF('CB1'!$Z51=\"\",\"\",'CB1'!$Z51)","v":""},{"$f":"IF('CB2'!$Z51=\"\",\"\",'CB2'!$Z51)","v":""},{"$f":"IF('CB3'!$Z51=\"\",\"\",'CB3'!$Z51)","v":""},null,"",{"$f":"IF('CB1'!$AC51=\"\",\"\",'CB1'!$AC51)","v":""},{"$f":"IF('CB2'!$AC51=\"\",\"\",'CB2'!$AC51)","v":""},{"$f":"IF('CB3'!$AC51=\"\",\"\",'CB3'!$AC51)","v":""},null,"",{"$f":"IF('CB1'!$AE51=\"\",\"\",'CB1'!$AE51)","v":""},{"$f":"IF('CB2'!$AE51=\"\",\"\",'CB2'!$AE51)","v":""},{"$f":"IF('CB3'!$AE51=\"\",\"\",'CB3'!$AE51)","v":""},null,"",{"$f":"IF('CB1'!$AF51=\"\",\"\",'CB1'!$AF51)","v":""},{"$f":"IF('CB2'!$AF51=\"\",\"\",'CB2'!$AF51)","v":""},{"$f":"IF('CB3'!$AF51=\"\",\"\",'CB3'!$AF51)","v":""},null,"",{"$f":"IF('CB1'!$AJ51=\"\",\"\",'CB1'!$AJ51)","v":""},{"$f":"IF('CB2'!$AJ51=\"\",\"\",'CB2'!$AJ51)","v":""},{"$f":"IF('CB3'!$AJ51=\"\",\"\",'CB3'!$AJ51)","v":""},null,"",{"$f":"IF('CB1'!$AK51=\"\",\"\",'CB1'!$AK51)","v":""},{"$f":"IF('CB2'!$AK51=\"\",\"\",'CB2'!$AK51)","v":""},{"$f":"IF('CB3'!$AK51=\"\",\"\",'CB3'!$AK51)","v":""},null,"","",null,"","","","","","","","","","","","","","","","",0,null,"","",{"$f":"'CB1'!$AL51","v":""},{"$f":"'CB2'!$AL51","v":0},{"$f":"'CB3'!$AL51","v":0}]
[null,null,null,null,null,{"$f":"IF(filEst!F52=\"\",\"\",filEst!F52)","v":""},{"$f":"IF(filEst!G52=\"\",\"\",filEst!G52)","v":""},{"$f":"IF(filEst!L52=\"\",\"\",filEst!L52)","v":""},null,null,{"$f":"IF(filEst!K52=\"\",\"\",filEst!K52)","v":""},null,{"$f":"IF('CB1'!$P52=\"\",\"\",'CB1'!$P52)","v":""},{"$f":"IF('CB2'!$P52=\"\",\"\",'CB2'!$P52)","v":""},{"$f":"IF('CB3'!$P52=\"\",\"\",'CB3'!$P52)","v":""},null,"",{"$f":"IF('CB1'!$Q52=\"\",\"\",'CB1'!$Q52)","v":""},{"$f":"IF('CB2'!$Q52=\"\",\"\",'CB2'!$Q52)","v":""},{"$f":"IF('CB3'!$Q52=\"\",\"\",'CB3'!$Q52)","v":""},null,"",{"$f":"IF('CB1'!$R52=\"\",\"\",'CB1'!$R52)","v":""},{"$f":"IF('CB2'!$R52=\"\",\"\",'CB2'!$R52)","v":""},{"$f":"IF('CB3'!$R52=\"\",\"\",'CB3'!$R52)","v":""},null,"",{"$f":"IF('CB1'!$S52=\"\",\"\",'CB1'!$S52)","v":""},{"$f":"IF('CB2'!$S52=\"\",\"\",'CB2'!$S52)","v":""},{"$f":"IF('CB3'!$S52=\"\",\"\",'CB3'!$S52)","v":""},null,"",{"$f":"IF('CB1'!$T52=\"\",\"\",'CB1'!$T52)","v":""},{"$f":"IF('CB2'!$T52=\"\",\"\",'CB2'!$T52)","v":""},{"$f":"IF('CB3'!$T52=\"\",\"\",'CB3'!$T52)","v":""},null,"",{"$f":"IF('CB1'!$U52=\"\",\"\",'CB1'!$U52)","v":""},{"$f":"IF('CB2'!$U52=\"\",\"\",'CB2'!$U52)","v":""},{"$f":"IF('CB3'!$U52=\"\",\"\",'CB3'!$U52)","v":""},null,"",{"$f":"IF('CB1'!$V52=\"\",\"\",'CB1'!$V52)","v":""},{"$f":"IF('CB2'!$V52=\"\",\"\",'CB2'!$V52)","v":""},{"$f":"IF('CB3'!$V52=\"\",\"\",'CB3'!$V52)","v":""},null,"",{"$f":"IF('CB1'!$W52=\"\",\"\",'CB1'!$W52)","v":""},{"$f":"IF('CB2'!$W52=\"\",\"\",'CB2'!$W52)","v":""},{"$f":"IF('CB3'!$W52=\"\",\"\",'CB3'!$W52)","v":""},null,"",{"$f":"IF('CB1'!$X52=\"\",\"\",'CB1'!$X52)","v":""},{"$f":"IF('CB2'!$X52=\"\",\"\",'CB2'!$X52)","v":""},{"$f":"IF('CB3'!$X52=\"\",\"\",'CB3'!$X52)","v":""},null,"",{"$f":"IF('CB1'!$Y52=\"\",\"\",'CB1'!$Y52)","v":""},{"$f":"IF('CB2'!$Y52=\"\",\"\",'CB2'!$Y52)","v":""},{"$f":"IF('CB3'!$Y52=\"\",\"\",'CB3'!$Y52)","v":""},null,"",{"$f":"IF('CB1'!$Z52=\"\",\"\",'CB1'!$Z52)","v":""},{"$f":"IF('CB2'!$Z52=\"\",\"\",'CB2'!$Z52)","v":""},{"$f":"IF('CB3'!$Z52=\"\",\"\",'CB3'!$Z52)","v":""},null,"",{"$f":"IF('CB1'!$AC52=\"\",\"\",'CB1'!$AC52)","v":""},{"$f":"IF('CB2'!$AC52=\"\",\"\",'CB2'!$AC52)","v":""},{"$f":"IF('CB3'!$AC52=\"\",\"\",'CB3'!$AC52)","v":""},null,"",{"$f":"IF('CB1'!$AE52=\"\",\"\",'CB1'!$AE52)","v":""},{"$f":"IF('CB2'!$AE52=\"\",\"\",'CB2'!$AE52)","v":""},{"$f":"IF('CB3'!$AE52=\"\",\"\",'CB3'!$AE52)","v":""},null,"",{"$f":"IF('CB1'!$AF52=\"\",\"\",'CB1'!$AF52)","v":""},{"$f":"IF('CB2'!$AF52=\"\",\"\",'CB2'!$AF52)","v":""},{"$f":"IF('CB3'!$AF52=\"\",\"\",'CB3'!$AF52)","v":""},null,"",{"$f":"IF('CB1'!$AJ52=\"\",\"\",'CB1'!$AJ52)","v":""},{"$f":"IF('CB2'!$AJ52=\"\",\"\",'CB2'!$AJ52)","v":""},{"$f":"IF('CB3'!$AJ52=\"\",\"\",'CB3'!$AJ52)","v":""},null,"",{"$f":"IF('CB1'!$AK52=\"\",\"\",'CB1'!$AK52)","v":""},{"$f":"IF('CB2'!$AK52=\"\",\"\",'CB2'!$AK52)","v":""},{"$f":"IF('CB3'!$AK52=\"\",\"\",'CB3'!$AK52)","v":""},null,"","",null,"","","","","","","","","","","","","","","","",0,null,"","",{"$f":"'CB1'!$AL52","v":""},{"$f":"'CB2'!$AL52","v":0},{"$f":"'CB3'!$AL52","v":0}]
[null,null,null,null,null,{"$f":"IF(filEst!F53=\"\",\"\",filEst!F53)","v":""},{"$f":"IF(filEst!G53=\"\",\"\",filEst!G53)","v":""},{"$f":"IF(filEst!L53=\"\",\"\",filEst!L53)","v":""},null,null,{"$f":"IF(filEst!K53=\"\",\"\",filEst!K53)","v":""},null,{"$f":"IF('CB1'!$P53=\"\",\"\",'CB1'!$P53)","v":""},{"$f":"IF('CB2'!$P53=\"\",\"\",'CB2'!$P53)","v":""},{"$f":"IF('CB3'!$P53=\"\",\"\",'CB3'!$P53)","v":""},null,"",{"$f":"IF('CB1'!$Q53=\"\",\"\",'CB1'!$Q53)","v":""},{"$f":"IF('CB2'!$Q53=\"\",\"\",'CB2'!$Q53)","v":""},{"$f":"IF('CB3'!$Q53=\"\",\"\",'CB3'!$Q53)","v":""},null,"",{"$f":"IF('CB1'!$R53=\"\",\"\",'CB1'!$R53)","v":""},{"$f":"IF('CB2'!$R53=\"\",\"\",'CB2'!$R53)","v":""},{"$f":"IF('CB3'!$R53=\"\",\"\",'CB3'!$R53)","v":""},null,"",{"$f":"IF('CB1'!$S53=\"\",\"\",'CB1'!$S53)","v":""},{"$f":"IF('CB2'!$S53=\"\",\"\",'CB2'!$S53)","v":""},{"$f":"IF('CB3'!$S53=\"\",\"\",'CB3'!$S53)","v":""},null,"",{"$f":"IF('CB1'!$T53=\"\",\"\",'CB1'!$T53)","v":""},{"$f":"IF('CB2'!$T53=\"\",\"\",'CB2'!$T53)","v":""},{"$f":"IF('CB3'!$T53=\"\",\"\",'CB3'!$T53)","v":""},null,"",{"$f":"IF('CB1'!$U53=\"\",\"\",'CB1'!$U53)","v":""},{"$f":"IF('CB2'!$U53=\"\",\"\",'CB2'!$U53)","v":""},{"$f":"IF('CB3'!$U53=\"\",\"\",'CB3'!$U53)","v":""},null,"",{"$f":"IF('CB1'!$V53=\"\",\"\",'CB1'!$V53)","v":""},{"$f":"IF('CB2'!$V53=\"\",\"\",'CB2'!$V53)","v":""},{"$f":"IF('CB3'!$V53=\"\",\"\",'CB3'!$V53)","v":""},null,"",{"$f":"IF('CB1'!$W53=\"\",\"\",'CB1'!$W53)","v":""},{"$f":"IF('CB2'!$W53=\"\",\"\",'CB2'!$W53)","v":""},{"$f":"IF('CB3'!$W53=\"\",\"\",'CB3'!$W53)","v":""},null,"",{"$f":"IF('CB1'!$X53=\"\",\"\",'CB1'!$X53)","v":""},{"$f":"IF('CB2'!$X53=\"\",\"\",'CB2'!$X53)","v":""},{"$f":"IF('CB3'!$X53=\"\",\"\",'CB3'!$X53)","v":""},null,"",{"$f":"IF('CB1'!$Y53=\"\",\"\",'CB1'!$Y53)","v":""},{"$f":"IF('CB2'!$Y53=\"\",\"\",'CB2'!$Y53)","v":""},{"$f":"IF('CB3'!$Y53=\"\",\"\",'CB3'!$Y53)","v":""},null,"",{"$f":"IF('CB1'!$Z53=\"\",\"\",'CB1'!$Z53)","v":""},{"$f":"IF('CB2'!$Z53=\"\",\"\",'CB2'!$Z53)","v":""},{"$f":"IF('CB3'!$Z53=\"\",\"\",'CB3'!$Z53)","v":""},null,"",{"$f":"IF('CB1'!$AC53=\"\",\"\",'CB1'!$AC53)","v":""},{"$f":"IF('CB2'!$AC53=\"\",\"\",'CB2'!$AC53)","v":""},{"$f":"IF('CB3'!$AC53=\"\",\"\",'CB3'!$AC53)","v":""},null,"",{"$f":"IF('CB1'!$AE53=\"\",\"\",'CB1'!$AE53)","v":""},{"$f":"IF('CB2'!$AE53=\"\",\"\",'CB2'!$AE53)","v":""},{"$f":"IF('CB3'!$AE53=\"\",\"\",'CB3'!$AE53)","v":""},null,"",{"$f":"IF('CB1'!$AF53=\"\",\"\",'CB1'!$AF53)","v":""},{"$f":"IF('CB2'!$AF53=\"\",\"\",'CB2'!$AF53)","v":""},{"$f":"IF('CB3'!$AF53=\"\",\"\",'CB3'!$AF53)","v":""},null,"",{"$f":"IF('CB1'!$AJ53=\"\",\"\",'CB1'!$AJ53)","v":""},{"$f":"IF('CB2'!$AJ53=\"\",\"\",'CB2'!$AJ53)","v":""},{"$f":"IF('CB3'!$AJ53=\"\",\"\",'CB3'!$AJ53)","v":""},null,"",{"$f":"IF('CB1'!$AK53=\"\",\"\",'CB1'!$AK53)","v":""},{"$f":"IF('CB2'!$AK53=\"\",\"\",'CB2'!$AK53)","v":""},{"$f":"IF('CB3'!$AK53=\"\",\"\",'CB3'!$AK53)","v":""},null,"",{"$f":"IF(CQ53=\"\",\"\",ROUND((SUM(CQ53:DF53)/$CO$19),$CO$18))","v":""},null,"","","","","","","","","","","","","","","","",0,null,"","",{"$f":"'CB1'!$AL53","v":""},{"$f":"'CB2'!$AL53","v":0},{"$f":"'CB3'!$AL53","v":0}]
[null,null,null,null,null,{"$f":"IF(filEst!F54=\"\",\"\",filEst!F54)","v":""},{"$f":"IF(filEst!G54=\"\",\"\",filEst!G54)","v":""},{"$f":"IF(filEst!L54=\"\",\"\",filEst!L54)","v":""},null,null,{"$f":"IF(filEst!K54=\"\",\"\",filEst!K54)","v":""},null,{"$f":"IF('CB1'!$P54=\"\",\"\",'CB1'!$P54)","v":""},{"$f":"IF('CB2'!$P54=\"\",\"\",'CB2'!$P54)","v":""},{"$f":"IF('CB3'!$P54=\"\",\"\",'CB3'!$P54)","v":""},null,"",{"$f":"IF('CB1'!$Q54=\"\",\"\",'CB1'!$Q54)","v":""},{"$f":"IF('CB2'!$Q54=\"\",\"\",'CB2'!$Q54)","v":""},{"$f":"IF('CB3'!$Q54=\"\",\"\",'CB3'!$Q54)","v":""},null,"",{"$f":"IF('CB1'!$R54=\"\",\"\",'CB1'!$R54)","v":""},{"$f":"IF('CB2'!$R54=\"\",\"\",'CB2'!$R54)","v":""},{"$f":"IF('CB3'!$R54=\"\",\"\",'CB3'!$R54)","v":""},null,"",{"$f":"IF('CB1'!$S54=\"\",\"\",'CB1'!$S54)","v":""},{"$f":"IF('CB2'!$S54=\"\",\"\",'CB2'!$S54)","v":""},{"$f":"IF('CB3'!$S54=\"\",\"\",'CB3'!$S54)","v":""},null,"",{"$f":"IF('CB1'!$T54=\"\",\"\",'CB1'!$T54)","v":""},{"$f":"IF('CB2'!$T54=\"\",\"\",'CB2'!$T54)","v":""},{"$f":"IF('CB3'!$T54=\"\",\"\",'CB3'!$T54)","v":""},null,"",{"$f":"IF('CB1'!$U54=\"\",\"\",'CB1'!$U54)","v":""},{"$f":"IF('CB2'!$U54=\"\",\"\",'CB2'!$U54)","v":""},{"$f":"IF('CB3'!$U54=\"\",\"\",'CB3'!$U54)","v":""},null,"",{"$f":"IF('CB1'!$V54=\"\",\"\",'CB1'!$V54)","v":""},{"$f":"IF('CB2'!$V54=\"\",\"\",'CB2'!$V54)","v":""},{"$f":"IF('CB3'!$V54=\"\",\"\",'CB3'!$V54)","v":""},null,"",{"$f":"IF('CB1'!$W54=\"\",\"\",'CB1'!$W54)","v":""},{"$f":"IF('CB2'!$W54=\"\",\"\",'CB2'!$W54)","v":""},{"$f":"IF('CB3'!$W54=\"\",\"\",'CB3'!$W54)","v":""},null,"",{"$f":"IF('CB1'!$X54=\"\",\"\",'CB1'!$X54)","v":""},{"$f":"IF('CB2'!$X54=\"\",\"\",'CB2'!$X54)","v":""},{"$f":"IF('CB3'!$X54=\"\",\"\",'CB3'!$X54)","v":""},null,"",{"$f":"IF('CB1'!$Y54=\"\",\"\",'CB1'!$Y54)","v":""},{"$f":"IF('CB2'!$Y54=\"\",\"\",'CB2'!$Y54)","v":""},{"$f":"IF('CB3'!$Y54=\"\",\"\",'CB3'!$Y54)","v":""},null,"",{"$f":"IF('CB1'!$Z54=\"\",\"\",'CB1'!$Z54)","v":""},{"$f":"IF('CB2'!$Z54=\"\",\"\",'CB2'!$Z54)","v":""},{"$f":"IF('CB3'!$Z54=\"\",\"\",'CB3'!$Z54)","v":""},null,"",{"$f":"IF('CB1'!$AC54=\"\",\"\",'CB1'!$AC54)","v":""},{"$f":"IF('CB2'!$AC54=\"\",\"\",'CB2'!$AC54)","v":""},{"$f":"IF('CB3'!$AC54=\"\",\"\",'CB3'!$AC54)","v":""},null,"",{"$f":"IF('CB1'!$AE54=\"\",\"\",'CB1'!$AE54)","v":""},{"$f":"IF('CB2'!$AE54=\"\",\"\",'CB2'!$AE54)","v":""},{"$f":"IF('CB3'!$AE54=\"\",\"\",'CB3'!$AE54)","v":""},null,"",{"$f":"IF('CB1'!$AF54=\"\",\"\",'CB1'!$AF54)","v":""},{"$f":"IF('CB2'!$AF54=\"\",\"\",'CB2'!$AF54)","v":""},{"$f":"IF('CB3'!$AF54=\"\",\"\",'CB3'!$AF54)","v":""},null,"",{"$f":"IF('CB1'!$AJ54=\"\",\"\",'CB1'!$AJ54)","v":""},{"$f":"IF('CB2'!$AJ54=\"\",\"\",'CB2'!$AJ54)","v":""},{"$f":"IF('CB3'!$AJ54=\"\",\"\",'CB3'!$AJ54)","v":""},null,"",{"$f":"IF('CB1'!$AK54=\"\",\"\",'CB1'!$AK54)","v":""},{"$f":"IF('CB2'!$AK54=\"\",\"\",'CB2'!$AK54)","v":""},{"$f":"IF('CB3'!$AK54=\"\",\"\",'CB3'!$AK54)","v":""},null,"","",null,"","","","","","","","","","","","","","","","",0,null,"","",{"$f":"'CB1'!$AL54","v":""},{"$f":"'CB2'!$AL54","v":0},{"$f":"'CB3'!$AL54","v":0}]
[null,null,null,null,null,{"$f":"IF(filEst!F55=\"\",\"\",filEst!F55)","v":""},{"$f":"IF(filEst!G55=\"\",\"\",filEst!G55)","v":""},{"$f":"IF(filEst!L55=\"\",\"\",filEst!L55)","v":""},null,null,{"$f":"IF(filEst!K55=\"\",\"\",filEst!K55)","v":""},null,{"$f":"IF('CB1'!$P55=\"\",\"\",'CB1'!$P55)","v":""},{"$f":"IF('CB2'!$P55=\"\",\"\",'CB2'!$P55)","v":""},{"$f":"IF('CB3'!$P55=\"\",\"\",'CB3'!$P55)","v":""},null,"",{"$f":"IF('CB1'!$Q55=\"\",\"\",'CB1'!$Q55)","v":""},{"$f":"IF('CB2'!$Q55=\"\",\"\",'CB2'!$Q55)","v":""},{"$f":"IF('CB3'!$Q55=\"\",\"\",'CB3'!$Q55)","v":""},null,"",{"$f":"IF('CB1'!$R55=\"\",\"\",'CB1'!$R55)","v":""},{"$f":"IF('CB2'!$R55=\"\",\"\",'CB2'!$R55)","v":""},{"$f":"IF('CB3'!$R55=\"\",\"\",'CB3'!$R55)","v":""},null,"",{"$f":"IF('CB1'!$S55=\"\",\"\",'CB1'!$S55)","v":""},{"$f":"IF('CB2'!$S55=\"\",\"\",'CB2'!$S55)","v":""},{"$f":"IF('CB3'!$S55=\"\",\"\",'CB3'!$S55)","v":""},null,"",{"$f":"IF('CB1'!$T55=\"\",\"\",'CB1'!$T55)","v":""},{"$f":"IF('CB2'!$T55=\"\",\"\",'CB2'!$T55)","v":""},{"$f":"IF('CB3'!$T55=\"\",\"\",'CB3'!$T55)","v":""},null,"",{"$f":"IF('CB1'!$U55=\"\",\"\",'CB1'!$U55)","v":""},{"$f":"IF('CB2'!$U55=\"\",\"\",'CB2'!$U55)","v":""},{"$f":"IF('CB3'!$U55=\"\",\"\",'CB3'!$U55)","v":""},null,"",{"$f":"IF('CB1'!$V55=\"\",\"\",'CB1'!$V55)","v":""},{"$f":"IF('CB2'!$V55=\"\",\"\",'CB2'!$V55)","v":""},{"$f":"IF('CB3'!$V55=\"\",\"\",'CB3'!$V55)","v":""},null,"",{"$f":"IF('CB1'!$W55=\"\",\"\",'CB1'!$W55)","v":""},{"$f":"IF('CB2'!$W55=\"\",\"\",'CB2'!$W55)","v":""},{"$f":"IF('CB3'!$W55=\"\",\"\",'CB3'!$W55)","v":""},null,"",{"$f":"IF('CB1'!$X55=\"\",\"\",'CB1'!$X55)","v":""},{"$f":"IF('CB2'!$X55=\"\",\"\",'CB2'!$X55)","v":""},{"$f":"IF('CB3'!$X55=\"\",\"\",'CB3'!$X55)","v":""},null,"",{"$f":"IF('CB1'!$Y55=\"\",\"\",'CB1'!$Y55)","v":""},{"$f":"IF('CB2'!$Y55=\"\",\"\",'CB2'!$Y55)","v":""},{"$f":"IF('CB3'!$Y55=\"\",\"\",'CB3'!$Y55)","v":""},null,"",{"$f":"IF('CB1'!$Z55=\"\",\"\",'CB1'!$Z55)","v":""},{"$f":"IF('CB2'!$Z55=\"\",\"\",'CB2'!$Z55)","v":""},{"$f":"IF('CB3'!$Z55=\"\",\"\",'CB3'!$Z55)","v":""},null,"",{"$f":"IF('CB1'!$AC55=\"\",\"\",'CB1'!$AC55)","v":""},{"$f":"IF('CB2'!$AC55=\"\",\"\",'CB2'!$AC55)","v":""},{"$f":"IF('CB3'!$AC55=\"\",\"\",'CB3'!$AC55)","v":""},null,"",{"$f":"IF('CB1'!$AE55=\"\",\"\",'CB1'!$AE55)","v":""},{"$f":"IF('CB2'!$AE55=\"\",\"\",'CB2'!$AE55)","v":""},{"$f":"IF('CB3'!$AE55=\"\",\"\",'CB3'!$AE55)","v":""},null,"",{"$f":"IF('CB1'!$AF55=\"\",\"\",'CB1'!$AF55)","v":""},{"$f":"IF('CB2'!$AF55=\"\",\"\",'CB2'!$AF55)","v":""},{"$f":"IF('CB3'!$AF55=\"\",\"\",'CB3'!$AF55)","v":""},null,"",{"$f":"IF('CB1'!$AJ55=\"\",\"\",'CB1'!$AJ55)","v":""},{"$f":"IF('CB2'!$AJ55=\"\",\"\",'CB2'!$AJ55)","v":""},{"$f":"IF('CB3'!$AJ55=\"\",\"\",'CB3'!$AJ55)","v":""},null,"",{"$f":"IF('CB1'!$AK55=\"\",\"\",'CB1'!$AK55)","v":""},{"$f":"IF('CB2'!$AK55=\"\",\"\",'CB2'!$AK55)","v":""},{"$f":"IF('CB3'!$AK55=\"\",\"\",'CB3'!$AK55)","v":""},null,"","",null,"","","","","","","","","","","","","","","","",0,null,"","",{"$f":"'CB1'!$AL55","v":""},{"$f":"'CB2'!$AL55","v":0},{"$f":"'CB3'!$AL55","v":0}]
[null,null,null,null,null,{"$f":"IF(filEst!F56=\"\",\"\",filEst!F56)","v":""},{"$f":"IF(filEst!G56=\"\",\"\",filEst!G56)","v":""},{"$f":"IF(filEst!L56=\"\",\"\",filEst!L56)","v":""},null,null,{"$f":"IF(filEst!K56=\"\",\"\",filEst!K56)","v":""},null,{"$f":"IF('CB1'!$P56=\"\",\"\",'CB1'!$P56)","v":""},{"$f":"IF('CB2'!$P56=\"\",\"\",'CB2'!$P56)","v":""},{"$f":"IF('CB3'!$P56=\"\",\"\",'CB3'!$P56)","v":""},null,"",{"$f":"IF('CB1'!$Q56=\"\",\"\",'CB1'!$Q56)","v":""},{"$f":"IF('CB2'!$Q56=\"\",\"\",'CB2'!$Q56)","v":""},{"$f":"IF('CB3'!$Q56=\"\",\"\",'CB3'!$Q56)","v":""},null,"",{"$f":"IF('CB1'!$R56=\"\",\"\",'CB1'!$R56)","v":""},{"$f":"IF('CB2'!$R56=\"\",\"\",'CB2'!$R56)","v":""},{"$f":"IF('CB3'!$R56=\"\",\"\",'CB3'!$R56)","v":""},null,"",{"$f":"IF('CB1'!$S56=\"\",\"\",'CB1'!$S56)","v":""},{"$f":"IF('CB2'!$S56=\"\",\"\",'CB2'!$S56)","v":""},{"$f":"IF('CB3'!$S56=\"\",\"\",'CB3'!$S56)","v":""},null,"",{"$f":"IF('CB1'!$T56=\"\",\"\",'CB1'!$T56)","v":""},{"$f":"IF('CB2'!$T56=\"\",\"\",'CB2'!$T56)","v":""},{"$f":"IF('CB3'!$T56=\"\",\"\",'CB3'!$T56)","v":""},null,"",{"$f":"IF('CB1'!$U56=\"\",\"\",'CB1'!$U56)","v":""},{"$f":"IF('CB2'!$U56=\"\",\"\",'CB2'!$U56)","v":""},{"$f":"IF('CB3'!$U56=\"\",\"\",'CB3'!$U56)","v":""},null,"",{"$f":"IF('CB1'!$V56=\"\",\"\",'CB1'!$V56)","v":""},{"$f":"IF('CB2'!$V56=\"\",\"\",'CB2'!$V56)","v":""},{"$f":"IF('CB3'!$V56=\"\",\"\",'CB3'!$V56)","v":""},null,"",{"$f":"IF('CB1'!$W56=\"\",\"\",'CB1'!$W56)","v":""},{"$f":"IF('CB2'!$W56=\"\",\"\",'CB2'!$W56)","v":""},{"$f":"IF('CB3'!$W56=\"\",\"\",'CB3'!$W56)","v":""},null,"",{"$f":"IF('CB1'!$X56=\"\",\"\",'CB1'!$X56)","v":""},{"$f":"IF('CB2'!$X56=\"\",\"\",'CB2'!$X56)","v":""},{"$f":"IF('CB3'!$X56=\"\",\"\",'CB3'!$X56)","v":""},null,"",{"$f":"IF('CB1'!$Y56=\"\",\"\",'CB1'!$Y56)","v":""},{"$f":"IF('CB2'!$Y56=\"\",\"\",'CB2'!$Y56)","v":""},{"$f":"IF('CB3'!$Y56=\"\",\"\",'CB3'!$Y56)","v":""},null,"",{"$f":"IF('CB1'!$Z56=\"\",\"\",'CB1'!$Z56)","v":""},{"$f":"IF('CB2'!$Z56=\"\",\"\",'CB2'!$Z56)","v":""},{"$f":"IF('CB3'!$Z56=\"\",\"\",'CB3'!$Z56)","v":""},null,"",{"$f":"IF('CB1'!$AC56=\"\",\"\",'CB1'!$AC56)","v":""},{"$f":"IF('CB2'!$AC56=\"\",\"\",'CB2'!$AC56)","v":""},{"$f":"IF('CB3'!$AC56=\"\",\"\",'CB3'!$AC56)","v":""},null,"",{"$f":"IF('CB1'!$AE56=\"\",\"\",'CB1'!$AE56)","v":""},{"$f":"IF('CB2'!$AE56=\"\",\"\",'CB2'!$AE56)","v":""},{"$f":"IF('CB3'!$AE56=\"\",\"\",'CB3'!$AE56)","v":""},null,"",{"$f":"IF('CB1'!$AF56=\"\",\"\",'CB1'!$AF56)","v":""},{"$f":"IF('CB2'!$AF56=\"\",\"\",'CB2'!$AF56)","v":""},{"$f":"IF('CB3'!$AF56=\"\",\"\",'CB3'!$AF56)","v":""},null,"",{"$f":"IF('CB1'!$AJ56=\"\",\"\",'CB1'!$AJ56)","v":""},{"$f":"IF('CB2'!$AJ56=\"\",\"\",'CB2'!$AJ56)","v":""},{"$f":"IF('CB3'!$AJ56=\"\",\"\",'CB3'!$AJ56)","v":""},null,"",{"$f":"IF('CB1'!$AK56=\"\",\"\",'CB1'!$AK56)","v":""},{"$f":"IF('CB2'!$AK56=\"\",\"\",'CB2'!$AK56)","v":""},{"$f":"IF('CB3'!$AK56=\"\",\"\",'CB3'!$AK56)","v":""},null,"","",null,"","","","","","","","","","","","","","","","",0,null,"","",{"$f":"'CB1'!$AL56","v":""},{"$f":"'CB2'!$AL56","v":0},{"$f":"'CB3'!$AL56","v":0}]
[null,null,null,null,null,{"$f":"IF(filEst!F57=\"\",\"\",filEst!F57)","v":""},{"$f":"IF(filEst!G57=\"\",\"\",filEst!G57)","v":""},{"$f":"IF(filEst!L57=\"\",\"\",filEst!L57)","v":""},null,null,{"$f":"IF(filEst!K57=\"\",\"\",filEst!K57)","v":""},null,{"$f":"IF('CB1'!$P57=\"\",\"\",'CB1'!$P57)","v":""},{"$f":"IF('CB2'!$P57=\"\",\"\",'CB2'!$P57)","v":""},{"$f":"IF('CB3'!$P57=\"\",\"\",'CB3'!$P57)","v":""},null,"",{"$f":"IF('CB1'!$Q57=\"\",\"\",'CB1'!$Q57)","v":""},{"$f":"IF('CB2'!$Q57=\"\",\"\",'CB2'!$Q57)","v":""},{"$f":"IF('CB3'!$Q57=\"\",\"\",'CB3'!$Q57)","v":""},null,"",{"$f":"IF('CB1'!$R57=\"\",\"\",'CB1'!$R57)","v":""},{"$f":"IF('CB2'!$R57=\"\",\"\",'CB2'!$R57)","v":""},{"$f":"IF('CB3'!$R57=\"\",\"\",'CB3'!$R57)","v":""},null,"",{"$f":"IF('CB1'!$S57=\"\",\"\",'CB1'!$S57)","v":""},{"$f":"IF('CB2'!$S57=\"\",\"\",'CB2'!$S57)","v":""},{"$f":"IF('CB3'!$S57=\"\",\"\",'CB3'!$S57)","v":""},null,"",{"$f":"IF('CB1'!$T57=\"\",\"\",'CB1'!$T57)","v":""},{"$f":"IF('CB2'!$T57=\"\",\"\",'CB2'!$T57)","v":""},{"$f":"IF('CB3'!$T57=\"\",\"\",'CB3'!$T57)","v":""},null,"",{"$f":"IF('CB1'!$U57=\"\",\"\",'CB1'!$U57)","v":""},{"$f":"IF('CB2'!$U57=\"\",\"\",'CB2'!$U57)","v":""},{"$f":"IF('CB3'!$U57=\"\",\"\",'CB3'!$U57)","v":""},null,"",{"$f":"IF('CB1'!$V57=\"\",\"\",'CB1'!$V57)","v":""},{"$f":"IF('CB2'!$V57=\"\",\"\",'CB2'!$V57)","v":""},{"$f":"IF('CB3'!$V57=\"\",\"\",'CB3'!$V57)","v":""},null,"",{"$f":"IF('CB1'!$W57=\"\",\"\",'CB1'!$W57)","v":""},{"$f":"IF('CB2'!$W57=\"\",\"\",'CB2'!$W57)","v":""},{"$f":"IF('CB3'!$W57=\"\",\"\",'CB3'!$W57)","v":""},null,"",{"$f":"IF('CB1'!$X57=\"\",\"\",'CB1'!$X57)","v":""},{"$f":"IF('CB2'!$X57=\"\",\"\",'CB2'!$X57)","v":""},{"$f":"IF('CB3'!$X57=\"\",\"\",'CB3'!$X57)","v":""},null,"",{"$f":"IF('CB1'!$Y57=\"\",\"\",'CB1'!$Y57)","v":""},{"$f":"IF('CB2'!$Y57=\"\",\"\",'CB2'!$Y57)","v":""},{"$f":"IF('CB3'!$Y57=\"\",\"\",'CB3'!$Y57)","v":""},null,"",{"$f":"IF('CB1'!$Z57=\"\",\"\",'CB1'!$Z57)","v":""},{"$f":"IF('CB2'!$Z57=\"\",\"\",'CB2'!$Z57)","v":""},{"$f":"IF('CB3'!$Z57=\"\",\"\",'CB3'!$Z57)","v":""},null,"",{"$f":"IF('CB1'!$AC57=\"\",\"\",'CB1'!$AC57)","v":""},{"$f":"IF('CB2'!$AC57=\"\",\"\",'CB2'!$AC57)","v":""},{"$f":"IF('CB3'!$AC57=\"\",\"\",'CB3'!$AC57)","v":""},null,"",{"$f":"IF('CB1'!$AE57=\"\",\"\",'CB1'!$AE57)","v":""},{"$f":"IF('CB2'!$AE57=\"\",\"\",'CB2'!$AE57)","v":""},{"$f":"IF('CB3'!$AE57=\"\",\"\",'CB3'!$AE57)","v":""},null,"",{"$f":"IF('CB1'!$AF57=\"\",\"\",'CB1'!$AF57)","v":""},{"$f":"IF('CB2'!$AF57=\"\",\"\",'CB2'!$AF57)","v":""},{"$f":"IF('CB3'!$AF57=\"\",\"\",'CB3'!$AF57)","v":""},null,"",{"$f":"IF('CB1'!$AJ57=\"\",\"\",'CB1'!$AJ57)","v":""},{"$f":"IF('CB2'!$AJ57=\"\",\"\",'CB2'!$AJ57)","v":""},{"$f":"IF('CB3'!$AJ57=\"\",\"\",'CB3'!$AJ57)","v":""},null,"",{"$f":"IF('CB1'!$AK57=\"\",\"\",'CB1'!$AK57)","v":""},{"$f":"IF('CB2'!$AK57=\"\",\"\",'CB2'!$AK57)","v":""},{"$f":"IF('CB3'!$AK57=\"\",\"\",'CB3'!$AK57)","v":""},null,"","",null,"","","","","","","","","","","","","","","","",0,null,"","",{"$f":"'CB1'!$AL57","v":""},{"$f":"'CB2'!$AL57","v":0},{"$f":"'CB3'!$AL57","v":0}]
[null,null,null,null,null,{"$f":"IF(filEst!F58=\"\",\"\",filEst!F58)","v":""},{"$f":"IF(filEst!G58=\"\",\"\",filEst!G58)","v":""},{"$f":"IF(filEst!L58=\"\",\"\",filEst!L58)","v":""},null,null,{"$f":"IF(filEst!K58=\"\",\"\",filEst!K58)","v":""},null,{"$f":"IF('CB1'!$P58=\"\",\"\",'CB1'!$P58)","v":""},{"$f":"IF('CB2'!$P58=\"\",\"\",'CB2'!$P58)","v":""},{"$f":"IF('CB3'!$P58=\"\",\"\",'CB3'!$P58)","v":""},null,"",{"$f":"IF('CB1'!$Q58=\"\",\"\",'CB1'!$Q58)","v":""},{"$f":"IF('CB2'!$Q58=\"\",\"\",'CB2'!$Q58)","v":""},{"$f":"IF('CB3'!$Q58=\"\",\"\",'CB3'!$Q58)","v":""},null,"",{"$f":"IF('CB1'!$R58=\"\",\"\",'CB1'!$R58)","v":""},{"$f":"IF('CB2'!$R58=\"\",\"\",'CB2'!$R58)","v":""},{"$f":"IF('CB3'!$R58=\"\",\"\",'CB3'!$R58)","v":""},null,"",{"$f":"IF('CB1'!$S58=\"\",\"\",'CB1'!$S58)","v":""},{"$f":"IF('CB2'!$S58=\"\",\"\",'CB2'!$S58)","v":""},{"$f":"IF('CB3'!$S58=\"\",\"\",'CB3'!$S58)","v":""},null,"",{"$f":"IF('CB1'!$T58=\"\",\"\",'CB1'!$T58)","v":""},{"$f":"IF('CB2'!$T58=\"\",\"\",'CB2'!$T58)","v":""},{"$f":"IF('CB3'!$T58=\"\",\"\",'CB3'!$T58)","v":""},null,"",{"$f":"IF('CB1'!$U58=\"\",\"\",'CB1'!$U58)","v":""},{"$f":"IF('CB2'!$U58=\"\",\"\",'CB2'!$U58)","v":""},{"$f":"IF('CB3'!$U58=\"\",\"\",'CB3'!$U58)","v":""},null,"",{"$f":"IF('CB1'!$V58=\"\",\"\",'CB1'!$V58)","v":""},{"$f":"IF('CB2'!$V58=\"\",\"\",'CB2'!$V58)","v":""},{"$f":"IF('CB3'!$V58=\"\",\"\",'CB3'!$V58)","v":""},null,"",{"$f":"IF('CB1'!$W58=\"\",\"\",'CB1'!$W58)","v":""},{"$f":"IF('CB2'!$W58=\"\",\"\",'CB2'!$W58)","v":""},{"$f":"IF('CB3'!$W58=\"\",\"\",'CB3'!$W58)","v":""},null,"",{"$f":"IF('CB1'!$X58=\"\",\"\",'CB1'!$X58)","v":""},{"$f":"IF('CB2'!$X58=\"\",\"\",'CB2'!$X58)","v":""},{"$f":"IF('CB3'!$X58=\"\",\"\",'CB3'!$X58)","v":""},null,"",{"$f":"IF('CB1'!$Y58=\"\",\"\",'CB1'!$Y58)","v":""},{"$f":"IF('CB2'!$Y58=\"\",\"\",'CB2'!$Y58)","v":""},{"$f":"IF('CB3'!$Y58=\"\",\"\",'CB3'!$Y58)","v":""},null,"",{"$f":"IF('CB1'!$Z58=\"\",\"\",'CB1'!$Z58)","v":""},{"$f":"IF('CB2'!$Z58=\"\",\"\",'CB2'!$Z58)","v":""},{"$f":"IF('CB3'!$Z58=\"\",\"\",'CB3'!$Z58)","v":""},null,"",{"$f":"IF('CB1'!$AC58=\"\",\"\",'CB1'!$AC58)","v":""},{"$f":"IF('CB2'!$AC58=\"\",\"\",'CB2'!$AC58)","v":""},{"$f":"IF('CB3'!$AC58=\"\",\"\",'CB3'!$AC58)","v":""},null,"",{"$f":"IF('CB1'!$AE58=\"\",\"\",'CB1'!$AE58)","v":""},{"$f":"IF('CB2'!$AE58=\"\",\"\",'CB2'!$AE58)","v":""},{"$f":"IF('CB3'!$AE58=\"\",\"\",'CB3'!$AE58)","v":""},null,"",{"$f":"IF('CB1'!$AF58=\"\",\"\",'CB1'!$AF58)","v":""},{"$f":"IF('CB2'!$AF58=\"\",\"\",'CB2'!$AF58)","v":""},{"$f":"IF('CB3'!$AF58=\"\",\"\",'CB3'!$AF58)","v":""},null,"",{"$f":"IF('CB1'!$AJ58=\"\",\"\",'CB1'!$AJ58)","v":""},{"$f":"IF('CB2'!$AJ58=\"\",\"\",'CB2'!$AJ58)","v":""},{"$f":"IF('CB3'!$AJ58=\"\",\"\",'CB3'!$AJ58)","v":""},null,"",{"$f":"IF('CB1'!$AK58=\"\",\"\",'CB1'!$AK58)","v":""},{"$f":"IF('CB2'!$AK58=\"\",\"\",'CB2'!$AK58)","v":""},{"$f":"IF('CB3'!$AK58=\"\",\"\",'CB3'!$AK58)","v":""},null,"","",null,"","","","","","","","","","","","","","","","",0,null,"","",{"$f":"'CB1'!$AL58","v":""},{"$f":"'CB2'!$AL58","v":0},{"$f":"'CB3'!$AL58","v":0}]
[null,null,null,null,null,{"$f":"IF(filEst!F59=\"\",\"\",filEst!F59)","v":""},{"$f":"IF(filEst!G59=\"\",\"\",filEst!G59)","v":""},{"$f":"IF(filEst!L59=\"\",\"\",filEst!L59)","v":""},null,null,{"$f":"IF(filEst!K59=\"\",\"\",filEst!K59)","v":""},null,{"$f":"IF('CB1'!$P59=\"\",\"\",'CB1'!$P59)","v":""},{"$f":"IF('CB2'!$P59=\"\",\"\",'CB2'!$P59)","v":""},{"$f":"IF('CB3'!$P59=\"\",\"\",'CB3'!$P59)","v":""},null,"",{"$f":"IF('CB1'!$Q59=\"\",\"\",'CB1'!$Q59)","v":""},{"$f":"IF('CB2'!$Q59=\"\",\"\",'CB2'!$Q59)","v":""},{"$f":"IF('CB3'!$Q59=\"\",\"\",'CB3'!$Q59)","v":""},null,"",{"$f":"IF('CB1'!$R59=\"\",\"\",'CB1'!$R59)","v":""},{"$f":"IF('CB2'!$R59=\"\",\"\",'CB2'!$R59)","v":""},{"$f":"IF('CB3'!$R59=\"\",\"\",'CB3'!$R59)","v":""},null,"",{"$f":"IF('CB1'!$S59=\"\",\"\",'CB1'!$S59)","v":""},{"$f":"IF('CB2'!$S59=\"\",\"\",'CB2'!$S59)","v":""},{"$f":"IF('CB3'!$S59=\"\",\"\",'CB3'!$S59)","v":""},null,"",{"$f":"IF('CB1'!$T59=\"\",\"\",'CB1'!$T59)","v":""},{"$f":"IF('CB2'!$T59=\"\",\"\",'CB2'!$T59)","v":""},{"$f":"IF('CB3'!$T59=\"\",\"\",'CB3'!$T59)","v":""},null,"",{"$f":"IF('CB1'!$U59=\"\",\"\",'CB1'!$U59)","v":""},{"$f":"IF('CB2'!$U59=\"\",\"\",'CB2'!$U59)","v":""},{"$f":"IF('CB3'!$U59=\"\",\"\",'CB3'!$U59)","v":""},null,"",{"$f":"IF('CB1'!$V59=\"\",\"\",'CB1'!$V59)","v":""},{"$f":"IF('CB2'!$V59=\"\",\"\",'CB2'!$V59)","v":""},{"$f":"IF('CB3'!$V59=\"\",\"\",'CB3'!$V59)","v":""},null,"",{"$f":"IF('CB1'!$W59=\"\",\"\",'CB1'!$W59)","v":""},{"$f":"IF('CB2'!$W59=\"\",\"\",'CB2'!$W59)","v":""},{"$f":"IF('CB3'!$W59=\"\",\"\",'CB3'!$W59)","v":""},null,"",{"$f":"IF('CB1'!$X59=\"\",\"\",'CB1'!$X59)","v":""},{"$f":"IF('CB2'!$X59=\"\",\"\",'CB2'!$X59)","v":""},{"$f":"IF('CB3'!$X59=\"\",\"\",'CB3'!$X59)","v":""},null,"",{"$f":"IF('CB1'!$Y59=\"\",\"\",'CB1'!$Y59)","v":""},{"$f":"IF('CB2'!$Y59=\"\",\"\",'CB2'!$Y59)","v":""},{"$f":"IF('CB3'!$Y59=\"\",\"\",'CB3'!$Y59)","v":""},null,"",{"$f":"IF('CB1'!$Z59=\"\",\"\",'CB1'!$Z59)","v":""},{"$f":"IF('CB2'!$Z59=\"\",\"\",'CB2'!$Z59)","v":""},{"$f":"IF('CB3'!$Z59=\"\",\"\",'CB3'!$Z59)","v":""},null,"",{"$f":"IF('CB1'!$AC59=\"\",\"\",'CB1'!$AC59)","v":""},{"$f":"IF('CB2'!$AC59=\"\",\"\",'CB2'!$AC59)","v":""},{"$f":"IF('CB3'!$AC59=\"\",\"\",'CB3'!$AC59)","v":""},null,"",{"$f":"IF('CB1'!$AE59=\"\",\"\",'CB1'!$AE59)","v":""},{"$f":"IF('CB2'!$AE59=\"\",\"\",'CB2'!$AE59)","v":""},{"$f":"IF('CB3'!$AE59=\"\",\"\",'CB3'!$AE59)","v":""},null,"",{"$f":"IF('CB1'!$AF59=\"\",\"\",'CB1'!$AF59)","v":""},{"$f":"IF('CB2'!$AF59=\"\",\"\",'CB2'!$AF59)","v":""},{"$f":"IF('CB3'!$AF59=\"\",\"\",'CB3'!$AF59)","v":""},null,"",{"$f":"IF('CB1'!$AJ59=\"\",\"\",'CB1'!$AJ59)","v":""},{"$f":"IF('CB2'!$AJ59=\"\",\"\",'CB2'!$AJ59)","v":""},{"$f":"IF('CB3'!$AJ59=\"\",\"\",'CB3'!$AJ59)","v":""},null,"",{"$f":"IF('CB1'!$AK59=\"\",\"\",'CB1'!$AK59)","v":""},{"$f":"IF('CB2'!$AK59=\"\",\"\",'CB2'!$AK59)","v":""},{"$f":"IF('CB3'!$AK59=\"\",\"\",'CB3'!$AK59)","v":""},null,"","",null,"","","","","","","","","","","","","","","","",0,null,"","",{"$f":"'CB1'!$AL59","v":""},{"$f":"'CB2'!$AL59","v":0},{"$f":"'CB3'!$AL59","v":0}]
[null,null,null,null,null,{"$f":"IF(filEst!F60=\"\",\"\",filEst!F60)","v":""},{"$f":"IF(filEst!G60=\"\",\"\",filEst!G60)","v":""},{"$f":"IF(filEst!L60=\"\",\"\",filEst!L60)","v":""},null,null,{"$f":"IF(filEst!K60=\"\",\"\",filEst!K60)","v":""},null,{"$f":"IF('CB1'!$P60=\"\",\"\",'CB1'!$P60)","v":""},{"$f":"IF('CB2'!$P60=\"\",\"\",'CB2'!$P60)","v":""},{"$f":"IF('CB3'!$P60=\"\",\"\",'CB3'!$P60)","v":""},null,"",{"$f":"IF('CB1'!$Q60=\"\",\"\",'CB1'!$Q60)","v":""},{"$f":"IF('CB2'!$Q60=\"\",\"\",'CB2'!$Q60)","v":""},{"$f":"IF('CB3'!$Q60=\"\",\"\",'CB3'!$Q60)","v":""},null,"",{"$f":"IF('CB1'!$R60=\"\",\"\",'CB1'!$R60)","v":""},{"$f":"IF('CB2'!$R60=\"\",\"\",'CB2'!$R60)","v":""},{"$f":"IF('CB3'!$R60=\"\",\"\",'CB3'!$R60)","v":""},null,"",{"$f":"IF('CB1'!$S60=\"\",\"\",'CB1'!$S60)","v":""},{"$f":"IF('CB2'!$S60=\"\",\"\",'CB2'!$S60)","v":""},{"$f":"IF('CB3'!$S60=\"\",\"\",'CB3'!$S60)","v":""},null,"",{"$f":"IF('CB1'!$T60=\"\",\"\",'CB1'!$T60)","v":""},{"$f":"IF('CB2'!$T60=\"\",\"\",'CB2'!$T60)","v":""},{"$f":"IF('CB3'!$T60=\"\",\"\",'CB3'!$T60)","v":""},null,"",{"$f":"IF('CB1'!$U60=\"\",\"\",'CB1'!$U60)","v":""},{"$f":"IF('CB2'!$U60=\"\",\"\",'CB2'!$U60)","v":""},{"$f":"IF('CB3'!$U60=\"\",\"\",'CB3'!$U60)","v":""},null,"",{"$f":"IF('CB1'!$V60=\"\",\"\",'CB1'!$V60)","v":""},{"$f":"IF('CB2'!$V60=\"\",\"\",'CB2'!$V60)","v":""},{"$f":"IF('CB3'!$V60=\"\",\"\",'CB3'!$V60)","v":""},null,"",{"$f":"IF('CB1'!$W60=\"\",\"\",'CB1'!$W60)","v":""},{"$f":"IF('CB2'!$W60=\"\",\"\",'CB2'!$W60)","v":""},{"$f":"IF('CB3'!$W60=\"\",\"\",'CB3'!$W60)","v":""},null,"",{"$f":"IF('CB1'!$X60=\"\",\"\",'CB1'!$X60)","v":""},{"$f":"IF('CB2'!$X60=\"\",\"\",'CB2'!$X60)","v":""},{"$f":"IF('CB3'!$X60=\"\",\"\",'CB3'!$X60)","v":""},null,"",{"$f":"IF('CB1'!$Y60=\"\",\"\",'CB1'!$Y60)","v":""},{"$f":"IF('CB2'!$Y60=\"\",\"\",'CB2'!$Y60)","v":""},{"$f":"IF('CB3'!$Y60=\"\",\"\",'CB3'!$Y60)","v":""},null,"",{"$f":"IF('CB1'!$Z60=\"\",\"\",'CB1'!$Z60)","v":""},{"$f":"IF('CB2'!$Z60=\"\",\"\",'CB2'!$Z60)","v":""},{"$f":"IF('CB3'!$Z60=\"\",\"\",'CB3'!$Z60)","v":""},null,"",{"$f":"IF('CB1'!$AC60=\"\",\"\",'CB1'!$AC60)","v":""},{"$f":"IF('CB2'!$AC60=\"\",\"\",'CB2'!$AC60)","v":""},{"$f":"IF('CB3'!$AC60=\"\",\"\",'CB3'!$AC60)","v":""},null,"",{"$f":"IF('CB1'!$AE60=\"\",\"\",'CB1'!$AE60)","v":""},{"$f":"IF('CB2'!$AE60=\"\",\"\",'CB2'!$AE60)","v":""},{"$f":"IF('CB3'!$AE60=\"\",\"\",'CB3'!$AE60)","v":""},null,"",{"$f":"IF('CB1'!$AF60=\"\",\"\",'CB1'!$AF60)","v":""},{"$f":"IF('CB2'!$AF60=\"\",\"\",'CB2'!$AF60)","v":""},{"$f":"IF('CB3'!$AF60=\"\",\"\",'CB3'!$AF60)","v":""},null,"",{"$f":"IF('CB1'!$AJ60=\"\",\"\",'CB1'!$AJ60)","v":""},{"$f":"IF('CB2'!$AJ60=\"\",\"\",'CB2'!$AJ60)","v":""},{"$f":"IF('CB3'!$AJ60=\"\",\"\",'CB3'!$AJ60)","v":""},null,"",{"$f":"IF('CB1'!$AK60=\"\",\"\",'CB1'!$AK60)","v":""},{"$f":"IF('CB2'!$AK60=\"\",\"\",'CB2'!$AK60)","v":""},{"$f":"IF('CB3'!$AK60=\"\",\"\",'CB3'!$AK60)","v":""},null,"","",null,"","","","","","","","","","","","","","","","",0,null,"","",{"$f":"'CB1'!$AL60","v":""},{"$f":"'CB2'!$AL60","v":0},{"$f":"'CB3'!$AL60","v":0}]
[null,null,null,null,null,{"$f":"IF(filEst!F61=\"\",\"\",filEst!F61)","v":""},{"$f":"IF(filEst!G61=\"\",\"\",filEst!G61)","v":""},{"$f":"IF(filEst!L61=\"\",\"\",filEst!L61)","v":""},null,null,{"$f":"IF(filEst!K61=\"\",\"\",filEst!K61)","v":""},null,{"$f":"IF('CB1'!$P61=\"\",\"\",'CB1'!$P61)","v":""},{"$f":"IF('CB2'!$P61=\"\",\"\",'CB2'!$P61)","v":""},{"$f":"IF('CB3'!$P61=\"\",\"\",'CB3'!$P61)","v":""},null,"",{"$f":"IF('CB1'!$Q61=\"\",\"\",'CB1'!$Q61)","v":""},{"$f":"IF('CB2'!$Q61=\"\",\"\",'CB2'!$Q61)","v":""},{"$f":"IF('CB3'!$Q61=\"\",\"\",'CB3'!$Q61)","v":""},null,"",{"$f":"IF('CB1'!$R61=\"\",\"\",'CB1'!$R61)","v":""},{"$f":"IF('CB2'!$R61=\"\",\"\",'CB2'!$R61)","v":""},{"$f":"IF('CB3'!$R61=\"\",\"\",'CB3'!$R61)","v":""},null,"",{"$f":"IF('CB1'!$S61=\"\",\"\",'CB1'!$S61)","v":""},{"$f":"IF('CB2'!$S61=\"\",\"\",'CB2'!$S61)","v":""},{"$f":"IF('CB3'!$S61=\"\",\"\",'CB3'!$S61)","v":""},null,"",{"$f":"IF('CB1'!$T61=\"\",\"\",'CB1'!$T61)","v":""},{"$f":"IF('CB2'!$T61=\"\",\"\",'CB2'!$T61)","v":""},{"$f":"IF('CB3'!$T61=\"\",\"\",'CB3'!$T61)","v":""},null,"",{"$f":"IF('CB1'!$U61=\"\",\"\",'CB1'!$U61)","v":""},{"$f":"IF('CB2'!$U61=\"\",\"\",'CB2'!$U61)","v":""},{"$f":"IF('CB3'!$U61=\"\",\"\",'CB3'!$U61)","v":""},null,"",{"$f":"IF('CB1'!$V61=\"\",\"\",'CB1'!$V61)","v":""},{"$f":"IF('CB2'!$V61=\"\",\"\",'CB2'!$V61)","v":""},{"$f":"IF('CB3'!$V61=\"\",\"\",'CB3'!$V61)","v":""},null,"",{"$f":"IF('CB1'!$W61=\"\",\"\",'CB1'!$W61)","v":""},{"$f":"IF('CB2'!$W61=\"\",\"\",'CB2'!$W61)","v":""},{"$f":"IF('CB3'!$W61=\"\",\"\",'CB3'!$W61)","v":""},null,"",{"$f":"IF('CB1'!$X61=\"\",\"\",'CB1'!$X61)","v":""},{"$f":"IF('CB2'!$X61=\"\",\"\",'CB2'!$X61)","v":""},{"$f":"IF('CB3'!$X61=\"\",\"\",'CB3'!$X61)","v":""},null,"",{"$f":"IF('CB1'!$Y61=\"\",\"\",'CB1'!$Y61)","v":""},{"$f":"IF('CB2'!$Y61=\"\",\"\",'CB2'!$Y61)","v":""},{"$f":"IF('CB3'!$Y61=\"\",\"\",'CB3'!$Y61)","v":""},null,"",{"$f":"IF('CB1'!$Z61=\"\",\"\",'CB1'!$Z61)","v":""},{"$f":"IF('CB2'!$Z61=\"\",\"\",'CB2'!$Z61)","v":""},{"$f":"IF('CB3'!$Z61=\"\",\"\",'CB3'!$Z61)","v":""},null,"",{"$f":"IF('CB1'!$AC61=\"\",\"\",'CB1'!$AC61)","v":""},{"$f":"IF('CB2'!$AC61=\"\",\"\",'CB2'!$AC61)","v":""},{"$f":"IF('CB3'!$AC61=\"\",\"\",'CB3'!$AC61)","v":""},null,"",{"$f":"IF('CB1'!$AE61=\"\",\"\",'CB1'!$AE61)","v":""},{"$f":"IF('CB2'!$AE61=\"\",\"\",'CB2'!$AE61)","v":""},{"$f":"IF('CB3'!$AE61=\"\",\"\",'CB3'!$AE61)","v":""},null,"",{"$f":"IF('CB1'!$AF61=\"\",\"\",'CB1'!$AF61)","v":""},{"$f":"IF('CB2'!$AF61=\"\",\"\",'CB2'!$AF61)","v":""},{"$f":"IF('CB3'!$AF61=\"\",\"\",'CB3'!$AF61)","v":""},null,"",{"$f":"IF('CB1'!$AJ61=\"\",\"\",'CB1'!$AJ61)","v":""},{"$f":"IF('CB2'!$AJ61=\"\",\"\",'CB2'!$AJ61)","v":""},{"$f":"IF('CB3'!$AJ61=\"\",\"\",'CB3'!$AJ61)","v":""},null,"",{"$f":"IF('CB1'!$AK61=\"\",\"\",'CB1'!$AK61)","v":""},{"$f":"IF('CB2'!$AK61=\"\",\"\",'CB2'!$AK61)","v":""},{"$f":"IF('CB3'!$AK61=\"\",\"\",'CB3'!$AK61)","v":""},null,"","",null,"","","","","","","","","","","","","","","","",0,null,"","",{"$f":"'CB1'!$AL61","v":""},{"$f":"'CB2'!$AL61","v":0},{"$f":"'CB3'!$AL61","v":0}]
[null,null,null,null,null,{"$f":"IF(filEst!F62=\"\",\"\",filEst!F62)","v":""},{"$f":"IF(filEst!G62=\"\",\"\",filEst!G62)","v":""},{"$f":"IF(filEst!L62=\"\",\"\",filEst!L62)","v":""},null,null,{"$f":"IF(filEst!K62=\"\",\"\",filEst!K62)","v":""},null,{"$f":"IF('CB1'!$P62=\"\",\"\",'CB1'!$P62)","v":""},{"$f":"IF('CB2'!$P62=\"\",\"\",'CB2'!$P62)","v":""},{"$f":"IF('CB3'!$P62=\"\",\"\",'CB3'!$P62)","v":""},null,"",{"$f":"IF('CB1'!$Q62=\"\",\"\",'CB1'!$Q62)","v":""},{"$f":"IF('CB2'!$Q62=\"\",\"\",'CB2'!$Q62)","v":""},{"$f":"IF('CB3'!$Q62=\"\",\"\",'CB3'!$Q62)","v":""},null,"",{"$f":"IF('CB1'!$R62=\"\",\"\",'CB1'!$R62)","v":""},{"$f":"IF('CB2'!$R62=\"\",\"\",'CB2'!$R62)","v":""},{"$f":"IF('CB3'!$R62=\"\",\"\",'CB3'!$R62)","v":""},null,"",{"$f":"IF('CB1'!$S62=\"\",\"\",'CB1'!$S62)","v":""},{"$f":"IF('CB2'!$S62=\"\",\"\",'CB2'!$S62)","v":""},{"$f":"IF('CB3'!$S62=\"\",\"\",'CB3'!$S62)","v":""},null,"",{"$f":"IF('CB1'!$T62=\"\",\"\",'CB1'!$T62)","v":""},{"$f":"IF('CB2'!$T62=\"\",\"\",'CB2'!$T62)","v":""},{"$f":"IF('CB3'!$T62=\"\",\"\",'CB3'!$T62)","v":""},null,"",{"$f":"IF('CB1'!$U62=\"\",\"\",'CB1'!$U62)","v":""},{"$f":"IF('CB2'!$U62=\"\",\"\",'CB2'!$U62)","v":""},{"$f":"IF('CB3'!$U62=\"\",\"\",'CB3'!$U62)","v":""},null,"",{"$f":"IF('CB1'!$V62=\"\",\"\",'CB1'!$V62)","v":""},{"$f":"IF('CB2'!$V62=\"\",\"\",'CB2'!$V62)","v":""},{"$f":"IF('CB3'!$V62=\"\",\"\",'CB3'!$V62)","v":""},null,"",{"$f":"IF('CB1'!$W62=\"\",\"\",'CB1'!$W62)","v":""},{"$f":"IF('CB2'!$W62=\"\",\"\",'CB2'!$W62)","v":""},{"$f":"IF('CB3'!$W62=\"\",\"\",'CB3'!$W62)","v":""},null,"",{"$f":"IF('CB1'!$X62=\"\",\"\",'CB1'!$X62)","v":""},{"$f":"IF('CB2'!$X62=\"\",\"\",'CB2'!$X62)","v":""},{"$f":"IF('CB3'!$X62=\"\",\"\",'CB3'!$X62)","v":""},null,"",{"$f":"IF('CB1'!$Y62=\"\",\"\",'CB1'!$Y62)","v":""},{"$f":"IF('CB2'!$Y62=\"\",\"\",'CB2'!$Y62)","v":""},{"$f":"IF('CB3'!$Y62=\"\",\"\",'CB3'!$Y62)","v":""},null,"",{"$f":"IF('CB1'!$Z62=\"\",\"\",'CB1'!$Z62)","v":""},{"$f":"IF('CB2'!$Z62=\"\",\"\",'CB2'!$Z62)","v":""},{"$f":"IF('CB3'!$Z62=\"\",\"\",'CB3'!$Z62)","v":""},null,"",{"$f":"IF('CB1'!$AC62=\"\",\"\",'CB1'!$AC62)","v":""},{"$f":"IF('CB2'!$AC62=\"\",\"\",'CB2'!$AC62)","v":""},{"$f":"IF('CB3'!$AC62=\"\",\"\",'CB3'!$AC62)","v":""},null,"",{"$f":"IF('CB1'!$AE62=\"\",\"\",'CB1'!$AE62)","v":""},{"$f":"IF('CB2'!$AE62=\"\",\"\",'CB2'!$AE62)","v":""},{"$f":"IF('CB3'!$AE62=\"\",\"\",'CB3'!$AE62)","v":""},null,"",{"$f":"IF('CB1'!$AF62=\"\",\"\",'CB1'!$AF62)","v":""},{"$f":"IF('CB2'!$AF62=\"\",\"\",'CB2'!$AF62)","v":""},{"$f":"IF('CB3'!$AF62=\"\",\"\",'CB3'!$AF62)","v":""},null,"",{"$f":"IF('CB1'!$AJ62=\"\",\"\",'CB1'!$AJ62)","v":""},{"$f":"IF('CB2'!$AJ62=\"\",\"\",'CB2'!$AJ62)","v":""},{"$f":"IF('CB3'!$AJ62=\"\",\"\",'CB3'!$AJ62)","v":""},null,"",{"$f":"IF('CB1'!$AK62=\"\",\"\",'CB1'!$AK62)","v":""},{"$f":"IF('CB2'!$AK62=\"\",\"\",'CB2'!$AK62)","v":""},{"$f":"IF('CB3'!$AK62=\"\",\"\",'CB3'!$AK62)","v":""},null,"","",null,"","","","","","","","","","","","","","","","",0,null,"","",{"$f":"'CB1'!$AL62","v":""},{"$f":"'CB2'!$AL62","v":0},{"$f":"'CB3'!$AL62","v":0}]
[null,null,null,null,null,{"$f":"IF(filEst!F63=\"\",\"\",filEst!F63)","v":""},{"$f":"IF(filEst!G63=\"\",\"\",filEst!G63)","v":""},{"$f":"IF(filEst!L63=\"\",\"\",filEst!L63)","v":""},null,null,{"$f":"IF(filEst!K63=\"\",\"\",filEst!K63)","v":""},null,{"$f":"IF('CB1'!$P63=\"\",\"\",'CB1'!$P63)","v":""},{"$f":"IF('CB2'!$P63=\"\",\"\",'CB2'!$P63)","v":""},{"$f":"IF('CB3'!$P63=\"\",\"\",'CB3'!$P63)","v":""},null,"",{"$f":"IF('CB1'!$Q63=\"\",\"\",'CB1'!$Q63)","v":""},{"$f":"IF('CB2'!$Q63=\"\",\"\",'CB2'!$Q63)","v":""},{"$f":"IF('CB3'!$Q63=\"\",\"\",'CB3'!$Q63)","v":""},null,"",{"$f":"IF('CB1'!$R63=\"\",\"\",'CB1'!$R63)","v":""},{"$f":"IF('CB2'!$R63=\"\",\"\",'CB2'!$R63)","v":""},{"$f":"IF('CB3'!$R63=\"\",\"\",'CB3'!$R63)","v":""},null,"",{"$f":"IF('CB1'!$S63=\"\",\"\",'CB1'!$S63)","v":""},{"$f":"IF('CB2'!$S63=\"\",\"\",'CB2'!$S63)","v":""},{"$f":"IF('CB3'!$S63=\"\",\"\",'CB3'!$S63)","v":""},null,"",{"$f":"IF('CB1'!$T63=\"\",\"\",'CB1'!$T63)","v":""},{"$f":"IF('CB2'!$T63=\"\",\"\",'CB2'!$T63)","v":""},{"$f":"IF('CB3'!$T63=\"\",\"\",'CB3'!$T63)","v":""},null,"",{"$f":"IF('CB1'!$U63=\"\",\"\",'CB1'!$U63)","v":""},{"$f":"IF('CB2'!$U63=\"\",\"\",'CB2'!$U63)","v":""},{"$f":"IF('CB3'!$U63=\"\",\"\",'CB3'!$U63)","v":""},null,"",{"$f":"IF('CB1'!$V63=\"\",\"\",'CB1'!$V63)","v":""},{"$f":"IF('CB2'!$V63=\"\",\"\",'CB2'!$V63)","v":""},{"$f":"IF('CB3'!$V63=\"\",\"\",'CB3'!$V63)","v":""},null,"",{"$f":"IF('CB1'!$W63=\"\",\"\",'CB1'!$W63)","v":""},{"$f":"IF('CB2'!$W63=\"\",\"\",'CB2'!$W63)","v":""},{"$f":"IF('CB3'!$W63=\"\",\"\",'CB3'!$W63)","v":""},null,"",{"$f":"IF('CB1'!$X63=\"\",\"\",'CB1'!$X63)","v":""},{"$f":"IF('CB2'!$X63=\"\",\"\",'CB2'!$X63)","v":""},{"$f":"IF('CB3'!$X63=\"\",\"\",'CB3'!$X63)","v":""},null,"",{"$f":"IF('CB1'!$Y63=\"\",\"\",'CB1'!$Y63)","v":""},{"$f":"IF('CB2'!$Y63=\"\",\"\",'CB2'!$Y63)","v":""},{"$f":"IF('CB3'!$Y63=\"\",\"\",'CB3'!$Y63)","v":""},null,"",{"$f":"IF('CB1'!$Z63=\"\",\"\",'CB1'!$Z63)","v":""},{"$f":"IF('CB2'!$Z63=\"\",\"\",'CB2'!$Z63)","v":""},{"$f":"IF('CB3'!$Z63=\"\",\"\",'CB3'!$Z63)","v":""},null,"",{"$f":"IF('CB1'!$AC63=\"\",\"\",'CB1'!$AC63)","v":""},{"$f":"IF('CB2'!$AC63=\"\",\"\",'CB2'!$AC63)","v":""},{"$f":"IF('CB3'!$AC63=\"\",\"\",'CB3'!$AC63)","v":""},null,"",{"$f":"IF('CB1'!$AE63=\"\",\"\",'CB1'!$AE63)","v":""},{"$f":"IF('CB2'!$AE63=\"\",\"\",'CB2'!$AE63)","v":""},{"$f":"IF('CB3'!$AE63=\"\",\"\",'CB3'!$AE63)","v":""},null,"",{"$f":"IF('CB1'!$AF63=\"\",\"\",'CB1'!$AF63)","v":""},{"$f":"IF('CB2'!$AF63=\"\",\"\",'CB2'!$AF63)","v":""},{"$f":"IF('CB3'!$AF63=\"\",\"\",'CB3'!$AF63)","v":""},null,"",{"$f":"IF('CB1'!$AJ63=\"\",\"\",'CB1'!$AJ63)","v":""},{"$f":"IF('CB2'!$AJ63=\"\",\"\",'CB2'!$AJ63)","v":""},{"$f":"IF('CB3'!$AJ63=\"\",\"\",'CB3'!$AJ63)","v":""},null,"",{"$f":"IF('CB1'!$AK63=\"\",\"\",'CB1'!$AK63)","v":""},{"$f":"IF('CB2'!$AK63=\"\",\"\",'CB2'!$AK63)","v":""},{"$f":"IF('CB3'!$AK63=\"\",\"\",'CB3'!$AK63)","v":""},null,"","",null,"","","","","","","","","","","","","","","","",0,null,"","",{"$f":"'CB1'!$AL63","v":""},{"$f":"'CB2'!$AL63","v":0},{"$f":"'CB3'!$AL63","v":0}]
[null,null,null,null,null,{"$f":"IF(filEst!F64=\"\",\"\",filEst!F64)","v":""},{"$f":"IF(filEst!G64=\"\",\"\",filEst!G64)","v":""},{"$f":"IF(filEst!L64=\"\",\"\",filEst!L64)","v":""},null,null,{"$f":"IF(filEst!K64=\"\",\"\",filEst!K64)","v":""},null,{"$f":"IF('CB1'!$P64=\"\",\"\",'CB1'!$P64)","v":""},{"$f":"IF('CB2'!$P64=\"\",\"\",'CB2'!$P64)","v":""},{"$f":"IF('CB3'!$P64=\"\",\"\",'CB3'!$P64)","v":""},null,"",{"$f":"IF('CB1'!$Q64=\"\",\"\",'CB1'!$Q64)","v":""},{"$f":"IF('CB2'!$Q64=\"\",\"\",'CB2'!$Q64)","v":""},{"$f":"IF('CB3'!$Q64=\"\",\"\",'CB3'!$Q64)","v":""},null,"",{"$f":"IF('CB1'!$R64=\"\",\"\",'CB1'!$R64)","v":""},{"$f":"IF('CB2'!$R64=\"\",\"\",'CB2'!$R64)","v":""},{"$f":"IF('CB3'!$R64=\"\",\"\",'CB3'!$R64)","v":""},null,"",{"$f":"IF('CB1'!$S64=\"\",\"\",'CB1'!$S64)","v":""},{"$f":"IF('CB2'!$S64=\"\",\"\",'CB2'!$S64)","v":""},{"$f":"IF('CB3'!$S64=\"\",\"\",'CB3'!$S64)","v":""},null,"",{"$f":"IF('CB1'!$T64=\"\",\"\",'CB1'!$T64)","v":""},{"$f":"IF('CB2'!$T64=\"\",\"\",'CB2'!$T64)","v":""},{"$f":"IF('CB3'!$T64=\"\",\"\",'CB3'!$T64)","v":""},null,"",{"$f":"IF('CB1'!$U64=\"\",\"\",'CB1'!$U64)","v":""},{"$f":"IF('CB2'!$U64=\"\",\"\",'CB2'!$U64)","v":""},{"$f":"IF('CB3'!$U64=\"\",\"\",'CB3'!$U64)","v":""},null,"",{"$f":"IF('CB1'!$V64=\"\",\"\",'CB1'!$V64)","v":""},{"$f":"IF('CB2'!$V64=\"\",\"\",'CB2'!$V64)","v":""},{"$f":"IF('CB3'!$V64=\"\",\"\",'CB3'!$V64)","v":""},null,"",{"$f":"IF('CB1'!$W64=\"\",\"\",'CB1'!$W64)","v":""},{"$f":"IF('CB2'!$W64=\"\",\"\",'CB2'!$W64)","v":""},{"$f":"IF('CB3'!$W64=\"\",\"\",'CB3'!$W64)","v":""},null,"",{"$f":"IF('CB1'!$X64=\"\",\"\",'CB1'!$X64)","v":""},{"$f":"IF('CB2'!$X64=\"\",\"\",'CB2'!$X64)","v":""},{"$f":"IF('CB3'!$X64=\"\",\"\",'CB3'!$X64)","v":""},null,"",{"$f":"IF('CB1'!$Y64=\"\",\"\",'CB1'!$Y64)","v":""},{"$f":"IF('CB2'!$Y64=\"\",\"\",'CB2'!$Y64)","v":""},{"$f":"IF('CB3'!$Y64=\"\",\"\",'CB3'!$Y64)","v":""},null,"",{"$f":"IF('CB1'!$Z64=\"\",\"\",'CB1'!$Z64)","v":""},{"$f":"IF('CB2'!$Z64=\"\",\"\",'CB2'!$Z64)","v":""},{"$f":"IF('CB3'!$Z64=\"\",\"\",'CB3'!$Z64)","v":""},null,"",{"$f":"IF('CB1'!$AC64=\"\",\"\",'CB1'!$AC64)","v":""},{"$f":"IF('CB2'!$AC64=\"\",\"\",'CB2'!$AC64)","v":""},{"$f":"IF('CB3'!$AC64=\"\",\"\",'CB3'!$AC64)","v":""},null,"",{"$f":"IF('CB1'!$AE64=\"\",\"\",'CB1'!$AE64)","v":""},{"$f":"IF('CB2'!$AE64=\"\",\"\",'CB2'!$AE64)","v":""},{"$f":"IF('CB3'!$AE64=\"\",\"\",'CB3'!$AE64)","v":""},null,"",{"$f":"IF('CB1'!$AF64=\"\",\"\",'CB1'!$AF64)","v":""},{"$f":"IF('CB2'!$AF64=\"\",\"\",'CB2'!$AF64)","v":""},{"$f":"IF('CB3'!$AF64=\"\",\"\",'CB3'!$AF64)","v":""},null,"",{"$f":"IF('CB1'!$AJ64=\"\",\"\",'CB1'!$AJ64)","v":""},{"$f":"IF('CB2'!$AJ64=\"\",\"\",'CB2'!$AJ64)","v":""},{"$f":"IF('CB3'!$AJ64=\"\",\"\",'CB3'!$AJ64)","v":""},null,"",{"$f":"IF('CB1'!$AK64=\"\",\"\",'CB1'!$AK64)","v":""},{"$f":"IF('CB2'!$AK64=\"\",\"\",'CB2'!$AK64)","v":""},{"$f":"IF('CB3'!$AK64=\"\",\"\",'CB3'!$AK64)","v":""},null,"","",null,"","","","","","","","","","","","","","","","",0,null,"","",{"$f":"'CB1'!$AL64","v":""},{"$f":"'CB2'!$AL64","v":0},{"$f":"'CB3'!$AL64","v":0}]
[null,null,null,null,null,{"$f":"IF(filEst!F65=\"\",\"\",filEst!F65)","v":""},{"$f":"IF(filEst!G65=\"\",\"\",filEst!G65)","v":""},{"$f":"IF(filEst!L65=\"\",\"\",filEst!L65)","v":""},null,null,{"$f":"IF(filEst!K65=\"\",\"\",filEst!K65)","v":""},null,{"$f":"IF('CB1'!$P65=\"\",\"\",'CB1'!$P65)","v":""},{"$f":"IF('CB2'!$P65=\"\",\"\",'CB2'!$P65)","v":""},{"$f":"IF('CB3'!$P65=\"\",\"\",'CB3'!$P65)","v":""},null,"",{"$f":"IF('CB1'!$Q65=\"\",\"\",'CB1'!$Q65)","v":""},{"$f":"IF('CB2'!$Q65=\"\",\"\",'CB2'!$Q65)","v":""},{"$f":"IF('CB3'!$Q65=\"\",\"\",'CB3'!$Q65)","v":""},null,"",{"$f":"IF('CB1'!$R65=\"\",\"\",'CB1'!$R65)","v":""},{"$f":"IF('CB2'!$R65=\"\",\"\",'CB2'!$R65)","v":""},{"$f":"IF('CB3'!$R65=\"\",\"\",'CB3'!$R65)","v":""},null,"",{"$f":"IF('CB1'!$S65=\"\",\"\",'CB1'!$S65)","v":""},{"$f":"IF('CB2'!$S65=\"\",\"\",'CB2'!$S65)","v":""},{"$f":"IF('CB3'!$S65=\"\",\"\",'CB3'!$S65)","v":""},null,"",{"$f":"IF('CB1'!$T65=\"\",\"\",'CB1'!$T65)","v":""},{"$f":"IF('CB2'!$T65=\"\",\"\",'CB2'!$T65)","v":""},{"$f":"IF('CB3'!$T65=\"\",\"\",'CB3'!$T65)","v":""},null,"",{"$f":"IF('CB1'!$U65=\"\",\"\",'CB1'!$U65)","v":""},{"$f":"IF('CB2'!$U65=\"\",\"\",'CB2'!$U65)","v":""},{"$f":"IF('CB3'!$U65=\"\",\"\",'CB3'!$U65)","v":""},null,"",{"$f":"IF('CB1'!$V65=\"\",\"\",'CB1'!$V65)","v":""},{"$f":"IF('CB2'!$V65=\"\",\"\",'CB2'!$V65)","v":""},{"$f":"IF('CB3'!$V65=\"\",\"\",'CB3'!$V65)","v":""},null,"",{"$f":"IF('CB1'!$W65=\"\",\"\",'CB1'!$W65)","v":""},{"$f":"IF('CB2'!$W65=\"\",\"\",'CB2'!$W65)","v":""},{"$f":"IF('CB3'!$W65=\"\",\"\",'CB3'!$W65)","v":""},null,"",{"$f":"IF('CB1'!$X65=\"\",\"\",'CB1'!$X65)","v":""},{"$f":"IF('CB2'!$X65=\"\",\"\",'CB2'!$X65)","v":""},{"$f":"IF('CB3'!$X65=\"\",\"\",'CB3'!$X65)","v":""},null,"",{"$f":"IF('CB1'!$Y65=\"\",\"\",'CB1'!$Y65)","v":""},{"$f":"IF('CB2'!$Y65=\"\",\"\",'CB2'!$Y65)","v":""},{"$f":"IF('CB3'!$Y65=\"\",\"\",'CB3'!$Y65)","v":""},null,"",{"$f":"IF('CB1'!$Z65=\"\",\"\",'CB1'!$Z65)","v":""},{"$f":"IF('CB2'!$Z65=\"\",\"\",'CB2'!$Z65)","v":""},{"$f":"IF('CB3'!$Z65=\"\",\"\",'CB3'!$Z65)","v":""},null,"",{"$f":"IF('CB1'!$AC65=\"\",\"\",'CB1'!$AC65)","v":""},{"$f":"IF('CB2'!$AC65=\"\",\"\",'CB2'!$AC65)","v":""},{"$f":"IF('CB3'!$AC65=\"\",\"\",'CB3'!$AC65)","v":""},null,"",{"$f":"IF('CB1'!$AE65=\"\",\"\",'CB1'!$AE65)","v":""},{"$f":"IF('CB2'!$AE65=\"\",\"\",'CB2'!$AE65)","v":""},{"$f":"IF('CB3'!$AE65=\"\",\"\",'CB3'!$AE65)","v":""},null,"",{"$f":"IF('CB1'!$AF65=\"\",\"\",'CB1'!$AF65)","v":""},{"$f":"IF('CB2'!$AF65=\"\",\"\",'CB2'!$AF65)","v":""},{"$f":"IF('CB3'!$AF65=\"\",\"\",'CB3'!$AF65)","v":""},null,"",{"$f":"IF('CB1'!$AJ65=\"\",\"\",'CB1'!$AJ65)","v":""},{"$f":"IF('CB2'!$AJ65=\"\",\"\",'CB2'!$AJ65)","v":""},{"$f":"IF('CB3'!$AJ65=\"\",\"\",'CB3'!$AJ65)","v":""},null,"",{"$f":"IF('CB1'!$AK65=\"\",\"\",'CB1'!$AK65)","v":""},{"$f":"IF('CB2'!$AK65=\"\",\"\",'CB2'!$AK65)","v":""},{"$f":"IF('CB3'!$AK65=\"\",\"\",'CB3'!$AK65)","v":""},null,"","",null,"","","","","","","","","","","","","","","","",0,null,"","",{"$f":"'CB1'!$AL65","v":""},{"$f":"'CB2'!$AL65","v":0},{"$f":"'CB3'!$AL65","v":0}]
[null,null,null,null,null,{"$f":"IF(filEst!F66=\"\",\"\",filEst!F66)","v":""},{"$f":"IF(filEst!G66=\"\",\"\",filEst!G66)","v":""},{"$f":"IF(filEst!L66=\"\",\"\",filEst!L66)","v":""},null,null,{"$f":"IF(filEst!K66=\"\",\"\",filEst!K66)","v":""},null,{"$f":"IF('CB1'!$P66=\"\",\"\",'CB1'!$P66)","v":""},{"$f":"IF('CB2'!$P66=\"\",\"\",'CB2'!$P66)","v":""},{"$f":"IF('CB3'!$P66=\"\",\"\",'CB3'!$P66)","v":""},null,"",{"$f":"IF('CB1'!$Q66=\"\",\"\",'CB1'!$Q66)","v":""},{"$f":"IF('CB2'!$Q66=\"\",\"\",'CB2'!$Q66)","v":""},{"$f":"IF('CB3'!$Q66=\"\",\"\",'CB3'!$Q66)","v":""},null,"",{"$f":"IF('CB1'!$R66=\"\",\"\",'CB1'!$R66)","v":""},{"$f":"IF('CB2'!$R66=\"\",\"\",'CB2'!$R66)","v":""},{"$f":"IF('CB3'!$R66=\"\",\"\",'CB3'!$R66)","v":""},null,"",{"$f":"IF('CB1'!$S66=\"\",\"\",'CB1'!$S66)","v":""},{"$f":"IF('CB2'!$S66=\"\",\"\",'CB2'!$S66)","v":""},{"$f":"IF('CB3'!$S66=\"\",\"\",'CB3'!$S66)","v":""},null,"",{"$f":"IF('CB1'!$T66=\"\",\"\",'CB1'!$T66)","v":""},{"$f":"IF('CB2'!$T66=\"\",\"\",'CB2'!$T66)","v":""},{"$f":"IF('CB3'!$T66=\"\",\"\",'CB3'!$T66)","v":""},null,"",{"$f":"IF('CB1'!$U66=\"\",\"\",'CB1'!$U66)","v":""},{"$f":"IF('CB2'!$U66=\"\",\"\",'CB2'!$U66)","v":""},{"$f":"IF('CB3'!$U66=\"\",\"\",'CB3'!$U66)","v":""},null,"",{"$f":"IF('CB1'!$V66=\"\",\"\",'CB1'!$V66)","v":""},{"$f":"IF('CB2'!$V66=\"\",\"\",'CB2'!$V66)","v":""},{"$f":"IF('CB3'!$V66=\"\",\"\",'CB3'!$V66)","v":""},null,"",{"$f":"IF('CB1'!$W66=\"\",\"\",'CB1'!$W66)","v":""},{"$f":"IF('CB2'!$W66=\"\",\"\",'CB2'!$W66)","v":""},{"$f":"IF('CB3'!$W66=\"\",\"\",'CB3'!$W66)","v":""},null,"",{"$f":"IF('CB1'!$X66=\"\",\"\",'CB1'!$X66)","v":""},{"$f":"IF('CB2'!$X66=\"\",\"\",'CB2'!$X66)","v":""},{"$f":"IF('CB3'!$X66=\"\",\"\",'CB3'!$X66)","v":""},null,"",{"$f":"IF('CB1'!$Y66=\"\",\"\",'CB1'!$Y66)","v":""},{"$f":"IF('CB2'!$Y66=\"\",\"\",'CB2'!$Y66)","v":""},{"$f":"IF('CB3'!$Y66=\"\",\"\",'CB3'!$Y66)","v":""},null,"",{"$f":"IF('CB1'!$Z66=\"\",\"\",'CB1'!$Z66)","v":""},{"$f":"IF('CB2'!$Z66=\"\",\"\",'CB2'!$Z66)","v":""},{"$f":"IF('CB3'!$Z66=\"\",\"\",'CB3'!$Z66)","v":""},null,"",{"$f":"IF('CB1'!$AC66=\"\",\"\",'CB1'!$AC66)","v":""},{"$f":"IF('CB2'!$AC66=\"\",\"\",'CB2'!$AC66)","v":""},{"$f":"IF('CB3'!$AC66=\"\",\"\",'CB3'!$AC66)","v":""},null,"",{"$f":"IF('CB1'!$AE66=\"\",\"\",'CB1'!$AE66)","v":""},{"$f":"IF('CB2'!$AE66=\"\",\"\",'CB2'!$AE66)","v":""},{"$f":"IF('CB3'!$AE66=\"\",\"\",'CB3'!$AE66)","v":""},null,"",{"$f":"IF('CB1'!$AF66=\"\",\"\",'CB1'!$AF66)","v":""},{"$f":"IF('CB2'!$AF66=\"\",\"\",'CB2'!$AF66)","v":""},{"$f":"IF('CB3'!$AF66=\"\",\"\",'CB3'!$AF66)","v":""},null,"",{"$f":"IF('CB1'!$AJ66=\"\",\"\",'CB1'!$AJ66)","v":""},{"$f":"IF('CB2'!$AJ66=\"\",\"\",'CB2'!$AJ66)","v":""},{"$f":"IF('CB3'!$AJ66=\"\",\"\",'CB3'!$AJ66)","v":""},null,"",{"$f":"IF('CB1'!$AK66=\"\",\"\",'CB1'!$AK66)","v":""},{"$f":"IF('CB2'!$AK66=\"\",\"\",'CB2'!$AK66)","v":""},{"$f":"IF('CB3'!$AK66=\"\",\"\",'CB3'!$AK66)","v":""},null,"","",null,"","","","","","","","","","","","","","","","",0,null,"","",{"$f":"'CB1'!$AL66","v":""},{"$f":"'CB2'!$AL66","v":0},{"$f":"'CB3'!$AL66","v":0}]
[null,null,null,null,null,{"$f":"IF(filEst!F67=\"\",\"\",filEst!F67)","v":""},{"$f":"IF(filEst!G67=\"\",\"\",filEst!G67)","v":""},{"$f":"IF(filEst!L67=\"\",\"\",filEst!L67)","v":""},null,null,{"$f":"IF(filEst!K67=\"\",\"\",filEst!K67)","v":""},null,{"$f":"IF('CB1'!$P67=\"\",\"\",'CB1'!$P67)","v":""},{"$f":"IF('CB2'!$P67=\"\",\"\",'CB2'!$P67)","v":""},{"$f":"IF('CB3'!$P67=\"\",\"\",'CB3'!$P67)","v":""},null,"",{"$f":"IF('CB1'!$Q67=\"\",\"\",'CB1'!$Q67)","v":""},{"$f":"IF('CB2'!$Q67=\"\",\"\",'CB2'!$Q67)","v":""},{"$f":"IF('CB3'!$Q67=\"\",\"\",'CB3'!$Q67)","v":""},null,"",{"$f":"IF('CB1'!$R67=\"\",\"\",'CB1'!$R67)","v":""},{"$f":"IF('CB2'!$R67=\"\",\"\",'CB2'!$R67)","v":""},{"$f":"IF('CB3'!$R67=\"\",\"\",'CB3'!$R67)","v":""},null,"",{"$f":"IF('CB1'!$S67=\"\",\"\",'CB1'!$S67)","v":""},{"$f":"IF('CB2'!$S67=\"\",\"\",'CB2'!$S67)","v":""},{"$f":"IF('CB3'!$S67=\"\",\"\",'CB3'!$S67)","v":""},null,"",{"$f":"IF('CB1'!$T67=\"\",\"\",'CB1'!$T67)","v":""},{"$f":"IF('CB2'!$T67=\"\",\"\",'CB2'!$T67)","v":""},{"$f":"IF('CB3'!$T67=\"\",\"\",'CB3'!$T67)","v":""},null,"",{"$f":"IF('CB1'!$U67=\"\",\"\",'CB1'!$U67)","v":""},{"$f":"IF('CB2'!$U67=\"\",\"\",'CB2'!$U67)","v":""},{"$f":"IF('CB3'!$U67=\"\",\"\",'CB3'!$U67)","v":""},null,"",{"$f":"IF('CB1'!$V67=\"\",\"\",'CB1'!$V67)","v":""},{"$f":"IF('CB2'!$V67=\"\",\"\",'CB2'!$V67)","v":""},{"$f":"IF('CB3'!$V67=\"\",\"\",'CB3'!$V67)","v":""},null,"",{"$f":"IF('CB1'!$W67=\"\",\"\",'CB1'!$W67)","v":""},{"$f":"IF('CB2'!$W67=\"\",\"\",'CB2'!$W67)","v":""},{"$f":"IF('CB3'!$W67=\"\",\"\",'CB3'!$W67)","v":""},null,"",{"$f":"IF('CB1'!$X67=\"\",\"\",'CB1'!$X67)","v":""},{"$f":"IF('CB2'!$X67=\"\",\"\",'CB2'!$X67)","v":""},{"$f":"IF('CB3'!$X67=\"\",\"\",'CB3'!$X67)","v":""},null,"",{"$f":"IF('CB1'!$Y67=\"\",\"\",'CB1'!$Y67)","v":""},{"$f":"IF('CB2'!$Y67=\"\",\"\",'CB2'!$Y67)","v":""},{"$f":"IF('CB3'!$Y67=\"\",\"\",'CB3'!$Y67)","v":""},null,"",{"$f":"IF('CB1'!$Z67=\"\",\"\",'CB1'!$Z67)","v":""},{"$f":"IF('CB2'!$Z67=\"\",\"\",'CB2'!$Z67)","v":""},{"$f":"IF('CB3'!$Z67=\"\",\"\",'CB3'!$Z67)","v":""},null,"",{"$f":"IF('CB1'!$AC67=\"\",\"\",'CB1'!$AC67)","v":""},{"$f":"IF('CB2'!$AC67=\"\",\"\",'CB2'!$AC67)","v":""},{"$f":"IF('CB3'!$AC67=\"\",\"\",'CB3'!$AC67)","v":""},null,"",{"$f":"IF('CB1'!$AE67=\"\",\"\",'CB1'!$AE67)","v":""},{"$f":"IF('CB2'!$AE67=\"\",\"\",'CB2'!$AE67)","v":""},{"$f":"IF('CB3'!$AE67=\"\",\"\",'CB3'!$AE67)","v":""},null,"",{"$f":"IF('CB1'!$AF67=\"\",\"\",'CB1'!$AF67)","v":""},{"$f":"IF('CB2'!$AF67=\"\",\"\",'CB2'!$AF67)","v":""},{"$f":"IF('CB3'!$AF67=\"\",\"\",'CB3'!$AF67)","v":""},null,"",{"$f":"IF('CB1'!$AJ67=\"\",\"\",'CB1'!$AJ67)","v":""},{"$f":"IF('CB2'!$AJ67=\"\",\"\",'CB2'!$AJ67)","v":""},{"$f":"IF('CB3'!$AJ67=\"\",\"\",'CB3'!$AJ67)","v":""},null,"",{"$f":"IF('CB1'!$AK67=\"\",\"\",'CB1'!$AK67)","v":""},{"$f":"IF('CB2'!$AK67=\"\",\"\",'CB2'!$AK67)","v":""},{"$f":"IF('CB3'!$AK67=\"\",\"\",'CB3'!$AK67)","v":""},null,"","",null,"","","","","","","","","","","","","","","","",0,null,"","",{"$f":"'CB1'!$AL67","v":""},{"$f":"'CB2'!$AL67","v":0},{"$f":"'CB3'!$AL67","v":0}]
[null,null,null,null,null,{"$f":"IF(filEst!F68=\"\",\"\",filEst!F68)","v":""},{"$f":"IF(filEst!G68=\"\",\"\",filEst!G68)","v":""},{"$f":"IF(filEst!L68=\"\",\"\",filEst!L68)","v":""},null,null,{"$f":"IF(filEst!K68=\"\",\"\",filEst!K68)","v":""},null,{"$f":"IF('CB1'!$P68=\"\",\"\",'CB1'!$P68)","v":""},{"$f":"IF('CB2'!$P68=\"\",\"\",'CB2'!$P68)","v":""},{"$f":"IF('CB3'!$P68=\"\",\"\",'CB3'!$P68)","v":""},null,"",{"$f":"IF('CB1'!$Q68=\"\",\"\",'CB1'!$Q68)","v":""},{"$f":"IF('CB2'!$Q68=\"\",\"\",'CB2'!$Q68)","v":""},{"$f":"IF('CB3'!$Q68=\"\",\"\",'CB3'!$Q68)","v":""},null,"",{"$f":"IF('CB1'!$R68=\"\",\"\",'CB1'!$R68)","v":""},{"$f":"IF('CB2'!$R68=\"\",\"\",'CB2'!$R68)","v":""},{"$f":"IF('CB3'!$R68=\"\",\"\",'CB3'!$R68)","v":""},null,"",{"$f":"IF('CB1'!$S68=\"\",\"\",'CB1'!$S68)","v":""},{"$f":"IF('CB2'!$S68=\"\",\"\",'CB2'!$S68)","v":""},{"$f":"IF('CB3'!$S68=\"\",\"\",'CB3'!$S68)","v":""},null,"",{"$f":"IF('CB1'!$T68=\"\",\"\",'CB1'!$T68)","v":""},{"$f":"IF('CB2'!$T68=\"\",\"\",'CB2'!$T68)","v":""},{"$f":"IF('CB3'!$T68=\"\",\"\",'CB3'!$T68)","v":""},null,"",{"$f":"IF('CB1'!$U68=\"\",\"\",'CB1'!$U68)","v":""},{"$f":"IF('CB2'!$U68=\"\",\"\",'CB2'!$U68)","v":""},{"$f":"IF('CB3'!$U68=\"\",\"\",'CB3'!$U68)","v":""},null,"",{"$f":"IF('CB1'!$V68=\"\",\"\",'CB1'!$V68)","v":""},{"$f":"IF('CB2'!$V68=\"\",\"\",'CB2'!$V68)","v":""},{"$f":"IF('CB3'!$V68=\"\",\"\",'CB3'!$V68)","v":""},null,"",{"$f":"IF('CB1'!$W68=\"\",\"\",'CB1'!$W68)","v":""},{"$f":"IF('CB2'!$W68=\"\",\"\",'CB2'!$W68)","v":""},{"$f":"IF('CB3'!$W68=\"\",\"\",'CB3'!$W68)","v":""},null,"",{"$f":"IF('CB1'!$X68=\"\",\"\",'CB1'!$X68)","v":""},{"$f":"IF('CB2'!$X68=\"\",\"\",'CB2'!$X68)","v":""},{"$f":"IF('CB3'!$X68=\"\",\"\",'CB3'!$X68)","v":""},null,"",{"$f":"IF('CB1'!$Y68=\"\",\"\",'CB1'!$Y68)","v":""},{"$f":"IF('CB2'!$Y68=\"\",\"\",'CB2'!$Y68)","v":""},{"$f":"IF('CB3'!$Y68=\"\",\"\",'CB3'!$Y68)","v":""},null,"",{"$f":"IF('CB1'!$Z68=\"\",\"\",'CB1'!$Z68)","v":""},{"$f":"IF('CB2'!$Z68=\"\",\"\",'CB2'!$Z68)","v":""},{"$f":"IF('CB3'!$Z68=\"\",\"\",'CB3'!$Z68)","v":""},null,"",{"$f":"IF('CB1'!$AC68=\"\",\"\",'CB1'!$AC68)","v":""},{"$f":"IF('CB2'!$AC68=\"\",\"\",'CB2'!$AC68)","v":""},{"$f":"IF('CB3'!$AC68=\"\",\"\",'CB3'!$AC68)","v":""},null,"",{"$f":"IF('CB1'!$AE68=\"\",\"\",'CB1'!$AE68)","v":""},{"$f":"IF('CB2'!$AE68=\"\",\"\",'CB2'!$AE68)","v":""},{"$f":"IF('CB3'!$AE68=\"\",\"\",'CB3'!$AE68)","v":""},null,"",{"$f":"IF('CB1'!$AF68=\"\",\"\",'CB1'!$AF68)","v":""},{"$f":"IF('CB2'!$AF68=\"\",\"\",'CB2'!$AF68)","v":""},{"$f":"IF('CB3'!$AF68=\"\",\"\",'CB3'!$AF68)","v":""},null,"",{"$f":"IF('CB1'!$AJ68=\"\",\"\",'CB1'!$AJ68)","v":""},{"$f":"IF('CB2'!$AJ68=\"\",\"\",'CB2'!$AJ68)","v":""},{"$f":"IF('CB3'!$AJ68=\"\",\"\",'CB3'!$AJ68)","v":""},null,"",{"$f":"IF('CB1'!$AK68=\"\",\"\",'CB1'!$AK68)","v":""},{"$f":"IF('CB2'!$AK68=\"\",\"\",'CB2'!$AK68)","v":""},{"$f":"IF('CB3'!$AK68=\"\",\"\",'CB3'!$AK68)","v":""},null,"","",null,"","","","","","","","","","","","","","","","",0,null,"","",{"$f":"'CB1'!$AL68","v":""},{"$f":"'CB2'!$AL68","v":0},{"$f":"'CB3'!$AL68","v":0}]
[null,null,null,null,null,{"$f":"IF(filEst!F69=\"\",\"\",filEst!F69)","v":""},{"$f":"IF(filEst!G69=\"\",\"\",filEst!G69)","v":""},{"$f":"IF(filEst!L69=\"\",\"\",filEst!L69)","v":""},null,null,{"$f":"IF(filEst!K69=\"\",\"\",filEst!K69)","v":""},null,{"$f":"IF('CB1'!$P69=\"\",\"\",'CB1'!$P69)","v":""},{"$f":"IF('CB2'!$P69=\"\",\"\",'CB2'!$P69)","v":""},{"$f":"IF('CB3'!$P69=\"\",\"\",'CB3'!$P69)","v":""},null,"",{"$f":"IF('CB1'!$Q69=\"\",\"\",'CB1'!$Q69)","v":""},{"$f":"IF('CB2'!$Q69=\"\",\"\",'CB2'!$Q69)","v":""},{"$f":"IF('CB3'!$Q69=\"\",\"\",'CB3'!$Q69)","v":""},null,"",{"$f":"IF('CB1'!$R69=\"\",\"\",'CB1'!$R69)","v":""},{"$f":"IF('CB2'!$R69=\"\",\"\",'CB2'!$R69)","v":""},{"$f":"IF('CB3'!$R69=\"\",\"\",'CB3'!$R69)","v":""},null,"",{"$f":"IF('CB1'!$S69=\"\",\"\",'CB1'!$S69)","v":""},{"$f":"IF('CB2'!$S69=\"\",\"\",'CB2'!$S69)","v":""},{"$f":"IF('CB3'!$S69=\"\",\"\",'CB3'!$S69)","v":""},null,"",{"$f":"IF('CB1'!$T69=\"\",\"\",'CB1'!$T69)","v":""},{"$f":"IF('CB2'!$T69=\"\",\"\",'CB2'!$T69)","v":""},{"$f":"IF('CB3'!$T69=\"\",\"\",'CB3'!$T69)","v":""},null,"",{"$f":"IF('CB1'!$U69=\"\",\"\",'CB1'!$U69)","v":""},{"$f":"IF('CB2'!$U69=\"\",\"\",'CB2'!$U69)","v":""},{"$f":"IF('CB3'!$U69=\"\",\"\",'CB3'!$U69)","v":""},null,"",{"$f":"IF('CB1'!$V69=\"\",\"\",'CB1'!$V69)","v":""},{"$f":"IF('CB2'!$V69=\"\",\"\",'CB2'!$V69)","v":""},{"$f":"IF('CB3'!$V69=\"\",\"\",'CB3'!$V69)","v":""},null,"",{"$f":"IF('CB1'!$W69=\"\",\"\",'CB1'!$W69)","v":""},{"$f":"IF('CB2'!$W69=\"\",\"\",'CB2'!$W69)","v":""},{"$f":"IF('CB3'!$W69=\"\",\"\",'CB3'!$W69)","v":""},null,"",{"$f":"IF('CB1'!$X69=\"\",\"\",'CB1'!$X69)","v":""},{"$f":"IF('CB2'!$X69=\"\",\"\",'CB2'!$X69)","v":""},{"$f":"IF('CB3'!$X69=\"\",\"\",'CB3'!$X69)","v":""},null,"",{"$f":"IF('CB1'!$Y69=\"\",\"\",'CB1'!$Y69)","v":""},{"$f":"IF('CB2'!$Y69=\"\",\"\",'CB2'!$Y69)","v":""},{"$f":"IF('CB3'!$Y69=\"\",\"\",'CB3'!$Y69)","v":""},null,"",{"$f":"IF('CB1'!$Z69=\"\",\"\",'CB1'!$Z69)","v":""},{"$f":"IF('CB2'!$Z69=\"\",\"\",'CB2'!$Z69)","v":""},{"$f":"IF('CB3'!$Z69=\"\",\"\",'CB3'!$Z69)","v":""},null,"",{"$f":"IF('CB1'!$AC69=\"\",\"\",'CB1'!$AC69)","v":""},{"$f":"IF('CB2'!$AC69=\"\",\"\",'CB2'!$AC69)","v":""},{"$f":"IF('CB3'!$AC69=\"\",\"\",'CB3'!$AC69)","v":""},null,"",{"$f":"IF('CB1'!$AE69=\"\",\"\",'CB1'!$AE69)","v":""},{"$f":"IF('CB2'!$AE69=\"\",\"\",'CB2'!$AE69)","v":""},{"$f":"IF('CB3'!$AE69=\"\",\"\",'CB3'!$AE69)","v":""},null,"",{"$f":"IF('CB1'!$AF69=\"\",\"\",'CB1'!$AF69)","v":""},{"$f":"IF('CB2'!$AF69=\"\",\"\",'CB2'!$AF69)","v":""},{"$f":"IF('CB3'!$AF69=\"\",\"\",'CB3'!$AF69)","v":""},null,"",{"$f":"IF('CB1'!$AJ69=\"\",\"\",'CB1'!$AJ69)","v":""},{"$f":"IF('CB2'!$AJ69=\"\",\"\",'CB2'!$AJ69)","v":""},{"$f":"IF('CB3'!$AJ69=\"\",\"\",'CB3'!$AJ69)","v":""},null,"",{"$f":"IF('CB1'!$AK69=\"\",\"\",'CB1'!$AK69)","v":""},{"$f":"IF('CB2'!$AK69=\"\",\"\",'CB2'!$AK69)","v":""},{"$f":"IF('CB3'!$AK69=\"\",\"\",'CB3'!$AK69)","v":""},null,"","",null,"","","","","","","","","","","","","","","","",0,null,"","",{"$f":"'CB1'!$AL69","v":""},{"$f":"'CB2'!$AL69","v":0},{"$f":"'CB3'!$AL69","v":0}]
[null,null,null,null,null,{"$f":"IF(filEst!F70=\"\",\"\",filEst!F70)","v":""},{"$f":"IF(filEst!G70=\"\",\"\",filEst!G70)","v":""},{"$f":"IF(filEst!L70=\"\",\"\",filEst!L70)","v":""},null,null,{"$f":"IF(filEst!K70=\"\",\"\",filEst!K70)","v":""},null,{"$f":"IF('CB1'!$P70=\"\",\"\",'CB1'!$P70)","v":""},{"$f":"IF('CB2'!$P70=\"\",\"\",'CB2'!$P70)","v":""},{"$f":"IF('CB3'!$P70=\"\",\"\",'CB3'!$P70)","v":""},null,"",{"$f":"IF('CB1'!$Q70=\"\",\"\",'CB1'!$Q70)","v":""},{"$f":"IF('CB2'!$Q70=\"\",\"\",'CB2'!$Q70)","v":""},{"$f":"IF('CB3'!$Q70=\"\",\"\",'CB3'!$Q70)","v":""},null,"",{"$f":"IF('CB1'!$R70=\"\",\"\",'CB1'!$R70)","v":""},{"$f":"IF('CB2'!$R70=\"\",\"\",'CB2'!$R70)","v":""},{"$f":"IF('CB3'!$R70=\"\",\"\",'CB3'!$R70)","v":""},null,"",{"$f":"IF('CB1'!$S70=\"\",\"\",'CB1'!$S70)","v":""},{"$f":"IF('CB2'!$S70=\"\",\"\",'CB2'!$S70)","v":""},{"$f":"IF('CB3'!$S70=\"\",\"\",'CB3'!$S70)","v":""},null,"",{"$f":"IF('CB1'!$T70=\"\",\"\",'CB1'!$T70)","v":""},{"$f":"IF('CB2'!$T70=\"\",\"\",'CB2'!$T70)","v":""},{"$f":"IF('CB3'!$T70=\"\",\"\",'CB3'!$T70)","v":""},null,"",{"$f":"IF('CB1'!$U70=\"\",\"\",'CB1'!$U70)","v":""},{"$f":"IF('CB2'!$U70=\"\",\"\",'CB2'!$U70)","v":""},{"$f":"IF('CB3'!$U70=\"\",\"\",'CB3'!$U70)","v":""},null,"",{"$f":"IF('CB1'!$V70=\"\",\"\",'CB1'!$V70)","v":""},{"$f":"IF('CB2'!$V70=\"\",\"\",'CB2'!$V70)","v":""},{"$f":"IF('CB3'!$V70=\"\",\"\",'CB3'!$V70)","v":""},null,"",{"$f":"IF('CB1'!$W70=\"\",\"\",'CB1'!$W70)","v":""},{"$f":"IF('CB2'!$W70=\"\",\"\",'CB2'!$W70)","v":""},{"$f":"IF('CB3'!$W70=\"\",\"\",'CB3'!$W70)","v":""},null,"",{"$f":"IF('CB1'!$X70=\"\",\"\",'CB1'!$X70)","v":""},{"$f":"IF('CB2'!$X70=\"\",\"\",'CB2'!$X70)","v":""},{"$f":"IF('CB3'!$X70=\"\",\"\",'CB3'!$X70)","v":""},null,"",{"$f":"IF('CB1'!$Y70=\"\",\"\",'CB1'!$Y70)","v":""},{"$f":"IF('CB2'!$Y70=\"\",\"\",'CB2'!$Y70)","v":""},{"$f":"IF('CB3'!$Y70=\"\",\"\",'CB3'!$Y70)","v":""},null,"",{"$f":"IF('CB1'!$Z70=\"\",\"\",'CB1'!$Z70)","v":""},{"$f":"IF('CB2'!$Z70=\"\",\"\",'CB2'!$Z70)","v":""},{"$f":"IF('CB3'!$Z70=\"\",\"\",'CB3'!$Z70)","v":""},null,"",{"$f":"IF('CB1'!$AC70=\"\",\"\",'CB1'!$AC70)","v":""},{"$f":"IF('CB2'!$AC70=\"\",\"\",'CB2'!$AC70)","v":""},{"$f":"IF('CB3'!$AC70=\"\",\"\",'CB3'!$AC70)","v":""},null,"",{"$f":"IF('CB1'!$AE70=\"\",\"\",'CB1'!$AE70)","v":""},{"$f":"IF('CB2'!$AE70=\"\",\"\",'CB2'!$AE70)","v":""},{"$f":"IF('CB3'!$AE70=\"\",\"\",'CB3'!$AE70)","v":""},null,"",{"$f":"IF('CB1'!$AF70=\"\",\"\",'CB1'!$AF70)","v":""},{"$f":"IF('CB2'!$AF70=\"\",\"\",'CB2'!$AF70)","v":""},{"$f":"IF('CB3'!$AF70=\"\",\"\",'CB3'!$AF70)","v":""},null,"",{"$f":"IF('CB1'!$AJ70=\"\",\"\",'CB1'!$AJ70)","v":""},{"$f":"IF('CB2'!$AJ70=\"\",\"\",'CB2'!$AJ70)","v":""},{"$f":"IF('CB3'!$AJ70=\"\",\"\",'CB3'!$AJ70)","v":""},null,"",{"$f":"IF('CB1'!$AK70=\"\",\"\",'CB1'!$AK70)","v":""},{"$f":"IF('CB2'!$AK70=\"\",\"\",'CB2'!$AK70)","v":""},{"$f":"IF('CB3'!$AK70=\"\",\"\",'CB3'!$AK70)","v":""},null,"","",null,"","","","","","","","","","","","","","","","",0,null,"","",{"$f":"'CB1'!$AL70","v":""},{"$f":"'CB2'!$AL70","v":0},{"$f":"'CB3'!$AL70","v":0}]
[]
[null,null,null,null,null,"Ξ",null,null,null,null,"Cerrar"]
[]
[]
[]
[]
[]
[]
[]
[]
[null,null,null,null,null,null,"select_load",{"$f":"main!$AE$10","v":50}]
[null,null,null,null,null,null,"actual_save"]

{"sheet":"CAT","index":23,"n_rows":121,"n_cols":66,"rows_kept":121,"cut":false,"hidden":false,"merged":[[28,10,28,11],[1,6,1,28],[20,10,20,11],[21,10,21,11],[22,10,22,11],[23,10,23,11],[24,10,24,11],[25,10,25,11],[26,10,26,11],[27,10,27,11],[40,10,40,11],[29,10,29,11],[30,10,30,11],[31,10,31,11],[32,10,32,11],[33,10,33,11],[34,10,34,11],[35,10,35,11],[36,10,36,11],[37,10,37,11],[38,10,38,11],[39,10,39,11],[52,10,52,11],[41,10,41,11],[42,10,42,11],[43,10,43,11],[44,10,44,11],[45,10,45,11],[46,10,46,11],[47,10,47,11],[48,10,48,11],[49,10,49,11],[50,10,50,11],[51,10,51,11],[74,10,74,11],[65,10,65,11],[66,10,66,11],[67,10,67,11],[68,10,68,11],[69,10,69,11],[70,10,70,11],[71,10,71,11],[72,10,72,11],[73,10,73,11],[64,10,64,11],[53,10,53,11],[54,10,54,11],[55,10,55,11],[56,10,56,11],[57,10,57,11],[58,10,58,11],[59,10,59,11],[60,10,60,11],[61,10,61,11],[62,10,62,11],[63,10,63,11]]}
[]
[null,null,null,null,null,null,"CENTRALIZADOR ANUAL   GESTION 2023",null,null,null,null,null,null,null,null,null,null,null,null,null,null,null,null,null,null,null,null,null,null,null,null,null,null,null,null,null,null,null,null,null,null,null,null,null,null,null,null,null,null,null,null,null,null,null,null,null,null,null,null,null,null,"Ξ","Cerrar"]
[null,null,null,null,null,null,{"$f":"datpro!$E$6","v":0},null,null,null,"UNIDAD EDUCATIVA ",{"$f":"datpro!$E$7","v":0}]
[null,null,null,null,null,null,{"$f":"datpro!$M$14","v":50},null,null,null,"NIVEL ",{"$f":"datpro!$E$10","v":""},null,null,null,null,null,null,null,null,null,null,null,null,null,null,null,null,null,null,null,null,null,null,null,null,null,null,null,null,null,null,null,null,null,null,null,null,null,null,null,null,null,null,null,null,null,null,null,null,null,8,"Tamaño de fuente (8..16)",null,null,"©  2023"]
[null,null,null,null,null,null,{"$f":"datpro!$C$12","v":"S"},null,null,null,"AÑO DE ESCOLARIDAD",{"$f":"CONCATENATE( datpro!$E$11,\"  -  \",datpro!$E$12)","v":"  -  "},null,null,null,null,null,null,null,null,null,null,null,null,null,null,null,null,null,null,null,null,null,null,null,null,null,null,null,null,null,null,null,null,null,null,null,null,null,null,null,null,null,null,null,null,null,null,null,null,null,11,"Alto de Fila (10..20)",null,null,"PROYECTO REMDIZ"]
[null,null,null,null,null,null,{"$f":"DAY(TODAY())","v":6},null,null,null,"DIRECTORA/OR",{"$f":"datpro!$E$8","v":0},null,null,null,null,null,null,null,null,null,null,null,null,null,null,null,null,null,null,null,null,null,null,null,null,null,null,null,null,null,null,null,null,null,null,null,null,null,null,null,null,null,null,null,null,null,null,null,null,null,3,"Ancho de Columna (1..5) Modos"]
[null,null,null,null,null,null,{"$f":"MONTH(TODAY())","v":3},null,null,null,"MAESTRA/O",{"$f":"datpro!$E$9","v":0}]
[null,null,null,null,null,null,4,null,null,null,null,null,null,null,null,null,null,null,null,null,null,null,null,null,null,null,null,null,null,null,null,null,null,null,null,null,null,null,null,null,null,null,null,null,null,null,null,null,null,null,null,null,null,null,null,null,null,null,null,null,null,0,"Nro. Decimales para el area (ancho)"]
[null,null,null,null,null,null,{"$f":"datpro!$E$15","v":""},null,null,null,null,null,null,null,null,null,null,null,null,null,null,null,null,null,null,null,null,null,null,null,null,null,null,null,null,null,null,null,null,null,null,null,null,null,null,null,null,null,null,null,null,null,null,null,null,null,null,null,null,null,null,0,"Nro. Decimales para el Promedio"]
[]
[]
[]
[]
[]
[null,null,null,null,null,null,"F21:AD70","AD"]
[]
[null,null,null,null,null,0,null,null,null,null,null,1]
[null,null,null,null,null,null,null,null,null,null,null,null,{"$f":"datpro!$E44","v":"COMUNICACIÓN Y LENGUAJES "},{"$f":"datpro!$E45","v":"LENGUA EXTRANJERA"},{"$f":"datpro!$E46","v":"HISTORIA"},{"$f":"datpro!$E47","v":"CIVICA"},{"$f":"datpro!$E48","v":"GEOGRAFIA"},{"$f":"datpro!$E49","v":"CIENCIAS SOCIALES"},{"$f":"datpro!$E50","v":"EDUCACION FISICA Y DEPORTES"},{"$f":"datpro!$E51","v":"EDUCACION MUSICAL"},{"$f":"datpro!$E52","v":"ARTES PLASTICAS Y VISUALES"},{"$f":"datpro!$E53","v":"MATEMATICAS"},{"$f":"datpro!$E54","v":"TECNICA TECNOLOGIA"},{"$f":"datpro!$E57","v":"CIENCIAS NATURALES"},{"$f":"datpro!$E59","v":"FISICA"},{"$f":"datpro!$E60","v":"QUIMICA"},{"$f":"datpro!$E64","v":"COSMOVISIONES, FILOSOFIA O PSICOLOGIA"},{"$f":"datpro!$E65","v":"VALORES, ESPIRITUALIDAD Y RELIGIONES"},{"$f":"datpro!$E66","v":"PROMEDIO"},"REPROBADAS"]
[null,null,null,null,null,null,"COD",null,null,null,null,null,{"$f":"datpro!$D44","v":"CYL"},{"$f":"datpro!$D45","v":"LEX"},null,null,null,{"$f":"datpro!$D49","v":"CSO"},{"$f":"datpro!$D50","v":"EFD"},{"$f":"datpro!$D51","v":"EMU"},{"$f":"datpro!$D52","v":"APV"},{"$f":"datpro!$D53","v":"MAT"},{"$f":"datpro!$D54","v":"TEC"},{"$f":"datpro!$D57","v":"CNA"},{"$f":"datpro!$D59","v":"FIS"},{"$f":"datpro!$D60","v":"QMC"},{"$f":"datpro!$D64","v":"CFP"},{"$f":"datpro!$D65","v":"VER"},{"$f":"datpro!$D66","v":"PROM."},"REPROBADAS",null,null,null,null,null,null,null,null,null,null,null,null,{"$f":"datpro!$D44","v":"CYL"},{"$f":"datpro!$D45","v":"LEX"},{"$f":"datpro!$D49","v":"CSO"},{"$f":"datpro!$D50","v":"EFD"},{"$f":"datpro!$D51","v":"EMU"},{"$f":"datpro!$D52","v":"APV"},{"$f":"datpro!$D53","v":"MAT"},{"$f":"datpro!$D54","v":"TEC"},{"$f":"datpro!$D57","v":"CNA"},{"$f":"datpro!$D59","v":"FIS"},{"$f":"datpro!$D60","v":"QMC"},{"$f":"datpro!$D61","v":"CN.FQ"},{"$f":"datpro!$D64","v":"CFP"},{"$f":"datpro!$D65","v":"VER"},{"$f":"datpro!$D66","v":"PROM."}]
[null,null,null,null,null,"Nº","CAT",null,null,null,"APELLIDOS Y NOMBRES","=","Q","V",null,null,null,"AA","AF","AK","AP","AU","AZ","BE","BJ","BO","BT","BY","BZ",null,null,null,null,null,null,null,null,null,null,null,null,null,null,null,null,null,null,null,null,null,null,null,null,null,null,null,null,null,null,null,null,null,"INFORME TUTOR"]
[null,null,null,null,null,{"$f":"IF(filEst!F21=\"\",\"\",filEst!F21)","v":""},{"$f":"IF(filEst!G21=\"\",\"\",filEst!G21)","v":""},{"$f":"IF(filEst!L21=\"\",\"\",filEst!L21)","v":""},null,null,{"$f":"IF(filEst!K21=\"\",\"\",filEst!K21)","v":""},null,{"$f":"CADT!Q21","v":""},{"$f":"CADT!V21","v":""},{"$f":"CADT!AA21","v":""},{"$f":"CADT!AF21","v":""},{"$f":"CADT!AK21","v":""},{"$f":"CADT!AP21","v":""},{"$f":"CADT!AU21","v":""},{"$f":"CADT!AZ21","v":""},{"$f":"CADT!BE21","v":""},{"$f":"CADT!BJ21","v":""},{"$f":"CADT!BO21","v":""},{"$f":"CADT!BT21","v":""},{"$f":"CADT!BY21","v":""},{"$f":"CADT!CD21","v":""},{"$f":"CADT!CI21","v":""},{"$f":"CADT!CN21","v":""},{"$f":"CADT!CO21","v":""},{"$f":"IF(M21=\"\",\"\",COUNTIF(M21:AB21,\"<50,50\"))","v":""},null,null,null,null,null,null,null,null,null,null,null,null,{"$f":"M21","v":""},{"$f":"N21","v":""},{"$f":"R21","v":""},"","","","","",{"$f":"X21","v":""},{"$f":"Y21","v":""},{"$f":"Z21","v":""},null,{"$f":"AA21","v":""},{"$f":"AB21","v":""},{"$f":"AC21","v":""}]
[null,null,null,null,null,{"$f":"IF(filEst!F22=\"\",\"\",filEst!F22)","v":""},{"$f":"IF(filEst!G22=\"\",\"\",filEst!G22)","v":""},{"$f":"IF(filEst!L22=\"\",\"\",filEst!L22)","v":""},null,null,{"$f":"IF(filEst!K22=\"\",\"\",filEst!K22)","v":""},null,{"$f":"CADT!Q22","v":""},{"$f":"CADT!V22","v":""},{"$f":"CADT!AA22","v":""},{"$f":"CADT!AF22","v":""},{"$f":"CADT!AK22","v":""},{"$f":"CADT!AP22","v":""},{"$f":"CADT!AU22","v":""},{"$f":"CADT!AZ22","v":""},{"$f":"CADT!BE22","v":""},{"$f":"CADT!BJ22","v":""},{"$f":"CADT!BO22","v":""},{"$f":"CADT!BT22","v":""},{"$f":"CADT!BY22","v":""},{"$f":"CADT!CD22","v":""},{"$f":"CADT!CI22","v":""},{"$f":"CADT!CN22","v":""},{"$f":"CADT!CO22","v":""},{"$f":"IF(M22=\"\",\"\",COUNTIF(M22:AB22,\"<50,50\"))","v":""},null,null,null,null,null,null,null,null,null,null,null,null,{"$f":"M22","v":""},{"$f":"N22","v":""},"","","","","","",{"$f":"X22","v":""},{"$f":"Y22","v":""},{"$f":"Z22","v":""},null,{"$f":"AA22","v":""},"",{"$f":"AC22","v":""}]
[null,null,null,null,null,{"$f":"IF(filEst!F23=\"\",\"\",filEst!F23)","v":""},{"$f":"IF(filEst!G23=\"\",\"\",filEst!G23)","v":""},{"$f":"IF(filEst!L23=\"\",\"\",filEst!L23)","v":""},null,null,{"$f":"IF(filEst!K23=\"\",\"\",filEst!K23)","v":""},null,{"$f":"CADT!Q23","v":""},{"$f":"CADT!V23","v":""},{"$f":"CADT!AA23","v":""},{"$f":"CADT!AF23","v":""},{"$f":"CADT!AK23","v":""},{"$f":"CADT!AP23","v":""},{"$f":"CADT!AU23","v":""},{"$f":"CADT!AZ23","v":""},{"$f":"CADT!BE23","v":""},{"$f":"CADT!BJ23","v":""},{"$f":"CADT!BO23","v":""},{"$f":"CADT!BT23","v":""},{"$f":"CADT!BY23","v":""},{"$f":"CADT!CD23","v":""},{"$f":"CADT!CI23","v":""},{"$f":"CADT!CN23","v":""},{"$f":"CADT!CO23","v":""},{"$f":"IF(M23=\"\",\"\",COUNTIF(M23:AB23,\"<50,50\"))","v":""},null,null,null,null,null,null,null,null,null,null,null,null,"","",{"$f":"R23","v":""},"","","","","","","","",null,"","",""]
[null,null,null,null,null,{"$f":"IF(filEst!F24=\"\",\"\",filEst!F24)","v":""},{"$f":"IF(filEst!G24=\"\",\"\",filEst!G24)","v":""},{"$f":"IF(filEst!L24=\"\",\"\",filEst!L24)","v":""},null,null,{"$f":"IF(filEst!K24=\"\",\"\",filEst!K24)","v":""},null,{"$f":"CADT!Q24","v":""},{"$f":"CADT!V24","v":""},{"$f":"CADT!AA24","v":""},{"$f":"CADT!AF24","v":""},{"$f":"CADT!AK24","v":""},{"$f":"CADT!AP24","v":""},{"$f":"CADT!AU24","v":""},{"$f":"CADT!AZ24","v":""},{"$f":"CADT!BE24","v":""},{"$f":"CADT!BJ24","v":""},{"$f":"CADT!BO24","v":""},{"$f":"CADT!BT24","v":""},{"$f":"CADT!BY24","v":""},{"$f":"CADT!CD24","v":""},{"$f":"CADT!CI24","v":""},{"$f":"CADT!CN24","v":""},{"$f":"CADT!CO24","v":""},{"$f":"IF(M24=\"\",\"\",COUNTIF(M24:AB24,\"<50,50\"))","v":""},null,null,null,null,null,null,null,null,null,null,null,null,"","","",{"$f":"S24","v":""},"","","","","","","",null,"","",""]
[null,null,null,null,null,{"$f":"IF(filEst!F25=\"\",\"\",filEst!F25)","v":""},{"$f":"IF(filEst!G25=\"\",\"\",filEst!G25)","v":""},{"$f":"IF(filEst!L25=\"\",\"\",filEst!L25)","v":""},null,null,{"$f":"IF(filEst!K25=\"\",\"\",filEst!K25)","v":""},null,{"$f":"CADT!Q25","v":""},{"$f":"CADT!V25","v":""},{"$f":"CADT!AA25","v":""},{"$f":"CADT!AF25","v":""},{"$f":"CADT!AK25","v":""},{"$f":"CADT!AP25","v":""},{"$f":"CADT!AU25","v":""},{"$f":"CADT!AZ25","v":""},{"$f":"CADT!BE25","v":""},{"$f":"CADT!BJ25","v":""},{"$f":"CADT!BO25","v":""},{"$f":"CADT!BT25","v":""},{"$f":"CADT!BY25","v":""},{"$f":"CADT!CD25","v":""},{"$f":"CADT!CI25","v":""},{"$f":"CADT!CN25","v":""},{"$f":"CADT!CO25","v":""},"",null,null,null,null,null,null,null,null,null,null,null,null,"","","","",{"$f":"T25","v":""},"","","","","","",null,"","",""]
[null,null,null,null,null,{"$f":"IF(filEst!F26=\"\",\"\",filEst!F26)","v":""},{"$f":"IF(filEst!G26=\"\",\"\",filEst!G26)","v":""},{"$f":"IF(filEst!L26=\"\",\"\",filEst!L26)","v":""},null,null,{"$f":"IF(filEst!K26=\"\",\"\",filEst!K26)","v":""},null,{"$f":"CADT!Q26","v":""},{"$f":"CADT!V26","v":""},{"$f":"CADT!AA26","v":""},{"$f":"CADT!AF26","v":""},{"$f":"CADT!AK26","v":""},{"$f":"CADT!AP26","v":""},{"$f":"CADT!AU26","v":""},{"$f":"CADT!AZ26","v":""},{"$f":"CADT!BE26","v":""},{"$f":"CADT!BJ26","v":""},{"$f":"CADT!BO26","v":""},{"$f":"CADT!BT26","v":""},{"$f":"CADT!BY26","v":""},{"$f":"CADT!CD26","v":""},{"$f":"CADT!CI26","v":""},{"$f":"CADT!CN26","v":""},{"$f":"CADT!CO26","v":""},"",null,null,null,null,null,null,null,null,null,null,null,null,"","","","","",{"$f":"U26","v":""},"","","","","",null,"","",""]
[null,null,null,null,null,{"$f":"IF(filEst!F27=\"\",\"\",filEst!F27)","v":""},{"$f":"IF(filEst!G27=\"\",\"\",filEst!G27)","v":""},{"$f":"IF(filEst!L27=\"\",\"\",filEst!L27)","v":""},null,null,{"$f":"IF(filEst!K27=\"\",\"\",filEst!K27)","v":""},null,{"$f":"CADT!Q27","v":""},{"$f":"CADT!V27","v":""},{"$f":"CADT!AA27","v":""},{"$f":"CADT!AF27","v":""},{"$f":"CADT!AK27","v":""},{"$f":"CADT!AP27","v":""},{"$f":"CADT!AU27","v":""},{"$f":"CADT!AZ27","v":""},{"$f":"CADT!BE27","v":""},{"$f":"CADT!BJ27","v":""},{"$f":"CADT!BO27","v":""},{"$f":"CADT!BT27","v":""},{"$f":"CADT!BY27","v":""},{"$f":"CADT!CD27","v":""},{"$f":"CADT!CI27","v":""},{"$f":"CADT!CN27","v":""},{"$f":"CADT!CO27","v":""},"",null,null,null,null,null,null,null,null,null,null,null,null,"","","","","","","","","","","",null,"","",""]
[null,null,null,null,null,{"$f":"IF(filEst!F28=\"\",\"\",filEst!F28)","v":""},{"$f":"IF(filEst!G28=\"\",\"\",filEst!G28)","v":""},{"$f":"IF(filEst!L28=\"\",\"\",filEst!L28)","v":""},null,null,{"$f":"IF(filEst!K28=\"\",\"\",filEst!K28)","v":""},null,{"$f":"CADT!Q28","v":""},{"$f":"CADT!V28","v":""},{"$f":"CADT!AA28","v":""},{"$f":"CADT!AF28","v":""},{"$f":"CADT!AK28","v":""},{"$f":"CADT!AP28","v":""},{"$f":"CADT!AU28","v":""},{"$f":"CADT!AZ28","v":""},{"$f":"CADT!BE28","v":""},{"$f":"CADT!BJ28","v":""},{"$f":"CADT!BO28","v":""},{"$f":"CADT!BT28","v":""},{"$f":"CADT!BY28","v":""},{"$f":"CADT!CD28","v":""},{"$f":"CADT!CI28","v":""},{"$f":"CADT!CN28","v":""},{"$f":"CADT!CO28","v":""},"",null,null,null,null,null,null,null,null,null,null,null,null,"","","","","","","","","","","",null,"","",""]
[null,null,null,null,null,{"$f":"IF(filEst!F29=\"\",\"\",filEst!F29)","v":""},{"$f":"IF(filEst!G29=\"\",\"\",filEst!G29)","v":""},{"$f":"IF(filEst!L29=\"\",\"\",filEst!L29)","v":""},null,null,{"$f":"IF(filEst!K29=\"\",\"\",filEst!K29)","v":""},null,{"$f":"CADT!Q29","v":""},{"$f":"CADT!V29","v":""},{"$f":"CADT!AA29","v":""},{"$f":"CADT!AF29","v":""},{"$f":"CADT!AK29","v":""},{"$f":"CADT!AP29","v":""},{"$f":"CADT!AU29","v":""},{"$f":"CADT!AZ29","v":""},{"$f":"CADT!BE29","v":""},{"$f":"CADT!BJ29","v":""},{"$f":"CADT!BO29","v":""},{"$f":"CADT!BT29","v":""},{"$f":"CADT!BY29","v":""},{"$f":"CADT!CD29","v":""},{"$f":"CADT!CI29","v":""},{"$f":"CADT!CN29","v":""},{"$f":"CADT!CO29","v":""},"",null,null,null,null,null,null,null,null,null,null,null,null,"","","","","","","","","","","",null,"","",""]
[null,null,null,null,null,{"$f":"IF(filEst!F30=\"\",\"\",filEst!F30)","v":""},{"$f":"IF(filEst!G30=\"\",\"\",filEst!G30)","v":""},{"$f":"IF(filEst!L30=\"\",\"\",filEst!L30)","v":""},null,null,{"$f":"IF(filEst!K30=\"\",\"\",filEst!K30)","v":""},null,{"$f":"CADT!Q30","v":""},{"$f":"CADT!V30","v":""},{"$f":"CADT!AA30","v":""},{"$f":"CADT!AF30","v":""},{"$f":"CADT!AK30","v":""},{"$f":"CADT!AP30","v":""},{"$f":"CADT!AU30","v":""},{"$f":"CADT!AZ30","v":""},{"$f":"CADT!BE30","v":""},{"$f":"CADT!BJ30","v":""},{"$f":"CADT!BO30","v":""},{"$f":"CADT!BT30","v":""},{"$f":"CADT!BY30","v":""},{"$f":"CADT!CD30","v":""},{"$f":"CADT!CI30","v":""},{"$f":"CADT!CN30","v":""},{"$f":"CADT!CO30","v":""},"",null,null,null,null,null,null,null,null,null,null,null,null,"","","","","","","",{"$f":"W30","v":""},"","","",null,"",{"$f":"AB30","v":""},""]
[null,null,null,null,null,{"$f":"IF(filEst!F31=\"\",\"\",filEst!F31)","v":""},{"$f":"IF(filEst!G31=\"\",\"\",filEst!G31)","v":""},{"$f":"IF(filEst!L31=\"\",\"\",filEst!L31)","v":""},null,null,{"$f":"IF(filEst!K31=\"\",\"\",filEst!K31)","v":""},null,{"$f":"CADT!Q31","v":""},{"$f":"CADT!V31","v":""},{"$f":"CADT!AA31","v":""},{"$f":"CADT!AF31","v":""},{"$f":"CADT!AK31","v":""},{"$f":"CADT!AP31","v":""},{"$f":"CADT!AU31","v":""},{"$f":"CADT!AZ31","v":""},{"$f":"CADT!BE31","v":""},{"$f":"CADT!BJ31","v":""},{"$f":"CADT!BO31","v":""},{"$f":"CADT!BT31","v":""},{"$f":"CADT!BY31","v":""},{"$f":"CADT!CD31","v":""},{"$f":"CADT!CI31","v":""},{"$f":"CADT!CN31","v":""},{"$f":"CADT!CO31","v":""},"",null,null,null,null,null,null,null,null,null,null,null,null,"","","","","","","","","","","",null,"","",""]
[null,null,null,null,null,{"$f":"IF(filEst!F32=\"\",\"\",filEst!F32)","v":""},{"$f":"IF(filEst!G32=\"\",\"\",filEst!G32)","v":""},{"$f":"IF(filEst!L32=\"\",\"\",filEst!L32)","v":""},null,null,{"$f":"IF(filEst!K32=\"\",\"\",filEst!K32)","v":""},null,{"$f":"CADT!Q32","v":""},{"$f":"CADT!V32","v":""},{"$f":"CADT!AA32","v":""},{"$f":"CADT!AF32","v":""},{"$f":"CADT!AK32","v":""},{"$f":"CADT!AP32","v":""},{"$f":"CADT!AU32","v":""},{"$f":"CADT!AZ32","v":""},{"$f":"CADT!BE32","v":""},{"$f":"CADT!BJ32","v":""},{"$f":"CADT!BO32","v":""},{"$f":"CADT!BT32","v":""},{"$f":"CADT!BY32","v":""},{"$f":"CADT!CD32","v":""},{"$f":"CADT!CI32","v":""},{"$f":"CADT!CN32","v":""},{"$f":"CADT!CO32","v":""},"",null,null,null,null,null,null,null,null,null,null,null,null,"","","","","","","","","","","",null,"","",""]
[null,null,null,null,null,{"$f":"IF(filEst!F33=\"\",\"\",filEst!F33)","v":""},{"$f":"IF(filEst!G33=\"\",\"\",filEst!G33)","v":""},{"$f":"IF(filEst!L33=\"\",\"\",filEst!L33)","v":""},null,null,{"$f":"IF(filEst!K33=\"\",\"\",filEst!K33)","v":""},null,{"$f":"CADT!Q33","v":""},{"$f":"CADT!V33","v":""},{"$f":"CADT!AA33","v":""},{"$f":"CADT!AF33","v":""},{"$f":"CADT!AK33","v":""},{"$f":"CADT!AP33","v":""},{"$f":"CADT!AU33","v":""},{"$f":"CADT!AZ33","v":""},{"$f":"CADT!BE33","v":""},{"$f":"CADT!BJ33","v":""},{"$f":"CADT!BO33","v":""},{"$f":"CADT!BT33","v":""},{"$f":"CADT!BY33","v":""},{"$f":"CADT!CD33","v":""},{"$f":"CADT!CI33","v":""},{"$f":"CADT!CN33","v":""},{"$f":"CADT!CO33","v":""},"",null,null,null,null,null,null,null,null,null,null,null,null,"","","","","","","","","","","",null,"","",""]
[null,null,null,null,null,{"$f":"IF(filEst!F34=\"\",\"\",filEst!F34)","v":""},{"$f":"IF(filEst!G34=\"\",\"\",filEst!G34)","v":""},{"$f":"IF(filEst!L34=\"\",\"\",filEst!L34)","v":""},null,null,{"$f":"IF(filEst!K34=\"\",\"\",filEst!K34)","v":""},null,{"$f":"CADT!Q34","v":""},{"$f":"CADT!V34","v":""},{"$f":"CADT!AA34","v":""},{"$f":"CADT!AF34","v":""},{"$f":"CADT!AK34","v":""},{"$f":"CADT!AP34","v":""},{"$f":"CADT!AU34","v":""},{"$f":"CADT!AZ34","v":""},{"$f":"CADT!BE34","v":""},{"$f":"CADT!BJ34","v":""},{"$f":"CADT!BO34","v":""},{"$f":"CADT!BT34","v":""},{"$f":"CADT!BY34","v":""},{"$f":"CADT!CD34","v":""},{"$f":"CADT!CI34","v":""},{"$f":"CADT!CN34","v":""},{"$f":"CADT!CO34","v":""},"",null,null,null,null,null,null,null,null,null,null,null,null,"","","","","","","","","","","",null,"","",""]
[null,null,null,null,null,{"$f":"IF(filEst!F35=\"\",\"\",filEst!F35)","v":""},{"$f":"IF(filEst!G35=\"\",\"\",filEst!G35)","v":""},{"$f":"IF(filEst!L35=\"\",\"\",filEst!L35)","v":""},null,null,{"$f":"IF(filEst!K35=\"\",\"\",filEst!K35)","v":""},null,{"$f":"CADT!Q35","v":""},{"$f":"CADT!V35","v":""},{"$f":"CADT!AA35","v":""},{"$f":"CADT!AF35","v":""},{"$f":"CADT!AK35","v":""},{"$f":"CADT!AP35","v":""},{"$f":"CADT!AU35","v":""},{"$f":"CADT!AZ35","v":""},{"$f":"CADT!BE35","v":""},{"$f":"CADT!BJ35","v":""},{"$f":"CADT!BO35","v":""},{"$f":"CADT!BT35","v":""},{"$f":"CADT!BY35","v":""},{"$f":"CADT!CD35","v":""},{"$f":"CADT!CI35","v":""},{"$f":"CADT!CN35","v":""},{"$f":"CADT!CO35","v":""},"",null,null,null,null,null,null,null,null,null,null,null,null,"","","","","","","","","","","",null,"","",""]
[null,null,null,null,null,{"$f":"IF(filEst!F36=\"\",\"\",filEst!F36)","v":""},{"$f":"IF(filEst!G36=\"\",\"\",filEst!G36)","v":""},{"$f":"IF(filEst!L36=\"\",\"\",filEst!L36)","v":""},null,null,{"$f":"IF(filEst!K36=\"\",\"\",filEst!K36)","v":""},null,{"$f":"CADT!Q36","v":""},{"$f":"CADT!V36","v":""},{"$f":"CADT!AA36","v":""},{"$f":"CADT!AF36","v":""},{"$f":"CADT!AK36","v":""},{"$f":"CADT!AP36","v":""},{"$f":"CADT!AU36","v":""},{"$f":"CADT!AZ36","v":""},{"$f":"CADT!BE36","v":""},{"$f":"CADT!BJ36","v":""},{"$f":"CADT!BO36","v":""},{"$f":"CADT!BT36","v":""},{"$f":"CADT!BY36","v":""},{"$f":"CADT!CD36","v":""},{"$f":"CADT!CI36","v":""},{"$f":"CADT!CN36","v":""},{"$f":"CADT!CO36","v":""},"",null,null,null,null,null,null,null,null,null,null,null,null,"","","","","","","","","","","",null,"","",""]
[null,null,null,null,null,{"$f":"IF(filEst!F37=\"\",\"\",filEst!F37)","v":""},{"$f":"IF(filEst!G37=\"\",\"\",filEst!G37)","v":""},{"$f":"IF(filEst!L37=\"\",\"\",filEst!L37)","v":""},null,null,{"$f":"IF(filEst!K37=\"\",\"\",filEst!K37)","v":""},null,{"$f":"CADT!Q37","v":""},{"$f":"CADT!V37","v":""},{"$f":"CADT!AA37","v":""},{"$f":"CADT!AF37","v":""},{"$f":"CADT!AK37","v":""},{"$f":"CADT!AP37","v":""},{"$f":"CADT!AU37","v":""},{"$f":"CADT!AZ37","v":""},{"$f":"CADT!BE37","v":""},{"$f":"CADT!BJ37","v":""},{"$f":"CADT!BO37","v":""},{"$f":"CADT!BT37","v":""},{"$f":"CADT!BY37","v":""},{"$f":"CADT!CD37","v":""},{"$f":"CADT!CI37","v":""},{"$f":"CADT!CN37","v":""},{"$f":"CADT!CO37","v":""},"",null,null,null,null,null,null,null,null,null,null,null,null,"","",{"$f":"R37","v":""},"","","","","","","","",null,"","",""]
[null,null,null,null,null,{"$f":"IF(filEst!F38=\"\",\"\",filEst!F38)","v":""},{"$f":"IF(filEst!G38=\"\",\"\",filEst!G38)","v":""},{"$f":"IF(filEst!L38=\"\",\"\",filEst!L38)","v":""},null,null,{"$f":"IF(filEst!K38=\"\",\"\",filEst!K38)","v":""},null,{"$f":"CADT!Q38","v":""},{"$f":"CADT!V38","v":""},{"$f":"CADT!AA38","v":""},{"$f":"CADT!AF38","v":""},{"$f":"CADT!AK38","v":""},{"$f":"CADT!AP38","v":""},{"$f":"CADT!AU38","v":""},{"$f":"CADT!AZ38","v":""},{"$f":"CADT!BE38","v":""},{"$f":"CADT!BJ38","v":""},{"$f":"CADT!BO38","v":""},{"$f":"CADT!BT38","v":""},{"$f":"CADT!BY38","v":""},{"$f":"CADT!CD38","v":""},{"$f":"CADT!CI38","v":""},{"$f":"CADT!CN38","v":""},{"$f":"CADT!CO38","v":""},"",null,null,null,null,null,null,null,null,null,null,null,null,"","","","","","","","","","","",null,"","",""]
[null,null,null,null,null,{"$f":"IF(filEst!F39=\"\",\"\",filEst!F39)","v":""},{"$f":"IF(filEst!G39=\"\",\"\",filEst!G39)","v":""},{"$f":"IF(filEst!L39=\"\",\"\",filEst!L39)","v":""},null,null,{"$f":"IF(filEst!K39=\"\",\"\",filEst!K39)","v":""},null,{"$f":"CADT!Q39","v":""},{"$f":"CADT!V39","v":""},{"$f":"CADT!AA39","v":""},{"$f":"CADT!AF39","v":""},{"$f":"CADT!AK39","v":""},{"$f":"CADT!AP39","v":""},{"$f":"CADT!AU39","v":""},{"$f":"CADT!AZ39","v":""},{"$f":"CADT!BE39","v":""},{"$f":"CADT!BJ39","v":""},{"$f":"CADT!BO39","v":""},{"$f":"CADT!BT39","v":""},{"$f":"CADT!BY39","v":""},{"$f":"CADT!CD39","v":""},{"$f":"CADT!CI39","v":""},{"$f":"CADT!CN39","v":""},{"$f":"CADT!CO39","v":""},"",null,null,null,null,null,null,null,null,null,null,null,null,"","","","","","","","","","","",null,"","",""]
[null,null,null,null,null,{"$f":"IF(filEst!F40=\"\",\"\",filEst!F40)","v":""},{"$f":"IF(filEst!G40=\"\",\"\",filEst!G40)","v":""},{"$f":"IF(filEst!L40=\"\",\"\",filEst!L40)","v":""},null,null,{"$f":"IF(filEst!K40=\"\",\"\",filEst!K40)","v":""},null,{"$f":"CADT!Q40","v":""},{"$f":"CADT!V40","v":""},{"$f":"CADT!AA40","v":""},{"$f":"CADT!AF40","v":""},{"$f":"CADT!AK40","v":""},{"$f":"CADT!AP40","v":""},{"$f":"CADT!AU40","v":""},{"$f":"CADT!AZ40","v":""},{"$f":"CADT!BE40","v":""},{"$f":"CADT!BJ40","v":""},{"$f":"CADT!BO40","v":""},{"$f":"CADT!BT40","v":""},{"$f":"CADT!BY40","v":""},{"$f":"CADT!CD40","v":""},{"$f":"CADT!CI40","v":""},{"$f":"CADT!CN40","v":""},{"$f":"CADT!CO40","v":""},"",null,null,null,null,null,null,null,null,null,null,null,null,"","","","","","","","","","","",null,"","",""]
[null,null,null,null,null,{"$f":"IF(filEst!F41=\"\",\"\",filEst!F41)","v":""},{"$f":"IF(filEst!G41=\"\",\"\",filEst!G41)","v":""},{"$f":"IF(filEst!L41=\"\",\"\",filEst!L41)","v":""},null,null,{"$f":"IF(filEst!K41=\"\",\"\",filEst!K41)","v":""},null,{"$f":"CADT!Q41","v":""},{"$f":"CADT!V41","v":""},{"$f":"CADT!AA41","v":""},{"$f":"CADT!AF41","v":""},{"$f":"CADT!AK41","v":""},{"$f":"CADT!AP41","v":""},{"$f":"CADT!AU41","v":""},{"$f":"CADT!AZ41","v":""},{"$f":"CADT!BE41","v":""},{"$f":"CADT!BJ41","v":""},{"$f":"CADT!BO41","v":""},{"$f":"CADT!BT41","v":""},{"$f":"CADT!BY41","v":""},{"$f":"CADT!CD41","v":""},{"$f":"CADT!CI41","v":""},{"$f":"CADT!CN41","v":""},{"$f":"CADT!CO41","v":""},"",null,null,null,null,null,null,null,null,null,null,null,null,"","","","","","","","","","","",null,"","",""]
[null,null,null,null,null,{"$f":"IF(filEst!F42=\"\",\"\",filEst!F42)","v":""},{"$f":"IF(filEst!G42=\"\",\"\",filEst!G42)","v":""},{"$f":"IF(filEst!L42=\"\",\"\",filEst!L42)","v":""},null,null,{"$f":"IF(filEst!K42=\"\",\"\",filEst!K42)","v":""},null,{"$f":"CADT!Q42","v":""},{"$f":"CADT!V42","v":""},{"$f":"CADT!AA42","v":""},{"$f":"CADT!AF42","v":""},{"$f":"CADT!AK42","v":""},{"$f":"CADT!AP42","v":""},{"$f":"CADT!AU42","v":""},{"$f":"CADT!AZ42","v":""},{"$f":"CADT!BE42","v":""},{"$f":"CADT!BJ42","v":""},{"$f":"CADT!BO42","v":""},{"$f":"CADT!BT42","v":""},{"$f":"CADT!BY42","v":""},{"$f":"CADT!CD42","v":""},{"$f":"CADT!CI42","v":""},{"$f":"CADT!CN42","v":""},{"$f":"CADT!CO42","v":""},"",null,null,null,null,null,null,null,null,null,null,null,null,"","","","","","","","","","","",null,"","",""]
[null,null,null,null,null,{"$f":"IF(filEst!F43=\"\",\"\",filEst!F43)","v":""},{"$f":"IF(filEst!G43=\"\",\"\",filEst!G43)","v":""},{"$f":"IF(filEst!L43=\"\",\"\",filEst!L43)","v":""},null,null,{"$f":"IF(filEst!K43=\"\",\"\",filEst!K43)","v":""},null,{"$f":"CADT!Q43","v":""},{"$f":"CADT!V43","v":""},{"$f":"CADT!AA43","v":""},{"$f":"CADT!AF43","v":""},{"$f":"CADT!AK43","v":""},{"$f":"CADT!AP43","v":""},{"$f":"CADT!AU43","v":""},{"$f":"CADT!AZ43","v":""},{"$f":"CADT!BE43","v":""},{"$f":"CADT!BJ43","v":""},{"$f":"CADT!BO43","v":""},{"$f":"CADT!BT43","v":""},{"$f":"CADT!BY43","v":""},{"$f":"CADT!CD43","v":""},{"$f":"CADT!CI43","v":""},{"$f":"CADT!CN43","v":""},{"$f":"CADT!CO43","v":""},"",null,null,null,null,null,null,null,null,null,null,null,null,"","","","","","","","","","","",null,"","",""]
[null,null,null,null,null,{"$f":"IF(filEst!F44=\"\",\"\",filEst!F44)","v":""},{"$f":"IF(filEst!G44=\"\",\"\",filEst!G44)","v":""},{"$f":"IF(filEst!L44=\"\",\"\",filEst!L44)","v":""},null,null,{"$f":"IF(filEst!K44=\"\",\"\",filEst!K44)","v":""},null,{"$f":"CADT!Q44","v":""},{"$f":"CADT!V44","v":""},{"$f":"CADT!AA44","v":""},{"$f":"CADT!AF44","v":""},{"$f":"CADT!AK44","v":""},{"$f":"CADT!AP44","v":""},{"$f":"CADT!AU44","v":""},{"$f":"CADT!AZ44","v":""},{"$f":"CADT!BE44","v":""},{"$f":"CADT!BJ44","v":""},{"$f":"CADT!BO44","v":""},{"$f":"CADT!BT44","v":""},{"$f":"CADT!BY44","v":""},{"$f":"CADT!CD44","v":""},{"$f":"CADT!CI44","v":""},{"$f":"CADT!CN44","v":""},{"$f":"CADT!CO44","v":""},"",null,null,null,null,null,null,null,null,null,null,null,null,"","","","","","","","","","","",null,"","",""]
[null,null,null,null,null,{"$f":"IF(filEst!F45=\"\",\"\",filEst!F45)","v":""},{"$f":"IF(filEst!G45=\"\",\"\",filEst!G45)","v":""},{"$f":"IF(filEst!L45=\"\",\"\",filEst!L45)","v":""},null,null,{"$f":"IF(filEst!K45=\"\",\"\",filEst!K45)","v":""},null,{"$f":"CADT!Q45","v":""},{"$f":"CADT!V45","v":""},{"$f":"CADT!AA45","v":""},{"$f":"CADT!AF45","v":""},{"$f":"CADT!AK45","v":""},{"$f":"CADT!AP45","v":""},{"$f":"CADT!AU45","v":""},{"$f":"CADT!AZ45","v":""},{"$f":"CADT!BE45","v":""},{"$f":"CADT!BJ45","v":""},{"$f":"CADT!BO45","v":""},{"$f":"CADT!BT45","v":""},{"$f":"CADT!BY45","v":""},{"$f":"CADT!CD45","v":""},{"$f":"CADT!CI45","v":""},{"$f":"CADT!CN45","v":""},{"$f":"CADT!CO45","v":""},"",null,null,null,null,null,null,null,null,null,null,null,null,"","","","","","","","","","","",null,"","",""]
[null,null,null,null,null,{"$f":"IF(filEst!F46=\"\",\"\",filEst!F46)","v":""},{"$f":"IF(filEst!G46=\"\",\"\",filEst!G46)","v":""},{"$f":"IF(filEst!L46=\"\",\"\",filEst!L46)","v":""},null,null,{"$f":"IF(filEst!K46=\"\",\"\",filEst!K46)","v":""},null,{"$f":"CADT!Q46","v":""},{"$f":"CADT!V46","v":""},{"$f":"CADT!AA46","v":""},{"$f":"CADT!AF46","v":""},{"$f":"CADT!AK46","v":""},{"$f":"CADT!AP46","v":""},{"$f":"CADT!AU46","v":""},{"$f":"CADT!AZ46","v":""},{"$f":"CADT!BE46","v":""},{"$f":"CADT!BJ46","v":""},{"$f":"CADT!BO46","v":""},{"$f":"CADT!BT46","v":""},{"$f":"CADT!BY46","v":""},{"$f":"CADT!CD46","v":""},{"$f":"CADT!CI46","v":""},{"$f":"CADT!CN46","v":""},{"$f":"CADT!CO46","v":""},"",null,null,null,null,null,null,null,null,null,null,null,null,"","","","","","","","","","","",null,"","",""]
[null,null,null,null,null,{"$f":"IF(filEst!F47=\"\",\"\",filEst!F47)","v":""},{"$f":"IF(filEst!G47=\"\",\"\",filEst!G47)","v":""},{"$f":"IF(filEst!L47=\"\",\"\",filEst!L47)","v":""},null,null,{"$f":"IF(filEst!K47=\"\",\"\",filEst!K47)","v":""},null,{"$f":"CADT!Q47","v":""},{"$f":"CADT!V47","v":""},{"$f":"CADT!AA47","v":""},{"$f":"CADT!AF47","v":""},{"$f":"CADT!AK47","v":""},{"$f":"CADT!AP47","v":""},{"$f":"CADT!AU47","v":""},{"$f":"CADT!AZ47","v":""},{"$f":"CADT!BE47","v":""},{"$f":"CADT!BJ47","v":""},{"$f":"CADT!BO47","v":""},{"$f":"CADT!BT47","v":""},{"$f":"CADT!BY47","v":""},{"$f":"CADT!CD47","v":""},{"$f":"CADT!CI47","v":""},{"$f":"CADT!CN47","v":""},{"$f":"CADT!CO47","v":""},"",null,null,null,null,null,null,null,null,null,null,null,null,"","","","","","","","","","","",null,"","",""]
[null,null,null,null,null,{"$f":"IF(filEst!F48=\"\",\"\",filEst!F48)","v":""},{"$f":"IF(filEst!G48=\"\",\"\",filEst!G48)","v":""},{"$f":"IF(filEst!L48=\"\",\"\",filEst!L48)","v":""},null,null,{"$f":"IF(filEst!K48=\"\",\"\",filEst!K48)","v":""},null,{"$f":"CADT!Q48","v":""},{"$f":"CADT!V48","v":""},{"$f":"CADT!AA48","v":""},{"$f":"CADT!AF48","v":""},{"$f":"CADT!AK48","v":""},{"$f":"CADT!AP48","v":""},{"$f":"CADT!AU48","v":""},{"$f":"CADT!AZ48","v":""},{"$f":"CADT!BE48","v":""},{"$f":"CADT!BJ48","v":""},{"$f":"CADT!BO48","v":""},{"$f":"CADT!BT48","v":""},{"$f":"CADT!BY48","v":""},{"$f":"CADT!CD48","v":""},{"$f":"CADT!CI48","v":""},{"$f":"CADT!CN48","v":""},{"$f":"CADT!CO48","v":""},"",null,null,null,null,null,null,null,null,null,null,null,null,"","","","","","","","","","","",null,"","",""]
[null,null,null,null,null,{"$f":"IF(filEst!F49=\"\",\"\",filEst!F49)","v":""},{"$f":"IF(filEst!G49=\"\",\"\",filEst!G49)","v":""},{"$f":"IF(filEst!L49=\"\",\"\",filEst!L49)","v":""},null,null,{"$f":"IF(filEst!K49=\"\",\"\",filEst!K49)","v":""},null,{"$f":"CADT!Q49","v":""},{"$f":"CADT!V49","v":""},{"$f":"CADT!AA49","v":""},{"$f":"CADT!AF49","v":""},{"$f":"CADT!AK49","v":""},{"$f":"CADT!AP49","v":""},{"$f":"CADT!AU49","v":""},{"$f":"CADT!AZ49","v":""},{"$f":"CADT!BE49","v":""},{"$f":"CADT!BJ49","v":""},{"$f":"CADT!BO49","v":""},{"$f":"CADT!BT49","v":""},{"$f":"CADT!BY49","v":""},{"$f":"CADT!CD49","v":""},{"$f":"CADT!CI49","v":""},{"$f":"CADT!CN49","v":""},{"$f":"CADT!CO49","v":""},"",null,null,null,null,null,null,null,null,null,null,null,null,"","","","","","","","","","","",null,"","",""]
[null,null,null,null,null,{"$f":"IF(filEst!F50=\"\",\"\",filEst!F50)","v":""},{"$f":"IF(filEst!G50=\"\",\"\",filEst!G50)","v":""},{"$f":"IF(filEst!L50=\"\",\"\",filEst!L50)","v":""},null,null,{"$f":"IF(filEst!K50=\"\",\"\",filEst!K50)","v":""},null,{"$f":"CADT!Q50","v":""},{"$f":"CADT!V50","v":""},{"$f":"CADT!AA50","v":""},{"$f":"CADT!AF50","v":""},{"$f":"CADT!AK50","v":""},{"$f":"CADT!AP50","v":""},{"$f":"CADT!AU50","v":""},{"$f":"CADT!AZ50","v":""},{"$f":"CADT!BE50","v":""},{"$f":"CADT!BJ50","v":""},{"$f":"CADT!BO50","v":""},{"$f":"CADT!BT50","v":""},{"$f":"CADT!BY50","v":""},{"$f":"CADT!CD50","v":""},{"$f":"CADT!CI50","v":""},{"$f":"CADT!CN50","v":""},{"$f":"CADT!CO50","v":""},"",null,null,null,null,null,null,null,null,null,null,null,null,"","","","","","","","","","","",null,"","",""]
[null,null,null,null,null,{"$f":"IF(filEst!F51=\"\",\"\",filEst!F51)","v":""},{"$f":"IF(filEst!G51=\"\",\"\",filEst!G51)","v":""},{"$f":"IF(filEst!L51=\"\",\"\",filEst!L51)","v":""},null,null,{"$f":"IF(filEst!K51=\"\",\"\",filEst!K51)","v":""},null,{"$f":"CADT!Q51","v":""},{"$f":"CADT!V51","v":""},{"$f":"CADT!AA51","v":""},{"$f":"CADT!AF51","v":""},{"$f":"CADT!AK51","v":""},{"$f":"CADT!AP51","v":""},{"$f":"CADT!AU51","v":""},{"$f":"CADT!AZ51","v":""},{"$f":"CADT!BE51","v":""},{"$f":"CADT!BJ51","v":""},{"$f":"CADT!BO51","v":""},{"$f":"CADT!BT51","v":""},{"$f":"CADT!BY51","v":""},{"$f":"CADT!CD51","v":""},{"$f":"CADT!CI51","v":""},{"$f":"CADT!CN51","v":""},{"$f":"CADT!CO51","v":""},"",null,null,null,null,null,null,null,null,null,null,null,null,"","","","","","","","","","","",null,"","",""]
[null,null,null,null,null,{"$f":"IF(filEst!F52=\"\",\"\",filEst!F52)","v":""},{"$f":"IF(filEst!G52=\"\",\"\",filEst!G52)","v":""},{"$f":"IF(filEst!L52=\"\",\"\",filEst!L52)","v":""},null,null,{"$f":"IF(filEst!K52=\"\",\"\",filEst!K52)","v":""},null,{"$f":"CADT!Q52","v":""},{"$f":"CADT!V52","v":""},{"$f":"CADT!AA52","v":""},{"$f":"CADT!AF52","v":""},{"$f":"CADT!AK52","v":""},{"$f":"CADT!AP52","v":""},{"$f":"CADT!AU52","v":""},{"$f":"CADT!AZ52","v":""},{"$f":"CADT!BE52","v":""},{"$f":"CADT!BJ52","v":""},{"$f":"CADT!BO52","v":""},{"$f":"CADT!BT52","v":""},{"$f":"CADT!BY52","v":""},{"$f":"CADT!CD52","v":""},{"$f":"CADT!CI52","v":""},{"$f":"CADT!CN52","v":""},{"$f":"CADT!CO52","v":""},"",null,null,null,null,null,null,null,null,null,null,null,null,"","","","","","","","","","","",null,"","",""]
[null,null,null,null,null,{"$f":"IF(filEst!F53=\"\",\"\",filEst!F53)","v":""},{"$f":"IF(filEst!G53=\"\",\"\",filEst!G53)","v":""},{"$f":"IF(filEst!L53=\"\",\"\",filEst!L53)","v":""},null,null,{"$f":"IF(filEst!K53=\"\",\"\",filEst!K53)","v":""},null,{"$f":"CADT!Q53","v":""},{"$f":"CADT!V53","v":""},{"$f":"CADT!AA53","v":""},{"$f":"CADT!AF53","v":""},{"$f":"CADT!AK53","v":""},{"$f":"CADT!AP53","v":""},{"$f":"CADT!AU53","v":""},{"$f":"CADT!AZ53","v":""},{"$f":"CADT!BE53","v":""},{"$f":"CADT!BJ53","v":""},{"$f":"CADT!BO53","v":""},{"$f":"CADT!BT53","v":""},{"$f":"CADT!BY53","v":""},{"$f":"CADT!CD53","v":""},{"$f":"CADT!CI53","v":""},{"$f":"CADT!CN53","v":""},{"$f":"CADT!CO53","v":""},"",null,null,null,null,null,null,null,null,null,null,null,null,"","","","","","","","","","","",null,"","",""]
[null,null,null,null,null,{"$f":"IF(filEst!F54=\"\",\"\",filEst!F54)","v":""},{"$f":"IF(filEst!G54=\"\",\"\",filEst!G54)","v":""},{"$f":"IF(filEst!L54=\"\",\"\",filEst!L54)","v":""},null,null,{"$f":"IF(filEst!K54=\"\",\"\",filEst!K54)","v":""},null,{"$f":"CADT!Q54","v":""},{"$f":"CADT!V54","v":""},{"$f":"CADT!AA54","v":""},{"$f":"CADT!AF54","v":""},{"$f":"CADT!AK54","v":""},{"$f":"CADT!AP54","v":""},{"$f":"CADT!AU54","v":""},{"$f":"CADT!AZ54","v":""},{"$f":"CADT!BE54","v":""},{"$f":"CADT!BJ54","v":""},{"$f":"CADT!BO54","v":""},{"$f":"CADT!BT54","v":""},{"$f":"CADT!BY54","v":""},{"$f":"CADT!CD54","v":""},{"$f":"CADT!CI54","v":""},{"$f":"CADT!CN54","v":""},{"$f":"CADT!CO54","v":""},"",null,null,null,null,null,null,null,null,null,null,null,null,"","","","","","","","","",{"$f":"Y54","v":""},{"$f":"Z54","v":""},null,"","",""]
[null,null,null,null,null,{"$f":"IF(filEst!F55=\"\",\"\",filEst!F55)","v":""},{"$f":"IF(filEst!G55=\"\",\"\",filEst!G55)","v":""},{"$f":"IF(filEst!L55=\"\",\"\",filEst!L55)","v":""},null,null,{"$f":"IF(filEst!K55=\"\",\"\",filEst!K55)","v":""},null,{"$f":"CADT!Q55","v":""},{"$f":"CADT!V55","v":""},{"$f":"CADT!AA55","v":""},{"$f":"CADT!AF55","v":""},{"$f":"CADT!AK55","v":""},{"$f":"CADT!AP55","v":""},{"$f":"CADT!AU55","v":""},{"$f":"CADT!AZ55","v":""},{"$f":"CADT!BE55","v":""},{"$f":"CADT!BJ55","v":""},{"$f":"CADT!BO55","v":""},{"$f":"CADT!BT55","v":""},{"$f":"CADT!BY55","v":""},{"$f":"CADT!CD55","v":""},{"$f":"CADT!CI55","v":""},{"$f":"CADT!CN55","v":""},{"$f":"CADT!CO55","v":""},"",null,null,null,null,null,null,null,null,null,null,null,null,"","","","","","","","","","","",null,"","",""]
[null,null,null,null,null,{"$f":"IF(filEst!F56=\"\",\"\",filEst!F56)","v":""},{"$f":"IF(filEst!G56=\"\",\"\",filEst!G56)","v":""},{"$f":"IF(filEst!L56=\"\",\"\",filEst!L56)","v":""},null,null,{"$f":"IF(filEst!K56=\"\",\"\",filEst!K56)","v":""},null,{"$f":"CADT!Q56","v":""},{"$f":"CADT!V56","v":""},{"$f":"CADT!AA56","v":""},{"$f":"CADT!AF56","v":""},{"$f":"CADT!AK56","v":""},{"$f":"CADT!AP56","v":""},{"$f":"CADT!AU56","v":""},{"$f":"CADT!AZ56","v":""},{"$f":"CADT!BE56","v":""},{"$f":"CADT!BJ56","v":""},{"$f":"CADT!BO56","v":""},{"$f":"CADT!BT56","v":""},{"$f":"CADT!BY56","v":""},{"$f":"CADT!CD56","v":""},{"$f":"CADT!CI56","v":""},{"$f":"CADT!CN56","v":""},{"$f":"CADT!CO56","v":""},"",null,null,null,null,null,null,null,null,null,null,null,null,"","","","","","","","","","","",null,"","",""]
[null,null,null,null,null,{"$f":"IF(filEst!F57=\"\",\"\",filEst!F57)","v":""},{"$f":"IF(filEst!G57=\"\",\"\",filEst!G57)","v":""},{"$f":"IF(filEst!L57=\"\",\"\",filEst!L57)","v":""},null,null,{"$f":"IF(filEst!K57=\"\",\"\",filEst!K57)","v":""},null,{"$f":"CADT!Q57","v":""},{"$f":"CADT!V57","v":""},{"$f":"CADT!AA57","v":""},{"$f":"CADT!AF57","v":""},{"$f":"CADT!AK57","v":""},{"$f":"CADT!AP57","v":""},{"$f":"CADT!AU57","v":""},{"$f":"CADT!AZ57","v":""},{"$f":"CADT!BE57","v":""},{"$f":"CADT!BJ57","v":""},{"$f":"CADT!BO57","v":""},{"$f":"CADT!BT57","v":""},{"$f":"CADT!BY57","v":""},{"$f":"CADT!CD57","v":""},{"$f":"CADT!CI57","v":""},{"$f":"CADT!CN57","v":""},{"$f":"CADT!CO57","v":""},"",null,null,null,null,null,null,null,null,null,null,null,null,"","","","","","","","","","","",null,"","",""]
[null,null,null,null,null,{"$f":"IF(filEst!F58=\"\",\"\",filEst!F58)","v":""},{"$f":"IF(filEst!G58=\"\",\"\",filEst!G58)","v":""},{"$f":"IF(filEst!L58=\"\",\"\",filEst!L58)","v":""},null,null,{"$f":"IF(filEst!K58=\"\",\"\",filEst!K58)","v":""},null,{"$f":"CADT!Q58","v":""},{"$f":"CADT!V58","v":""},{"$f":"CADT!AA58","v":""},{"$f":"CADT!AF58","v":""},{"$f":"CADT!AK58","v":""},{"$f":"CADT!AP58","v":""},{"$f":"CADT!AU58","v":""},{"$f":"CADT!AZ58","v":""},{"$f":"CADT!BE58","v":""},{"$f":"CADT!BJ58","v":""},{"$f":"CADT!BO58","v":""},{"$f":"CADT!BT58","v":""},{"$f":"CADT!BY58","v":""},{"$f":"CADT!CD58","v":""},{"$f":"CADT!CI58","v":""},{"$f":"CADT!CN58","v":""},{"$f":"CADT!CO58","v":""},"",null,null,null,null,null,null,null,null,null,null,null,null,"","","","","","","","","","","",null,"","",""]
[null,null,null,null,null,{"$f":"IF(filEst!F59=\"\",\"\",filEst!F59)","v":""},{"$f":"IF(filEst!G59=\"\",\"\",filEst!G59)","v":""},{"$f":"IF(filEst!L59=\"\",\"\",filEst!L59)","v":""},null,null,{"$f":"IF(filEst!K59=\"\",\"\",filEst!K59)","v":""},null,{"$f":"CADT!Q59","v":""},{"$f":"CADT!V59","v":""},{"$f":"CADT!AA59","v":""},{"$f":"CADT!AF59","v":""},{"$f":"CADT!AK59","v":""},{"$f":"CADT!AP59","v":""},{"$f":"CADT!AU59","v":""},{"$f":"CADT!AZ59","v":""},{"$f":"CADT!BE59","v":""},{"$f":"CADT!BJ59","v":""},{"$f":"CADT!BO59","v":""},{"$f":"CADT!BT59","v":""},{"$f":"CADT!BY59","v":""},{"$f":"CADT!CD59","v":""},{"$f":"CADT!CI59","v":""},{"$f":"CADT!CN59","v":""},{"$f":"CADT!CO59","v":""},"",null,null,null,null,null,null,null,null,null,null,null,null,"","","","","","","","","","","",null,"","",""]
[null,null,null,null,null,{"$f":"IF(filEst!F60=\"\",\"\",filEst!F60)","v":""},{"$f":"IF(filEst!G60=\"\",\"\",filEst!G60)","v":""},{"$f":"IF(filEst!L60=\"\",\"\",filEst!L60)","v":""},null,null,{"$f":"IF(filEst!K60=\"\",\"\",filEst!K60)","v":""},null,{"$f":"CADT!Q60","v":""},{"$f":"CADT!V60","v":""},{"$f":"CADT!AA60","v":""},{"$f":"CADT!AF60","v":""},{"$f":"CADT!AK60","v":""},{"$f":"CADT!AP60","v":""},{"$f":"CADT!AU60","v":""},{"$f":"CADT!AZ60","v":""},{"$f":"CADT!BE60","v":""},{"$f":"CADT!BJ60","v":""},{"$f":"CADT!BO60","v":""},{"$f":"CADT!BT60","v":""},{"$f":"CADT!BY60","v":""},{"$f":"CADT!CD60","v":""},{"$f":"CADT!CI60","v":""},{"$f":"CADT!CN60","v":""},{"$f":"CADT!CO60","v":""},"",null,null,null,null,null,null,null,null,null,null,null,null,"","","","","","","","","","","",null,"","",""]
[null,null,null,null,null,{"$f":"IF(filEst!F61=\"\",\"\",filEst!F61)","v":""},{"$f":"IF(filEst!G61=\"\",\"\",filEst!G61)","v":""},{"$f":"IF(filEst!L61=\"\",\"\",filEst!L61)","v":""},null,null,{"$f":"IF(filEst!K61=\"\",\"\",filEst!K61)","v":""},null,{"$f":"CADT!Q61","v":""},{"$f":"CADT!V61","v":""},{"$f":"CADT!AA61","v":""},{"$f":"CADT!AF61","v":""},{"$f":"CADT!AK61","v":""},{"$f":"CADT!AP61","v":""},{"$f":"CADT!AU61","v":""},{"$f":"CADT!AZ61","v":""},{"$f":"CADT!BE61","v":""},{"$f":"CADT!BJ61","v":""},{"$f":"CADT!BO61","v":""},{"$f":"CADT!BT61","v":""},{"$f":"CADT!BY61","v":""},{"$f":"CADT!CD61","v":""},{"$f":"CADT!CI61","v":""},{"$f":"CADT!CN61","v":""},{"$f":"CADT!CO61","v":""},"",null,null,null,null,null,null,null,null,null,null,null,null,"","","","","","","","","","","",null,"","",""]
[null,null,null,null,null,{"$f":"IF(filEst!F62=\"\",\"\",filEst!F62)","v":""},{"$f":"IF(filEst!G62=\"\",\"\",filEst!G62)","v":""},{"$f":"IF(filEst!L62=\"\",\"\",filEst!L62)","v":""},null,null,{"$f":"IF(filEst!K62=\"\",\"\",filEst!K62)","v":""},null,{"$f":"CADT!Q62","v":""},{"$f":"CADT!V62","v":""},{"$f":"CADT!AA62","v":""},{"$f":"CADT!AF62","v":""},{"$f":"CADT!AK62","v":""},{"$f":"CADT!AP62","v":""},{"$f":"CADT!AU62","v":""},{"$f":"CADT!AZ62","v":""},{"$f":"CADT!BE62","v":""},{"$f":"CADT!BJ62","v":""},{"$f":"CADT!BO62","v":""},{"$f":"CADT!BT62","v":""},{"$f":"CADT!BY62","v":""},{"$f":"CADT!CD62","v":""},{"$f":"CADT!CI62","v":""},{"$f":"CADT!CN62","v":""},{"$f":"CADT!CO62","v":""},"",null,null,null,null,null,null,null,null,null,null,null,null,"","","","","","","","","","","",null,"","",""]
[null,null,null,null,null,{"$f":"IF(filEst!F63=\"\",\"\",filEst!F63)","v":""},{"$f":"IF(filEst!G63=\"\",\"\",filEst!G63)","v":""},{"$f":"IF(filEst!L63=\"\",\"\",filEst!L63)","v":""},null,null,{"$f":"IF(filEst!K63=\"\",\"\",filEst!K63)","v":""},null,{"$f":"CADT!Q63","v":""},{"$f":"CADT!V63","v":""},{"$f":"CADT!AA63","v":""},{"$f":"CADT!AF63","v":""},{"$f":"CADT!AK63","v":""},{"$f":"CADT!AP63","v":""},{"$f":"CADT!AU63","v":""},{"$f":"CADT!AZ63","v":""},{"$f":"CADT!BE63","v":""},{"$f":"CADT!BJ63","v":""},{"$f":"CADT!BO63","v":""},{"$f":"CADT!BT63","v":""},{"$f":"CADT!BY63","v":""},{"$f":"CADT!CD63","v":""},{"$f":"CADT!CI63","v":""},{"$f":"CADT!CN63","v":""},{"$f":"CADT!CO63","v":""},"",null,null,null,null,null,null,null,null,null,null,null,null,"","","","","","","","","","","",null,"","",""]
[null,null,null,null,null,{"$f":"IF(filEst!F64=\"\",\"\",filEst!F64)","v":""},{"$f":"IF(filEst!G64=\"\",\"\",filEst!G64)","v":""},{"$f":"IF(filEst!L64=\"\",\"\",filEst!L64)","v":""},null,null,{"$f":"IF(filEst!K64=\"\",\"\",filEst!K64)","v":""},null,{"$f":"CADT!Q64","v":""},{"$f":"CADT!V64","v":""},{"$f":"CADT!AA64","v":""},{"$f":"CADT!AF64","v":""},{"$f":"CADT!AK64","v":""},{"$f":"CADT!AP64","v":""},{"$f":"CADT!AU64","v":""},{"$f":"CADT!AZ64","v":""},{"$f":"CADT!BE64","v":""},{"$f":"CADT!BJ64","v":""},{"$f":"CADT!BO64","v":""},{"$f":"CADT!BT64","v":""},{"$f":"CADT!BY64","v":""},{"$f":"CADT!CD64","v":""},{"$f":"CADT!CI64","v":""},{"$f":"CADT!CN64","v":""},{"$f":"CADT!CO64","v":""},"",null,null,null,null,null,null,null,null,null,null,null,null,"","","","","","","","","","","",null,"","",""]
[null,null,null,null,null,{"$f":"IF(filEst!F65=\"\",\"\",filEst!F65)","v":""},{"$f":"IF(filEst!G65=\"\",\"\",filEst!G65)","v":""},{"$f":"IF(filEst!L65=\"\",\"\",filEst!L65)","v":""},null,null,{"$f":"IF(filEst!K65=\"\",\"\",filEst!K65)","v":""},null,{"$f":"CADT!Q65","v":""},{"$f":"CADT!V65","v":""},{"$f":"CADT!AA65","v":""},{"$f":"CADT!AF65","v":""},{"$f":"CADT!AK65","v":""},{"$f":"CADT!AP65","v":""},{"$f":"CADT!AU65","v":""},{"$f":"CADT!AZ65","v":""},{"$f":"CADT!BE65","v":""},{"$f":"CADT!BJ65","v":""},{"$f":"CADT!BO65","v":""},{"$f":"CADT!BT65","v":""},{"$f":"CADT!BY65","v":""},{"$f":"CADT!CD65","v":""},{"$f":"CADT!CI65","v":""},{"$f":"CADT!CN65","v":""},{"$f":"CADT!CO65","v":""},"",null,null,null,null,null,null,null,null,null,null,null,null,"","","","","","","","","","","",null,"","",""]
[null,null,null,null,null,{"$f":"IF(filEst!F66=\"\",\"\",filEst!F66)","v":""},{"$f":"IF(filEst!G66=\"\",\"\",filEst!G66)","v":""},{"$f":"IF(filEst!L66=\"\",\"\",filEst!L66)","v":""},null,null,{"$f":"IF(filEst!K66=\"\",\"\",filEst!K66)","v":""},null,{"$f":"CADT!Q66","v":""},{"$f":"CADT!V66","v":""},{"$f":"CADT!AA66","v":""},{"$f":"CADT!AF66","v":""},{"$f":"CADT!AK66","v":""},{"$f":"CADT!AP66","v":""},{"$f":"CADT!AU66","v":""},{"$f":"CADT!AZ66","v":""},{"$f":"CADT!BE66","v":""},{"$f":"CADT!BJ66","v":""},{"$f":"CADT!BO66","v":""},{"$f":"CADT!BT66","v":""},{"$f":"CADT!BY66","v":""},{"$f":"CADT!CD66","v":""},{"$f":"CADT!CI66","v":""},{"$f":"CADT!CN66","v":""},{"$f":"CADT!CO66","v":""},"",null,null,null,null,null,null,null,null,null,null,null,null,"","","","","","","","","","","",null,"","",""]
[null,null,null,null,null,{"$f":"IF(filEst!F67=\"\",\"\",filEst!F67)","v":""},{"$f":"IF(filEst!G67=\"\",\"\",filEst!G67)","v":""},{"$f":"IF(filEst!L67=\"\",\"\",filEst!L67)","v":""},null,null,{"$f":"IF(filEst!K67=\"\",\"\",filEst!K67)","v":""},null,{"$f":"CADT!Q67","v":""},{"$f":"CADT!V67","v":""},{"$f":"CADT!AA67","v":""},{"$f":"CADT!AF67","v":""},{"$f":"CADT!AK67","v":""},{"$f":"CADT!AP67","v":""},{"$f":"CADT!AU67","v":""},{"$f":"CADT!AZ67","v":""},{"$f":"CADT!BE67","v":""},{"$f":"CADT!BJ67","v":""},{"$f":"CADT!BO67","v":""},{"$f":"CADT!BT67","v":""},{"$f":"CADT!BY67","v":""},{"$f":"CADT!CD67","v":""},{"$f":"CADT!CI67","v":""},{"$f":"CADT!CN67","v":""},{"$f":"CADT!CO67","v":""},"",null,null,null,null,null,null,null,null,null,null,null,null,"","","","","","","","","","","",null,"","",""]
[null,null,null,null,null,{"$f":"IF(filEst!F68=\"\",\"\",filEst!F68)","v":""},{"$f":"IF(filEst!G68=\"\",\"\",filEst!G68)","v":""},{"$f":"IF(filEst!L68=\"\",\"\",filEst!L68)","v":""},null,null,{"$f":"IF(filEst!K68=\"\",\"\",filEst!K68)","v":""},null,{"$f":"CADT!Q68","v":""},{"$f":"CADT!V68","v":""},{"$f":"CADT!AA68","v":""},{"$f":"CADT!AF68","v":""},{"$f":"CADT!AK68","v":""},{"$f":"CADT!AP68","v":""},{"$f":"CADT!AU68","v":""},{"$f":"CADT!AZ68","v":""},{"$f":"CADT!BE68","v":""},{"$f":"CADT!BJ68","v":""},{"$f":"CADT!BO68","v":""},{"$f":"CADT!BT68","v":""},{"$f":"CADT!BY68","v":""},{"$f":"CADT!CD68","v":""},{"$f":"CADT!CI68","v":""},{"$f":"CADT!CN68","v":""},{"$f":"CADT!CO68","v":""},"",null,null,null,null,null,null,null,null,null,null,null,null,"","","","","","","","","","","",null,"","",""]
[null,null,null,null,null,{"$f":"IF(filEst!F69=\"\",\"\",filEst!F69)","v":""},{"$f":"IF(filEst!G69=\"\",\"\",filEst!G69)","v":""},{"$f":"IF(filEst!L69=\"\",\"\",filEst!L69)","v":""},null,null,{"$f":"IF(filEst!K69=\"\",\"\",filEst!K69)","v":""},null,{"$f":"CADT!Q69","v":""},{"$f":"CADT!V69","v":""},{"$f":"CADT!AA69","v":""},{"$f":"CADT!AF69","v":""},{"$f":"CADT!AK69","v":""},{"$f":"CADT!AP69","v":""},{"$f":"CADT!AU69","v":""},{"$f":"CADT!AZ69","v":""},{"$f":"CADT!BE69","v":""},{"$f":"CADT!BJ69","v":""},{"$f":"CADT!BO69","v":""},{"$f":"CADT!BT69","v":""},{"$f":"CADT!BY69","v":""},{"$f":"CADT!CD69","v":""},{"$f":"CADT!CI69","v":""},{"$f":"CADT!CN69","v":""},{"$f":"CADT!CO69","v":""},"",null,null,null,null,null,null,null,null,null,null,null,null,"","","","","","","","","","","",null,"","",""]
[null,null,null,null,null,{"$f":"IF(filEst!F70=\"\",\"\",filEst!F70)","v":""},{"$f":"IF(filEst!G70=\"\",\"\",filEst!G70)","v":""},{"$f":"IF(filEst!L70=\"\",\"\",filEst!L70)","v":""},null,null,{"$f":"IF(filEst!K70=\"\",\"\",filEst!K70)","v":""},null,{"$f":"CADT!Q70","v":""},{"$f":"CADT!V70","v":""},{"$f":"CADT!AA70","v":""},{"$f":"CADT!AF70","v":""},{"$f":"CADT!AK70","v":""},{"$f":"CADT!AP70","v":""},{"$f":"CADT!AU70","v":""},{"$f":"CADT!AZ70","v":""},{"$f":"CADT!BE70","v":""},{"$f":"CADT!BJ70","v":""},{"$f":"CADT!BO70","v":""},{"$f":"CADT!BT70","v":""},{"$f":"CADT!BY70","v":""},{"$f":"CADT!CD70","v":""},{"$f":"CADT!CI70","v":""},{"$f":"CADT!CN70","v":""},{"$f":"CADT!CO70","v":""},"",null,null,null,null,null,null,null,null,null,null,null,null,"","","","","","","","","","","",null,"","",""]
[null,null,null,null,null,null,"Tinscritos",{"$f":"COUNTIF($K21:$K70,\"\")","v":50},{"$f":"$H$73-H71","v":0},{"$f":"I71-I72","v":0},"PROMEDIO DE APROVECHAMIENTO  ",null,{"$f":"IF($J$71=\"\",\"\",IF($J$71=0,\"\",ROUND(((SUM(M21:M70))/$J$71),0)))","v":""},{"$f":"IF($J$71=\"\",\"\",IF($J$71=0,\"\",ROUND(((SUM(N21:N70))/$J$71),0)))","v":""},{"$f":"IF($J$71=\"\",\"\",IF($J$71=0,\"\",ROUND(((SUM(O21:O70))/$J$71),0)))","v":""},{"$f":"IF($J$71=\"\",\"\",IF($J$71=0,\"\",ROUND(((SUM(P21:P70))/$J$71),0)))","v":""},{"$f":"IF($J$71=\"\",\"\",IF($J$71=0,\"\",ROUND(((SUM(Q21:Q70))/$J$71),0)))","v":""},{"$f":"IF($J$71=\"\",\"\",IF($J$71=0,\"\",ROUND(((SUM(R21:R70))/$J$71),0)))","v":""},"","","","","","","","","","",{"$f":"IF($J$71=\"\",\"\",IF($J$71=0,\"\",ROUND(((SUM(AC21:AC70))/$J$71),$BJ$9)))","v":""},{"$f":"datpro!H25","v":"RETENIDO"}]
[null,null,null,null,null,null,"Tretirados",{"$f":"COUNTIF(AC21:AC70,\"\")","v":50},{"$f":"$H$72-H71","v":0},null,"NUMERO DE PROMOVIDOS  ",null,{"$f":"IF(M71=\"\",\"\",IF(M71=0,\"\",COUNTIF(M21:M70,\">=50,50\")))","v":""},{"$f":"IF(N71=\"\",\"\",IF(N71=0,\"\",COUNTIF(N21:N70,\">=50,50\")))","v":""},{"$f":"IF(O71=\"\",\"\",IF(O71=0,\"\",COUNTIF(O21:O70,\">=50,50\")))","v":""},{"$f":"IF(P71=\"\",\"\",IF(P71=0,\"\",COUNTIF(P21:P70,\">=50,50\")))","v":""},{"$f":"IF(Q71=\"\",\"\",IF(Q71=0,\"\",COUNTIF(Q21:Q70,\">=50,50\")))","v":""},{"$f":"IF(R71=\"\",\"\",IF(R71=0,\"\",COUNTIF(R21:R70,\">=50,50\")))","v":""},"","","","","","","","","",""]
[null,null,null,null,null,null,"Tregistro",50,null,null,"NUMERO DE RETENIDOS  ",null,{"$f":"IF(M71=\"\",\"\",IF(M71=0,\"\",COUNTIF(M21:M70,\"<50,50\")))","v":""},{"$f":"IF(N71=\"\",\"\",IF(N71=0,\"\",COUNTIF(N21:N70,\"<50,50\")))","v":""},{"$f":"IF(O71=\"\",\"\",IF(O71=0,\"\",COUNTIF(O21:O70,\"<50,50\")))","v":""},{"$f":"IF(P71=\"\",\"\",IF(P71=0,\"\",COUNTIF(P21:P70,\"<50,50\")))","v":""},{"$f":"IF(Q71=\"\",\"\",IF(Q71=0,\"\",COUNTIF(Q21:Q70,\"<50,50\")))","v":""},{"$f":"IF(R71=\"\",\"\",IF(R71=0,\"\",COUNTIF(R21:R70,\"<50,50\")))","v":""},"","","","","","","","","",""]
[null,null,null,null,null,null,null,null,null,null,"PORCENTAJE DE PROMOVIDOS  ",null,{"$f":"IF(M72=\"\",\"\",IF(M72=0,\"\",(M72*100)/$J$71))","v":""},"",{"$f":"IF(O72=\"\",\"\",IF(O72=0,\"\",(O72*100)/$J$71))","v":""},"","","","","","","","","","","","",""]
[null,null,null,null,null,null,null,null,null,null,"PORCENTAJE DE RETENIDOS  ",null,{"$f":"IF(M73=\"\",\"\",IF(M73=0,\"\",100-M74))","v":""},{"$f":"IF(N73=\"\",\"\",IF(N73=0,\"\",100-N74))","v":""},{"$f":"IF(O73=\"\",\"\",IF(O73=0,\"\",100-O74))","v":""},{"$f":"IF(P73=\"\",\"\",IF(P73=0,\"\",100-P74))","v":""},{"$f":"IF(Q73=\"\",\"\",IF(Q73=0,\"\",100-Q74))","v":""},{"$f":"IF(R73=\"\",\"\",IF(R73=0,\"\",100-R74))","v":""},"","","","","","","","","",{"$f":"IF(AB73=\"\",\"\",IF(AB73=0,\"\",100-AB74))","v":""}]
[]
[]
[]
[]
[]
[null,null,null,null,null,null,"select_load",{"$f":"main!$AE$10","v":50}]
[null,null,null,null,null,null,"actual_save"]
[]
[]
[]
[]
[]
[]
[]
[]
[]
[]
[]
[]
[]
[]
[]
[]
[null,null,null,null,null,null,null,null,null,null,null,null,13,14,null,null,null,15,16]
[]
[null,null,null,null,null,null,"alto de fila",10]
[null,null,null,null,null,null,"ancho col nro",1]
[null,null,null,null,null,null,"ancho col est",25]
[null,null,null,null,null,null,"ancho col indicadores",2,null,null,null,null,"Nro","Nes","Par",null,null,"Par","Pto"]
[null,null,null,null,null,null,"ancho col prom ind",2.5,null,null,null,null,0,0,0,null,null,0]
[null,null,null,null,null,null,"ancho nota prof",3.3,null,null,null,null,2,26,2.57,null,null,2.57]
[null,null,null,null,null,null,"ancho nota bim",2.5,null,null,null,null,2.29,28,2.86,null,null,2.86]
[null,null,null,null,null,null,"tamaño fuente",8,null,null,null,null,2.57,30,3.14,null,null,3.14]
[null,null,null,null,null,null,"alto indicador",120,null,null,null,null,2.86,32,3.43,null,null,3.43]
[null,null,null,null,null,null,"bimestre",4,null,null,null,null,3.14,34,3.71,null,null,3.71]
[null,null,null,null,null,null,"nroest",17,null,null,null,null,3.43,36,4,null,null,4]
[null,null,null,null,null,null,"hiden_cri_eva",1,null,null,null,null,3.71,38,4.29,null,null,4.29]
[null,null,null,null,null,null,"alto fila crieva",80]
[null,null,null,null,null,null,"alto fila actv",80]
[null,null,null,null,null,null,"paneles",0]
[null,null,null,null,null,null,"title_cbx",0]
[null,null,null,null,null,null,"sit_bim_abrv",0.5]
[null,null,null,null,null,null,"cod_area"]
[null,null,null,null,null,null,"hiden_actividedes",1]
[null,null,null,null,null,null,"minedu",1]
[null,null,null,null,null,null,"distjs",0]

{"sheet":"bol1","index":24,"n_rows":37,"n_cols":17,"rows_kept":37,"cut":false,"hidden":false,"merged":[[11,3,19,3],[20,3,21,3],[24,3,27,3],[31,3,32,3],[34,5,34,9],[35,5,35,9],[36,5,36,9],[18,11,20,11],[18,12,20,12],[21,11,26,11],[21,12,26,12],[27,11,32,11],[27,12,32,12],[1,4,1,9],[2,4,2,9],[3,4,3,9],[6,11,7,12],[11,11,17,11],[11,12,17,12]]}
[]
[null,null,null,null,{"$f":"CONCATENATE(datpro!$D$39,\" 2023\")","v":"BOLETIN DE CALIFICACIONES 2023"},null,null,null,null,null,null,null,null,null,null,"Ξ","Cerrar"]
[null,null,null,null,{"$f":"datpro!$D$38","v":""}]
[null,null,null,null,{"$f":"CONCATENATE(\"UNIDAD EDUCATIVA \",datpro!$E$7)","v":"UNIDAD EDUCATIVA "}]
[null,null,null,null,{"$f":"IF($J$5<>\"\",CONCATENATE(\"ESTUDIANTE: \",INDEX(filEst!$K21:$K70,$J$5,1,1)),\"\")","v":"ESTUDIANTE: "},null,null,"Nro.",null,1]
[null,null,null,null,{"$f":"CONCATENATE(\"Año de Escolaridad:  \",datpro!$E$11,\" - \",datpro!$E$12)","v":"Año de Escolaridad:   - "}]
[null,null,null,null,"AREAS","1er","2do","3er",null,"Prom.",null,"VALORACION CUALITATIVA"]
[null,null,null,null,"CURRICULARES","TRI","TRI","TRI",null,"Anual"]
[null,null,null,null,{"$f":"datpro!$E$41","v":"LENGUA CASTELLANA"},{"$f":"IF($J$5=\"\",\"\",IF(INDEX('CB1'!$M$21:$M$70,$J$5,1,1)=\"\",\"\",INDEX('CB1'!$M$21:$M$70,$J$5,1,1)))","v":""},{"$f":"IF($J$5=\"\",\"\",IF(INDEX('CB2'!$M$21:$M$70,$J$5,1,1)=\"\",\"\",INDEX('CB2'!$M$21:$M$70,$J$5,1,1)))","v":""},{"$f":"IF($J$5=\"\",\"\",IF(INDEX('CB3'!$M$21:$M$70,$J$5,1,1)=\"\",\"\",INDEX('CB3'!$M$21:$M$70,$J$5,1,1)))","v":""},null,{"$f":"IF(F9=\"\",\"\",IF(G9=\"\",\"\",IF(H9=\"\",\"\",IF(I9=\"\",\"\",ROUND(SUM(F9:I9)/4,0)))))","v":""}]
[null,null,null,null,{"$f":"datpro!$E$42","v":"LENGUA ORIGINARIA"},{"$f":"IF($J$5=\"\",\"\",IF(INDEX('CB1'!$N$21:$N$70,$J$5,1,1)=\"\",\"\",INDEX('CB1'!$N$21:$N$70,$J$5,1,1)))","v":""},{"$f":"IF($J$5=\"\",\"\",IF(INDEX('CB2'!$N$21:$N$70,$J$5,1,1)=\"\",\"\",INDEX('CB2'!$N$21:$N$70,$J$5,1,1)))","v":""},{"$f":"IF($J$5=\"\",\"\",IF(INDEX('CB3'!$N$21:$N$70,$J$5,1,1)=\"\",\"\",INDEX('CB3'!$N$21:$N$70,$J$5,1,1)))","v":""},null,{"$f":"IF(F10=\"\",\"\",IF(G10=\"\",\"\",IF(H10=\"\",\"\",IF(I10=\"\",\"\",ROUND(SUM(F10:I10)/4,0)))))","v":""}]
[null,null,null,null,{"$f":"datpro!$E$43","v":"LENGUA EXTRANGERA primaria"},{"$f":"IF($J$5=\"\",\"\",IF(INDEX('CB1'!$O$21:$O$70,$J$5,1,1)=\"\",\"\",INDEX('CB1'!$O$21:$O$70,$J$5,1,1)))","v":""},{"$f":"IF($J$5=\"\",\"\",IF(INDEX('CB2'!$O$21:$O$70,$J$5,1,1)=\"\",\"\",INDEX('CB2'!$O$21:$O$70,$J$5,1,1)))","v":""},{"$f":"IF($J$5=\"\",\"\",IF(INDEX('CB3'!$O$21:$O$70,$J$5,1,1)=\"\",\"\",INDEX('CB3'!$O$21:$O$70,$J$5,1,1)))","v":""},null,{"$f":"IF(F11=\"\",\"\",IF(G11=\"\",\"\",IF(H11=\"\",\"\",IF(I11=\"\",\"\",ROUND(SUM(F11:I11)/4,0)))))","v":""}]
[null,null,null,"COMUNIDAD Y SOCIEDAD",{"$f":"datpro!$E$44","v":"COMUNICACIÓN Y LENGUAJES "},{"$f":"IF($J$5=\"\",\"\",IF(INDEX('CB1'!$P$21:$P$70,$J$5,1,1)=\"\",\"\",INDEX('CB1'!$P$21:$P$70,$J$5,1,1)))","v":""},{"$f":"IF($J$5=\"\",\"\",IF(INDEX('CB2'!$P$21:$P$70,$J$5,1,1)=\"\",\"\",INDEX('CB2'!$P$21:$P$70,$J$5,1,1)))","v":""},{"$f":"IF($J$5=\"\",\"\",IF(INDEX('CB3'!$P$21:$P$70,$J$5,1,1)=\"\",\"\",INDEX('CB3'!$P$21:$P$70,$J$5,1,1)))","v":""},null,{"$f":"IF(F12=\"\",\"\",IF(G12=\"\",\"\",IF(H12=\"\",\"\",ROUND(SUM(F12:H12)/3,0))))","v":""},null,"1er  Tri.",{"$f":"IF($J$5=\"\",\"\",IF(INDEX('CB1'!$BG$21:$BG$70,$J$5,1,1)=\"\",\"\",INDEX('CB1'!$BG$21:$BG$70,$J$5,1,1)))","v":""}]
[null,null,null,null,{"$f":"datpro!$E$45","v":"LENGUA EXTRANJERA"},{"$f":"IF($J$5=\"\",\"\",IF(INDEX('CB1'!$Q$21:$Q$70,$J$5,1,1)=\"\",\"\",INDEX('CB1'!$Q$21:$Q$70,$J$5,1,1)))","v":""},{"$f":"IF($J$5=\"\",\"\",IF(INDEX('CB2'!$Q$21:$Q$70,$J$5,1,1)=\"\",\"\",INDEX('CB2'!$Q$21:$Q$70,$J$5,1,1)))","v":""},{"$f":"IF($J$5=\"\",\"\",IF(INDEX('CB3'!$Q$21:$Q$70,$J$5,1,1)=\"\",\"\",INDEX('CB3'!$Q$21:$Q$70,$J$5,1,1)))","v":""},null,{"$f":"IF(F13=\"\",\"\",IF(G13=\"\",\"\",IF(H13=\"\",\"\",ROUND(SUM(F13:H13)/3,0))))","v":""}]
[null,null,null,null,{"$f":"datpro!$E$46","v":"HISTORIA"},{"$f":"IF($J$5=\"\",\"\",IF(INDEX('CB1'!$R$21:$R$70,$J$5,1,1)=\"\",\"\",INDEX('CB1'!$R$21:$R$70,$J$5,1,1)))","v":""},{"$f":"IF($J$5=\"\",\"\",IF(INDEX('CB2'!$R$21:$R$70,$J$5,1,1)=\"\",\"\",INDEX('CB2'!$R$21:$R$70,$J$5,1,1)))","v":""},{"$f":"IF($J$5=\"\",\"\",IF(INDEX('CB3'!$R$21:$R$70,$J$5,1,1)=\"\",\"\",INDEX('CB3'!$R$21:$R$70,$J$5,1,1)))","v":""},null,""]
[null,null,null,null,{"$f":"datpro!$E$47","v":"CIVICA"},{"$f":"IF($J$5=\"\",\"\",IF(INDEX('CB1'!$S$21:$S$70,$J$5,1,1)=\"\",\"\",INDEX('CB1'!$S$21:$S$70,$J$5,1,1)))","v":""},{"$f":"IF($J$5=\"\",\"\",IF(INDEX('CB2'!$S$21:$S$70,$J$5,1,1)=\"\",\"\",INDEX('CB2'!$S$21:$S$70,$J$5,1,1)))","v":""},{"$f":"IF($J$5=\"\",\"\",IF(INDEX('CB3'!$S$21:$S$70,$J$5,1,1)=\"\",\"\",INDEX('CB3'!$S$21:$S$70,$J$5,1,1)))","v":""},null,""]
[null,null,null,null,{"$f":"datpro!$E$48","v":"GEOGRAFIA"},{"$f":"IF($J$5=\"\",\"\",IF(INDEX('CB1'!$T$21:$T$70,$J$5,1,1)=\"\",\"\",INDEX('CB1'!$T$21:$T$70,$J$5,1,1)))","v":""},{"$f":"IF($J$5=\"\",\"\",IF(INDEX('CB2'!$T$21:$T$70,$J$5,1,1)=\"\",\"\",INDEX('CB2'!$T$21:$T$70,$J$5,1,1)))","v":""},{"$f":"IF($J$5=\"\",\"\",IF(INDEX('CB3'!$T$21:$T$70,$J$5,1,1)=\"\",\"\",INDEX('CB3'!$T$21:$T$70,$J$5,1,1)))","v":""},null,""]
[null,null,null,null,{"$f":"datpro!$E$49","v":"CIENCIAS SOCIALES"},{"$f":"IF($J$5=\"\",\"\",IF(INDEX('CB1'!$U$21:$U$70,$J$5,1,1)=\"\",\"\",INDEX('CB1'!$U$21:$U$70,$J$5,1,1)))","v":""},{"$f":"IF($J$5=\"\",\"\",IF(INDEX('CB2'!$U$21:$U$70,$J$5,1,1)=\"\",\"\",INDEX('CB2'!$U$21:$U$70,$J$5,1,1)))","v":""},{"$f":"IF($J$5=\"\",\"\",IF(INDEX('CB3'!$U$21:$U$70,$J$5,1,1)=\"\",\"\",INDEX('CB3'!$U$21:$U$70,$J$5,1,1)))","v":""},null,""]
[null,null,null,null,{"$f":"datpro!$E$50","v":"EDUCACION FISICA Y DEPORTES"},{"$f":"IF($J$5=\"\",\"\",IF(INDEX('CB1'!$V$21:$V$70,$J$5,1,1)=\"\",\"\",INDEX('CB1'!$V$21:$V$70,$J$5,1,1)))","v":""},{"$f":"IF($J$5=\"\",\"\",IF(INDEX('CB2'!$V$21:$V$70,$J$5,1,1)=\"\",\"\",INDEX('CB2'!$V$21:$V$70,$J$5,1,1)))","v":""},{"$f":"IF($J$5=\"\",\"\",IF(INDEX('CB3'!$V$21:$V$70,$J$5,1,1)=\"\",\"\",INDEX('CB3'!$V$21:$V$70,$J$5,1,1)))","v":""},null,""]
[null,null,null,null,{"$f":"datpro!$E$51","v":"EDUCACION MUSICAL"},{"$f":"IF($J$5=\"\",\"\",IF(INDEX('CB1'!$W$21:$W$70,$J$5,1,1)=\"\",\"\",INDEX('CB1'!$W$21:$W$70,$J$5,1,1)))","v":""},{"$f":"IF($J$5=\"\",\"\",IF(INDEX('CB2'!$W$21:$W$70,$J$5,1,1)=\"\",\"\",INDEX('CB2'!$W$21:$W$70,$J$5,1,1)))","v":""},{"$f":"IF($J$5=\"\",\"\",IF(INDEX('CB3'!$W$21:$W$70,$J$5,1,1)=\"\",\"\",INDEX('CB3'!$W$21:$W$70,$J$5,1,1)))","v":""},null,"",null,"2do Tri.",{"$f":"IF($J$5=\"\",\"\",IF(INDEX('CB2'!$BG$21:$BG$70,$J$5,1,1)=\"\",\"\",INDEX('CB2'!$BG$21:$BG$70,$J$5,1,1)))","v":""}]
[null,null,null,null,{"$f":"datpro!$E$52","v":"ARTES PLASTICAS Y VISUALES"},{"$f":"IF($J$5=\"\",\"\",IF(INDEX('CB1'!$X$21:$X$70,$J$5,1,1)=\"\",\"\",INDEX('CB1'!$X$21:$X$70,$J$5,1,1)))","v":""},{"$f":"IF($J$5=\"\",\"\",IF(INDEX('CB2'!$X$21:$X$70,$J$5,1,1)=\"\",\"\",INDEX('CB2'!$X$21:$X$70,$J$5,1,1)))","v":""},{"$f":"IF($J$5=\"\",\"\",IF(INDEX('CB3'!$X$21:$X$70,$J$5,1,1)=\"\",\"\",INDEX('CB3'!$X$21:$X$70,$J$5,1,1)))","v":""},null,""]
[null,null,null,"CIENCIA TECNOLOGIA Y PRODUCCION",{"$f":"datpro!$E$53","v":"MATEMATICAS"},{"$f":"IF($J$5=\"\",\"\",IF(INDEX('CB1'!$Y$21:$Y$70,$J$5,1,1)=\"\",\"\",INDEX('CB1'!$Y$21:$Y$70,$J$5,1,1)))","v":""},{"$f":"IF($J$5=\"\",\"\",IF(INDEX('CB2'!$Y$21:$Y$70,$J$5,1,1)=\"\",\"\",INDEX('CB2'!$Y$21:$Y$70,$J$5,1,1)))","v":""},{"$f":"IF($J$5=\"\",\"\",IF(INDEX('CB3'!$Y$21:$Y$70,$J$5,1,1)=\"\",\"\",INDEX('CB3'!$Y$21:$Y$70,$J$5,1,1)))","v":""},null,""]
[null,null,null,null,{"$f":"datpro!$E$54","v":"TECNICA TECNOLOGIA"},{"$f":"IF($J$5=\"\",\"\",IF(INDEX('CB1'!$Z$21:$Z$70,$J$5,1,1)=\"\",\"\",INDEX('CB1'!$Z$21:$Z$70,$J$5,1,1)))","v":""},{"$f":"IF($J$5=\"\",\"\",IF(INDEX('CB2'!$Z$21:$Z$70,$J$5,1,1)=\"\",\"\",INDEX('CB2'!$Z$21:$Z$70,$J$5,1,1)))","v":""},{"$f":"IF($J$5=\"\",\"\",IF(INDEX('CB3'!$Z$21:$Z$70,$J$5,1,1)=\"\",\"\",INDEX('CB3'!$Z$21:$Z$70,$J$5,1,1)))","v":""},null,"",null,"3er Tri.",{"$f":"IF($J$5=\"\",\"\",IF(INDEX('CB3'!$BG$21:$BG$70,$J$5,1,1)=\"\",\"\",INDEX('CB3'!$BG$21:$BG$70,$J$5,1,1)))","v":""}]
[null,null,null,null,{"$f":"datpro!$E$55","v":0},{"$f":"IF($J$5=\"\",\"\",IF(INDEX('CB1'!$AA$21:$AA$70,$J$5,1,1)=\"\",\"\",INDEX('CB1'!$AA$21:$AA$70,$J$5,1,1)))","v":""},{"$f":"IF($J$5=\"\",\"\",IF(INDEX('CB2'!$AA$21:$AA$70,$J$5,1,1)=\"\",\"\",INDEX('CB2'!$AA$21:$AA$70,$J$5,1,1)))","v":""},{"$f":"IF($J$5=\"\",\"\",IF(INDEX('CB3'!$AA$21:$AA$70,$J$5,1,1)=\"\",\"\",INDEX('CB3'!$AA$21:$AA$70,$J$5,1,1)))","v":""},null,""]
[null,null,null,null,{"$f":"datpro!$E$56","v":0},{"$f":"IF($J$5=\"\",\"\",IF(INDEX('CB1'!$AB$21:$AB$70,$J$5,1,1)=\"\",\"\",INDEX('CB1'!$AB$21:$AB$70,$J$5,1,1)))","v":""},{"$f":"IF($J$5=\"\",\"\",IF(INDEX('CB2'!$AB$21:$AB$70,$J$5,1,1)=\"\",\"\",INDEX('CB2'!$AB$21:$AB$70,$J$5,1,1)))","v":""},{"$f":"IF($J$5=\"\",\"\",IF(INDEX('CB3'!$AB$21:$AB$70,$J$5,1,1)=\"\",\"\",INDEX('CB3'!$AB$21:$AB$70,$J$5,1,1)))","v":""},null,""]
[null,null,null,"VIDA TIERRA Y TERRITORIO",{"$f":"datpro!$E$57","v":"CIENCIAS NATURALES"},{"$f":"IF($J$5=\"\",\"\",IF(INDEX('CB1'!$AC$21:$AC$70,$J$5,1,1)=\"\",\"\",INDEX('CB1'!$AC$21:$AC$70,$J$5,1,1)))","v":""},{"$f":"IF($J$5=\"\",\"\",IF(INDEX('CB2'!$AC$21:$AC$70,$J$5,1,1)=\"\",\"\",INDEX('CB2'!$AC$21:$AC$70,$J$5,1,1)))","v":""},{"$f":"IF($J$5=\"\",\"\",IF(INDEX('CB3'!$AC$21:$AC$70,$J$5,1,1)=\"\",\"\",INDEX('CB3'!$AC$21:$AC$70,$J$5,1,1)))","v":""},null,""]
[null,null,null,null,{"$f":"datpro!$E$58","v":0},{"$f":"IF($J$5=\"\",\"\",IF(INDEX('CB1'!$AD$21:$AD$70,$J$5,1,1)=\"\",\"\",INDEX('CB1'!$AD$21:$AD$70,$J$5,1,1)))","v":""},{"$f":"IF($J$5=\"\",\"\",IF(INDEX('CB2'!$AD$21:$AD$70,$J$5,1,1)=\"\",\"\",INDEX('CB2'!$AD$21:$AD$70,$J$5,1,1)))","v":""},{"$f":"IF($J$5=\"\",\"\",IF(INDEX('CB3'!$AD$21:$AD$70,$J$5,1,1)=\"\",\"\",INDEX('CB3'!$AD$21:$AD$70,$J$5,1,1)))","v":""},null,""]
[null,null,null,null,{"$f":"datpro!$E$59","v":"FISICA"},{"$f":"IF($J$5=\"\",\"\",IF(INDEX('CB1'!$AE$21:$AE$70,$J$5,1,1)=\"\",\"\",INDEX('CB1'!$AE$21:$AE$70,$J$5,1,1)))","v":""},{"$f":"IF($J$5=\"\",\"\",IF(INDEX('CB2'!$AE$21:$AE$70,$J$5,1,1)=\"\",\"\",INDEX('CB2'!$AE$21:$AE$70,$J$5,1,1)))","v":""},{"$f":"IF($J$5=\"\",\"\",IF(INDEX('CB3'!$AE$21:$AE$70,$J$5,1,1)=\"\",\"\",INDEX('CB3'!$AE$21:$AE$70,$J$5,1,1)))","v":""},null,""]
[null,null,null,null,{"$f":"datpro!$E$60","v":"QUIMICA"},{"$f":"IF($J$5=\"\",\"\",IF(INDEX('CB1'!$AF$21:$AF$70,$J$5,1,1)=\"\",\"\",INDEX('CB1'!$AF$21:$AF$70,$J$5,1,1)))","v":""},{"$f":"IF($J$5=\"\",\"\",IF(INDEX('CB2'!$AF$21:$AF$70,$J$5,1,1)=\"\",\"\",INDEX('CB2'!$AF$21:$AF$70,$J$5,1,1)))","v":""},{"$f":"IF($J$5=\"\",\"\",IF(INDEX('CB3'!$AF$21:$AF$70,$J$5,1,1)=\"\",\"\",INDEX('CB3'!$AF$21:$AF$70,$J$5,1,1)))","v":""},null,{"$f":"IF(F28=\"\",\"\",IF(G28=\"\",\"\",IF(H28=\"\",\"\",ROUND(SUM(F28:H28)/3,0))))","v":""}]
[null,null,null,null,{"$f":"datpro!$E$61","v":0},{"$f":"IF($J$5=\"\",\"\",IF(INDEX('CB1'!$AG$21:$AG$70,$J$5,1,1)=\"\",\"\",INDEX('CB1'!$AG$21:$AG$70,$J$5,1,1)))","v":""},{"$f":"IF($J$5=\"\",\"\",IF(INDEX('CB2'!$AG$21:$AG$70,$J$5,1,1)=\"\",\"\",INDEX('CB2'!$AG$21:$AG$70,$J$5,1,1)))","v":""},{"$f":"IF($J$5=\"\",\"\",IF(INDEX('CB3'!$AG$21:$AG$70,$J$5,1,1)=\"\",\"\",INDEX('CB3'!$AG$21:$AG$70,$J$5,1,1)))","v":""},null,""]
[null,null,null,null,{"$f":"datpro!$E$62","v":0},{"$f":"IF($J$5=\"\",\"\",IF(INDEX('CB1'!$AH$21:$AH$70,$J$5,1,1)=\"\",\"\",INDEX('CB1'!$AH$21:$AH$70,$J$5,1,1)))","v":""},{"$f":"IF($J$5=\"\",\"\",IF(INDEX('CB2'!$AH$21:$AH$70,$J$5,1,1)=\"\",\"\",INDEX('CB2'!$AH$21:$AH$70,$J$5,1,1)))","v":""},{"$f":"IF($J$5=\"\",\"\",IF(INDEX('CB3'!$AH$21:$AH$70,$J$5,1,1)=\"\",\"\",INDEX('CB3'!$AH$21:$AH$70,$J$5,1,1)))","v":""},null,""]
[null,null,null,null,{"$f":"datpro!$E$63","v":0},{"$f":"IF($J$5=\"\",\"\",IF(INDEX('CB1'!$AI$21:$AI$70,$J$5,1,1)=\"\",\"\",INDEX('CB1'!$AI$21:$AI$70,$J$5,1,1)))","v":""},{"$f":"IF($J$5=\"\",\"\",IF(INDEX('CB2'!$AI$21:$AI$70,$J$5,1,1)=\"\",\"\",INDEX('CB2'!$AI$21:$AI$70,$J$5,1,1)))","v":""},{"$f":"IF($J$5=\"\",\"\",IF(INDEX('CB3'!$AI$21:$AI$70,$J$5,1,1)=\"\",\"\",INDEX('CB3'!$AI$21:$AI$70,$J$5,1,1)))","v":""},null,""]
[null,null,null,"COSMOS Y PENSAMIENTO",{"$f":"datpro!$E$64","v":"COSMOVISIONES, FILOSOFIA O PSICOLOGIA"},{"$f":"IF($J$5=\"\",\"\",IF(INDEX('CB1'!$AJ$21:$AJ$70,$J$5,1,1)=\"\",\"\",INDEX('CB1'!$AJ$21:$AJ$70,$J$5,1,1)))","v":""},{"$f":"IF($J$5=\"\",\"\",IF(INDEX('CB2'!$AJ$21:$AJ$70,$J$5,1,1)=\"\",\"\",INDEX('CB2'!$AJ$21:$AJ$70,$J$5,1,1)))","v":""},{"$f":"IF($J$5=\"\",\"\",IF(INDEX('CB3'!$AJ$21:$AJ$70,$J$5,1,1)=\"\",\"\",INDEX('CB3'!$AJ$21:$AJ$70,$J$5,1,1)))","v":""},null,""]
[null,null,null,null,{"$f":"datpro!$E$65","v":"VALORES, ESPIRITUALIDAD Y RELIGIONES"},{"$f":"IF($J$5=\"\",\"\",IF(INDEX('CB1'!$AK$21:$AK$70,$J$5,1,1)=\"\",\"\",INDEX('CB1'!$AK$21:$AK$70,$J$5,1,1)))","v":""},{"$f":"IF($J$5=\"\",\"\",IF(INDEX('CB2'!$AK$21:$AK$70,$J$5,1,1)=\"\",\"\",INDEX('CB2'!$AK$21:$AK$70,$J$5,1,1)))","v":""},{"$f":"IF($J$5=\"\",\"\",IF(INDEX('CB3'!$AK$21:$AK$70,$J$5,1,1)=\"\",\"\",INDEX('CB3'!$AK$21:$AK$70,$J$5,1,1)))","v":""},null,{"$f":"IF(F33=\"\",\"\",IF(G33=\"\",\"\",IF(H33=\"\",\"\",ROUND(SUM(F33:H33)/3,0))))","v":""}]
[null,null,null,null,{"$f":"datpro!$E$66","v":"PROMEDIO"},{"$f":"IF($J$5=\"\",\"\",IF(INDEX('CB1'!$AL$21:$AL$70,$J$5,1,1)=\"\",\"\",INDEX('CB1'!$AL$21:$AL$70,$J$5,1,1)))","v":""},{"$f":"IF($J$5=\"\",\"\",IF(INDEX('CB2'!$AL$21:$AL$70,$J$5,1,1)=\"\",\"\",INDEX('CB2'!$AL$21:$AL$70,$J$5,1,1)))","v":""},{"$f":"IF($J$5=\"\",\"\",IF(INDEX('CB3'!$AL$21:$AL$70,$J$5,1,1)=\"\",\"\",INDEX('CB3'!$AL$21:$AL$70,$J$5,1,1)))","v":""},null,{"$f":"IF(F34=\"\",\"\",IF(G34=\"\",\"\",IF(H34=\"\",\"\",ROUND(SUM(F34:H34)/3,0))))","v":""}]
[null,null,null,null,"_________________","__________________"]
[null,null,null,null,{"$f":"datpro!$E$9","v":0},{"$f":"datpro!$E$8","v":0}]
[null,null,null,null,"MAESTRO(A)","DIRECTOR(A)"]

{"sheet":"bol2","index":25,"n_rows":75,"n_cols":17,"rows_kept":75,"cut":false,"hidden":false,"merged":[[57,3,58,3],[61,3,64,3],[68,3,69,3],[11,3,19,3],[20,3,21,3],[24,3,27,3],[31,3,32,3],[48,3,56,3],[58,12,63,12],[64,11,69,11],[64,12,69,12],[27,12,32,12],[43,11,44,12],[48,11,54,11],[48,12,54,12],[55,11,57,11],[55,12,57,12],[72,5,72,9],[73,5,73,9],[38,4,38,9],[39,4,39,9],[40,4,40,9],[1,4,1,9],[2,4,2,9],[3,4,3,9],[6,11,7,12],[71,5,71,9],[34,5,34,9],[35,5,35,9],[36,5,36,9],[11,11,17,11],[18,11,20,11],[21,11,26,11],[27,11,32,11],[11,12,17,12],[18,12,20,12],[21,12,26,12],[58,11,63,11]]}
[]
[null,null,null,null,{"$f":"CONCATENATE(datpro!$D$39,\" 2023\")","v":"BOLETIN DE CALIFICACIONES 2023"},null,null,null,null,null,null,null,null,null,null,"Ξ","Cerrar"]
[null,null,null,null,{"$f":"datpro!$D$38","v":""}]
[null,null,null,null,{"$f":"CONCATENATE(\"UNIDAD EDUCATIVA \",datpro!$E$7)","v":"UNIDAD EDUCATIVA "},null,null,null,null,null,null,null,null,null,null,null,"ir a boletin [1 en 1]"]
[null,null,null,null,{"$f":"IF($J$5<>\"\",CONCATENATE(\"ESTUDIANTE: \",INDEX(filEst!$K21:$K70,$J$5,1,1)),\"\")","v":"ESTUDIANTE: "},null,null,"Nro.",null,1]
[null,null,null,null,{"$f":"CONCATENATE(\"Año de Escolaridad:  \",datpro!$E$11,\" - \",datpro!$E$12)","v":"Año de Escolaridad:   - "}]
[null,null,null,null,"AREAS","1er","2do","3er",null,"Prom.",null,"VALORACION CUALITATIVA"]
[null,null,null,null,"CURRICULARES","TRI","TRI","TRI",null,"Anual"]
[null,null,null,null,{"$f":"datpro!$E$41","v":"LENGUA CASTELLANA"},{"$f":"IF($J$5=\"\",\"\",IF(INDEX('CB1'!$M$21:$M$70,$J$5,1,1)=\"\",\"\",INDEX('CB1'!$M$21:$M$70,$J$5,1,1)))","v":""},{"$f":"IF($J$5=\"\",\"\",IF(INDEX('CB2'!$M$21:$M$70,$J$5,1,1)=\"\",\"\",INDEX('CB2'!$M$21:$M$70,$J$5,1,1)))","v":""},{"$f":"IF($J$5=\"\",\"\",IF(INDEX('CB3'!$M$21:$M$70,$J$5,1,1)=\"\",\"\",INDEX('CB3'!$M$21:$M$70,$J$5,1,1)))","v":""},null,{"$f":"IF(F9=\"\",\"\",IF(G9=\"\",\"\",IF(H9=\"\",\"\",IF(I9=\"\",\"\",ROUND(SUM(F9:I9)/4,0)))))","v":""}]
[null,null,null,null,{"$f":"datpro!$E$42","v":"LENGUA ORIGINARIA"},{"$f":"IF($J$5=\"\",\"\",IF(INDEX('CB1'!$N$21:$N$70,$J$5,1,1)=\"\",\"\",INDEX('CB1'!$N$21:$N$70,$J$5,1,1)))","v":""},{"$f":"IF($J$5=\"\",\"\",IF(INDEX('CB2'!$N$21:$N$70,$J$5,1,1)=\"\",\"\",INDEX('CB2'!$N$21:$N$70,$J$5,1,1)))","v":""},{"$f":"IF($J$5=\"\",\"\",IF(INDEX('CB3'!$N$21:$N$70,$J$5,1,1)=\"\",\"\",INDEX('CB3'!$N$21:$N$70,$J$5,1,1)))","v":""},null,{"$f":"IF(F10=\"\",\"\",IF(G10=\"\",\"\",IF(H10=\"\",\"\",IF(I10=\"\",\"\",ROUND(SUM(F10:I10)/4,0)))))","v":""}]
[null,null,null,null,{"$f":"datpro!$E$43","v":"LENGUA EXTRANGERA primaria"},{"$f":"IF($J$5=\"\",\"\",IF(INDEX('CB1'!$O$21:$O$70,$J$5,1,1)=\"\",\"\",INDEX('CB1'!$O$21:$O$70,$J$5,1,1)))","v":""},{"$f":"IF($J$5=\"\",\"\",IF(INDEX('CB2'!$O$21:$O$70,$J$5,1,1)=\"\",\"\",INDEX('CB2'!$O$21:$O$70,$J$5,1,1)))","v":""},{"$f":"IF($J$5=\"\",\"\",IF(INDEX('CB3'!$O$21:$O$70,$J$5,1,1)=\"\",\"\",INDEX('CB3'!$O$21:$O$70,$J$5,1,1)))","v":""},null,{"$f":"IF(F11=\"\",\"\",IF(G11=\"\",\"\",IF(H11=\"\",\"\",IF(I11=\"\",\"\",ROUND(SUM(F11:I11)/4,0)))))","v":""}]
[null,null,null,"C. y S.",{"$f":"datpro!$E$44","v":"COMUNICACIÓN Y LENGUAJES "},{"$f":"IF($J$5=\"\",\"\",IF(INDEX('CB1'!$P$21:$P$70,$J$5,1,1)=\"\",\"\",INDEX('CB1'!$P$21:$P$70,$J$5,1,1)))","v":""},{"$f":"IF($J$5=\"\",\"\",IF(INDEX('CB2'!$P$21:$P$70,$J$5,1,1)=\"\",\"\",INDEX('CB2'!$P$21:$P$70,$J$5,1,1)))","v":""},{"$f":"IF($J$5=\"\",\"\",IF(INDEX('CB3'!$P$21:$P$70,$J$5,1,1)=\"\",\"\",INDEX('CB3'!$P$21:$P$70,$J$5,1,1)))","v":""},null,{"$f":"IF(F12=\"\",\"\",IF(G12=\"\",\"\",IF(H12=\"\",\"\",ROUND(SUM(F12:H12)/3,0))))","v":""},null,"1er Tri.",{"$f":"IF($J$5=\"\",\"\",IF(INDEX('CB1'!$BG$21:$BG$70,$J$5,1,1)=\"\",\"\",INDEX('CB1'!$BG$21:$BG$70,$J$5,1,1)))","v":""}]
[null,null,null,null,{"$f":"datpro!$E$45","v":"LENGUA EXTRANJERA"},{"$f":"IF($J$5=\"\",\"\",IF(INDEX('CB1'!$Q$21:$Q$70,$J$5,1,1)=\"\",\"\",INDEX('CB1'!$Q$21:$Q$70,$J$5,1,1)))","v":""},{"$f":"IF($J$5=\"\",\"\",IF(INDEX('CB2'!$Q$21:$Q$70,$J$5,1,1)=\"\",\"\",INDEX('CB2'!$Q$21:$Q$70,$J$5,1,1)))","v":""},{"$f":"IF($J$5=\"\",\"\",IF(INDEX('CB3'!$Q$21:$Q$70,$J$5,1,1)=\"\",\"\",INDEX('CB3'!$Q$21:$Q$70,$J$5,1,1)))","v":""},null,{"$f":"IF(F13=\"\",\"\",IF(G13=\"\",\"\",IF(H13=\"\",\"\",ROUND(SUM(F13:H13)/3,0))))","v":""}]
[null,null,null,null,{"$f":"datpro!$E$46","v":"HISTORIA"},{"$f":"IF($J$5=\"\",\"\",IF(INDEX('CB1'!$R$21:$R$70,$J$5,1,1)=\"\",\"\",INDEX('CB1'!$R$21:$R$70,$J$5,1,1)))","v":""},{"$f":"IF($J$5=\"\",\"\",IF(INDEX('CB2'!$R$21:$R$70,$J$5,1,1)=\"\",\"\",INDEX('CB2'!$R$21:$R$70,$J$5,1,1)))","v":""},{"$f":"IF($J$5=\"\",\"\",IF(INDEX('CB3'!$R$21:$R$70,$J$5,1,1)=\"\",\"\",INDEX('CB3'!$R$21:$R$70,$J$5,1,1)))","v":""},null,""]
[null,null,null,null,{"$f":"datpro!$E$47","v":"CIVICA"},{"$f":"IF($J$5=\"\",\"\",IF(INDEX('CB1'!$S$21:$S$70,$J$5,1,1)=\"\",\"\",INDEX('CB1'!$S$21:$S$70,$J$5,1,1)))","v":""},{"$f":"IF($J$5=\"\",\"\",IF(INDEX('CB2'!$S$21:$S$70,$J$5,1,1)=\"\",\"\",INDEX('CB2'!$S$21:$S$70,$J$5,1,1)))","v":""},{"$f":"IF($J$5=\"\",\"\",IF(INDEX('CB3'!$S$21:$S$70,$J$5,1,1)=\"\",\"\",INDEX('CB3'!$S$21:$S$70,$J$5,1,1)))","v":""},null,""]
[null,null,null,null,{"$f":"datpro!$E$48","v":"GEOGRAFIA"},{"$f":"IF($J$5=\"\",\"\",IF(INDEX('CB1'!$T$21:$T$70,$J$5,1,1)=\"\",\"\",INDEX('CB1'!$T$21:$T$70,$J$5,1,1)))","v":""},{"$f":"IF($J$5=\"\",\"\",IF(INDEX('CB2'!$T$21:$T$70,$J$5,1,1)=\"\",\"\",INDEX('CB2'!$T$21:$T$70,$J$5,1,1)))","v":""},{"$f":"IF($J$5=\"\",\"\",IF(INDEX('CB3'!$T$21:$T$70,$J$5,1,1)=\"\",\"\",INDEX('CB3'!$T$21:$T$70,$J$5,1,1)))","v":""},null,""]
[null,null,null,null,{"$f":"datpro!$E$49","v":"CIENCIAS SOCIALES"},{"$f":"IF($J$5=\"\",\"\",IF(INDEX('CB1'!$U$21:$U$70,$J$5,1,1)=\"\",\"\",INDEX('CB1'!$U$21:$U$70,$J$5,1,1)))","v":""},{"$f":"IF($J$5=\"\",\"\",IF(INDEX('CB2'!$U$21:$U$70,$J$5,1,1)=\"\",\"\",INDEX('CB2'!$U$21:$U$70,$J$5,1,1)))","v":""},{"$f":"IF($J$5=\"\",\"\",IF(INDEX('CB3'!$U$21:$U$70,$J$5,1,1)=\"\",\"\",INDEX('CB3'!$U$21:$U$70,$J$5,1,1)))","v":""},null,""]
[null,null,null,null,{"$f":"datpro!$E$50","v":"EDUCACION FISICA Y DEPORTES"},{"$f":"IF($J$5=\"\",\"\",IF(INDEX('CB1'!$V$21:$V$70,$J$5,1,1)=\"\",\"\",INDEX('CB1'!$V$21:$V$70,$J$5,1,1)))","v":""},{"$f":"IF($J$5=\"\",\"\",IF(INDEX('CB2'!$V$21:$V$70,$J$5,1,1)=\"\",\"\",INDEX('CB2'!$V$21:$V$70,$J$5,1,1)))","v":""},{"$f":"IF($J$5=\"\",\"\",IF(INDEX('CB3'!$V$21:$V$70,$J$5,1,1)=\"\",\"\",INDEX('CB3'!$V$21:$V$70,$J$5,1,1)))","v":""},null,""]
[null,null,null,null,{"$f":"datpro!$E$51","v":"EDUCACION MUSICAL"},{"$f":"IF($J$5=\"\",\"\",IF(INDEX('CB1'!$W$21:$W$70,$J$5,1,1)=\"\",\"\",INDEX('CB1'!$W$21:$W$70,$J$5,1,1)))","v":""},{"$f":"IF($J$5=\"\",\"\",IF(INDEX('CB2'!$W$21:$W$70,$J$5,1,1)=\"\",\"\",INDEX('CB2'!$W$21:$W$70,$J$5,1,1)))","v":""},{"$f":"IF($J$5=\"\",\"\",IF(INDEX('CB3'!$W$21:$W$70,$J$5,1,1)=\"\",\"\",INDEX('CB3'!$W$21:$W$70,$J$5,1,1)))","v":""},null,"",null,"2do Tri.",{"$f":"IF($J$5=\"\",\"\",IF(INDEX('CB2'!$BG$21:$BG$70,$J$5,1,1)=\"\",\"\",INDEX('CB2'!$BG$21:$BG$70,$J$5,1,1)))","v":""}]
[null,null,null,null,{"$f":"datpro!$E$52","v":"ARTES PLASTICAS Y VISUALES"},{"$f":"IF($J$5=\"\",\"\",IF(INDEX('CB1'!$X$21:$X$70,$J$5,1,1)=\"\",\"\",INDEX('CB1'!$X$21:$X$70,$J$5,1,1)))","v":""},{"$f":"IF($J$5=\"\",\"\",IF(INDEX('CB2'!$X$21:$X$70,$J$5,1,1)=\"\",\"\",INDEX('CB2'!$X$21:$X$70,$J$5,1,1)))","v":""},{"$f":"IF($J$5=\"\",\"\",IF(INDEX('CB3'!$X$21:$X$70,$J$5,1,1)=\"\",\"\",INDEX('CB3'!$X$21:$X$70,$J$5,1,1)))","v":""},null,""]
[null,null,null,"CTyP",{"$f":"datpro!$E$53","v":"MATEMATICAS"},{"$f":"IF($J$5=\"\",\"\",IF(INDEX('CB1'!$Y$21:$Y$70,$J$5,1,1)=\"\",\"\",INDEX('CB1'!$Y$21:$Y$70,$J$5,1,1)))","v":""},{"$f":"IF($J$5=\"\",\"\",IF(INDEX('CB2'!$Y$21:$Y$70,$J$5,1,1)=\"\",\"\",INDEX('CB2'!$Y$21:$Y$70,$J$5,1,1)))","v":""},{"$f":"IF($J$5=\"\",\"\",IF(INDEX('CB3'!$Y$21:$Y$70,$J$5,1,1)=\"\",\"\",INDEX('CB3'!$Y$21:$Y$70,$J$5,1,1)))","v":""},null,""]
[null,null,null,null,{"$f":"datpro!$E$54","v":"TECNICA TECNOLOGIA"},{"$f":"IF($J$5=\"\",\"\",IF(INDEX('CB1'!$Z$21:$Z$70,$J$5,1,1)=\"\",\"\",INDEX('CB1'!$Z$21:$Z$70,$J$5,1,1)))","v":""},{"$f":"IF($J$5=\"\",\"\",IF(INDEX('CB2'!$Z$21:$Z$70,$J$5,1,1)=\"\",\"\",INDEX('CB2'!$Z$21:$Z$70,$J$5,1,1)))","v":""},{"$f":"IF($J$5=\"\",\"\",IF(INDEX('CB3'!$Z$21:$Z$70,$J$5,1,1)=\"\",\"\",INDEX('CB3'!$Z$21:$Z$70,$J$5,1,1)))","v":""},null,"",null,"3er Tri.",{"$f":"IF($J$5=\"\",\"\",IF(INDEX('CB3'!$BG$21:$BG$70,$J$5,1,1)=\"\",\"\",INDEX('CB3'!$BG$21:$BG$70,$J$5,1,1)))","v":""}]
[null,null,null,null,{"$f":"datpro!$E$55","v":0},{"$f":"IF($J$5=\"\",\"\",IF(INDEX('CB1'!$AA$21:$AA$70,$J$5,1,1)=\"\",\"\",INDEX('CB1'!$AA$21:$AA$70,$J$5,1,1)))","v":""},{"$f":"IF($J$5=\"\",\"\",IF(INDEX('CB2'!$AA$21:$AA$70,$J$5,1,1)=\"\",\"\",INDEX('CB2'!$AA$21:$AA$70,$J$5,1,1)))","v":""},{"$f":"IF($J$5=\"\",\"\",IF(INDEX('CB3'!$AA$21:$AA$70,$J$5,1,1)=\"\",\"\",INDEX('CB3'!$AA$21:$AA$70,$J$5,1,1)))","v":""},null,""]
[null,null,null,null,{"$f":"datpro!$E$56","v":0},{"$f":"IF($J$5=\"\",\"\",IF(INDEX('CB1'!$AB$21:$AB$70,$J$5,1,1)=\"\",\"\",INDEX('CB1'!$AB$21:$AB$70,$J$5,1,1)))","v":""},{"$f":"IF($J$5=\"\",\"\",IF(INDEX('CB2'!$AB$21:$AB$70,$J$5,1,1)=\"\",\"\",INDEX('CB2'!$AB$21:$AB$70,$J$5,1,1)))","v":""},{"$f":"IF($J$5=\"\",\"\",IF(INDEX('CB3'!$AB$21:$AB$70,$J$5,1,1)=\"\",\"\",INDEX('CB3'!$AB$21:$AB$70,$J$5,1,1)))","v":""},null,""]
[null,null,null,"V. T. y T.",{"$f":"datpro!$E$57","v":"CIENCIAS NATURALES"},{"$f":"IF($J$5=\"\",\"\",IF(INDEX('CB1'!$AC$21:$AC$70,$J$5,1,1)=\"\",\"\",INDEX('CB1'!$AC$21:$AC$70,$J$5,1,1)))","v":""},{"$f":"IF($J$5=\"\",\"\",IF(INDEX('CB2'!$AC$21:$AC$70,$J$5,1,1)=\"\",\"\",INDEX('CB2'!$AC$21:$AC$70,$J$5,1,1)))","v":""},{"$f":"IF($J$5=\"\",\"\",IF(INDEX('CB3'!$AC$21:$AC$70,$J$5,1,1)=\"\",\"\",INDEX('CB3'!$AC$21:$AC$70,$J$5,1,1)))","v":""},null,""]
[null,null,null,null,{"$f":"datpro!$E$58","v":0},{"$f":"IF($J$5=\"\",\"\",IF(INDEX('CB1'!$AD$21:$AD$70,$J$5,1,1)=\"\",\"\",INDEX('CB1'!$AD$21:$AD$70,$J$5,1,1)))","v":""},{"$f":"IF($J$5=\"\",\"\",IF(INDEX('CB2'!$AD$21:$AD$70,$J$5,1,1)=\"\",\"\",INDEX('CB2'!$AD$21:$AD$70,$J$5,1,1)))","v":""},{"$f":"IF($J$5=\"\",\"\",IF(INDEX('CB3'!$AD$21:$AD$70,$J$5,1,1)=\"\",\"\",INDEX('CB3'!$AD$21:$AD$70,$J$5,1,1)))","v":""},null,""]
[null,null,null,null,{"$f":"datpro!$E$59","v":"FISICA"},{"$f":"IF($J$5=\"\",\"\",IF(INDEX('CB1'!$AE$21:$AE$70,$J$5,1,1)=\"\",\"\",INDEX('CB1'!$AE$21:$AE$70,$J$5,1,1)))","v":""},{"$f":"IF($J$5=\"\",\"\",IF(INDEX('CB2'!$AE$21:$AE$70,$J$5,1,1)=\"\",\"\",INDEX('CB2'!$AE$21:$AE$70,$J$5,1,1)))","v":""},{"$f":"IF($J$5=\"\",\"\",IF(INDEX('CB3'!$AE$21:$AE$70,$J$5,1,1)=\"\",\"\",INDEX('CB3'!$AE$21:$AE$70,$J$5,1,1)))","v":""},null,""]
[null,null,null,null,{"$f":"datpro!$E$60","v":"QUIMICA"},{"$f":"IF($J$5=\"\",\"\",IF(INDEX('CB1'!$AF$21:$AF$70,$J$5,1,1)=\"\",\"\",INDEX('CB1'!$AF$21:$AF$70,$J$5,1,1)))","v":""},{"$f":"IF($J$5=\"\",\"\",IF(INDEX('CB2'!$AF$21:$AF$70,$J$5,1,1)=\"\",\"\",INDEX('CB2'!$AF$21:$AF$70,$J$5,1,1)))","v":""},{"$f":"IF($J$5=\"\",\"\",IF(INDEX('CB3'!$AF$21:$AF$70,$J$5,1,1)=\"\",\"\",INDEX('CB3'!$AF$21:$AF$70,$J$5,1,1)))","v":""},null,""]
[null,null,null,null,{"$f":"datpro!$E$61","v":0},{"$f":"IF($J$5=\"\",\"\",IF(INDEX('CB1'!$AG$21:$AG$70,$J$5,1,1)=\"\",\"\",INDEX('CB1'!$AG$21:$AG$70,$J$5,1,1)))","v":""},{"$f":"IF($J$5=\"\",\"\",IF(INDEX('CB2'!$AG$21:$AG$70,$J$5,1,1)=\"\",\"\",INDEX('CB2'!$AG$21:$AG$70,$J$5,1,1)))","v":""},{"$f":"IF($J$5=\"\",\"\",IF(INDEX('CB3'!$AG$21:$AG$70,$J$5,1,1)=\"\",\"\",INDEX('CB3'!$AG$21:$AG$70,$J$5,1,1)))","v":""},null,""]
[null,null,null,null,{"$f":"datpro!$E$62","v":0},{"$f":"IF($J$5=\"\",\"\",IF(INDEX('CB1'!$AH$21:$AH$70,$J$5,1,1)=\"\",\"\",INDEX('CB1'!$AH$21:$AH$70,$J$5,1,1)))","v":""},{"$f":"IF($J$5=\"\",\"\",IF(INDEX('CB2'!$AH$21:$AH$70,$J$5,1,1)=\"\",\"\",INDEX('CB2'!$AH$21:$AH$70,$J$5,1,1)))","v":""},{"$f":"IF($J$5=\"\",\"\",IF(INDEX('CB3'!$AH$21:$AH$70,$J$5,1,1)=\"\",\"\",INDEX('CB3'!$AH$21:$AH$70,$J$5,1,1)))","v":""},null,""]
[null,null,null,null,{"$f":"datpro!$E$63","v":0},{"$f":"IF($J$5=\"\",\"\",IF(INDEX('CB1'!$AI$21:$AI$70,$J$5,1,1)=\"\",\"\",INDEX('CB1'!$AI$21:$AI$70,$J$5,1,1)))","v":""},{"$f":"IF($J$5=\"\",\"\",IF(INDEX('CB2'!$AI$21:$AI$70,$J$5,1,1)=\"\",\"\",INDEX('CB2'!$AI$21:$AI$70,$J$5,1,1)))","v":""},{"$f":"IF($J$5=\"\",\"\",IF(INDEX('CB3'!$AI$21:$AI$70,$J$5,1,1)=\"\",\"\",INDEX('CB3'!$AI$21:$AI$70,$J$5,1,1)))","v":""},null,""]
[null,null,null,"C. y P.",{"$f":"datpro!$E$64","v":"COSMOVISIONES, FILOSOFIA O PSICOLOGIA"},{"$f":"IF($J$5=\"\",\"\",IF(INDEX('CB1'!$AJ$21:$AJ$70,$J$5,1,1)=\"\",\"\",INDEX('CB1'!$AJ$21:$AJ$70,$J$5,1,1)))","v":""},{"$f":"IF($J$5=\"\",\"\",IF(INDEX('CB2'!$AJ$21:$AJ$70,$J$5,1,1)=\"\",\"\",INDEX('CB2'!$AJ$21:$AJ$70,$J$5,1,1)))","v":""},{"$f":"IF($J$5=\"\",\"\",IF(INDEX('CB3'!$AJ$21:$AJ$70,$J$5,1,1)=\"\",\"\",INDEX('CB3'!$AJ$21:$AJ$70,$J$5,1,1)))","v":""},null,""]
[null,null,null,null,{"$f":"datpro!$E$65","v":"VALORES, ESPIRITUALIDAD Y RELIGIONES"},{"$f":"IF($J$5=\"\",\"\",IF(INDEX('CB1'!$AK$21:$AK$70,$J$5,1,1)=\"\",\"\",INDEX('CB1'!$AK$21:$AK$70,$J$5,1,1)))","v":""},{"$f":"IF($J$5=\"\",\"\",IF(INDEX('CB2'!$AK$21:$AK$70,$J$5,1,1)=\"\",\"\",INDEX('CB2'!$AK$21:$AK$70,$J$5,1,1)))","v":""},{"$f":"IF($J$5=\"\",\"\",IF(INDEX('CB3'!$AK$21:$AK$70,$J$5,1,1)=\"\",\"\",INDEX('CB3'!$AK$21:$AK$70,$J$5,1,1)))","v":""},null,""]
[null,null,null,null,{"$f":"datpro!$E$66","v":"PROMEDIO"},{"$f":"IF($J$5=\"\",\"\",IF(INDEX('CB1'!$AL$21:$AL$70,$J$5,1,1)=\"\",\"\",INDEX('CB1'!$AL$21:$AL$70,$J$5,1,1)))","v":""},{"$f":"IF($J$5=\"\",\"\",IF(INDEX('CB2'!$AL$21:$AL$70,$J$5,1,1)=\"\",\"\",INDEX('CB2'!$AL$21:$AL$70,$J$5,1,1)))","v":""},{"$f":"IF($J$5=\"\",\"\",IF(INDEX('CB3'!$AL$21:$AL$70,$J$5,1,1)=\"\",\"\",INDEX('CB3'!$AL$21:$AL$70,$J$5,1,1)))","v":""},null,""]
[null,null,null,null,"_________________","__________________"]
[null,null,null,null,{"$f":"datpro!$E$9","v":0},{"$f":"datpro!$E$8","v":0}]
[null,null,null,null,"MAESTRO(A)","DIRECTOR(A)"]
[]
[null,null,null,null,{"$f":"datpro!$D$39","v":"BOLETIN DE CALIFICACIONES"}]
[null,null,null,null,{"$f":"datpro!$D$38","v":""}]
[null,null,null,null,{"$f":"CONCATENATE(\"UNIDAD EDUCATIVA \",datpro!$E$7)","v":"UNIDAD EDUCATIVA "}]
[null,null,null,null,{"$f":"IF($J$42<>\"\",CONCATENATE(\"ESTUDIANTE: \",INDEX(filEst!$K21:$K70,$J$42,1,1)),\"\")","v":"ESTUDIANTE: "},null,null,"Nro.",null,1]
[null,null,null,null,{"$f":"CONCATENATE(\"Año de Escolaridad:  \",datpro!$E$11,\" - \",datpro!$E$12)","v":"Año de Escolaridad:   - "}]
[null,null,null,null,"AREAS","1er","2do","3er",null,"Prom.",null,"VALORACION CUALITATIVA"]
[null,null,null,null,"CURRICULARES","TRI","TRI","TRI",null,"Anual"]
[null,null,null,null,{"$f":"datpro!$E$41","v":"LENGUA CASTELLANA"},{"$f":"IF($J$42=\"\",\"\",IF(INDEX('CB1'!$M$21:$M$70,$J$42,1,1)=\"\",\"\",INDEX('CB1'!$M$21:$M$70,$J$42,1,1)))","v":""},{"$f":"IF($J$42=\"\",\"\",IF(INDEX('CB2'!$M$21:$M$70,$J$42,1,1)=\"\",\"\",INDEX('CB2'!$M$21:$M$70,$J$42,1,1)))","v":""},{"$f":"IF($J$42=\"\",\"\",IF(INDEX('CB3'!$M$21:$M$70,$J$42,1,1)=\"\",\"\",INDEX('CB3'!$M$21:$M$70,$J$42,1,1)))","v":""},null,{"$f":"IF(F46=\"\",\"\",IF(G46=\"\",\"\",IF(H46=\"\",\"\",IF(I46=\"\",\"\",ROUND(SUM(F46:I46)/4,0)))))","v":""}]
[null,null,null,null,{"$f":"datpro!$E$42","v":"LENGUA ORIGINARIA"},{"$f":"IF($J$42=\"\",\"\",IF(INDEX('CB1'!$N$21:$N$70,$J$42,1,1)=\"\",\"\",INDEX('CB1'!$N$21:$N$70,$J$42,1,1)))","v":""},{"$f":"IF($J$42=\"\",\"\",IF(INDEX('CB2'!$N$21:$N$70,$J$42,1,1)=\"\",\"\",INDEX('CB2'!$N$21:$N$70,$J$42,1,1)))","v":""},{"$f":"IF($J$42=\"\",\"\",IF(INDEX('CB3'!$N$21:$N$70,$J$42,1,1)=\"\",\"\",INDEX('CB3'!$N$21:$N$70,$J$42,1,1)))","v":""},null,{"$f":"IF(F47=\"\",\"\",IF(G47=\"\",\"\",IF(H47=\"\",\"\",IF(I47=\"\",\"\",ROUND(SUM(F47:I47)/4,0)))))","v":""}]
[null,null,null,null,{"$f":"datpro!$E$43","v":"LENGUA EXTRANGERA primaria"},{"$f":"IF($J$42=\"\",\"\",IF(INDEX('CB1'!$O$21:$O$70,$J$42,1,1)=\"\",\"\",INDEX('CB1'!$O$21:$O$70,$J$42,1,1)))","v":""},{"$f":"IF($J$42=\"\",\"\",IF(INDEX('CB2'!$O$21:$O$70,$J$42,1,1)=\"\",\"\",INDEX('CB2'!$O$21:$O$70,$J$42,1,1)))","v":""},{"$f":"IF($J$42=\"\",\"\",IF(INDEX('CB3'!$O$21:$O$70,$J$42,1,1)=\"\",\"\",INDEX('CB3'!$O$21:$O$70,$J$42,1,1)))","v":""},null,{"$f":"IF(F48=\"\",\"\",IF(G48=\"\",\"\",IF(H48=\"\",\"\",IF(I48=\"\",\"\",ROUND(SUM(F48:I48)/4,0)))))","v":""}]
[null,null,null,"C. y S.",{"$f":"datpro!$E$44","v":"COMUNICACIÓN Y LENGUAJES "},{"$f":"IF($J$42=\"\",\"\",IF(INDEX('CB1'!$P$21:$P$70,$J$42,1,1)=\"\",\"\",INDEX('CB1'!$P$21:$P$70,$J$42,1,1)))","v":""},{"$f":"IF($J$42=\"\",\"\",IF(INDEX('CB2'!$P$21:$P$70,$J$42,1,1)=\"\",\"\",INDEX('CB2'!$P$21:$P$70,$J$42,1,1)))","v":""},{"$f":"IF($J$42=\"\",\"\",IF(INDEX('CB3'!$P$21:$P$70,$J$42,1,1)=\"\",\"\",INDEX('CB3'!$P$21:$P$70,$J$42,1,1)))","v":""},null,{"$f":"IF(F49=\"\",\"\",IF(G49=\"\",\"\",IF(H49=\"\",\"\",ROUND(SUM(F49:H49)/3,0))))","v":""},null,"1er Tri.",{"$f":"IF($J$5=\"\",\"\",IF(INDEX('CB1'!$BG$21:$BG$70,$J$5,1,1)=\"\",\"\",INDEX('CB1'!$BG$21:$BG$70,$J$5,1,1)))","v":""}]
[null,null,null,null,{"$f":"datpro!$E$45","v":"LENGUA EXTRANJERA"},{"$f":"IF($J$42=\"\",\"\",IF(INDEX('CB1'!$Q$21:$Q$70,$J$42,1,1)=\"\",\"\",INDEX('CB1'!$Q$21:$Q$70,$J$42,1,1)))","v":""},{"$f":"IF($J$42=\"\",\"\",IF(INDEX('CB2'!$Q$21:$Q$70,$J$42,1,1)=\"\",\"\",INDEX('CB2'!$Q$21:$Q$70,$J$42,1,1)))","v":""},{"$f":"IF($J$42=\"\",\"\",IF(INDEX('CB3'!$Q$21:$Q$70,$J$42,1,1)=\"\",\"\",INDEX('CB3'!$Q$21:$Q$70,$J$42,1,1)))","v":""},null,{"$f":"IF(F50=\"\",\"\",IF(G50=\"\",\"\",IF(H50=\"\",\"\",ROUND(SUM(F50:H50)/3,0))))","v":""}]
[null,null,null,null,{"$f":"datpro!$E$46","v":"HISTORIA"},{"$f":"IF($J$42=\"\",\"\",IF(INDEX('CB1'!$R$21:$R$70,$J$42,1,1)=\"\",\"\",INDEX('CB1'!$R$21:$R$70,$J$42,1,1)))","v":""},{"$f":"IF($J$42=\"\",\"\",IF(INDEX('CB2'!$R$21:$R$70,$J$42,1,1)=\"\",\"\",INDEX('CB2'!$R$21:$R$70,$J$42,1,1)))","v":""},{"$f":"IF($J$42=\"\",\"\",IF(INDEX('CB3'!$R$21:$R$70,$J$42,1,1)=\"\",\"\",INDEX('CB3'!$R$21:$R$70,$J$42,1,1)))","v":""},null,{"$f":"IF(F51=\"\",\"\",IF(G51=\"\",\"\",IF(H51=\"\",\"\",ROUND(SUM(F51:H51)/3,0))))","v":""}]
[null,null,null,null,{"$f":"datpro!$E$47","v":"CIVICA"},{"$f":"IF($J$42=\"\",\"\",IF(INDEX('CB1'!$S$21:$S$70,$J$42,1,1)=\"\",\"\",INDEX('CB1'!$S$21:$S$70,$J$42,1,1)))","v":""},{"$f":"IF($J$42=\"\",\"\",IF(INDEX('CB2'!$S$21:$S$70,$J$42,1,1)=\"\",\"\",INDEX('CB2'!$S$21:$S$70,$J$42,1,1)))","v":""},{"$f":"IF($J$42=\"\",\"\",IF(INDEX('CB3'!$S$21:$S$70,$J$42,1,1)=\"\",\"\",INDEX('CB3'!$S$21:$S$70,$J$42,1,1)))","v":""},null,""]
[null,null,null,null,{"$f":"datpro!$E$48","v":"GEOGRAFIA"},{"$f":"IF($J$42=\"\",\"\",IF(INDEX('CB1'!$T$21:$T$70,$J$42,1,1)=\"\",\"\",INDEX('CB1'!$T$21:$T$70,$J$42,1,1)))","v":""},{"$f":"IF($J$42=\"\",\"\",IF(INDEX('CB2'!$T$21:$T$70,$J$42,1,1)=\"\",\"\",INDEX('CB2'!$T$21:$T$70,$J$42,1,1)))","v":""},{"$f":"IF($J$42=\"\",\"\",IF(INDEX('CB3'!$T$21:$T$70,$J$42,1,1)=\"\",\"\",INDEX('CB3'!$T$21:$T$70,$J$42,1,1)))","v":""},null,""]
[null,null,null,null,{"$f":"datpro!$E$49","v":"CIENCIAS SOCIALES"},{"$f":"IF($J$42=\"\",\"\",IF(INDEX('CB1'!$U$21:$U$70,$J$42,1,1)=\"\",\"\",INDEX('CB1'!$U$21:$U$70,$J$42,1,1)))","v":""},{"$f":"IF($J$42=\"\",\"\",IF(INDEX('CB2'!$U$21:$U$70,$J$42,1,1)=\"\",\"\",INDEX('CB2'!$U$21:$U$70,$J$42,1,1)))","v":""},{"$f":"IF($J$42=\"\",\"\",IF(INDEX('CB3'!$U$21:$U$70,$J$42,1,1)=\"\",\"\",INDEX('CB3'!$U$21:$U$70,$J$42,1,1)))","v":""},null,""]
[null,null,null,null,{"$f":"datpro!$E$50","v":"EDUCACION FISICA Y DEPORTES"},{"$f":"IF($J$42=\"\",\"\",IF(INDEX('CB1'!$V$21:$V$70,$J$42,1,1)=\"\",\"\",INDEX('CB1'!$V$21:$V$70,$J$42,1,1)))","v":""},{"$f":"IF($J$42=\"\",\"\",IF(INDEX('CB2'!$V$21:$V$70,$J$42,1,1)=\"\",\"\",INDEX('CB2'!$V$21:$V$70,$J$42,1,1)))","v":""},{"$f":"IF($J$42=\"\",\"\",IF(INDEX('CB3'!$V$21:$V$70,$J$42,1,1)=\"\",\"\",INDEX('CB3'!$V$21:$V$70,$J$42,1,1)))","v":""},null,""]
[null,null,null,null,{"$f":"datpro!$E$51","v":"EDUCACION MUSICAL"},{"$f":"IF($J$42=\"\",\"\",IF(INDEX('CB1'!$W$21:$W$70,$J$42,1,1)=\"\",\"\",INDEX('CB1'!$W$21:$W$70,$J$42,1,1)))","v":""},{"$f":"IF($J$42=\"\",\"\",IF(INDEX('CB2'!$W$21:$W$70,$J$42,1,1)=\"\",\"\",INDEX('CB2'!$W$21:$W$70,$J$42,1,1)))","v":""},{"$f":"IF($J$42=\"\",\"\",IF(INDEX('CB3'!$W$21:$W$70,$J$42,1,1)=\"\",\"\",INDEX('CB3'!$W$21:$W$70,$J$42,1,1)))","v":""},null,"",null,"2do Tri.",{"$f":"IF($J$5=\"\",\"\",IF(INDEX('CB2'!$BG$21:$BG$70,$J$5,1,1)=\"\",\"\",INDEX('CB2'!$BG$21:$BG$70,$J$5,1,1)))","v":""}]
[null,null,null,null,{"$f":"datpro!$E$52","v":"ARTES PLASTICAS Y VISUALES"},{"$f":"IF($J$42=\"\",\"\",IF(INDEX('CB1'!$X$21:$X$70,$J$42,1,1)=\"\",\"\",INDEX('CB1'!$X$21:$X$70,$J$42,1,1)))","v":""},{"$f":"IF($J$42=\"\",\"\",IF(INDEX('CB2'!$X$21:$X$70,$J$42,1,1)=\"\",\"\",INDEX('CB2'!$X$21:$X$70,$J$42,1,1)))","v":""},{"$f":"IF($J$42=\"\",\"\",IF(INDEX('CB3'!$X$21:$X$70,$J$42,1,1)=\"\",\"\",INDEX('CB3'!$X$21:$X$70,$J$42,1,1)))","v":""},null,""]
[null,null,null,"CTyP",{"$f":"datpro!$E$53","v":"MATEMATICAS"},{"$f":"IF($J$42=\"\",\"\",IF(INDEX('CB1'!$Y$21:$Y$70,$J$42,1,1)=\"\",\"\",INDEX('CB1'!$Y$21:$Y$70,$J$42,1,1)))","v":""},{"$f":"IF($J$42=\"\",\"\",IF(INDEX('CB2'!$Y$21:$Y$70,$J$42,1,1)=\"\",\"\",INDEX('CB2'!$Y$21:$Y$70,$J$42,1,1)))","v":""},{"$f":"IF($J$42=\"\",\"\",IF(INDEX('CB3'!$Y$21:$Y$70,$J$42,1,1)=\"\",\"\",INDEX('CB3'!$Y$21:$Y$70,$J$42,1,1)))","v":""},null,""]
[null,null,null,null,{"$f":"datpro!$E$54","v":"TECNICA TECNOLOGIA"},{"$f":"IF($J$42=\"\",\"\",IF(INDEX('CB1'!$Z$21:$Z$70,$J$42,1,1)=\"\",\"\",INDEX('CB1'!$Z$21:$Z$70,$J$42,1,1)))","v":""},{"$f":"IF($J$42=\"\",\"\",IF(INDEX('CB2'!$Z$21:$Z$70,$J$42,1,1)=\"\",\"\",INDEX('CB2'!$Z$21:$Z$70,$J$42,1,1)))","v":""},{"$f":"IF($J$42=\"\",\"\",IF(INDEX('CB3'!$Z$21:$Z$70,$J$42,1,1)=\"\",\"\",INDEX('CB3'!$Z$21:$Z$70,$J$42,1,1)))","v":""},null,"",null,"3er Tri.",{"$f":"IF($J$5=\"\",\"\",IF(INDEX('CB3'!$BG$21:$BG$70,$J$5,1,1)=\"\",\"\",INDEX('CB3'!$BG$21:$BG$70,$J$5,1,1)))","v":""}]
[null,null,null,null,{"$f":"datpro!$E$55","v":0},{"$f":"IF($J$42=\"\",\"\",IF(INDEX('CB1'!$AA$21:$AA$70,$J$42,1,1)=\"\",\"\",INDEX('CB1'!$AA$21:$AA$70,$J$42,1,1)))","v":""},{"$f":"IF($J$42=\"\",\"\",IF(INDEX('CB2'!$AA$21:$AA$70,$J$42,1,1)=\"\",\"\",INDEX('CB2'!$AA$21:$AA$70,$J$42,1,1)))","v":""},{"$f":"IF($J$42=\"\",\"\",IF(INDEX('CB3'!$AA$21:$AA$70,$J$42,1,1)=\"\",\"\",INDEX('CB3'!$AA$21:$AA$70,$J$42,1,1)))","v":""},null,""]
[null,null,null,null,{"$f":"datpro!$E$56","v":0},{"$f":"IF($J$42=\"\",\"\",IF(INDEX('CB1'!$AB$21:$AB$70,$J$42,1,1)=\"\",\"\",INDEX('CB1'!$AB$21:$AB$70,$J$42,1,1)))","v":""},{"$f":"IF($J$42=\"\",\"\",IF(INDEX('CB2'!$AB$21:$AB$70,$J$42,1,1)=\"\",\"\",INDEX('CB2'!$AB$21:$AB$70,$J$42,1,1)))","v":""},{"$f":"IF($J$42=\"\",\"\",IF(INDEX('CB3'!$AB$21:$AB$70,$J$42,1,1)=\"\",\"\",INDEX('CB3'!$AB$21:$AB$70,$J$42,1,1)))","v":""},null,""]
[null,null,null,"V. T. y T.",{"$f":"datpro!$E$57","v":"CIENCIAS NATURALES"},{"$f":"IF($J$42=\"\",\"\",IF(INDEX('CB1'!$AC$21:$AC$70,$J$42,1,1)=\"\",\"\",INDEX('CB1'!$AC$21:$AC$70,$J$42,1,1)))","v":""},{"$f":"IF($J$42=\"\",\"\",IF(INDEX('CB2'!$AC$21:$AC$70,$J$42,1,1)=\"\",\"\",INDEX('CB2'!$AC$21:$AC$70,$J$42,1,1)))","v":""},{"$f":"IF($J$42=\"\",\"\",IF(INDEX('CB3'!$AC$21:$AC$70,$J$42,1,1)=\"\",\"\",INDEX('CB3'!$AC$21:$AC$70,$J$42,1,1)))","v":""},null,{"$f":"IF(F62=\"\",\"\",IF(G62=\"\",\"\",IF(H62=\"\",\"\",ROUND(SUM(F62:H62)/3,0))))","v":""}]
[null,null,null,null,{"$f":"datpro!$E$58","v":0},{"$f":"IF($J$42=\"\",\"\",IF(INDEX('CB1'!$AD$21:$AD$70,$J$42,1,1)=\"\",\"\",INDEX('CB1'!$AD$21:$AD$70,$J$42,1,1)))","v":""},{"$f":"IF($J$42=\"\",\"\",IF(INDEX('CB2'!$AD$21:$AD$70,$J$42,1,1)=\"\",\"\",INDEX('CB2'!$AD$21:$AD$70,$J$42,1,1)))","v":""},{"$f":"IF($J$42=\"\",\"\",IF(INDEX('CB3'!$AD$21:$AD$70,$J$42,1,1)=\"\",\"\",INDEX('CB3'!$AD$21:$AD$70,$J$42,1,1)))","v":""},null,""]
[null,null,null,null,{"$f":"datpro!$E$59","v":"FISICA"},{"$f":"IF($J$42=\"\",\"\",IF(INDEX('CB1'!$AE$21:$AE$70,$J$42,1,1)=\"\",\"\",INDEX('CB1'!$AE$21:$AE$70,$J$42,1,1)))","v":""},{"$f":"IF($J$42=\"\",\"\",IF(INDEX('CB2'!$AE$21:$AE$70,$J$42,1,1)=\"\",\"\",INDEX('CB2'!$AE$21:$AE$70,$J$42,1,1)))","v":""},{"$f":"IF($J$42=\"\",\"\",IF(INDEX('CB3'!$AE$21:$AE$70,$J$42,1,1)=\"\",\"\",INDEX('CB3'!$AE$21:$AE$70,$J$42,1,1)))","v":""},null,{"$f":"IF(F64=\"\",\"\",IF(G64=\"\",\"\",IF(H64=\"\",\"\",ROUND(SUM(F64:H64)/3,0))))","v":""}]
[null,null,null,null,{"$f":"datpro!$E$60","v":"QUIMICA"},{"$f":"IF($J$42=\"\",\"\",IF(INDEX('CB1'!$AF$21:$AF$70,$J$42,1,1)=\"\",\"\",INDEX('CB1'!$AF$21:$AF$70,$J$42,1,1)))","v":""},{"$f":"IF($J$42=\"\",\"\",IF(INDEX('CB2'!$AF$21:$AF$70,$J$42,1,1)=\"\",\"\",INDEX('CB2'!$AF$21:$AF$70,$J$42,1,1)))","v":""},{"$f":"IF($J$42=\"\",\"\",IF(INDEX('CB3'!$AF$21:$AF$70,$J$42,1,1)=\"\",\"\",INDEX('CB3'!$AF$21:$AF$70,$J$42,1,1)))","v":""},null,""]
[null,null,null,null,{"$f":"datpro!$E$61","v":0},{"$f":"IF($J$42=\"\",\"\",IF(INDEX('CB1'!$AG$21:$AG$70,$J$42,1,1)=\"\",\"\",INDEX('CB1'!$AG$21:$AG$70,$J$42,1,1)))","v":""},{"$f":"IF($J$42=\"\",\"\",IF(INDEX('CB2'!$AG$21:$AG$70,$J$42,1,1)=\"\",\"\",INDEX('CB2'!$AG$21:$AG$70,$J$42,1,1)))","v":""},{"$f":"IF($J$42=\"\",\"\",IF(INDEX('CB3'!$AG$21:$AG$70,$J$42,1,1)=\"\",\"\",INDEX('CB3'!$AG$21:$AG$70,$J$42,1,1)))","v":""},null,""]
[null,null,null,null,{"$f":"datpro!$E$62","v":0},{"$f":"IF($J$42=\"\",\"\",IF(INDEX('CB1'!$AH$21:$AH$70,$J$42,1,1)=\"\",\"\",INDEX('CB1'!$AH$21:$AH$70,$J$42,1,1)))","v":""},{"$f":"IF($J$42=\"\",\"\",IF(INDEX('CB2'!$AH$21:$AH$70,$J$42,1,1)=\"\",\"\",INDEX('CB2'!$AH$21:$AH$70,$J$42,1,1)))","v":""},{"$f":"IF($J$42=\"\",\"\",IF(INDEX('CB3'!$AH$21:$AH$70,$J$42,1,1)=\"\",\"\",INDEX('CB3'!$AH$21:$AH$70,$J$42,1,1)))","v":""},null,""]
[null,null,null,null,{"$f":"datpro!$E$63","v":0},{"$f":"IF($J$42=\"\",\"\",IF(INDEX('CB1'!$AI$21:$AI$70,$J$42,1,1)=\"\",\"\",INDEX('CB1'!$AI$21:$AI$70,$J$42,1,1)))","v":""},{"$f":"IF($J$42=\"\",\"\",IF(INDEX('CB2'!$AI$21:$AI$70,$J$42,1,1)=\"\",\"\",INDEX('CB2'!$AI$21:$AI$70,$J$42,1,1)))","v":""},{"$f":"IF($J$42=\"\",\"\",IF(INDEX('CB3'!$AI$21:$AI$70,$J$42,1,1)=\"\",\"\",INDEX('CB3'!$AI$21:$AI$70,$J$42,1,1)))","v":""},null,""]
[null,null,null,"C. y P.",{"$f":"datpro!$E$64","v":"COSMOVISIONES, FILOSOFIA O PSICOLOGIA"},{"$f":"IF($J$42=\"\",\"\",IF(INDEX('CB1'!$AJ$21:$AJ$70,$J$42,1,1)=\"\",\"\",INDEX('CB1'!$AJ$21:$AJ$70,$J$42,1,1)))","v":""},{"$f":"IF($J$42=\"\",\"\",IF(INDEX('CB2'!$AJ$21:$AJ$70,$J$42,1,1)=\"\",\"\",INDEX('CB2'!$AJ$21:$AJ$70,$J$42,1,1)))","v":""},{"$f":"IF($J$42=\"\",\"\",IF(INDEX('CB3'!$AJ$21:$AJ$70,$J$42,1,1)=\"\",\"\",INDEX('CB3'!$AJ$21:$AJ$70,$J$42,1,1)))","v":""},null,{"$f":"IF(F69=\"\",\"\",IF(G69=\"\",\"\",IF(H69=\"\",\"\",ROUND(SUM(F69:H69)/3,0))))","v":""}]
[null,null,null,null,{"$f":"datpro!$E$65","v":"VALORES, ESPIRITUALIDAD Y RELIGIONES"},{"$f":"IF($J$42=\"\",\"\",IF(INDEX('CB1'!$AK$21:$AK$70,$J$42,1,1)=\"\",\"\",INDEX('CB1'!$AK$21:$AK$70,$J$42,1,1)))","v":""},{"$f":"IF($J$42=\"\",\"\",IF(INDEX('CB2'!$AK$21:$AK$70,$J$42,1,1)=\"\",\"\",INDEX('CB2'!$AK$21:$AK$70,$J$42,1,1)))","v":""},{"$f":"IF($J$42=\"\",\"\",IF(INDEX('CB3'!$AK$21:$AK$70,$J$42,1,1)=\"\",\"\",INDEX('CB3'!$AK$21:$AK$70,$J$42,1,1)))","v":""},null,""]
[null,null,null,null,{"$f":"datpro!$E$66","v":"PROMEDIO"},{"$f":"IF($J$42=\"\",\"\",IF(INDEX('CB1'!$AL$21:$AL$70,$J$42,1,1)=\"\",\"\",INDEX('CB1'!$AL$21:$AL$70,$J$42,1,1)))","v":""},{"$f":"IF($J$42=\"\",\"\",IF(INDEX('CB2'!$AL$21:$AL$70,$J$42,1,1)=\"\",\"\",INDEX('CB2'!$AL$21:$AL$70,$J$42,1,1)))","v":""},{"$f":"IF($J$42=\"\",\"\",IF(INDEX('CB3'!$AL$21:$AL$70,$J$42,1,1)=\"\",\"\",INDEX('CB3'!$AL$21:$AL$70,$J$42,1,1)))","v":""},null,{"$f":"IF(F71=\"\",\"\",IF(G71=\"\",\"\",IF(H71=\"\",\"\",ROUND(SUM(F71:H71)/3,0))))","v":""}]
[null,null,null,null,"_________________","__________________"]
[null,null,null,null,{"$f":"datpro!$E$9","v":0},{"$f":"datpro!$E$8","v":0}]
[null,null,null,null,"MAESTRO(A)","DIRECTOR(A)"]
[null,null,null,"Ξ","Cerrar"]

{"sheet":"bol3","index":26,"n_rows":38,"n_cols":38,"rows_kept":38,"cut":false,"hidden":false,"merged":[[1,29,1,34],[2,29,2,34],[3,29,3,34],[34,30,34,34],[35,30,35,34],[36,30,36,34],[34,5,34,9],[34,18,34,22],[35,5,35,9],[35,18,35,22],[36,5,36,9],[36,18,36,22],[1,4,1,9],[1,17,1,22],[2,4,2,9],[2,17,2,22],[3,4,3,9],[3,17,3,22]]}
[]
[null,null,null,null,{"$f":"CONCATENATE(datpro!$D$39,\" 2023\")","v":"BOLETIN DE CALIFICACIONES 2023"},null,null,null,null,null,null,null,null,null,null,null,null,{"$f":"CONCATENATE(datpro!$D$39,\" 2023\")","v":"BOLETIN DE CALIFICACIONES 2023"},null,null,null,null,null,null,null,null,null,null,null,{"$f":"CONCATENATE(datpro!$D$39,\" 2023\")","v":"BOLETIN DE CALIFICACIONES 2023"},null,null,null,null,null,null,"Ξ","Cerrar"]
[null,null,null,null,{"$f":"datpro!$D$38","v":""},null,null,null,null,null,null,null,null,null,null,null,null,{"$f":"datpro!$D$38","v":""},null,null,null,null,null,null,null,null,null,null,null,{"$f":"datpro!$D$38","v":""}]
[null,null,null,null,{"$f":"CONCATENATE(\"UNIDAD EDUCATIVA \",datpro!$E$7)","v":"UNIDAD EDUCATIVA "},null,null,null,null,null,null,null,null,null,null,null,null,{"$f":"CONCATENATE(\"UNIDAD EDUCATIVA \",datpro!$E$7)","v":"UNIDAD EDUCATIVA "},null,null,null,null,null,null,null,null,null,null,null,{"$f":"CONCATENATE(\"UNIDAD EDUCATIVA \",datpro!$E$7)","v":"UNIDAD EDUCATIVA "},null,null,null,null,null,null,null,"ir a boletin [1 en 1]"]
[null,null,null,null,{"$f":"IF($J$5<>\"\",CONCATENATE(\"ESTUDIANTE: \",INDEX(filEst!$K21:$K70,$J$5,1,1)),\"\")","v":"ESTUDIANTE: "},null,null,null,"Nro.",1,null,null,null,null,null,null,null,{"$f":"IF($W$5<>\"\",CONCATENATE(\"ESTUDIANTE: \",INDEX(filEst!$K21:$K70,$W$5,1,1)),\"\")","v":"ESTUDIANTE: "},null,null,null,"Nro.",2,null,null,null,null,null,null,{"$f":"IF($AI$5<>\"\",CONCATENATE(\"ESTUDIANTE: \",INDEX(filEst!$K21:$K70,$AI$5,1,1)),\"\")","v":"ESTUDIANTE: "},null,null,null,"Nro.",3]
[null,null,null,null,{"$f":"CONCATENATE(\"Año de Escolaridad:  \",datpro!$E$11,\" - \",datpro!$E$12)","v":"Año de Escolaridad:   - "},null,null,null,null,null,null,null,null,null,null,null,null,{"$f":"CONCATENATE(\"Año de Escolaridad:  \",datpro!$E$11,\" - \",datpro!$E$12)","v":"Año de Escolaridad:   - "},null,null,null,null,null,null,null,null,null,null,null,{"$f":"CONCATENATE(\"Año de Escolaridad:  \",datpro!$E$11,\" - \",datpro!$E$12)","v":"Año de Escolaridad:   - "}]
[null,null,null,null,"AREAS","1er","2do","3er",null,"Prom.",null,null,null,null,null,null,null,"AREAS","1er","2do","3er",null,"Prom.",null,null,null,null,null,null,"AREAS","1er","2do","3er",null,"Prom."]
[null,null,null,null,"CURRICULARES","TRI","TRI","TRI",null,"Anual",null,null,null,null,null,null,null,"CURRICULARES","TRI","TRI","TRI",null,"Anual",null,null,null,null,null,null,"CURRICULARES","TRI","TRI","TRI",null,"Anual"]
[null,null,null,null,{"$f":"datpro!$E$41","v":"LENGUA CASTELLANA"},{"$f":"IF($J$5=\"\",\"\",IF(INDEX('CB1'!$M$21:$M$70,$J$5,1,1)=\"\",\"\",INDEX('CB1'!$M$21:$M$70,$J$5,1,1)))","v":""},{"$f":"IF($J$5=\"\",\"\",IF(INDEX('CB2'!$M$21:$M$70,$J$5,1,1)=\"\",\"\",INDEX('CB2'!$M$21:$M$70,$J$5,1,1)))","v":""},{"$f":"IF($J$5=\"\",\"\",IF(INDEX('CB3'!$M$21:$M$70,$J$5,1,1)=\"\",\"\",INDEX('CB3'!$M$21:$M$70,$J$5,1,1)))","v":""},null,{"$f":"IF(F9=\"\",\"\",IF(G9=\"\",\"\",IF(H9=\"\",\"\",IF(I9=\"\",\"\",ROUND(SUM(F9:I9)/4,0)))))","v":""},null,null,null,null,null,null,null,{"$f":"datpro!$E$41","v":"LENGUA CASTELLANA"},{"$f":"IF($W$5=\"\",\"\",IF(INDEX('CB1'!$M$21:$M$70,$W$5,1,1)=\"\",\"\",INDEX('CB1'!$M$21:$M$70,$W$5,1,1)))","v":""},{"$f":"IF($W$5=\"\",\"\",IF(INDEX('CB2'!$M$21:$M$70,$W$5,1,1)=\"\",\"\",INDEX('CB2'!$M$21:$M$70,$W$5,1,1)))","v":""},{"$f":"IF($W$5=\"\",\"\",IF(INDEX('CB3'!$M$21:$M$70,$W$5,1,1)=\"\",\"\",INDEX('CB3'!$M$21:$M$70,$W$5,1,1)))","v":""},null,{"$f":"IF(S9=\"\",\"\",IF(T9=\"\",\"\",IF(U9=\"\",\"\",IF(V9=\"\",\"\",ROUND(SUM(S9:V9)/4,0)))))","v":""},null,null,null,null,null,null,{"$f":"datpro!$E$41","v":"LENGUA CASTELLANA"},{"$f":"IF($AI$5=\"\",\"\",IF(INDEX('CB1'!$M$21:$M$70,$AI$5,1,1)=\"\",\"\",INDEX('CB1'!$M$21:$M$70,$AI$5,1,1)))","v":""},{"$f":"IF($AI$5=\"\",\"\",IF(INDEX('CB2'!$M$21:$M$70,$AI$5,1,1)=\"\",\"\",INDEX('CB2'!$M$21:$M$70,$AI$5,1,1)))","v":""},{"$f":"IF($AI$5=\"\",\"\",IF(INDEX('CB3'!$M$21:$M$70,$AI$5,1,1)=\"\",\"\",INDEX('CB3'!$M$21:$M$70,$AI$5,1,1)))","v":""},null,{"$f":"IF(AE9=\"\",\"\",IF(AF9=\"\",\"\",IF(AG9=\"\",\"\",IF(AH9=\"\",\"\",ROUND(SUM(AE9:AH9)/4,0)))))","v":""}]
[null,null,null,null,{"$f":"datpro!$E$42","v":"LENGUA ORIGINARIA"},{"$f":"IF($J$5=\"\",\"\",IF(INDEX('CB1'!$N$21:$N$70,$J$5,1,1)=\"\",\"\",INDEX('CB1'!$N$21:$N$70,$J$5,1,1)))","v":""},{"$f":"IF($J$5=\"\",\"\",IF(INDEX('CB2'!$N$21:$N$70,$J$5,1,1)=\"\",\"\",INDEX('CB2'!$N$21:$N$70,$J$5,1,1)))","v":""},{"$f":"IF($J$5=\"\",\"\",IF(INDEX('CB3'!$N$21:$N$70,$J$5,1,1)=\"\",\"\",INDEX('CB3'!$N$21:$N$70,$J$5,1,1)))","v":""},null,{"$f":"IF(F10=\"\",\"\",IF(G10=\"\",\"\",IF(H10=\"\",\"\",IF(I10=\"\",\"\",ROUND(SUM(F10:I10)/4,0)))))","v":""},null,null,null,null,null,null,null,{"$f":"datpro!$E$42","v":"LENGUA ORIGINARIA"},{"$f":"IF($W$5=\"\",\"\",IF(INDEX('CB1'!$N$21:$N$70,$W$5,1,1)=\"\",\"\",INDEX('CB1'!$N$21:$N$70,$W$5,1,1)))","v":""},{"$f":"IF($W$5=\"\",\"\",IF(INDEX('CB2'!$N$21:$N$70,$W$5,1,1)=\"\",\"\",INDEX('CB2'!$N$21:$N$70,$W$5,1,1)))","v":""},{"$f":"IF($W$5=\"\",\"\",IF(INDEX('CB3'!$N$21:$N$70,$W$5,1,1)=\"\",\"\",INDEX('CB3'!$N$21:$N$70,$W$5,1,1)))","v":""},null,{"$f":"IF(S10=\"\",\"\",IF(T10=\"\",\"\",IF(U10=\"\",\"\",IF(V10=\"\",\"\",ROUND(SUM(S10:V10)/4,0)))))","v":""},null,null,null,null,null,null,{"$f":"datpro!$E$42","v":"LENGUA ORIGINARIA"},{"$f":"IF($AI$5=\"\",\"\",IF(INDEX('CB1'!$N$21:$N$70,$AI$5,1,1)=\"\",\"\",INDEX('CB1'!$N$21:$N$70,$AI$5,1,1)))","v":""},{"$f":"IF($AI$5=\"\",\"\",IF(INDEX('CB2'!$N$21:$N$70,$AI$5,1,1)=\"\",\"\",INDEX('CB2'!$N$21:$N$70,$AI$5,1,1)))","v":""},{"$f":"IF($AI$5=\"\",\"\",IF(INDEX('CB3'!$N$21:$N$70,$AI$5,1,1)=\"\",\"\",INDEX('CB3'!$N$21:$N$70,$AI$5,1,1)))","v":""},null,{"$f":"IF(AE10=\"\",\"\",IF(AF10=\"\",\"\",IF(AG10=\"\",\"\",IF(AH10=\"\",\"\",ROUND(SUM(AE10:AH10)/4,0)))))","v":""}]
[null,null,null,null,{"$f":"datpro!$E$43","v":"LENGUA EXTRANGERA primaria"},{"$f":"IF($J$5=\"\",\"\",IF(INDEX('CB1'!$O$21:$O$70,$J$5,1,1)=\"\",\"\",INDEX('CB1'!$O$21:$O$70,$J$5,1,1)))","v":""},{"$f":"IF($J$5=\"\",\"\",IF(INDEX('CB2'!$O$21:$O$70,$J$5,1,1)=\"\",\"\",INDEX('CB2'!$O$21:$O$70,$J$5,1,1)))","v":""},{"$f":"IF($J$5=\"\",\"\",IF(INDEX('CB3'!$O$21:$O$70,$J$5,1,1)=\"\",\"\",INDEX('CB3'!$O$21:$O$70,$J$5,1,1)))","v":""},null,{"$f":"IF(F11=\"\",\"\",IF(G11=\"\",\"\",IF(H11=\"\",\"\",IF(I11=\"\",\"\",ROUND(SUM(F11:I11)/4,0)))))","v":""},null,null,null,null,null,null,null,{"$f":"datpro!$E$43","v":"LENGUA EXTRANGERA primaria"},{"$f":"IF($W$5=\"\",\"\",IF(INDEX('CB1'!$O$21:$O$70,$W$5,1,1)=\"\",\"\",INDEX('CB1'!$O$21:$O$70,$W$5,1,1)))","v":""},{"$f":"IF($W$5=\"\",\"\",IF(INDEX('CB2'!$O$21:$O$70,$W$5,1,1)=\"\",\"\",INDEX('CB2'!$O$21:$O$70,$W$5,1,1)))","v":""},{"$f":"IF($W$5=\"\",\"\",IF(INDEX('CB3'!$O$21:$O$70,$W$5,1,1)=\"\",\"\",INDEX('CB3'!$O$21:$O$70,$W$5,1,1)))","v":""},null,{"$f":"IF(S11=\"\",\"\",IF(T11=\"\",\"\",IF(U11=\"\",\"\",IF(V11=\"\",\"\",ROUND(SUM(S11:V11)/4,0)))))","v":""},null,null,null,null,null,null,{"$f":"datpro!$E$43","v":"LENGUA EXTRANGERA primaria"},{"$f":"IF($AI$5=\"\",\"\",IF(INDEX('CB1'!$O$21:$O$70,$AI$5,1,1)=\"\",\"\",INDEX('CB1'!$O$21:$O$70,$AI$5,1,1)))","v":""},{"$f":"IF($AI$5=\"\",\"\",IF(INDEX('CB2'!$O$21:$O$70,$AI$5,1,1)=\"\",\"\",INDEX('CB2'!$O$21:$O$70,$AI$5,1,1)))","v":""},{"$f":"IF($AI$5=\"\",\"\",IF(INDEX('CB3'!$O$21:$O$70,$AI$5,1,1)=\"\",\"\",INDEX('CB3'!$O$21:$O$70,$AI$5,1,1)))","v":""},null,{"$f":"IF(AE11=\"\",\"\",IF(AF11=\"\",\"\",IF(AG11=\"\",\"\",IF(AH11=\"\",\"\",ROUND(SUM(AE11:AH11)/4,0)))))","v":""}]
[null,null,null,null,{"$f":"datpro!$E$44","v":"COMUNICACIÓN Y LENGUAJES "},{"$f":"IF($J$5=\"\",\"\",IF(INDEX('CB1'!$P$21:$P$70,$J$5,1,1)=\"\",\"\",INDEX('CB1'!$P$21:$P$70,$J$5,1,1)))","v":""},{"$f":"IF($J$5=\"\",\"\",IF(INDEX('CB2'!$P$21:$P$70,$J$5,1,1)=\"\",\"\",INDEX('CB2'!$P$21:$P$70,$J$5,1,1)))","v":""},{"$f":"IF($J$5=\"\",\"\",IF(INDEX('CB3'!$P$21:$P$70,$J$5,1,1)=\"\",\"\",INDEX('CB3'!$P$21:$P$70,$J$5,1,1)))","v":""},null,{"$f":"IF(F12=\"\",\"\",IF(G12=\"\",\"\",IF(H12=\"\",\"\",ROUND(SUM(F12:H12)/3,0))))","v":""},null,null,null,null,null,null,null,{"$f":"datpro!$E$44","v":"COMUNICACIÓN Y LENGUAJES "},{"$f":"IF($W$5=\"\",\"\",IF(INDEX('CB1'!$P$21:$P$70,$W$5,1,1)=\"\",\"\",INDEX('CB1'!$P$21:$P$70,$W$5,1,1)))","v":""},{"$f":"IF($W$5=\"\",\"\",IF(INDEX('CB2'!$P$21:$P$70,$W$5,1,1)=\"\",\"\",INDEX('CB2'!$P$21:$P$70,$W$5,1,1)))","v":""},{"$f":"IF($W$5=\"\",\"\",IF(INDEX('CB3'!$P$21:$P$70,$W$5,1,1)=\"\",\"\",INDEX('CB3'!$P$21:$P$70,$W$5,1,1)))","v":""},null,{"$f":"IF(S12=\"\",\"\",IF(T12=\"\",\"\",IF(U12=\"\",\"\",ROUND(SUM(S12:U12)/3,0))))","v":""},null,null,null,null,null,null,{"$f":"datpro!$E$44","v":"COMUNICACIÓN Y LENGUAJES "},{"$f":"IF($AI$5=\"\",\"\",IF(INDEX('CB1'!$P$21:$P$70,$AI$5,1,1)=\"\",\"\",INDEX('CB1'!$P$21:$P$70,$AI$5,1,1)))","v":""},{"$f":"IF($AI$5=\"\",\"\",IF(INDEX('CB2'!$P$21:$P$70,$AI$5,1,1)=\"\",\"\",INDEX('CB2'!$P$21:$P$70,$AI$5,1,1)))","v":""},{"$f":"IF($AI$5=\"\",\"\",IF(INDEX('CB3'!$P$21:$P$70,$AI$5,1,1)=\"\",\"\",INDEX('CB3'!$P$21:$P$70,$AI$5,1,1)))","v":""},null,{"$f":"IF(AE12=\"\",\"\",IF(AF12=\"\",\"\",IF(AG12=\"\",\"\",ROUND(SUM(AE12:AG12)/3,0))))","v":""}]
[null,null,null,null,{"$f":"datpro!$E$45","v":"LENGUA EXTRANJERA"},{"$f":"IF($J$5=\"\",\"\",IF(INDEX('CB1'!$Q$21:$Q$70,$J$5,1,1)=\"\",\"\",INDEX('CB1'!$Q$21:$Q$70,$J$5,1,1)))","v":""},{"$f":"IF($J$5=\"\",\"\",IF(INDEX('CB2'!$Q$21:$Q$70,$J$5,1,1)=\"\",\"\",INDEX('CB2'!$Q$21:$Q$70,$J$5,1,1)))","v":""},{"$f":"IF($J$5=\"\",\"\",IF(INDEX('CB3'!$Q$21:$Q$70,$J$5,1,1)=\"\",\"\",INDEX('CB3'!$Q$21:$Q$70,$J$5,1,1)))","v":""},null,{"$f":"IF(F13=\"\",\"\",IF(G13=\"\",\"\",IF(H13=\"\",\"\",ROUND(SUM(F13:H13)/3,0))))","v":""},null,null,null,null,null,null,null,{"$f":"datpro!$E$45","v":"LENGUA EXTRANJERA"},{"$f":"IF($W$5=\"\",\"\",IF(INDEX('CB1'!$Q$21:$Q$70,$W$5,1,1)=\"\",\"\",INDEX('CB1'!$Q$21:$Q$70,$W$5,1,1)))","v":""},{"$f":"IF($W$5=\"\",\"\",IF(INDEX('CB2'!$Q$21:$Q$70,$W$5,1,1)=\"\",\"\",INDEX('CB2'!$Q$21:$Q$70,$W$5,1,1)))","v":""},{"$f":"IF($W$5=\"\",\"\",IF(INDEX('CB3'!$Q$21:$Q$70,$W$5,1,1)=\"\",\"\",INDEX('CB3'!$Q$21:$Q$70,$W$5,1,1)))","v":""},null,{"$f":"IF(S13=\"\",\"\",IF(T13=\"\",\"\",IF(U13=\"\",\"\",ROUND(SUM(S13:U13)/3,0))))","v":""},null,null,null,null,null,null,{"$f":"datpro!$E$45","v":"LENGUA EXTRANJERA"},{"$f":"IF($AI$5=\"\",\"\",IF(INDEX('CB1'!$Q$21:$Q$70,$AI$5,1,1)=\"\",\"\",INDEX('CB1'!$Q$21:$Q$70,$AI$5,1,1)))","v":""},{"$f":"IF($AI$5=\"\",\"\",IF(INDEX('CB2'!$Q$21:$Q$70,$AI$5,1,1)=\"\",\"\",INDEX('CB2'!$Q$21:$Q$70,$AI$5,1,1)))","v":""},{"$f":"IF($AI$5=\"\",\"\",IF(INDEX('CB3'!$Q$21:$Q$70,$AI$5,1,1)=\"\",\"\",INDEX('CB3'!$Q$21:$Q$70,$AI$5,1,1)))","v":""},null,{"$f":"IF(AE13=\"\",\"\",IF(AF13=\"\",\"\",IF(AG13=\"\",\"\",ROUND(SUM(AE13:AG13)/3,0))))","v":""}]
[null,null,null,null,{"$f":"datpro!$E$46","v":"HISTORIA"},{"$f":"IF($J$5=\"\",\"\",IF(INDEX('CB1'!$R$21:$R$70,$J$5,1,1)=\"\",\"\",INDEX('CB1'!$R$21:$R$70,$J$5,1,1)))","v":""},{"$f":"IF($J$5=\"\",\"\",IF(INDEX('CB2'!$R$21:$R$70,$J$5,1,1)=\"\",\"\",INDEX('CB2'!$R$21:$R$70,$J$5,1,1)))","v":""},{"$f":"IF($J$5=\"\",\"\",IF(INDEX('CB3'!$R$21:$R$70,$J$5,1,1)=\"\",\"\",INDEX('CB3'!$R$21:$R$70,$J$5,1,1)))","v":""},null,"",null,null,null,null,null,null,null,{"$f":"datpro!$E$46","v":"HISTORIA"},{"$f":"IF($W$5=\"\",\"\",IF(INDEX('CB1'!$R$21:$R$70,$W$5,1,1)=\"\",\"\",INDEX('CB1'!$R$21:$R$70,$W$5,1,1)))","v":""},{"$f":"IF($W$5=\"\",\"\",IF(INDEX('CB2'!$R$21:$R$70,$W$5,1,1)=\"\",\"\",INDEX('CB2'!$R$21:$R$70,$W$5,1,1)))","v":""},{"$f":"IF($W$5=\"\",\"\",IF(INDEX('CB3'!$R$21:$R$70,$W$5,1,1)=\"\",\"\",INDEX('CB3'!$R$21:$R$70,$W$5,1,1)))","v":""},null,"",null,null,null,null,null,null,{"$f":"datpro!$E$46","v":"HISTORIA"},{"$f":"IF($AI$5=\"\",\"\",IF(INDEX('CB1'!$R$21:$R$70,$AI$5,1,1)=\"\",\"\",INDEX('CB1'!$R$21:$R$70,$AI$5,1,1)))","v":""},{"$f":"IF($AI$5=\"\",\"\",IF(INDEX('CB2'!$R$21:$R$70,$AI$5,1,1)=\"\",\"\",INDEX('CB2'!$R$21:$R$70,$AI$5,1,1)))","v":""},{"$f":"IF($AI$5=\"\",\"\",IF(INDEX('CB3'!$R$21:$R$70,$AI$5,1,1)=\"\",\"\",INDEX('CB3'!$R$21:$R$70,$AI$5,1,1)))","v":""},null,{"$f":"IF(AE14=\"\",\"\",IF(AF14=\"\",\"\",IF(AG14=\"\",\"\",ROUND(SUM(AE14:AG14)/3,0))))","v":""}]
[null,null,null,null,{"$f":"datpro!$E$47","v":"CIVICA"},{"$f":"IF($J$5=\"\",\"\",IF(INDEX('CB1'!$S$21:$S$70,$J$5,1,1)=\"\",\"\",INDEX('CB1'!$S$21:$S$70,$J$5,1,1)))","v":""},{"$f":"IF($J$5=\"\",\"\",IF(INDEX('CB2'!$S$21:$S$70,$J$5,1,1)=\"\",\"\",INDEX('CB2'!$S$21:$S$70,$J$5,1,1)))","v":""},{"$f":"IF($J$5=\"\",\"\",IF(INDEX('CB3'!$S$21:$S$70,$J$5,1,1)=\"\",\"\",INDEX('CB3'!$S$21:$S$70,$J$5,1,1)))","v":""},null,"",null,null,null,null,null,null,null,{"$f":"datpro!$E$47","v":"CIVICA"},{"$f":"IF($W$5=\"\",\"\",IF(INDEX('CB1'!$S$21:$S$70,$W$5,1,1)=\"\",\"\",INDEX('CB1'!$S$21:$S$70,$W$5,1,1)))","v":""},{"$f":"IF($W$5=\"\",\"\",IF(INDEX('CB2'!$S$21:$S$70,$W$5,1,1)=\"\",\"\",INDEX('CB2'!$S$21:$S$70,$W$5,1,1)))","v":""},{"$f":"IF($W$5=\"\",\"\",IF(INDEX('CB3'!$S$21:$S$70,$W$5,1,1)=\"\",\"\",INDEX('CB3'!$S$21:$S$70,$W$5,1,1)))","v":""},null,"",null,null,null,null,null,null,{"$f":"datpro!$E$47","v":"CIVICA"},{"$f":"IF($AI$5=\"\",\"\",IF(INDEX('CB1'!$S$21:$S$70,$AI$5,1,1)=\"\",\"\",INDEX('CB1'!$S$21:$S$70,$AI$5,1,1)))","v":""},{"$f":"IF($AI$5=\"\",\"\",IF(INDEX('CB2'!$S$21:$S$70,$AI$5,1,1)=\"\",\"\",INDEX('CB2'!$S$21:$S$70,$AI$5,1,1)))","v":""},{"$f":"IF($AI$5=\"\",\"\",IF(INDEX('CB3'!$S$21:$S$70,$AI$5,1,1)=\"\",\"\",INDEX('CB3'!$S$21:$S$70,$AI$5,1,1)))","v":""},null,""]
[null,null,null,null,{"$f":"datpro!$E$48","v":"GEOGRAFIA"},{"$f":"IF($J$5=\"\",\"\",IF(INDEX('CB1'!$T$21:$T$70,$J$5,1,1)=\"\",\"\",INDEX('CB1'!$T$21:$T$70,$J$5,1,1)))","v":""},{"$f":"IF($J$5=\"\",\"\",IF(INDEX('CB2'!$T$21:$T$70,$J$5,1,1)=\"\",\"\",INDEX('CB2'!$T$21:$T$70,$J$5,1,1)))","v":""},{"$f":"IF($J$5=\"\",\"\",IF(INDEX('CB3'!$T$21:$T$70,$J$5,1,1)=\"\",\"\",INDEX('CB3'!$T$21:$T$70,$J$5,1,1)))","v":""},null,"",null,null,null,null,null,null,null,{"$f":"datpro!$E$48","v":"GEOGRAFIA"},{"$f":"IF($W$5=\"\",\"\",IF(INDEX('CB1'!$T$21:$T$70,$W$5,1,1)=\"\",\"\",INDEX('CB1'!$T$21:$T$70,$W$5,1,1)))","v":""},{"$f":"IF($W$5=\"\",\"\",IF(INDEX('CB2'!$T$21:$T$70,$W$5,1,1)=\"\",\"\",INDEX('CB2'!$T$21:$T$70,$W$5,1,1)))","v":""},{"$f":"IF($W$5=\"\",\"\",IF(INDEX('CB3'!$T$21:$T$70,$W$5,1,1)=\"\",\"\",INDEX('CB3'!$T$21:$T$70,$W$5,1,1)))","v":""},null,"",null,null,null,null,null,null,{"$f":"datpro!$E$48","v":"GEOGRAFIA"},{"$f":"IF($AI$5=\"\",\"\",IF(INDEX('CB1'!$T$21:$T$70,$AI$5,1,1)=\"\",\"\",INDEX('CB1'!$T$21:$T$70,$AI$5,1,1)))","v":""},{"$f":"IF($AI$5=\"\",\"\",IF(INDEX('CB2'!$T$21:$T$70,$AI$5,1,1)=\"\",\"\",INDEX('CB2'!$T$21:$T$70,$AI$5,1,1)))","v":""},{"$f":"IF($AI$5=\"\",\"\",IF(INDEX('CB3'!$T$21:$T$70,$AI$5,1,1)=\"\",\"\",INDEX('CB3'!$T$21:$T$70,$AI$5,1,1)))","v":""},null,""]
[null,null,null,null,{"$f":"datpro!$E$49","v":"CIENCIAS SOCIALES"},{"$f":"IF($J$5=\"\",\"\",IF(INDEX('CB1'!$U$21:$U$70,$J$5,1,1)=\"\",\"\",INDEX('CB1'!$U$21:$U$70,$J$5,1,1)))","v":""},{"$f":"IF($J$5=\"\",\"\",IF(INDEX('CB2'!$U$21:$U$70,$J$5,1,1)=\"\",\"\",INDEX('CB2'!$U$21:$U$70,$J$5,1,1)))","v":""},{"$f":"IF($J$5=\"\",\"\",IF(INDEX('CB3'!$U$21:$U$70,$J$5,1,1)=\"\",\"\",INDEX('CB3'!$U$21:$U$70,$J$5,1,1)))","v":""},null,"",null,null,null,null,null,null,null,{"$f":"datpro!$E$49","v":"CIENCIAS SOCIALES"},{"$f":"IF($W$5=\"\",\"\",IF(INDEX('CB1'!$U$21:$U$70,$W$5,1,1)=\"\",\"\",INDEX('CB1'!$U$21:$U$70,$W$5,1,1)))","v":""},{"$f":"IF($W$5=\"\",\"\",IF(INDEX('CB2'!$U$21:$U$70,$W$5,1,1)=\"\",\"\",INDEX('CB2'!$U$21:$U$70,$W$5,1,1)))","v":""},{"$f":"IF($W$5=\"\",\"\",IF(INDEX('CB3'!$U$21:$U$70,$W$5,1,1)=\"\",\"\",INDEX('CB3'!$U$21:$U$70,$W$5,1,1)))","v":""},null,"",null,null,null,null,null,null,{"$f":"datpro!$E$49","v":"CIENCIAS SOCIALES"},{"$f":"IF($AI$5=\"\",\"\",IF(INDEX('CB1'!$U$21:$U$70,$AI$5,1,1)=\"\",\"\",INDEX('CB1'!$U$21:$U$70,$AI$5,1,1)))","v":""},{"$f":"IF($AI$5=\"\",\"\",IF(INDEX('CB2'!$U$21:$U$70,$AI$5,1,1)=\"\",\"\",INDEX('CB2'!$U$21:$U$70,$AI$5,1,1)))","v":""},{"$f":"IF($AI$5=\"\",\"\",IF(INDEX('CB3'!$U$21:$U$70,$AI$5,1,1)=\"\",\"\",INDEX('CB3'!$U$21:$U$70,$AI$5,1,1)))","v":""},null,""]
[null,null,null,null,{"$f":"datpro!$E$50","v":"EDUCACION FISICA Y DEPORTES"},{"$f":"IF($J$5=\"\",\"\",IF(INDEX('CB1'!$V$21:$V$70,$J$5,1,1)=\"\",\"\",INDEX('CB1'!$V$21:$V$70,$J$5,1,1)))","v":""},{"$f":"IF($J$5=\"\",\"\",IF(INDEX('CB2'!$V$21:$V$70,$J$5,1,1)=\"\",\"\",INDEX('CB2'!$V$21:$V$70,$J$5,1,1)))","v":""},{"$f":"IF($J$5=\"\",\"\",IF(INDEX('CB3'!$V$21:$V$70,$J$5,1,1)=\"\",\"\",INDEX('CB3'!$V$21:$V$70,$J$5,1,1)))","v":""},null,"",null,null,null,null,null,null,null,{"$f":"datpro!$E$50","v":"EDUCACION FISICA Y DEPORTES"},{"$f":"IF($W$5=\"\",\"\",IF(INDEX('CB1'!$V$21:$V$70,$W$5,1,1)=\"\",\"\",INDEX('CB1'!$V$21:$V$70,$W$5,1,1)))","v":""},{"$f":"IF($W$5=\"\",\"\",IF(INDEX('CB2'!$V$21:$V$70,$W$5,1,1)=\"\",\"\",INDEX('CB2'!$V$21:$V$70,$W$5,1,1)))","v":""},{"$f":"IF($W$5=\"\",\"\",IF(INDEX('CB3'!$V$21:$V$70,$W$5,1,1)=\"\",\"\",INDEX('CB3'!$V$21:$V$70,$W$5,1,1)))","v":""},null,"",null,null,null,null,null,null,{"$f":"datpro!$E$50","v":"EDUCACION FISICA Y DEPORTES"},{"$f":"IF($AI$5=\"\",\"\",IF(INDEX('CB1'!$V$21:$V$70,$AI$5,1,1)=\"\",\"\",INDEX('CB1'!$V$21:$V$70,$AI$5,1,1)))","v":""},{"$f":"IF($AI$5=\"\",\"\",IF(INDEX('CB2'!$V$21:$V$70,$AI$5,1,1)=\"\",\"\",INDEX('CB2'!$V$21:$V$70,$AI$5,1,1)))","v":""},{"$f":"IF($AI$5=\"\",\"\",IF(INDEX('CB3'!$V$21:$V$70,$AI$5,1,1)=\"\",\"\",INDEX('CB3'!$V$21:$V$70,$AI$5,1,1)))","v":""},null,""]
[null,null,null,null,{"$f":"datpro!$E$51","v":"EDUCACION MUSICAL"},{"$f":"IF($J$5=\"\",\"\",IF(INDEX('CB1'!$W$21:$W$70,$J$5,1,1)=\"\",\"\",INDEX('CB1'!$W$21:$W$70,$J$5,1,1)))","v":""},{"$f":"IF($J$5=\"\",\"\",IF(INDEX('CB2'!$W$21:$W$70,$J$5,1,1)=\"\",\"\",INDEX('CB2'!$W$21:$W$70,$J$5,1,1)))","v":""},{"$f":"IF($J$5=\"\",\"\",IF(INDEX('CB3'!$W$21:$W$70,$J$5,1,1)=\"\",\"\",INDEX('CB3'!$W$21:$W$70,$J$5,1,1)))","v":""},null,{"$f":"IF(F19=\"\",\"\",IF(G19=\"\",\"\",IF(H19=\"\",\"\",ROUND(SUM(F19:H19)/3,0))))","v":""},null,null,null,null,null,null,null,{"$f":"datpro!$E$51","v":"EDUCACION MUSICAL"},{"$f":"IF($W$5=\"\",\"\",IF(INDEX('CB1'!$W$21:$W$70,$W$5,1,1)=\"\",\"\",INDEX('CB1'!$W$21:$W$70,$W$5,1,1)))","v":""},{"$f":"IF($W$5=\"\",\"\",IF(INDEX('CB2'!$W$21:$W$70,$W$5,1,1)=\"\",\"\",INDEX('CB2'!$W$21:$W$70,$W$5,1,1)))","v":""},{"$f":"IF($W$5=\"\",\"\",IF(INDEX('CB3'!$W$21:$W$70,$W$5,1,1)=\"\",\"\",INDEX('CB3'!$W$21:$W$70,$W$5,1,1)))","v":""},null,{"$f":"IF(S19=\"\",\"\",IF(T19=\"\",\"\",IF(U19=\"\",\"\",ROUND(SUM(S19:U19)/3,0))))","v":""},null,null,null,null,null,null,{"$f":"datpro!$E$51","v":"EDUCACION MUSICAL"},{"$f":"IF($AI$5=\"\",\"\",IF(INDEX('CB1'!$W$21:$W$70,$AI$5,1,1)=\"\",\"\",INDEX('CB1'!$W$21:$W$70,$AI$5,1,1)))","v":""},{"$f":"IF($AI$5=\"\",\"\",IF(INDEX('CB2'!$W$21:$W$70,$AI$5,1,1)=\"\",\"\",INDEX('CB2'!$W$21:$W$70,$AI$5,1,1)))","v":""},{"$f":"IF($AI$5=\"\",\"\",IF(INDEX('CB3'!$W$21:$W$70,$AI$5,1,1)=\"\",\"\",INDEX('CB3'!$W$21:$W$70,$AI$5,1,1)))","v":""},null,{"$f":"IF(AE19=\"\",\"\",IF(AF19=\"\",\"\",IF(AG19=\"\",\"\",ROUND(SUM(AE19:AG19)/3,0))))","v":""}]
[null,null,null,null,{"$f":"datpro!$E$52","v":"ARTES PLASTICAS Y VISUALES"},{"$f":"IF($J$5=\"\",\"\",IF(INDEX('CB1'!$X$21:$X$70,$J$5,1,1)=\"\",\"\",INDEX('CB1'!$X$21:$X$70,$J$5,1,1)))","v":""},{"$f":"IF($J$5=\"\",\"\",IF(INDEX('CB2'!$X$21:$X$70,$J$5,1,1)=\"\",\"\",INDEX('CB2'!$X$21:$X$70,$J$5,1,1)))","v":""},{"$f":"IF($J$5=\"\",\"\",IF(INDEX('CB3'!$X$21:$X$70,$J$5,1,1)=\"\",\"\",INDEX('CB3'!$X$21:$X$70,$J$5,1,1)))","v":""},null,"",null,null,null,null,null,null,null,{"$f":"datpro!$E$52","v":"ARTES PLASTICAS Y VISUALES"},{"$f":"IF($W$5=\"\",\"\",IF(INDEX('CB1'!$X$21:$X$70,$W$5,1,1)=\"\",\"\",INDEX('CB1'!$X$21:$X$70,$W$5,1,1)))","v":""},{"$f":"IF($W$5=\"\",\"\",IF(INDEX('CB2'!$X$21:$X$70,$W$5,1,1)=\"\",\"\",INDEX('CB2'!$X$21:$X$70,$W$5,1,1)))","v":""},{"$f":"IF($W$5=\"\",\"\",IF(INDEX('CB3'!$X$21:$X$70,$W$5,1,1)=\"\",\"\",INDEX('CB3'!$X$21:$X$70,$W$5,1,1)))","v":""},null,"",null,null,null,null,null,null,{"$f":"datpro!$E$52","v":"ARTES PLASTICAS Y VISUALES"},{"$f":"IF($AI$5=\"\",\"\",IF(INDEX('CB1'!$X$21:$X$70,$AI$5,1,1)=\"\",\"\",INDEX('CB1'!$X$21:$X$70,$AI$5,1,1)))","v":""},{"$f":"IF($AI$5=\"\",\"\",IF(INDEX('CB2'!$X$21:$X$70,$AI$5,1,1)=\"\",\"\",INDEX('CB2'!$X$21:$X$70,$AI$5,1,1)))","v":""},{"$f":"IF($AI$5=\"\",\"\",IF(INDEX('CB3'!$X$21:$X$70,$AI$5,1,1)=\"\",\"\",INDEX('CB3'!$X$21:$X$70,$AI$5,1,1)))","v":""},null,""]
[null,null,null,null,{"$f":"datpro!$E$53","v":"MATEMATICAS"},{"$f":"IF($J$5=\"\",\"\",IF(INDEX('CB1'!$Y$21:$Y$70,$J$5,1,1)=\"\",\"\",INDEX('CB1'!$Y$21:$Y$70,$J$5,1,1)))","v":""},{"$f":"IF($J$5=\"\",\"\",IF(INDEX('CB2'!$Y$21:$Y$70,$J$5,1,1)=\"\",\"\",INDEX('CB2'!$Y$21:$Y$70,$J$5,1,1)))","v":""},{"$f":"IF($J$5=\"\",\"\",IF(INDEX('CB3'!$Y$21:$Y$70,$J$5,1,1)=\"\",\"\",INDEX('CB3'!$Y$21:$Y$70,$J$5,1,1)))","v":""},null,{"$f":"IF(F21=\"\",\"\",IF(G21=\"\",\"\",IF(H21=\"\",\"\",ROUND(SUM(F21:H21)/3,0))))","v":""},null,null,null,null,null,null,null,{"$f":"datpro!$E$53","v":"MATEMATICAS"},{"$f":"IF($W$5=\"\",\"\",IF(INDEX('CB1'!$Y$21:$Y$70,$W$5,1,1)=\"\",\"\",INDEX('CB1'!$Y$21:$Y$70,$W$5,1,1)))","v":""},{"$f":"IF($W$5=\"\",\"\",IF(INDEX('CB2'!$Y$21:$Y$70,$W$5,1,1)=\"\",\"\",INDEX('CB2'!$Y$21:$Y$70,$W$5,1,1)))","v":""},{"$f":"IF($W$5=\"\",\"\",IF(INDEX('CB3'!$Y$21:$Y$70,$W$5,1,1)=\"\",\"\",INDEX('CB3'!$Y$21:$Y$70,$W$5,1,1)))","v":""},null,{"$f":"IF(S21=\"\",\"\",IF(T21=\"\",\"\",IF(U21=\"\",\"\",ROUND(SUM(S21:U21)/3,0))))","v":""},null,null,null,null,null,null,{"$f":"datpro!$E$53","v":"MATEMATICAS"},{"$f":"IF($AI$5=\"\",\"\",IF(INDEX('CB1'!$Y$21:$Y$70,$AI$5,1,1)=\"\",\"\",INDEX('CB1'!$Y$21:$Y$70,$AI$5,1,1)))","v":""},{"$f":"IF($AI$5=\"\",\"\",IF(INDEX('CB2'!$Y$21:$Y$70,$AI$5,1,1)=\"\",\"\",INDEX('CB2'!$Y$21:$Y$70,$AI$5,1,1)))","v":""},{"$f":"IF($AI$5=\"\",\"\",IF(INDEX('CB3'!$Y$21:$Y$70,$AI$5,1,1)=\"\",\"\",INDEX('CB3'!$Y$21:$Y$70,$AI$5,1,1)))","v":""},null,{"$f":"IF(AE21=\"\",\"\",IF(AF21=\"\",\"\",IF(AG21=\"\",\"\",ROUND(SUM(AE21:AG21)/3,0))))","v":""}]
[null,null,null,null,{"$f":"datpro!$E$54","v":"TECNICA TECNOLOGIA"},{"$f":"IF($J$5=\"\",\"\",IF(INDEX('CB1'!$Z$21:$Z$70,$J$5,1,1)=\"\",\"\",INDEX('CB1'!$Z$21:$Z$70,$J$5,1,1)))","v":""},{"$f":"IF($J$5=\"\",\"\",IF(INDEX('CB2'!$Z$21:$Z$70,$J$5,1,1)=\"\",\"\",INDEX('CB2'!$Z$21:$Z$70,$J$5,1,1)))","v":""},{"$f":"IF($J$5=\"\",\"\",IF(INDEX('CB3'!$Z$21:$Z$70,$J$5,1,1)=\"\",\"\",INDEX('CB3'!$Z$21:$Z$70,$J$5,1,1)))","v":""},null,{"$f":"IF(F22=\"\",\"\",IF(G22=\"\",\"\",IF(H22=\"\",\"\",ROUND(SUM(F22:H22)/3,0))))","v":""},null,null,null,null,null,null,null,{"$f":"datpro!$E$54","v":"TECNICA TECNOLOGIA"},{"$f":"IF($W$5=\"\",\"\",IF(INDEX('CB1'!$Z$21:$Z$70,$W$5,1,1)=\"\",\"\",INDEX('CB1'!$Z$21:$Z$70,$W$5,1,1)))","v":""},{"$f":"IF($W$5=\"\",\"\",IF(INDEX('CB2'!$Z$21:$Z$70,$W$5,1,1)=\"\",\"\",INDEX('CB2'!$Z$21:$Z$70,$W$5,1,1)))","v":""},{"$f":"IF($W$5=\"\",\"\",IF(INDEX('CB3'!$Z$21:$Z$70,$W$5,1,1)=\"\",\"\",INDEX('CB3'!$Z$21:$Z$70,$W$5,1,1)))","v":""},null,{"$f":"IF(S22=\"\",\"\",IF(T22=\"\",\"\",IF(U22=\"\",\"\",ROUND(SUM(S22:U22)/3,0))))","v":""},null,null,null,null,null,null,{"$f":"datpro!$E$54","v":"TECNICA TECNOLOGIA"},{"$f":"IF($AI$5=\"\",\"\",IF(INDEX('CB1'!$Z$21:$Z$70,$AI$5,1,1)=\"\",\"\",INDEX('CB1'!$Z$21:$Z$70,$AI$5,1,1)))","v":""},{"$f":"IF($AI$5=\"\",\"\",IF(INDEX('CB2'!$Z$21:$Z$70,$AI$5,1,1)=\"\",\"\",INDEX('CB2'!$Z$21:$Z$70,$AI$5,1,1)))","v":""},{"$f":"IF($AI$5=\"\",\"\",IF(INDEX('CB3'!$Z$21:$Z$70,$AI$5,1,1)=\"\",\"\",INDEX('CB3'!$Z$21:$Z$70,$AI$5,1,1)))","v":""},null,{"$f":"IF(AE22=\"\",\"\",IF(AF22=\"\",\"\",IF(AG22=\"\",\"\",ROUND(SUM(AE22:AG22)/3,0))))","v":""}]
[null,null,null,null,{"$f":"datpro!$E$55","v":0},{"$f":"IF($J$5=\"\",\"\",IF(INDEX('CB1'!$AA$21:$AA$70,$J$5,1,1)=\"\",\"\",INDEX('CB1'!$AA$21:$AA$70,$J$5,1,1)))","v":""},{"$f":"IF($J$5=\"\",\"\",IF(INDEX('CB2'!$AA$21:$AA$70,$J$5,1,1)=\"\",\"\",INDEX('CB2'!$AA$21:$AA$70,$J$5,1,1)))","v":""},{"$f":"IF($J$5=\"\",\"\",IF(INDEX('CB3'!$AA$21:$AA$70,$J$5,1,1)=\"\",\"\",INDEX('CB3'!$AA$21:$AA$70,$J$5,1,1)))","v":""},null,"",null,null,null,null,null,null,null,{"$f":"datpro!$E$55","v":0},{"$f":"IF($W$5=\"\",\"\",IF(INDEX('CB1'!$AA$21:$AA$70,$W$5,1,1)=\"\",\"\",INDEX('CB1'!$AA$21:$AA$70,$W$5,1,1)))","v":""},{"$f":"IF($W$5=\"\",\"\",IF(INDEX('CB2'!$AA$21:$AA$70,$W$5,1,1)=\"\",\"\",INDEX('CB2'!$AA$21:$AA$70,$W$5,1,1)))","v":""},{"$f":"IF($W$5=\"\",\"\",IF(INDEX('CB3'!$AA$21:$AA$70,$W$5,1,1)=\"\",\"\",INDEX('CB3'!$AA$21:$AA$70,$W$5,1,1)))","v":""},null,"",null,null,null,null,null,null,{"$f":"datpro!$E$55","v":0},{"$f":"IF($AI$5=\"\",\"\",IF(INDEX('CB1'!$AA$21:$AA$70,$AI$5,1,1)=\"\",\"\",INDEX('CB1'!$AA$21:$AA$70,$AI$5,1,1)))","v":""},{"$f":"IF($AI$5=\"\",\"\",IF(INDEX('CB2'!$AA$21:$AA$70,$AI$5,1,1)=\"\",\"\",INDEX('CB2'!$AA$21:$AA$70,$AI$5,1,1)))","v":""},{"$f":"IF($AI$5=\"\",\"\",IF(INDEX('CB3'!$AA$21:$AA$70,$AI$5,1,1)=\"\",\"\",INDEX('CB3'!$AA$21:$AA$70,$AI$5,1,1)))","v":""},null,""]
[null,null,null,null,{"$f":"datpro!$E$56","v":0},{"$f":"IF($J$5=\"\",\"\",IF(INDEX('CB1'!$AB$21:$AB$70,$J$5,1,1)=\"\",\"\",INDEX('CB1'!$AB$21:$AB$70,$J$5,1,1)))","v":""},{"$f":"IF($J$5=\"\",\"\",IF(INDEX('CB2'!$AB$21:$AB$70,$J$5,1,1)=\"\",\"\",INDEX('CB2'!$AB$21:$AB$70,$J$5,1,1)))","v":""},{"$f":"IF($J$5=\"\",\"\",IF(INDEX('CB3'!$AB$21:$AB$70,$J$5,1,1)=\"\",\"\",INDEX('CB3'!$AB$21:$AB$70,$J$5,1,1)))","v":""},null,"",null,null,null,null,null,null,null,{"$f":"datpro!$E$56","v":0},{"$f":"IF($W$5=\"\",\"\",IF(INDEX('CB1'!$AB$21:$AB$70,$W$5,1,1)=\"\",\"\",INDEX('CB1'!$AB$21:$AB$70,$W$5,1,1)))","v":""},{"$f":"IF($W$5=\"\",\"\",IF(INDEX('CB2'!$AB$21:$AB$70,$W$5,1,1)=\"\",\"\",INDEX('CB2'!$AB$21:$AB$70,$W$5,1,1)))","v":""},{"$f":"IF($W$5=\"\",\"\",IF(INDEX('CB3'!$AB$21:$AB$70,$W$5,1,1)=\"\",\"\",INDEX('CB3'!$AB$21:$AB$70,$W$5,1,1)))","v":""},null,"",null,null,null,null,null,null,{"$f":"datpro!$E$56","v":0},{"$f":"IF($AI$5=\"\",\"\",IF(INDEX('CB1'!$AB$21:$AB$70,$AI$5,1,1)=\"\",\"\",INDEX('CB1'!$AB$21:$AB$70,$AI$5,1,1)))","v":""},{"$f":"IF($AI$5=\"\",\"\",IF(INDEX('CB2'!$AB$21:$AB$70,$AI$5,1,1)=\"\",\"\",INDEX('CB2'!$AB$21:$AB$70,$AI$5,1,1)))","v":""},{"$f":"IF($AI$5=\"\",\"\",IF(INDEX('CB3'!$AB$21:$AB$70,$AI$5,1,1)=\"\",\"\",INDEX('CB3'!$AB$21:$AB$70,$AI$5,1,1)))","v":""},null,""]
[null,null,null,null,{"$f":"datpro!$E$57","v":"CIENCIAS NATURALES"},{"$f":"IF($J$5=\"\",\"\",IF(INDEX('CB1'!$AC$21:$AC$70,$J$5,1,1)=\"\",\"\",INDEX('CB1'!$AC$21:$AC$70,$J$5,1,1)))","v":""},{"$f":"IF($J$5=\"\",\"\",IF(INDEX('CB2'!$AC$21:$AC$70,$J$5,1,1)=\"\",\"\",INDEX('CB2'!$AC$21:$AC$70,$J$5,1,1)))","v":""},{"$f":"IF($J$5=\"\",\"\",IF(INDEX('CB3'!$AC$21:$AC$70,$J$5,1,1)=\"\",\"\",INDEX('CB3'!$AC$21:$AC$70,$J$5,1,1)))","v":""},null,{"$f":"IF(F25=\"\",\"\",IF(G25=\"\",\"\",IF(H25=\"\",\"\",ROUND(SUM(F25:H25)/3,0))))","v":""},null,null,null,null,null,null,null,{"$f":"datpro!$E$57","v":"CIENCIAS NATURALES"},{"$f":"IF($W$5=\"\",\"\",IF(INDEX('CB1'!$AC$21:$AC$70,$W$5,1,1)=\"\",\"\",INDEX('CB1'!$AC$21:$AC$70,$W$5,1,1)))","v":""},{"$f":"IF($W$5=\"\",\"\",IF(INDEX('CB2'!$AC$21:$AC$70,$W$5,1,1)=\"\",\"\",INDEX('CB2'!$AC$21:$AC$70,$W$5,1,1)))","v":""},{"$f":"IF($W$5=\"\",\"\",IF(INDEX('CB3'!$AC$21:$AC$70,$W$5,1,1)=\"\",\"\",INDEX('CB3'!$AC$21:$AC$70,$W$5,1,1)))","v":""},null,{"$f":"IF(S25=\"\",\"\",IF(T25=\"\",\"\",IF(U25=\"\",\"\",ROUND(SUM(S25:U25)/3,0))))","v":""},null,null,null,null,null,null,{"$f":"datpro!$E$57","v":"CIENCIAS NATURALES"},{"$f":"IF($AI$5=\"\",\"\",IF(INDEX('CB1'!$AC$21:$AC$70,$AI$5,1,1)=\"\",\"\",INDEX('CB1'!$AC$21:$AC$70,$AI$5,1,1)))","v":""},{"$f":"IF($AI$5=\"\",\"\",IF(INDEX('CB2'!$AC$21:$AC$70,$AI$5,1,1)=\"\",\"\",INDEX('CB2'!$AC$21:$AC$70,$AI$5,1,1)))","v":""},{"$f":"IF($AI$5=\"\",\"\",IF(INDEX('CB3'!$AC$21:$AC$70,$AI$5,1,1)=\"\",\"\",INDEX('CB3'!$AC$21:$AC$70,$AI$5,1,1)))","v":""},null,{"$f":"IF(AE25=\"\",\"\",IF(AF25=\"\",\"\",IF(AG25=\"\",\"\",ROUND(SUM(AE25:AG25)/3,0))))","v":""}]
[null,null,null,null,{"$f":"datpro!$E$58","v":0},{"$f":"IF($J$5=\"\",\"\",IF(INDEX('CB1'!$AD$21:$AD$70,$J$5,1,1)=\"\",\"\",INDEX('CB1'!$AD$21:$AD$70,$J$5,1,1)))","v":""},{"$f":"IF($J$5=\"\",\"\",IF(INDEX('CB2'!$AD$21:$AD$70,$J$5,1,1)=\"\",\"\",INDEX('CB2'!$AD$21:$AD$70,$J$5,1,1)))","v":""},{"$f":"IF($J$5=\"\",\"\",IF(INDEX('CB3'!$AD$21:$AD$70,$J$5,1,1)=\"\",\"\",INDEX('CB3'!$AD$21:$AD$70,$J$5,1,1)))","v":""},null,"",null,null,null,null,null,null,null,{"$f":"datpro!$E$58","v":0},{"$f":"IF($W$5=\"\",\"\",IF(INDEX('CB1'!$AD$21:$AD$70,$W$5,1,1)=\"\",\"\",INDEX('CB1'!$AD$21:$AD$70,$W$5,1,1)))","v":""},{"$f":"IF($W$5=\"\",\"\",IF(INDEX('CB2'!$AD$21:$AD$70,$W$5,1,1)=\"\",\"\",INDEX('CB2'!$AD$21:$AD$70,$W$5,1,1)))","v":""},{"$f":"IF($W$5=\"\",\"\",IF(INDEX('CB3'!$AD$21:$AD$70,$W$5,1,1)=\"\",\"\",INDEX('CB3'!$AD$21:$AD$70,$W$5,1,1)))","v":""},null,"",null,null,null,null,null,null,{"$f":"datpro!$E$58","v":0},{"$f":"IF($AI$5=\"\",\"\",IF(INDEX('CB1'!$AD$21:$AD$70,$AI$5,1,1)=\"\",\"\",INDEX('CB1'!$AD$21:$AD$70,$AI$5,1,1)))","v":""},{"$f":"IF($AI$5=\"\",\"\",IF(INDEX('CB2'!$AD$21:$AD$70,$AI$5,1,1)=\"\",\"\",INDEX('CB2'!$AD$21:$AD$70,$AI$5,1,1)))","v":""},{"$f":"IF($AI$5=\"\",\"\",IF(INDEX('CB3'!$AD$21:$AD$70,$AI$5,1,1)=\"\",\"\",INDEX('CB3'!$AD$21:$AD$70,$AI$5,1,1)))","v":""},null,""]
[null,null,null,null,{"$f":"datpro!$E$59","v":"FISICA"},{"$f":"IF($J$5=\"\",\"\",IF(INDEX('CB1'!$AE$21:$AE$70,$J$5,1,1)=\"\",\"\",INDEX('CB1'!$AE$21:$AE$70,$J$5,1,1)))","v":""},{"$f":"IF($J$5=\"\",\"\",IF(INDEX('CB2'!$AE$21:$AE$70,$J$5,1,1)=\"\",\"\",INDEX('CB2'!$AE$21:$AE$70,$J$5,1,1)))","v":""},{"$f":"IF($J$5=\"\",\"\",IF(INDEX('CB3'!$AE$21:$AE$70,$J$5,1,1)=\"\",\"\",INDEX('CB3'!$AE$21:$AE$70,$J$5,1,1)))","v":""},null,"",null,null,null,null,null,null,null,{"$f":"datpro!$E$59","v":"FISICA"},{"$f":"IF($W$5=\"\",\"\",IF(INDEX('CB1'!$AE$21:$AE$70,$W$5,1,1)=\"\",\"\",INDEX('CB1'!$AE$21:$AE$70,$W$5,1,1)))","v":""},{"$f":"IF($W$5=\"\",\"\",IF(INDEX('CB2'!$AE$21:$AE$70,$W$5,1,1)=\"\",\"\",INDEX('CB2'!$AE$21:$AE$70,$W$5,1,1)))","v":""},{"$f":"IF($W$5=\"\",\"\",IF(INDEX('CB3'!$AE$21:$AE$70,$W$5,1,1)=\"\",\"\",INDEX('CB3'!$AE$21:$AE$70,$W$5,1,1)))","v":""},null,"",null,null,null,null,null,null,{"$f":"datpro!$E$59","v":"FISICA"},{"$f":"IF($AI$5=\"\",\"\",IF(INDEX('CB1'!$AE$21:$AE$70,$AI$5,1,1)=\"\",\"\",INDEX('CB1'!$AE$21:$AE$70,$AI$5,1,1)))","v":""},{"$f":"IF($AI$5=\"\",\"\",IF(INDEX('CB2'!$AE$21:$AE$70,$AI$5,1,1)=\"\",\"\",INDEX('CB2'!$AE$21:$AE$70,$AI$5,1,1)))","v":""},{"$f":"IF($AI$5=\"\",\"\",IF(INDEX('CB3'!$AE$21:$AE$70,$AI$5,1,1)=\"\",\"\",INDEX('CB3'!$AE$21:$AE$70,$AI$5,1,1)))","v":""},null,{"$f":"IF(AE27=\"\",\"\",IF(AF27=\"\",\"\",IF(AG27=\"\",\"\",ROUND(SUM(AE27:AG27)/3,0))))","v":""}]
[null,null,null,null,{"$f":"datpro!$E$60","v":"QUIMICA"},{"$f":"IF($J$5=\"\",\"\",IF(INDEX('CB1'!$AF$21:$AF$70,$J$5,1,1)=\"\",\"\",INDEX('CB1'!$AF$21:$AF$70,$J$5,1,1)))","v":""},{"$f":"IF($J$5=\"\",\"\",IF(INDEX('CB2'!$AF$21:$AF$70,$J$5,1,1)=\"\",\"\",INDEX('CB2'!$AF$21:$AF$70,$J$5,1,1)))","v":""},{"$f":"IF($J$5=\"\",\"\",IF(INDEX('CB3'!$AF$21:$AF$70,$J$5,1,1)=\"\",\"\",INDEX('CB3'!$AF$21:$AF$70,$J$5,1,1)))","v":""},null,{"$f":"IF(F28=\"\",\"\",IF(G28=\"\",\"\",IF(H28=\"\",\"\",ROUND(SUM(F28:H28)/3,0))))","v":""},null,null,null,null,null,null,null,{"$f":"datpro!$E$60","v":"QUIMICA"},{"$f":"IF($W$5=\"\",\"\",IF(INDEX('CB1'!$AF$21:$AF$70,$W$5,1,1)=\"\",\"\",INDEX('CB1'!$AF$21:$AF$70,$W$5,1,1)))","v":""},{"$f":"IF($W$5=\"\",\"\",IF(INDEX('CB2'!$AF$21:$AF$70,$W$5,1,1)=\"\",\"\",INDEX('CB2'!$AF$21:$AF$70,$W$5,1,1)))","v":""},{"$f":"IF($W$5=\"\",\"\",IF(INDEX('CB3'!$AF$21:$AF$70,$W$5,1,1)=\"\",\"\",INDEX('CB3'!$AF$21:$AF$70,$W$5,1,1)))","v":""},null,{"$f":"IF(S28=\"\",\"\",IF(T28=\"\",\"\",IF(U28=\"\",\"\",ROUND(SUM(S28:U28)/3,0))))","v":""},null,null,null,null,null,null,{"$f":"datpro!$E$60","v":"QUIMICA"},{"$f":"IF($AI$5=\"\",\"\",IF(INDEX('CB1'!$AF$21:$AF$70,$AI$5,1,1)=\"\",\"\",INDEX('CB1'!$AF$21:$AF$70,$AI$5,1,1)))","v":""},{"$f":"IF($AI$5=\"\",\"\",IF(INDEX('CB2'!$AF$21:$AF$70,$AI$5,1,1)=\"\",\"\",INDEX('CB2'!$AF$21:$AF$70,$AI$5,1,1)))","v":""},{"$f":"IF($AI$5=\"\",\"\",IF(INDEX('CB3'!$AF$21:$AF$70,$AI$5,1,1)=\"\",\"\",INDEX('CB3'!$AF$21:$AF$70,$AI$5,1,1)))","v":""},null,{"$f":"IF(AE28=\"\",\"\",IF(AF28=\"\",\"\",IF(AG28=\"\",\"\",ROUND(SUM(AE28:AG28)/3,0))))","v":""}]
[null,null,null,null,{"$f":"datpro!$E$61","v":0},{"$f":"IF($J$5=\"\",\"\",IF(INDEX('CB1'!$AG$21:$AG$70,$J$5,1,1)=\"\",\"\",INDEX('CB1'!$AG$21:$AG$70,$J$5,1,1)))","v":""},{"$f":"IF($J$5=\"\",\"\",IF(INDEX('CB2'!$AG$21:$AG$70,$J$5,1,1)=\"\",\"\",INDEX('CB2'!$AG$21:$AG$70,$J$5,1,1)))","v":""},{"$f":"IF($J$5=\"\",\"\",IF(INDEX('CB3'!$AG$21:$AG$70,$J$5,1,1)=\"\",\"\",INDEX('CB3'!$AG$21:$AG$70,$J$5,1,1)))","v":""},null,"",null,null,null,null,null,null,null,{"$f":"datpro!$E$61","v":0},{"$f":"IF($W$5=\"\",\"\",IF(INDEX('CB1'!$AG$21:$AG$70,$W$5,1,1)=\"\",\"\",INDEX('CB1'!$AG$21:$AG$70,$W$5,1,1)))","v":""},{"$f":"IF($W$5=\"\",\"\",IF(INDEX('CB2'!$AG$21:$AG$70,$W$5,1,1)=\"\",\"\",INDEX('CB2'!$AG$21:$AG$70,$W$5,1,1)))","v":""},{"$f":"IF($W$5=\"\",\"\",IF(INDEX('CB3'!$AG$21:$AG$70,$W$5,1,1)=\"\",\"\",INDEX('CB3'!$AG$21:$AG$70,$W$5,1,1)))","v":""},null,"",null,null,null,null,null,null,{"$f":"datpro!$E$61","v":0},{"$f":"IF($AI$5=\"\",\"\",IF(INDEX('CB1'!$AG$21:$AG$70,$AI$5,1,1)=\"\",\"\",INDEX('CB1'!$AG$21:$AG$70,$AI$5,1,1)))","v":""},{"$f":"IF($AI$5=\"\",\"\",IF(INDEX('CB2'!$AG$21:$AG$70,$AI$5,1,1)=\"\",\"\",INDEX('CB2'!$AG$21:$AG$70,$AI$5,1,1)))","v":""},{"$f":"IF($AI$5=\"\",\"\",IF(INDEX('CB3'!$AG$21:$AG$70,$AI$5,1,1)=\"\",\"\",INDEX('CB3'!$AG$21:$AG$70,$AI$5,1,1)))","v":""},null,""]
[null,null,null,null,{"$f":"datpro!$E$62","v":0},{"$f":"IF($J$5=\"\",\"\",IF(INDEX('CB1'!$AH$21:$AH$70,$J$5,1,1)=\"\",\"\",INDEX('CB1'!$AH$21:$AH$70,$J$5,1,1)))","v":""},{"$f":"IF($J$5=\"\",\"\",IF(INDEX('CB2'!$AH$21:$AH$70,$J$5,1,1)=\"\",\"\",INDEX('CB2'!$AH$21:$AH$70,$J$5,1,1)))","v":""},{"$f":"IF($J$5=\"\",\"\",IF(INDEX('CB3'!$AH$21:$AH$70,$J$5,1,1)=\"\",\"\",INDEX('CB3'!$AH$21:$AH$70,$J$5,1,1)))","v":""},null,"",null,null,null,null,null,null,null,{"$f":"datpro!$E$62","v":0},{"$f":"IF($W$5=\"\",\"\",IF(INDEX('CB1'!$AH$21:$AH$70,$W$5,1,1)=\"\",\"\",INDEX('CB1'!$AH$21:$AH$70,$W$5,1,1)))","v":""},{"$f":"IF($W$5=\"\",\"\",IF(INDEX('CB2'!$AH$21:$AH$70,$W$5,1,1)=\"\",\"\",INDEX('CB2'!$AH$21:$AH$70,$W$5,1,1)))","v":""},{"$f":"IF($W$5=\"\",\"\",IF(INDEX('CB3'!$AH$21:$AH$70,$W$5,1,1)=\"\",\"\",INDEX('CB3'!$AH$21:$AH$70,$W$5,1,1)))","v":""},null,"",null,null,null,null,null,null,{"$f":"datpro!$E$62","v":0},{"$f":"IF($AI$5=\"\",\"\",IF(INDEX('CB1'!$AH$21:$AH$70,$AI$5,1,1)=\"\",\"\",INDEX('CB1'!$AH$21:$AH$70,$AI$5,1,1)))","v":""},{"$f":"IF($AI$5=\"\",\"\",IF(INDEX('CB2'!$AH$21:$AH$70,$AI$5,1,1)=\"\",\"\",INDEX('CB2'!$AH$21:$AH$70,$AI$5,1,1)))","v":""},{"$f":"IF($AI$5=\"\",\"\",IF(INDEX('CB3'!$AH$21:$AH$70,$AI$5,1,1)=\"\",\"\",INDEX('CB3'!$AH$21:$AH$70,$AI$5,1,1)))","v":""},null,""]
[null,null,null,null,{"$f":"datpro!$E$63","v":0},{"$f":"IF($J$5=\"\",\"\",IF(INDEX('CB1'!$AI$21:$AI$70,$J$5,1,1)=\"\",\"\",INDEX('CB1'!$AI$21:$AI$70,$J$5,1,1)))","v":""},{"$f":"IF($J$5=\"\",\"\",IF(INDEX('CB2'!$AI$21:$AI$70,$J$5,1,1)=\"\",\"\",INDEX('CB2'!$AI$21:$AI$70,$J$5,1,1)))","v":""},{"$f":"IF($J$5=\"\",\"\",IF(INDEX('CB3'!$AI$21:$AI$70,$J$5,1,1)=\"\",\"\",INDEX('CB3'!$AI$21:$AI$70,$J$5,1,1)))","v":""},null,"",null,null,null,null,null,null,null,{"$f":"datpro!$E$63","v":0},{"$f":"IF($W$5=\"\",\"\",IF(INDEX('CB1'!$AI$21:$AI$70,$W$5,1,1)=\"\",\"\",INDEX('CB1'!$AI$21:$AI$70,$W$5,1,1)))","v":""},{"$f":"IF($W$5=\"\",\"\",IF(INDEX('CB2'!$AI$21:$AI$70,$W$5,1,1)=\"\",\"\",INDEX('CB2'!$AI$21:$AI$70,$W$5,1,1)))","v":""},{"$f":"IF($W$5=\"\",\"\",IF(INDEX('CB3'!$AI$21:$AI$70,$W$5,1,1)=\"\",\"\",INDEX('CB3'!$AI$21:$AI$70,$W$5,1,1)))","v":""},null,"",null,null,null,null,null,null,{"$f":"datpro!$E$63","v":0},{"$f":"IF($AI$5=\"\",\"\",IF(INDEX('CB1'!$AI$21:$AI$70,$AI$5,1,1)=\"\",\"\",INDEX('CB1'!$AI$21:$AI$70,$AI$5,1,1)))","v":""},{"$f":"IF($AI$5=\"\",\"\",IF(INDEX('CB2'!$AI$21:$AI$70,$AI$5,1,1)=\"\",\"\",INDEX('CB2'!$AI$21:$AI$70,$AI$5,1,1)))","v":""},{"$f":"IF($AI$5=\"\",\"\",IF(INDEX('CB3'!$AI$21:$AI$70,$AI$5,1,1)=\"\",\"\",INDEX('CB3'!$AI$21:$AI$70,$AI$5,1,1)))","v":""},null,""]
[null,null,null,null,{"$f":"datpro!$E$64","v":"COSMOVISIONES, FILOSOFIA O PSICOLOGIA"},{"$f":"IF($J$5=\"\",\"\",IF(INDEX('CB1'!$AJ$21:$AJ$70,$J$5,1,1)=\"\",\"\",INDEX('CB1'!$AJ$21:$AJ$70,$J$5,1,1)))","v":""},{"$f":"IF($J$5=\"\",\"\",IF(INDEX('CB2'!$AJ$21:$AJ$70,$J$5,1,1)=\"\",\"\",INDEX('CB2'!$AJ$21:$AJ$70,$J$5,1,1)))","v":""},{"$f":"IF($J$5=\"\",\"\",IF(INDEX('CB3'!$AJ$21:$AJ$70,$J$5,1,1)=\"\",\"\",INDEX('CB3'!$AJ$21:$AJ$70,$J$5,1,1)))","v":""},null,"",null,null,null,null,null,null,null,{"$f":"datpro!$E$64","v":"COSMOVISIONES, FILOSOFIA O PSICOLOGIA"},{"$f":"IF($W$5=\"\",\"\",IF(INDEX('CB1'!$AJ$21:$AJ$70,$W$5,1,1)=\"\",\"\",INDEX('CB1'!$AJ$21:$AJ$70,$W$5,1,1)))","v":""},{"$f":"IF($W$5=\"\",\"\",IF(INDEX('CB2'!$AJ$21:$AJ$70,$W$5,1,1)=\"\",\"\",INDEX('CB2'!$AJ$21:$AJ$70,$W$5,1,1)))","v":""},{"$f":"IF($W$5=\"\",\"\",IF(INDEX('CB3'!$AJ$21:$AJ$70,$W$5,1,1)=\"\",\"\",INDEX('CB3'!$AJ$21:$AJ$70,$W$5,1,1)))","v":""},null,"",null,null,null,null,null,null,{"$f":"datpro!$E$64","v":"COSMOVISIONES, FILOSOFIA O PSICOLOGIA"},{"$f":"IF($AI$5=\"\",\"\",IF(INDEX('CB1'!$AJ$21:$AJ$70,$AI$5,1,1)=\"\",\"\",INDEX('CB1'!$AJ$21:$AJ$70,$AI$5,1,1)))","v":""},{"$f":"IF($AI$5=\"\",\"\",IF(INDEX('CB2'!$AJ$21:$AJ$70,$AI$5,1,1)=\"\",\"\",INDEX('CB2'!$AJ$21:$AJ$70,$AI$5,1,1)))","v":""},{"$f":"IF($AI$5=\"\",\"\",IF(INDEX('CB3'!$AJ$21:$AJ$70,$AI$5,1,1)=\"\",\"\",INDEX('CB3'!$AJ$21:$AJ$70,$AI$5,1,1)))","v":""},null,""]
[null,null,null,null,{"$f":"datpro!$E$65","v":"VALORES, ESPIRITUALIDAD Y RELIGIONES"},{"$f":"IF($J$5=\"\",\"\",IF(INDEX('CB1'!$AK$21:$AK$70,$J$5,1,1)=\"\",\"\",INDEX('CB1'!$AK$21:$AK$70,$J$5,1,1)))","v":""},{"$f":"IF($J$5=\"\",\"\",IF(INDEX('CB2'!$AK$21:$AK$70,$J$5,1,1)=\"\",\"\",INDEX('CB2'!$AK$21:$AK$70,$J$5,1,1)))","v":""},{"$f":"IF($J$5=\"\",\"\",IF(INDEX('CB3'!$AK$21:$AK$70,$J$5,1,1)=\"\",\"\",INDEX('CB3'!$AK$21:$AK$70,$J$5,1,1)))","v":""},null,"",null,null,null,null,null,null,null,{"$f":"datpro!$E$65","v":"VALORES, ESPIRITUALIDAD Y RELIGIONES"},{"$f":"IF($W$5=\"\",\"\",IF(INDEX('CB1'!$AK$21:$AK$70,$W$5,1,1)=\"\",\"\",INDEX('CB1'!$AK$21:$AK$70,$W$5,1,1)))","v":""},{"$f":"IF($W$5=\"\",\"\",IF(INDEX('CB2'!$AK$21:$AK$70,$W$5,1,1)=\"\",\"\",INDEX('CB2'!$AK$21:$AK$70,$W$5,1,1)))","v":""},{"$f":"IF($W$5=\"\",\"\",IF(INDEX('CB3'!$AK$21:$AK$70,$W$5,1,1)=\"\",\"\",INDEX('CB3'!$AK$21:$AK$70,$W$5,1,1)))","v":""},null,"",null,null,null,null,null,null,{"$f":"datpro!$E$65","v":"VALORES, ESPIRITUALIDAD Y RELIGIONES"},{"$f":"IF($AI$5=\"\",\"\",IF(INDEX('CB1'!$AK$21:$AK$70,$AI$5,1,1)=\"\",\"\",INDEX('CB1'!$AK$21:$AK$70,$AI$5,1,1)))","v":""},{"$f":"IF($AI$5=\"\",\"\",IF(INDEX('CB2'!$AK$21:$AK$70,$AI$5,1,1)=\"\",\"\",INDEX('CB2'!$AK$21:$AK$70,$AI$5,1,1)))","v":""},{"$f":"IF($AI$5=\"\",\"\",IF(INDEX('CB3'!$AK$21:$AK$70,$AI$5,1,1)=\"\",\"\",INDEX('CB3'!$AK$21:$AK$70,$AI$5,1,1)))","v":""},null,""]
[null,null,null,null,{"$f":"datpro!$E$66","v":"PROMEDIO"},{"$f":"IF($J$5=\"\",\"\",IF(INDEX('CB1'!$AL$21:$AL$70,$J$5,1,1)=\"\",\"\",INDEX('CB1'!$AL$21:$AL$70,$J$5,1,1)))","v":""},{"$f":"IF($J$5=\"\",\"\",IF(INDEX('CB2'!$AL$21:$AL$70,$J$5,1,1)=\"\",\"\",INDEX('CB2'!$AL$21:$AL$70,$J$5,1,1)))","v":""},{"$f":"IF($J$5=\"\",\"\",IF(INDEX('CB3'!$AL$21:$AL$70,$J$5,1,1)=\"\",\"\",INDEX('CB3'!$AL$21:$AL$70,$J$5,1,1)))","v":""},null,{"$f":"IF(F34=\"\",\"\",IF(G34=\"\",\"\",IF(H34=\"\",\"\",ROUND(SUM(F34:H34)/3,0))))","v":""},null,null,null,null,null,null,null,{"$f":"datpro!$E$66","v":"PROMEDIO"},{"$f":"IF($W$5=\"\",\"\",IF(INDEX('CB1'!$AL$21:$AL$70,$W$5,1,1)=\"\",\"\",INDEX('CB1'!$AL$21:$AL$70,$W$5,1,1)))","v":""},{"$f":"IF($W$5=\"\",\"\",IF(INDEX('CB2'!$AL$21:$AL$70,$W$5,1,1)=\"\",\"\",INDEX('CB2'!$AL$21:$AL$70,$W$5,1,1)))","v":""},{"$f":"IF($W$5=\"\",\"\",IF(INDEX('CB3'!$AL$21:$AL$70,$W$5,1,1)=\"\",\"\",INDEX('CB3'!$AL$21:$AL$70,$W$5,1,1)))","v":""},null,{"$f":"IF(S34=\"\",\"\",IF(T34=\"\",\"\",IF(U34=\"\",\"\",ROUND(SUM(S34:U34)/3,0))))","v":""},null,null,null,null,null,null,{"$f":"datpro!$E$66","v":"PROMEDIO"},{"$f":"IF($AI$5=\"\",\"\",IF(INDEX('CB1'!$AL$21:$AL$70,$AI$5,1,1)=\"\",\"\",INDEX('CB1'!$AL$21:$AL$70,$AI$5,1,1)))","v":""},{"$f":"IF($AI$5=\"\",\"\",IF(INDEX('CB2'!$AL$21:$AL$70,$AI$5,1,1)=\"\",\"\",INDEX('CB2'!$AL$21:$AL$70,$AI$5,1,1)))","v":""},{"$f":"IF($AI$5=\"\",\"\",IF(INDEX('CB3'!$AL$21:$AL$70,$AI$5,1,1)=\"\",\"\",INDEX('CB3'!$AL$21:$AL$70,$AI$5,1,1)))","v":""},null,{"$f":"IF(AE34=\"\",\"\",IF(AF34=\"\",\"\",IF(AG34=\"\",\"\",ROUND(SUM(AE34:AG34)/3,0))))","v":""}]
[null,null,null,null,"_________________","__________________",null,null,null,null,null,null,null,null,null,null,null,"_________________","__________________",null,null,null,null,null,null,null,null,null,null,"_________________","__________________"]
[null,null,null,null,{"$f":"datpro!$E$9","v":0},{"$f":"datpro!$E$8","v":0},null,null,null,null,null,null,null,null,null,null,null,{"$f":"datpro!$E$9","v":0},{"$f":"datpro!$E$8","v":0},null,null,null,null,null,null,null,null,null,null,{"$f":"datpro!$E$9","v":0},{"$f":"datpro!$E$8","v":0}]
[null,null,null,null,"MAESTRO(A)","DIRECTOR(A)",null,null,null,null,null,null,null,null,null,null,null,"MAESTRO(A)","DIRECTOR(A)",null,null,null,null,null,null,null,null,null,null,"MAESTRO(A)","DIRECTOR(A)"]
[null,null,null,"Ξ","Cerrar"]

{"sheet":"bol4","index":27,"n_rows":75,"n_cols":27,"rows_kept":75,"cut":false,"hidden":false,"merged":[[34,5,34,9],[34,18,34,22],[35,5,35,9],[35,18,35,22],[1,4,1,9],[1,17,1,22],[2,4,2,9],[2,17,2,22],[3,4,3,9],[3,17,3,22],[36,5,36,9],[36,18,36,22],[38,4,38,9],[38,17,38,22],[39,4,39,9],[39,17,39,22],[72,5,72,9],[72,18,72,22],[73,5,73,9],[73,18,73,22],[40,4,40,9],[40,17,40,22],[71,5,71,9],[71,18,71,22]]}
[]
[null,null,null,null,{"$f":"CONCATENATE(datpro!$D$39,\" 2023\")","v":"BOLETIN DE CALIFICACIONES 2023"},null,null,null,null,null,null,null,null,null,null,null,null,{"$f":"CONCATENATE(datpro!$D$39,\" 2023\")","v":"BOLETIN DE CALIFICACIONES 2023"},null,null,null,null,null,null,null,"Ξ","Cerrar"]
[null,null,null,null,{"$f":"datpro!$D$38","v":""},null,null,null,null,null,null,null,null,null,null,null,null,{"$f":"datpro!$D$38","v":""}]
[null,null,null,null,{"$f":"CONCATENATE(\"UNIDAD EDUCATIVA \",datpro!$E$7)","v":"UNIDAD EDUCATIVA "},null,null,null,null,null,null,null,null,null,null,null,null,{"$f":"CONCATENATE(\"UNIDAD EDUCATIVA \",datpro!$E$7)","v":"UNIDAD EDUCATIVA "}]
[null,null,null,null,{"$f":"IF($J$5<>\"\",CONCATENATE(\"ESTUDIANTE: \",INDEX(filEst!$K21:$K70,$J$5,1,1)),\"\")","v":"ESTUDIANTE: "},null,null,null,"Nro.",1,null,null,null,null,null,null,null,{"$f":"IF($W$5<>\"\",CONCATENATE(\"ESTUDIANTE: \",INDEX(filEst!$K21:$K70,$W$5,1,1)),\"\")","v":"ESTUDIANTE: "},null,null,null,"Nro.",2]
[null,null,null,null,{"$f":"CONCATENATE(\"Año de Escolaridad:  \",datpro!$E$11,\" - \",datpro!$E$12)","v":"Año de Escolaridad:   - "},null,null,null,null,null,null,null,null,null,null,null,null,{"$f":"CONCATENATE(\"Año de Escolaridad:  \",datpro!$E$11,\" - \",datpro!$E$12)","v":"Año de Escolaridad:   - "}]
[null,null,null,null,"AREAS","1er","2do","3er",null,"Prom.",null,null,null,null,null,null,null,"AREAS","1er","2do","3er",null,"Prom."]
[null,null,null,null,"CURRICULARES","TRI","TRI","TRI",null,"Anual",null,null,null,null,null,null,null,"CURRICULARES","TRI","TRI","TRI",null,"Anual"]
[null,null,null,null,{"$f":"datpro!$E$41","v":"LENGUA CASTELLANA"},{"$f":"IF($J$5=\"\",\"\",IF(INDEX('CB1'!$M$21:$M$70,$J$5,1,1)=\"\",\"\",INDEX('CB1'!$M$21:$M$70,$J$5,1,1)))","v":""},{"$f":"IF($J$5=\"\",\"\",IF(INDEX('CB2'!$M$21:$M$70,$J$5,1,1)=\"\",\"\",INDEX('CB2'!$M$21:$M$70,$J$5,1,1)))","v":""},{"$f":"IF($J$5=\"\",\"\",IF(INDEX('CB3'!$M$21:$M$70,$J$5,1,1)=\"\",\"\",INDEX('CB3'!$M$21:$M$70,$J$5,1,1)))","v":""},null,{"$f":"IF(F9=\"\",\"\",IF(G9=\"\",\"\",IF(H9=\"\",\"\",IF(I9=\"\",\"\",ROUND(SUM(F9:I9)/4,0)))))","v":""},null,null,null,null,null,null,null,{"$f":"datpro!$E$41","v":"LENGUA CASTELLANA"},{"$f":"IF($W$5=\"\",\"\",IF(INDEX('CB1'!$M$21:$M$70,$W$5,1,1)=\"\",\"\",INDEX('CB1'!$M$21:$M$70,$W$5,1,1)))","v":""},{"$f":"IF($W$5=\"\",\"\",IF(INDEX('CB2'!$M$21:$M$70,$W$5,1,1)=\"\",\"\",INDEX('CB2'!$M$21:$M$70,$W$5,1,1)))","v":""},{"$f":"IF($W$5=\"\",\"\",IF(INDEX('CB3'!$M$21:$M$70,$W$5,1,1)=\"\",\"\",INDEX('CB3'!$M$21:$M$70,$W$5,1,1)))","v":""},null,{"$f":"IF(S9=\"\",\"\",IF(T9=\"\",\"\",IF(U9=\"\",\"\",IF(V9=\"\",\"\",ROUND(SUM(S9:V9)/4,0)))))","v":""}]
[null,null,null,null,{"$f":"datpro!$E$42","v":"LENGUA ORIGINARIA"},{"$f":"IF($J$5=\"\",\"\",IF(INDEX('CB1'!$N$21:$N$70,$J$5,1,1)=\"\",\"\",INDEX('CB1'!$N$21:$N$70,$J$5,1,1)))","v":""},{"$f":"IF($J$5=\"\",\"\",IF(INDEX('CB2'!$N$21:$N$70,$J$5,1,1)=\"\",\"\",INDEX('CB2'!$N$21:$N$70,$J$5,1,1)))","v":""},{"$f":"IF($J$5=\"\",\"\",IF(INDEX('CB3'!$N$21:$N$70,$J$5,1,1)=\"\",\"\",INDEX('CB3'!$N$21:$N$70,$J$5,1,1)))","v":""},null,{"$f":"IF(F10=\"\",\"\",IF(G10=\"\",\"\",IF(H10=\"\",\"\",IF(I10=\"\",\"\",ROUND(SUM(F10:I10)/4,0)))))","v":""},null,null,null,null,null,null,null,{"$f":"datpro!$E$42","v":"LENGUA ORIGINARIA"},{"$f":"IF($W$5=\"\",\"\",IF(INDEX('CB1'!$N$21:$N$70,$W$5,1,1)=\"\",\"\",INDEX('CB1'!$N$21:$N$70,$W$5,1,1)))","v":""},{"$f":"IF($W$5=\"\",\"\",IF(INDEX('CB2'!$N$21:$N$70,$W$5,1,1)=\"\",\"\",INDEX('CB2'!$N$21:$N$70,$W$5,1,1)))","v":""},{"$f":"IF($W$5=\"\",\"\",IF(INDEX('CB3'!$N$21:$N$70,$W$5,1,1)=\"\",\"\",INDEX('CB3'!$N$21:$N$70,$W$5,1,1)))","v":""},null,{"$f":"IF(S10=\"\",\"\",IF(T10=\"\",\"\",IF(U10=\"\",\"\",IF(V10=\"\",\"\",ROUND(SUM(S10:V10)/4,0)))))","v":""}]
[null,null,null,null,{"$f":"datpro!$E$43","v":"LENGUA EXTRANGERA primaria"},{"$f":"IF($J$5=\"\",\"\",IF(INDEX('CB1'!$O$21:$O$70,$J$5,1,1)=\"\",\"\",INDEX('CB1'!$O$21:$O$70,$J$5,1,1)))","v":""},{"$f":"IF($J$5=\"\",\"\",IF(INDEX('CB2'!$O$21:$O$70,$J$5,1,1)=\"\",\"\",INDEX('CB2'!$O$21:$O$70,$J$5,1,1)))","v":""},{"$f":"IF($J$5=\"\",\"\",IF(INDEX('CB3'!$O$21:$O$70,$J$5,1,1)=\"\",\"\",INDEX('CB3'!$O$21:$O$70,$J$5,1,1)))","v":""},null,{"$f":"IF(F11=\"\",\"\",IF(G11=\"\",\"\",IF(H11=\"\",\"\",IF(I11=\"\",\"\",ROUND(SUM(F11:I11)/4,0)))))","v":""},null,null,null,null,null,null,null,{"$f":"datpro!$E$43","v":"LENGUA EXTRANGERA primaria"},{"$f":"IF($W$5=\"\",\"\",IF(INDEX('CB1'!$O$21:$O$70,$W$5,1,1)=\"\",\"\",INDEX('CB1'!$O$21:$O$70,$W$5,1,1)))","v":""},{"$f":"IF($W$5=\"\",\"\",IF(INDEX('CB2'!$O$21:$O$70,$W$5,1,1)=\"\",\"\",INDEX('CB2'!$O$21:$O$70,$W$5,1,1)))","v":""},{"$f":"IF($W$5=\"\",\"\",IF(INDEX('CB3'!$O$21:$O$70,$W$5,1,1)=\"\",\"\",INDEX('CB3'!$O$21:$O$70,$W$5,1,1)))","v":""},null,{"$f":"IF(S11=\"\",\"\",IF(T11=\"\",\"\",IF(U11=\"\",\"\",IF(V11=\"\",\"\",ROUND(SUM(S11:V11)/4,0)))))","v":""}]
[null,null,null,null,{"$f":"datpro!$E$44","v":"COMUNICACIÓN Y LENGUAJES "},{"$f":"IF($J$5=\"\",\"\",IF(INDEX('CB1'!$P$21:$P$70,$J$5,1,1)=\"\",\"\",INDEX('CB1'!$P$21:$P$70,$J$5,1,1)))","v":""},{"$f":"IF($J$5=\"\",\"\",IF(INDEX('CB2'!$P$21:$P$70,$J$5,1,1)=\"\",\"\",INDEX('CB2'!$P$21:$P$70,$J$5,1,1)))","v":""},{"$f":"IF($J$5=\"\",\"\",IF(INDEX('CB3'!$P$21:$P$70,$J$5,1,1)=\"\",\"\",INDEX('CB3'!$P$21:$P$70,$J$5,1,1)))","v":""},null,{"$f":"IF(F12=\"\",\"\",IF(G12=\"\",\"\",IF(H12=\"\",\"\",ROUND(SUM(F12:H12)/3,0))))","v":""},null,null,null,null,null,null,null,{"$f":"datpro!$E$44","v":"COMUNICACIÓN Y LENGUAJES "},{"$f":"IF($W$5=\"\",\"\",IF(INDEX('CB1'!$P$21:$P$70,$W$5,1,1)=\"\",\"\",INDEX('CB1'!$P$21:$P$70,$W$5,1,1)))","v":""},{"$f":"IF($W$5=\"\",\"\",IF(INDEX('CB2'!$P$21:$P$70,$W$5,1,1)=\"\",\"\",INDEX('CB2'!$P$21:$P$70,$W$5,1,1)))","v":""},{"$f":"IF($W$5=\"\",\"\",IF(INDEX('CB3'!$P$21:$P$70,$W$5,1,1)=\"\",\"\",INDEX('CB3'!$P$21:$P$70,$W$5,1,1)))","v":""},null,{"$f":"IF(S12=\"\",\"\",IF(T12=\"\",\"\",IF(U12=\"\",\"\",ROUND(SUM(S12:U12)/3,0))))","v":""}]
[null,null,null,null,{"$f":"datpro!$E$45","v":"LENGUA EXTRANJERA"},{"$f":"IF($J$5=\"\",\"\",IF(INDEX('CB1'!$Q$21:$Q$70,$J$5,1,1)=\"\",\"\",INDEX('CB1'!$Q$21:$Q$70,$J$5,1,1)))","v":""},{"$f":"IF($J$5=\"\",\"\",IF(INDEX('CB2'!$Q$21:$Q$70,$J$5,1,1)=\"\",\"\",INDEX('CB2'!$Q$21:$Q$70,$J$5,1,1)))","v":""},{"$f":"IF($J$5=\"\",\"\",IF(INDEX('CB3'!$Q$21:$Q$70,$J$5,1,1)=\"\",\"\",INDEX('CB3'!$Q$21:$Q$70,$J$5,1,1)))","v":""},null,{"$f":"IF(F13=\"\",\"\",IF(G13=\"\",\"\",IF(H13=\"\",\"\",ROUND(SUM(F13:H13)/3,0))))","v":""},null,null,null,null,null,null,null,{"$f":"datpro!$E$45","v":"LENGUA EXTRANJERA"},{"$f":"IF($W$5=\"\",\"\",IF(INDEX('CB1'!$Q$21:$Q$70,$W$5,1,1)=\"\",\"\",INDEX('CB1'!$Q$21:$Q$70,$W$5,1,1)))","v":""},{"$f":"IF($W$5=\"\",\"\",IF(INDEX('CB2'!$Q$21:$Q$70,$W$5,1,1)=\"\",\"\",INDEX('CB2'!$Q$21:$Q$70,$W$5,1,1)))","v":""},{"$f":"IF($W$5=\"\",\"\",IF(INDEX('CB3'!$Q$21:$Q$70,$W$5,1,1)=\"\",\"\",INDEX('CB3'!$Q$21:$Q$70,$W$5,1,1)))","v":""},null,{"$f":"IF(S13=\"\",\"\",IF(T13=\"\",\"\",IF(U13=\"\",\"\",ROUND(SUM(S13:U13)/3,0))))","v":""}]
[null,null,null,null,{"$f":"datpro!$E$46","v":"HISTORIA"},{"$f":"IF($J$5=\"\",\"\",IF(INDEX('CB1'!$R$21:$R$70,$J$5,1,1)=\"\",\"\",INDEX('CB1'!$R$21:$R$70,$J$5,1,1)))","v":""},{"$f":"IF($J$5=\"\",\"\",IF(INDEX('CB2'!$R$21:$R$70,$J$5,1,1)=\"\",\"\",INDEX('CB2'!$R$21:$R$70,$J$5,1,1)))","v":""},{"$f":"IF($J$5=\"\",\"\",IF(INDEX('CB3'!$R$21:$R$70,$J$5,1,1)=\"\",\"\",INDEX('CB3'!$R$21:$R$70,$J$5,1,1)))","v":""},null,"",null,null,null,null,null,null,null,{"$f":"datpro!$E$46","v":"HISTORIA"},{"$f":"IF($W$5=\"\",\"\",IF(INDEX('CB1'!$R$21:$R$70,$W$5,1,1)=\"\",\"\",INDEX('CB1'!$R$21:$R$70,$W$5,1,1)))","v":""},{"$f":"IF($W$5=\"\",\"\",IF(INDEX('CB2'!$R$21:$R$70,$W$5,1,1)=\"\",\"\",INDEX('CB2'!$R$21:$R$70,$W$5,1,1)))","v":""},{"$f":"IF($W$5=\"\",\"\",IF(INDEX('CB3'!$R$21:$R$70,$W$5,1,1)=\"\",\"\",INDEX('CB3'!$R$21:$R$70,$W$5,1,1)))","v":""},null,""]
[null,null,null,null,{"$f":"datpro!$E$47","v":"CIVICA"},{"$f":"IF($J$5=\"\",\"\",IF(INDEX('CB1'!$S$21:$S$70,$J$5,1,1)=\"\",\"\",INDEX('CB1'!$S$21:$S$70,$J$5,1,1)))","v":""},{"$f":"IF($J$5=\"\",\"\",IF(INDEX('CB2'!$S$21:$S$70,$J$5,1,1)=\"\",\"\",INDEX('CB2'!$S$21:$S$70,$J$5,1,1)))","v":""},{"$f":"IF($J$5=\"\",\"\",IF(INDEX('CB3'!$S$21:$S$70,$J$5,1,1)=\"\",\"\",INDEX('CB3'!$S$21:$S$70,$J$5,1,1)))","v":""},null,"",null,null,null,null,null,null,null,{"$f":"datpro!$E$47","v":"CIVICA"},{"$f":"IF($W$5=\"\",\"\",IF(INDEX('CB1'!$S$21:$S$70,$W$5,1,1)=\"\",\"\",INDEX('CB1'!$S$21:$S$70,$W$5,1,1)))","v":""},{"$f":"IF($W$5=\"\",\"\",IF(INDEX('CB2'!$S$21:$S$70,$W$5,1,1)=\"\",\"\",INDEX('CB2'!$S$21:$S$70,$W$5,1,1)))","v":""},{"$f":"IF($W$5=\"\",\"\",IF(INDEX('CB3'!$S$21:$S$70,$W$5,1,1)=\"\",\"\",INDEX('CB3'!$S$21:$S$70,$W$5,1,1)))","v":""},null,""]
[null,null,null,null,{"$f":"datpro!$E$48","v":"GEOGRAFIA"},{"$f":"IF($J$5=\"\",\"\",IF(INDEX('CB1'!$T$21:$T$70,$J$5,1,1)=\"\",\"\",INDEX('CB1'!$T$21:$T$70,$J$5,1,1)))","v":""},{"$f":"IF($J$5=\"\",\"\",IF(INDEX('CB2'!$T$21:$T$70,$J$5,1,1)=\"\",\"\",INDEX('CB2'!$T$21:$T$70,$J$5,1,1)))","v":""},{"$f":"IF($J$5=\"\",\"\",IF(INDEX('CB3'!$T$21:$T$70,$J$5,1,1)=\"\",\"\",INDEX('CB3'!$T$21:$T$70,$J$5,1,1)))","v":""},null,"",null,null,null,null,null,null,null,{"$f":"datpro!$E$48","v":"GEOGRAFIA"},{"$f":"IF($W$5=\"\",\"\",IF(INDEX('CB1'!$T$21:$T$70,$W$5,1,1)=\"\",\"\",INDEX('CB1'!$T$21:$T$70,$W$5,1,1)))","v":""},{"$f":"IF($W$5=\"\",\"\",IF(INDEX('CB2'!$T$21:$T$70,$W$5,1,1)=\"\",\"\",INDEX('CB2'!$T$21:$T$70,$W$5,1,1)))","v":""},{"$f":"IF($W$5=\"\",\"\",IF(INDEX('CB3'!$T$21:$T$70,$W$5,1,1)=\"\",\"\",INDEX('CB3'!$T$21:$T$70,$W$5,1,1)))","v":""},null,""]
[null,null,null,null,{"$f":"datpro!$E$49","v":"CIENCIAS SOCIALES"},{"$f":"IF($J$5=\"\",\"\",IF(INDEX('CB1'!$U$21:$U$70,$J$5,1,1)=\"\",\"\",INDEX('CB1'!$U$21:$U$70,$J$5,1,1)))","v":""},{"$f":"IF($J$5=\"\",\"\",IF(INDEX('CB2'!$U$21:$U$70,$J$5,1,1)=\"\",\"\",INDEX('CB2'!$U$21:$U$70,$J$5,1,1)))","v":""},{"$f":"IF($J$5=\"\",\"\",IF(INDEX('CB3'!$U$21:$U$70,$J$5,1,1)=\"\",\"\",INDEX('CB3'!$U$21:$U$70,$J$5,1,1)))","v":""},null,"",null,null,null,null,null,null,null,{"$f":"datpro!$E$49","v":"CIENCIAS SOCIALES"},{"$f":"IF($W$5=\"\",\"\",IF(INDEX('CB1'!$U$21:$U$70,$W$5,1,1)=\"\",\"\",INDEX('CB1'!$U$21:$U$70,$W$5,1,1)))","v":""},{"$f":"IF($W$5=\"\",\"\",IF(INDEX('CB2'!$U$21:$U$70,$W$5,1,1)=\"\",\"\",INDEX('CB2'!$U$21:$U$70,$W$5,1,1)))","v":""},{"$f":"IF($W$5=\"\",\"\",IF(INDEX('CB3'!$U$21:$U$70,$W$5,1,1)=\"\",\"\",INDEX('CB3'!$U$21:$U$70,$W$5,1,1)))","v":""},null,""]
[null,null,null,null,{"$f":"datpro!$E$50","v":"EDUCACION FISICA Y DEPORTES"},{"$f":"IF($J$5=\"\",\"\",IF(INDEX('CB1'!$V$21:$V$70,$J$5,1,1)=\"\",\"\",INDEX('CB1'!$V$21:$V$70,$J$5,1,1)))","v":""},{"$f":"IF($J$5=\"\",\"\",IF(INDEX('CB2'!$V$21:$V$70,$J$5,1,1)=\"\",\"\",INDEX('CB2'!$V$21:$V$70,$J$5,1,1)))","v":""},{"$f":"IF($J$5=\"\",\"\",IF(INDEX('CB3'!$V$21:$V$70,$J$5,1,1)=\"\",\"\",INDEX('CB3'!$V$21:$V$70,$J$5,1,1)))","v":""},null,"",null,null,null,null,null,null,null,{"$f":"datpro!$E$50","v":"EDUCACION FISICA Y DEPORTES"},{"$f":"IF($W$5=\"\",\"\",IF(INDEX('CB1'!$V$21:$V$70,$W$5,1,1)=\"\",\"\",INDEX('CB1'!$V$21:$V$70,$W$5,1,1)))","v":""},{"$f":"IF($W$5=\"\",\"\",IF(INDEX('CB2'!$V$21:$V$70,$W$5,1,1)=\"\",\"\",INDEX('CB2'!$V$21:$V$70,$W$5,1,1)))","v":""},{"$f":"IF($W$5=\"\",\"\",IF(INDEX('CB3'!$V$21:$V$70,$W$5,1,1)=\"\",\"\",INDEX('CB3'!$V$21:$V$70,$W$5,1,1)))","v":""},null,""]
[null,null,null,null,{"$f":"datpro!$E$51","v":"EDUCACION MUSICAL"},{"$f":"IF($J$5=\"\",\"\",IF(INDEX('CB1'!$W$21:$W$70,$J$5,1,1)=\"\",\"\",INDEX('CB1'!$W$21:$W$70,$J$5,1,1)))","v":""},{"$f":"IF($J$5=\"\",\"\",IF(INDEX('CB2'!$W$21:$W$70,$J$5,1,1)=\"\",\"\",INDEX('CB2'!$W$21:$W$70,$J$5,1,1)))","v":""},{"$f":"IF($J$5=\"\",\"\",IF(INDEX('CB3'!$W$21:$W$70,$J$5,1,1)=\"\",\"\",INDEX('CB3'!$W$21:$W$70,$J$5,1,1)))","v":""},null,"",null,null,null,null,null,null,null,{"$f":"datpro!$E$51","v":"EDUCACION MUSICAL"},{"$f":"IF($W$5=\"\",\"\",IF(INDEX('CB1'!$W$21:$W$70,$W$5,1,1)=\"\",\"\",INDEX('CB1'!$W$21:$W$70,$W$5,1,1)))","v":""},{"$f":"IF($W$5=\"\",\"\",IF(INDEX('CB2'!$W$21:$W$70,$W$5,1,1)=\"\",\"\",INDEX('CB2'!$W$21:$W$70,$W$5,1,1)))","v":""},{"$f":"IF($W$5=\"\",\"\",IF(INDEX('CB3'!$W$21:$W$70,$W$5,1,1)=\"\",\"\",INDEX('CB3'!$W$21:$W$70,$W$5,1,1)))","v":""},null,""]
[null,null,null,null,{"$f":"datpro!$E$52","v":"ARTES PLASTICAS Y VISUALES"},{"$f":"IF($J$5=\"\",\"\",IF(INDEX('CB1'!$X$21:$X$70,$J$5,1,1)=\"\",\"\",INDEX('CB1'!$X$21:$X$70,$J$5,1,1)))","v":""},{"$f":"IF($J$5=\"\",\"\",IF(INDEX('CB2'!$X$21:$X$70,$J$5,1,1)=\"\",\"\",INDEX('CB2'!$X$21:$X$70,$J$5,1,1)))","v":""},{"$f":"IF($J$5=\"\",\"\",IF(INDEX('CB3'!$X$21:$X$70,$J$5,1,1)=\"\",\"\",INDEX('CB3'!$X$21:$X$70,$J$5,1,1)))","v":""},null,"",null,null,null,null,null,null,null,{"$f":"datpro!$E$52","v":"ARTES PLASTICAS Y VISUALES"},{"$f":"IF($W$5=\"\",\"\",IF(INDEX('CB1'!$X$21:$X$70,$W$5,1,1)=\"\",\"\",INDEX('CB1'!$X$21:$X$70,$W$5,1,1)))","v":""},{"$f":"IF($W$5=\"\",\"\",IF(INDEX('CB2'!$X$21:$X$70,$W$5,1,1)=\"\",\"\",INDEX('CB2'!$X$21:$X$70,$W$5,1,1)))","v":""},{"$f":"IF($W$5=\"\",\"\",IF(INDEX('CB3'!$X$21:$X$70,$W$5,1,1)=\"\",\"\",INDEX('CB3'!$X$21:$X$70,$W$5,1,1)))","v":""},null,""]
[null,null,null,null,{"$f":"datpro!$E$53","v":"MATEMATICAS"},{"$f":"IF($J$5=\"\",\"\",IF(INDEX('CB1'!$Y$21:$Y$70,$J$5,1,1)=\"\",\"\",INDEX('CB1'!$Y$21:$Y$70,$J$5,1,1)))","v":""},{"$f":"IF($J$5=\"\",\"\",IF(INDEX('CB2'!$Y$21:$Y$70,$J$5,1,1)=\"\",\"\",INDEX('CB2'!$Y$21:$Y$70,$J$5,1,1)))","v":""},{"$f":"IF($J$5=\"\",\"\",IF(INDEX('CB3'!$Y$21:$Y$70,$J$5,1,1)=\"\",\"\",INDEX('CB3'!$Y$21:$Y$70,$J$5,1,1)))","v":""},null,"",null,null,null,null,null,null,null,{"$f":"datpro!$E$53","v":"MATEMATICAS"},{"$f":"IF($W$5=\"\",\"\",IF(INDEX('CB1'!$Y$21:$Y$70,$W$5,1,1)=\"\",\"\",INDEX('CB1'!$Y$21:$Y$70,$W$5,1,1)))","v":""},{"$f":"IF($W$5=\"\",\"\",IF(INDEX('CB2'!$Y$21:$Y$70,$W$5,1,1)=\"\",\"\",INDEX('CB2'!$Y$21:$Y$70,$W$5,1,1)))","v":""},{"$f":"IF($W$5=\"\",\"\",IF(INDEX('CB3'!$Y$21:$Y$70,$W$5,1,1)=\"\",\"\",INDEX('CB3'!$Y$21:$Y$70,$W$5,1,1)))","v":""},null,""]
[null,null,null,null,{"$f":"datpro!$E$54","v":"TECNICA TECNOLOGIA"},{"$f":"IF($J$5=\"\",\"\",IF(INDEX('CB1'!$Z$21:$Z$70,$J$5,1,1)=\"\",\"\",INDEX('CB1'!$Z$21:$Z$70,$J$5,1,1)))","v":""},{"$f":"IF($J$5=\"\",\"\",IF(INDEX('CB2'!$Z$21:$Z$70,$J$5,1,1)=\"\",\"\",INDEX('CB2'!$Z$21:$Z$70,$J$5,1,1)))","v":""},{"$f":"IF($J$5=\"\",\"\",IF(INDEX('CB3'!$Z$21:$Z$70,$J$5,1,1)=\"\",\"\",INDEX('CB3'!$Z$21:$Z$70,$J$5,1,1)))","v":""},null,"",null,null,null,null,null,null,null,{"$f":"datpro!$E$54","v":"TECNICA TECNOLOGIA"},{"$f":"IF($W$5=\"\",\"\",IF(INDEX('CB1'!$Z$21:$Z$70,$W$5,1,1)=\"\",\"\",INDEX('CB1'!$Z$21:$Z$70,$W$5,1,1)))","v":""},{"$f":"IF($W$5=\"\",\"\",IF(INDEX('CB2'!$Z$21:$Z$70,$W$5,1,1)=\"\",\"\",INDEX('CB2'!$Z$21:$Z$70,$W$5,1,1)))","v":""},{"$f":"IF($W$5=\"\",\"\",IF(INDEX('CB3'!$Z$21:$Z$70,$W$5,1,1)=\"\",\"\",INDEX('CB3'!$Z$21:$Z$70,$W$5,1,1)))","v":""},null,""]
[null,null,null,null,{"$f":"datpro!$E$55","v":0},{"$f":"IF($J$5=\"\",\"\",IF(INDEX('CB1'!$AA$21:$AA$70,$J$5,1,1)=\"\",\"\",INDEX('CB1'!$AA$21:$AA$70,$J$5,1,1)))","v":""},{"$f":"IF($J$5=\"\",\"\",IF(INDEX('CB2'!$AA$21:$AA$70,$J$5,1,1)=\"\",\"\",INDEX('CB2'!$AA$21:$AA$70,$J$5,1,1)))","v":""},{"$f":"IF($J$5=\"\",\"\",IF(INDEX('CB3'!$AA$21:$AA$70,$J$5,1,1)=\"\",\"\",INDEX('CB3'!$AA$21:$AA$70,$J$5,1,1)))","v":""},null,"",null,null,null,null,null,null,null,{"$f":"datpro!$E$55","v":0},{"$f":"IF($W$5=\"\",\"\",IF(INDEX('CB1'!$AA$21:$AA$70,$W$5,1,1)=\"\",\"\",INDEX('CB1'!$AA$21:$AA$70,$W$5,1,1)))","v":""},{"$f":"IF($W$5=\"\",\"\",IF(INDEX('CB2'!$AA$21:$AA$70,$W$5,1,1)=\"\",\"\",INDEX('CB2'!$AA$21:$AA$70,$W$5,1,1)))","v":""},{"$f":"IF($W$5=\"\",\"\",IF(INDEX('CB3'!$AA$21:$AA$70,$W$5,1,1)=\"\",\"\",INDEX('CB3'!$AA$21:$AA$70,$W$5,1,1)))","v":""},null,""]
[null,null,null,null,{"$f":"datpro!$E$56","v":0},{"$f":"IF($J$5=\"\",\"\",IF(INDEX('CB1'!$AB$21:$AB$70,$J$5,1,1)=\"\",\"\",INDEX('CB1'!$AB$21:$AB$70,$J$5,1,1)))","v":""},{"$f":"IF($J$5=\"\",\"\",IF(INDEX('CB2'!$AB$21:$AB$70,$J$5,1,1)=\"\",\"\",INDEX('CB2'!$AB$21:$AB$70,$J$5,1,1)))","v":""},{"$f":"IF($J$5=\"\",\"\",IF(INDEX('CB3'!$AB$21:$AB$70,$J$5,1,1)=\"\",\"\",INDEX('CB3'!$AB$21:$AB$70,$J$5,1,1)))","v":""},null,"",null,null,null,null,null,null,null,{"$f":"datpro!$E$56","v":0},{"$f":"IF($W$5=\"\",\"\",IF(INDEX('CB1'!$AB$21:$AB$70,$W$5,1,1)=\"\",\"\",INDEX('CB1'!$AB$21:$AB$70,$W$5,1,1)))","v":""},{"$f":"IF($W$5=\"\",\"\",IF(INDEX('CB2'!$AB$21:$AB$70,$W$5,1,1)=\"\",\"\",INDEX('CB2'!$AB$21:$AB$70,$W$5,1,1)))","v":""},{"$f":"IF($W$5=\"\",\"\",IF(INDEX('CB3'!$AB$21:$AB$70,$W$5,1,1)=\"\",\"\",INDEX('CB3'!$AB$21:$AB$70,$W$5,1,1)))","v":""},null,""]
[null,null,null,null,{"$f":"datpro!$E$57","v":"CIENCIAS NATURALES"},{"$f":"IF($J$5=\"\",\"\",IF(INDEX('CB1'!$AC$21:$AC$70,$J$5,1,1)=\"\",\"\",INDEX('CB1'!$AC$21:$AC$70,$J$5,1,1)))","v":""},{"$f":"IF($J$5=\"\",\"\",IF(INDEX('CB2'!$AC$21:$AC$70,$J$5,1,1)=\"\",\"\",INDEX('CB2'!$AC$21:$AC$70,$J$5,1,1)))","v":""},{"$f":"IF($J$5=\"\",\"\",IF(INDEX('CB3'!$AC$21:$AC$70,$J$5,1,1)=\"\",\"\",INDEX('CB3'!$AC$21:$AC$70,$J$5,1,1)))","v":""},null,"",null,null,null,null,null,null,null,{"$f":"datpro!$E$57","v":"CIENCIAS NATURALES"},{"$f":"IF($W$5=\"\",\"\",IF(INDEX('CB1'!$AC$21:$AC$70,$W$5,1,1)=\"\",\"\",INDEX('CB1'!$AC$21:$AC$70,$W$5,1,1)))","v":""},{"$f":"IF($W$5=\"\",\"\",IF(INDEX('CB2'!$AC$21:$AC$70,$W$5,1,1)=\"\",\"\",INDEX('CB2'!$AC$21:$AC$70,$W$5,1,1)))","v":""},{"$f":"IF($W$5=\"\",\"\",IF(INDEX('CB3'!$AC$21:$AC$70,$W$5,1,1)=\"\",\"\",INDEX('CB3'!$AC$21:$AC$70,$W$5,1,1)))","v":""},null,""]
[null,null,null,null,{"$f":"datpro!$E$58","v":0},{"$f":"IF($J$5=\"\",\"\",IF(INDEX('CB1'!$AD$21:$AD$70,$J$5,1,1)=\"\",\"\",INDEX('CB1'!$AD$21:$AD$70,$J$5,1,1)))","v":""},{"$f":"IF($J$5=\"\",\"\",IF(INDEX('CB2'!$AD$21:$AD$70,$J$5,1,1)=\"\",\"\",INDEX('CB2'!$AD$21:$AD$70,$J$5,1,1)))","v":""},{"$f":"IF($J$5=\"\",\"\",IF(INDEX('CB3'!$AD$21:$AD$70,$J$5,1,1)=\"\",\"\",INDEX('CB3'!$AD$21:$AD$70,$J$5,1,1)))","v":""},null,"",null,null,null,null,null,null,null,{"$f":"datpro!$E$58","v":0},{"$f":"IF($W$5=\"\",\"\",IF(INDEX('CB1'!$AD$21:$AD$70,$W$5,1,1)=\"\",\"\",INDEX('CB1'!$AD$21:$AD$70,$W$5,1,1)))","v":""},{"$f":"IF($W$5=\"\",\"\",IF(INDEX('CB2'!$AD$21:$AD$70,$W$5,1,1)=\"\",\"\",INDEX('CB2'!$AD$21:$AD$70,$W$5,1,1)))","v":""},{"$f":"IF($W$5=\"\",\"\",IF(INDEX('CB3'!$AD$21:$AD$70,$W$5,1,1)=\"\",\"\",INDEX('CB3'!$AD$21:$AD$70,$W$5,1,1)))","v":""},null,""]
[null,null,null,null,{"$f":"datpro!$E$59","v":"FISICA"},{"$f":"IF($J$5=\"\",\"\",IF(INDEX('CB1'!$AE$21:$AE$70,$J$5,1,1)=\"\",\"\",INDEX('CB1'!$AE$21:$AE$70,$J$5,1,1)))","v":""},{"$f":"IF($J$5=\"\",\"\",IF(INDEX('CB2'!$AE$21:$AE$70,$J$5,1,1)=\"\",\"\",INDEX('CB2'!$AE$21:$AE$70,$J$5,1,1)))","v":""},{"$f":"IF($J$5=\"\",\"\",IF(INDEX('CB3'!$AE$21:$AE$70,$J$5,1,1)=\"\",\"\",INDEX('CB3'!$AE$21:$AE$70,$J$5,1,1)))","v":""},null,{"$f":"IF(F27=\"\",\"\",IF(G27=\"\",\"\",IF(H27=\"\",\"\",ROUND(SUM(F27:H27)/3,0))))","v":""},null,null,null,null,null,null,null,{"$f":"datpro!$E$59","v":"FISICA"},{"$f":"IF($W$5=\"\",\"\",IF(INDEX('CB1'!$AE$21:$AE$70,$W$5,1,1)=\"\",\"\",INDEX('CB1'!$AE$21:$AE$70,$W$5,1,1)))","v":""},{"$f":"IF($W$5=\"\",\"\",IF(INDEX('CB2'!$AE$21:$AE$70,$W$5,1,1)=\"\",\"\",INDEX('CB2'!$AE$21:$AE$70,$W$5,1,1)))","v":""},{"$f":"IF($W$5=\"\",\"\",IF(INDEX('CB3'!$AE$21:$AE$70,$W$5,1,1)=\"\",\"\",INDEX('CB3'!$AE$21:$AE$70,$W$5,1,1)))","v":""},null,{"$f":"IF(S27=\"\",\"\",IF(T27=\"\",\"\",IF(U27=\"\",\"\",ROUND(SUM(S27:U27)/3,0))))","v":""}]
[null,null,null,null,{"$f":"datpro!$E$60","v":"QUIMICA"},{"$f":"IF($J$5=\"\",\"\",IF(INDEX('CB1'!$AF$21:$AF$70,$J$5,1,1)=\"\",\"\",INDEX('CB1'!$AF$21:$AF$70,$J$5,1,1)))","v":""},{"$f":"IF($J$5=\"\",\"\",IF(INDEX('CB2'!$AF$21:$AF$70,$J$5,1,1)=\"\",\"\",INDEX('CB2'!$AF$21:$AF$70,$J$5,1,1)))","v":""},{"$f":"IF($J$5=\"\",\"\",IF(INDEX('CB3'!$AF$21:$AF$70,$J$5,1,1)=\"\",\"\",INDEX('CB3'!$AF$21:$AF$70,$J$5,1,1)))","v":""},null,"",null,null,null,null,null,null,null,{"$f":"datpro!$E$60","v":"QUIMICA"},{"$f":"IF($W$5=\"\",\"\",IF(INDEX('CB1'!$AF$21:$AF$70,$W$5,1,1)=\"\",\"\",INDEX('CB1'!$AF$21:$AF$70,$W$5,1,1)))","v":""},{"$f":"IF($W$5=\"\",\"\",IF(INDEX('CB2'!$AF$21:$AF$70,$W$5,1,1)=\"\",\"\",INDEX('CB2'!$AF$21:$AF$70,$W$5,1,1)))","v":""},{"$f":"IF($W$5=\"\",\"\",IF(INDEX('CB3'!$AF$21:$AF$70,$W$5,1,1)=\"\",\"\",INDEX('CB3'!$AF$21:$AF$70,$W$5,1,1)))","v":""},null,""]
[null,null,null,null,{"$f":"datpro!$E$61","v":0},{"$f":"IF($J$5=\"\",\"\",IF(INDEX('CB1'!$AG$21:$AG$70,$J$5,1,1)=\"\",\"\",INDEX('CB1'!$AG$21:$AG$70,$J$5,1,1)))","v":""},{"$f":"IF($J$5=\"\",\"\",IF(INDEX('CB2'!$AG$21:$AG$70,$J$5,1,1)=\"\",\"\",INDEX('CB2'!$AG$21:$AG$70,$J$5,1,1)))","v":""},{"$f":"IF($J$5=\"\",\"\",IF(INDEX('CB3'!$AG$21:$AG$70,$J$5,1,1)=\"\",\"\",INDEX('CB3'!$AG$21:$AG$70,$J$5,1,1)))","v":""},null,"",null,null,null,null,null,null,null,{"$f":"datpro!$E$61","v":0},{"$f":"IF($W$5=\"\",\"\",IF(INDEX('CB1'!$AG$21:$AG$70,$W$5,1,1)=\"\",\"\",INDEX('CB1'!$AG$21:$AG$70,$W$5,1,1)))","v":""},{"$f":"IF($W$5=\"\",\"\",IF(INDEX('CB2'!$AG$21:$AG$70,$W$5,1,1)=\"\",\"\",INDEX('CB2'!$AG$21:$AG$70,$W$5,1,1)))","v":""},{"$f":"IF($W$5=\"\",\"\",IF(INDEX('CB3'!$AG$21:$AG$70,$W$5,1,1)=\"\",\"\",INDEX('CB3'!$AG$21:$AG$70,$W$5,1,1)))","v":""},null,""]
[null,null,null,null,{"$f":"datpro!$E$62","v":0},{"$f":"IF($J$5=\"\",\"\",IF(INDEX('CB1'!$AH$21:$AH$70,$J$5,1,1)=\"\",\"\",INDEX('CB1'!$AH$21:$AH$70,$J$5,1,1)))","v":""},{"$f":"IF($J$5=\"\",\"\",IF(INDEX('CB2'!$AH$21:$AH$70,$J$5,1,1)=\"\",\"\",INDEX('CB2'!$AH$21:$AH$70,$J$5,1,1)))","v":""},{"$f":"IF($J$5=\"\",\"\",IF(INDEX('CB3'!$AH$21:$AH$70,$J$5,1,1)=\"\",\"\",INDEX('CB3'!$AH$21:$AH$70,$J$5,1,1)))","v":""},null,"",null,null,null,null,null,null,null,{"$f":"datpro!$E$62","v":0},{"$f":"IF($W$5=\"\",\"\",IF(INDEX('CB1'!$AH$21:$AH$70,$W$5,1,1)=\"\",\"\",INDEX('CB1'!$AH$21:$AH$70,$W$5,1,1)))","v":""},{"$f":"IF($W$5=\"\",\"\",IF(INDEX('CB2'!$AH$21:$AH$70,$W$5,1,1)=\"\",\"\",INDEX('CB2'!$AH$21:$AH$70,$W$5,1,1)))","v":""},{"$f":"IF($W$5=\"\",\"\",IF(INDEX('CB3'!$AH$21:$AH$70,$W$5,1,1)=\"\",\"\",INDEX('CB3'!$AH$21:$AH$70,$W$5,1,1)))","v":""},null,""]
[null,null,null,null,{"$f":"datpro!$E$63","v":0},{"$f":"IF($J$5=\"\",\"\",IF(INDEX('CB1'!$AI$21:$AI$70,$J$5,1,1)=\"\",\"\",INDEX('CB1'!$AI$21:$AI$70,$J$5,1,1)))","v":""},{"$f":"IF($J$5=\"\",\"\",IF(INDEX('CB2'!$AI$21:$AI$70,$J$5,1,1)=\"\",\"\",INDEX('CB2'!$AI$21:$AI$70,$J$5,1,1)))","v":""},{"$f":"IF($J$5=\"\",\"\",IF(INDEX('CB3'!$AI$21:$AI$70,$J$5,1,1)=\"\",\"\",INDEX('CB3'!$AI$21:$AI$70,$J$5,1,1)))","v":""},null,"",null,null,null,null,null,null,null,{"$f":"datpro!$E$63","v":0},{"$f":"IF($W$5=\"\",\"\",IF(INDEX('CB1'!$AI$21:$AI$70,$W$5,1,1)=\"\",\"\",INDEX('CB1'!$AI$21:$AI$70,$W$5,1,1)))","v":""},{"$f":"IF($W$5=\"\",\"\",IF(INDEX('CB2'!$AI$21:$AI$70,$W$5,1,1)=\"\",\"\",INDEX('CB2'!$AI$21:$AI$70,$W$5,1,1)))","v":""},{"$f":"IF($W$5=\"\",\"\",IF(INDEX('CB3'!$AI$21:$AI$70,$W$5,1,1)=\"\",\"\",INDEX('CB3'!$AI$21:$AI$70,$W$5,1,1)))","v":""},null,""]
[null,null,null,null,{"$f":"datpro!$E$64","v":"COSMOVISIONES, FILOSOFIA O PSICOLOGIA"},{"$f":"IF($J$5=\"\",\"\",IF(INDEX('CB1'!$AJ$21:$AJ$70,$J$5,1,1)=\"\",\"\",INDEX('CB1'!$AJ$21:$AJ$70,$J$5,1,1)))","v":""},{"$f":"IF($J$5=\"\",\"\",IF(INDEX('CB2'!$AJ$21:$AJ$70,$J$5,1,1)=\"\",\"\",INDEX('CB2'!$AJ$21:$AJ$70,$J$5,1,1)))","v":""},{"$f":"IF($J$5=\"\",\"\",IF(INDEX('CB3'!$AJ$21:$AJ$70,$J$5,1,1)=\"\",\"\",INDEX('CB3'!$AJ$21:$AJ$70,$J$5,1,1)))","v":""},null,"",null,null,null,null,null,null,null,{"$f":"datpro!$E$64","v":"COSMOVISIONES, FILOSOFIA O PSICOLOGIA"},{"$f":"IF($W$5=\"\",\"\",IF(INDEX('CB1'!$AJ$21:$AJ$70,$W$5,1,1)=\"\",\"\",INDEX('CB1'!$AJ$21:$AJ$70,$W$5,1,1)))","v":""},{"$f":"IF($W$5=\"\",\"\",IF(INDEX('CB2'!$AJ$21:$AJ$70,$W$5,1,1)=\"\",\"\",INDEX('CB2'!$AJ$21:$AJ$70,$W$5,1,1)))","v":""},{"$f":"IF($W$5=\"\",\"\",IF(INDEX('CB3'!$AJ$21:$AJ$70,$W$5,1,1)=\"\",\"\",INDEX('CB3'!$AJ$21:$AJ$70,$W$5,1,1)))","v":""},null,""]
[null,null,null,null,{"$f":"datpro!$E$65","v":"VALORES, ESPIRITUALIDAD Y RELIGIONES"},{"$f":"IF($J$5=\"\",\"\",IF(INDEX('CB1'!$AK$21:$AK$70,$J$5,1,1)=\"\",\"\",INDEX('CB1'!$AK$21:$AK$70,$J$5,1,1)))","v":""},{"$f":"IF($J$5=\"\",\"\",IF(INDEX('CB2'!$AK$21:$AK$70,$J$5,1,1)=\"\",\"\",INDEX('CB2'!$AK$21:$AK$70,$J$5,1,1)))","v":""},{"$f":"IF($J$5=\"\",\"\",IF(INDEX('CB3'!$AK$21:$AK$70,$J$5,1,1)=\"\",\"\",INDEX('CB3'!$AK$21:$AK$70,$J$5,1,1)))","v":""},null,"",null,null,null,null,null,null,null,{"$f":"datpro!$E$65","v":"VALORES, ESPIRITUALIDAD Y RELIGIONES"},{"$f":"IF($W$5=\"\",\"\",IF(INDEX('CB1'!$AK$21:$AK$70,$W$5,1,1)=\"\",\"\",INDEX('CB1'!$AK$21:$AK$70,$W$5,1,1)))","v":""},{"$f":"IF($W$5=\"\",\"\",IF(INDEX('CB2'!$AK$21:$AK$70,$W$5,1,1)=\"\",\"\",INDEX('CB2'!$AK$21:$AK$70,$W$5,1,1)))","v":""},{"$f":"IF($W$5=\"\",\"\",IF(INDEX('CB3'!$AK$21:$AK$70,$W$5,1,1)=\"\",\"\",INDEX('CB3'!$AK$21:$AK$70,$W$5,1,1)))","v":""},null,""]
[null,null,null,null,{"$f":"datpro!$E$66","v":"PROMEDIO"},{"$f":"IF($J$5=\"\",\"\",IF(INDEX('CB1'!$AL$21:$AL$70,$J$5,1,1)=\"\",\"\",INDEX('CB1'!$AL$21:$AL$70,$J$5,1,1)))","v":""},{"$f":"IF($J$5=\"\",\"\",IF(INDEX('CB2'!$AL$21:$AL$70,$J$5,1,1)=\"\",\"\",INDEX('CB2'!$AL$21:$AL$70,$J$5,1,1)))","v":""},{"$f":"IF($J$5=\"\",\"\",IF(INDEX('CB3'!$AL$21:$AL$70,$J$5,1,1)=\"\",\"\",INDEX('CB3'!$AL$21:$AL$70,$J$5,1,1)))","v":""},null,"",null,null,null,null,null,null,null,{"$f":"datpro!$E$66","v":"PROMEDIO"},{"$f":"IF($W$5=\"\",\"\",IF(INDEX('CB1'!$AL$21:$AL$70,$W$5,1,1)=\"\",\"\",INDEX('CB1'!$AL$21:$AL$70,$W$5,1,1)))","v":""},{"$f":"IF($W$5=\"\",\"\",IF(INDEX('CB2'!$AL$21:$AL$70,$W$5,1,1)=\"\",\"\",INDEX('CB2'!$AL$21:$AL$70,$W$5,1,1)))","v":""},{"$f":"IF($W$5=\"\",\"\",IF(INDEX('CB3'!$AL$21:$AL$70,$W$5,1,1)=\"\",\"\",INDEX('CB3'!$AL$21:$AL$70,$W$5,1,1)))","v":""},null,""]
[null,null,null,null,"_________________","__________________",null,null,null,null,null,null,null,null,null,null,null,"_________________","__________________"]
[null,null,null,null,{"$f":"datpro!$E$9","v":0},{"$f":"datpro!$E$8","v":0},null,null,null,null,null,null,null,null,null,null,null,{"$f":"datpro!$E$9","v":0},{"$f":"datpro!$E$8","v":0}]
[null,null,null,null,"MAESTRO(A)","DIRECTOR(A)",null,null,null,null,null,null,null,null,null,null,null,"MAESTRO(A)","DIRECTOR(A)"]
[]
[null,null,null,null,{"$f":"CONCATENATE(datpro!$D$39,\" 2023\")","v":"BOLETIN DE CALIFICACIONES 2023"},null,null,null,null,null,null,null,null,null,null,null,null,{"$f":"CONCATENATE(datpro!$D$39,\" 2023\")","v":"BOLETIN DE CALIFICACIONES 2023"}]
[null,null,null,null,{"$f":"datpro!$D$38","v":""},null,null,null,null,null,null,null,null,null,null,null,null,{"$f":"datpro!$D$38","v":""}]
[null,null,null,null,{"$f":"CONCATENATE(\"UNIDAD EDUCATIVA \",datpro!$E$7)","v":"UNIDAD EDUCATIVA "},null,null,null,null,null,null,null,null,null,null,null,null,{"$f":"CONCATENATE(\"UNIDAD EDUCATIVA \",datpro!$E$7)","v":"UNIDAD EDUCATIVA "}]
[null,null,null,null,{"$f":"IF($J$42<>\"\",CONCATENATE(\"ESTUDIANTE: \",INDEX(filEst!$K21:$K70,$J$42,1,1)),\"\")","v":"ESTUDIANTE: "},null,null,null,"Nro.",3,null,null,null,null,null,null,null,{"$f":"IF($W$42<>\"\",CONCATENATE(\"ESTUDIANTE: \",INDEX(filEst!$K21:$K70,$W$42,1,1)),\"\")","v":"ESTUDIANTE: "},null,null,null,"Nro.",4]
[null,null,null,null,{"$f":"CONCATENATE(\"Año de Escolaridad:  \",datpro!$E$11,\" - \",datpro!$E$12)","v":"Año de Escolaridad:   - "},null,null,null,null,null,null,null,null,null,null,null,null,{"$f":"CONCATENATE(\"Año de Escolaridad:  \",datpro!$E$11,\" - \",datpro!$E$12)","v":"Año de Escolaridad:   - "}]
[null,null,null,null,"AREAS","1er","2do","3er",null,"Prom.",null,null,null,null,null,null,null,"AREAS","1er","2do","3er",null,"Prom."]
[null,null,null,null,"CURRICULARES","TRI","TRI","TRI",null,"Anual",null,null,null,null,null,null,null,"CURRICULARES","TRI","TRI","TRI",null,"Anual"]
[null,null,null,null,{"$f":"datpro!$E$41","v":"LENGUA CASTELLANA"},{"$f":"IF($J$42=\"\",\"\",IF(INDEX('CB1'!$M$21:$M$70,$J$42,1,1)=\"\",\"\",INDEX('CB1'!$M$21:$M$70,$J$42,1,1)))","v":""},{"$f":"IF($J$42=\"\",\"\",IF(INDEX('CB2'!$M$21:$M$70,$J$42,1,1)=\"\",\"\",INDEX('CB2'!$M$21:$M$70,$J$42,1,1)))","v":""},{"$f":"IF($J$42=\"\",\"\",IF(INDEX('CB3'!$M$21:$M$70,$J$42,1,1)=\"\",\"\",INDEX('CB3'!$M$21:$M$70,$J$42,1,1)))","v":""},null,{"$f":"IF(F46=\"\",\"\",IF(G46=\"\",\"\",IF(H46=\"\",\"\",IF(I46=\"\",\"\",ROUND(SUM(F46:I46)/4,0)))))","v":""},null,null,null,null,null,null,null,{"$f":"datpro!$E$41","v":"LENGUA CASTELLANA"},{"$f":"IF($W$42=\"\",\"\",IF(INDEX('CB1'!$M$21:$M$70,$W$42,1,1)=\"\",\"\",INDEX('CB1'!$M$21:$M$70,$W$42,1,1)))","v":""},{"$f":"IF($W$42=\"\",\"\",IF(INDEX('CB2'!$M$21:$M$70,$W$42,1,1)=\"\",\"\",INDEX('CB2'!$M$21:$M$70,$W$42,1,1)))","v":""},{"$f":"IF($W$42=\"\",\"\",IF(INDEX('CB3'!$M$21:$M$70,$W$42,1,1)=\"\",\"\",INDEX('CB3'!$M$21:$M$70,$W$42,1,1)))","v":""},null,{"$f":"IF(S46=\"\",\"\",IF(T46=\"\",\"\",IF(U46=\"\",\"\",IF(V46=\"\",\"\",ROUND(SUM(S46:V46)/4,0)))))","v":""}]
[null,null,null,null,{"$f":"datpro!$E$42","v":"LENGUA ORIGINARIA"},{"$f":"IF($J$42=\"\",\"\",IF(INDEX('CB1'!$N$21:$N$70,$J$42,1,1)=\"\",\"\",INDEX('CB1'!$N$21:$N$70,$J$42,1,1)))","v":""},{"$f":"IF($J$42=\"\",\"\",IF(INDEX('CB2'!$N$21:$N$70,$J$42,1,1)=\"\",\"\",INDEX('CB2'!$N$21:$N$70,$J$42,1,1)))","v":""},{"$f":"IF($J$42=\"\",\"\",IF(INDEX('CB3'!$N$21:$N$70,$J$42,1,1)=\"\",\"\",INDEX('CB3'!$N$21:$N$70,$J$42,1,1)))","v":""},null,{"$f":"IF(F47=\"\",\"\",IF(G47=\"\",\"\",IF(H47=\"\",\"\",IF(I47=\"\",\"\",ROUND(SUM(F47:I47)/4,0)))))","v":""},null,null,null,null,null,null,null,{"$f":"datpro!$E$42","v":"LENGUA ORIGINARIA"},{"$f":"IF($W$42=\"\",\"\",IF(INDEX('CB1'!$N$21:$N$70,$W$42,1,1)=\"\",\"\",INDEX('CB1'!$N$21:$N$70,$W$42,1,1)))","v":""},{"$f":"IF($W$42=\"\",\"\",IF(INDEX('CB2'!$N$21:$N$70,$W$42,1,1)=\"\",\"\",INDEX('CB2'!$N$21:$N$70,$W$42,1,1)))","v":""},{"$f":"IF($W$42=\"\",\"\",IF(INDEX('CB3'!$N$21:$N$70,$W$42,1,1)=\"\",\"\",INDEX('CB3'!$N$21:$N$70,$W$42,1,1)))","v":""},null,{"$f":"IF(S47=\"\",\"\",IF(T47=\"\",\"\",IF(U47=\"\",\"\",IF(V47=\"\",\"\",ROUND(SUM(S47:V47)/4,0)))))","v":""}]
[null,null,null,null,{"$f":"datpro!$E$43","v":"LENGUA EXTRANGERA primaria"},{"$f":"IF($J$42=\"\",\"\",IF(INDEX('CB1'!$O$21:$O$70,$J$42,1,1)=\"\",\"\",INDEX('CB1'!$O$21:$O$70,$J$42,1,1)))","v":""},{"$f":"IF($J$42=\"\",\"\",IF(INDEX('CB2'!$O$21:$O$70,$J$42,1,1)=\"\",\"\",INDEX('CB2'!$O$21:$O$70,$J$42,1,1)))","v":""},{"$f":"IF($J$42=\"\",\"\",IF(INDEX('CB3'!$O$21:$O$70,$J$42,1,1)=\"\",\"\",INDEX('CB3'!$O$21:$O$70,$J$42,1,1)))","v":""},null,{"$f":"IF(F48=\"\",\"\",IF(G48=\"\",\"\",IF(H48=\"\",\"\",IF(I48=\"\",\"\",ROUND(SUM(F48:I48)/4,0)))))","v":""},null,null,null,null,null,null,null,{"$f":"datpro!$E$43","v":"LENGUA EXTRANGERA primaria"},{"$f":"IF($W$42=\"\",\"\",IF(INDEX('CB1'!$O$21:$O$70,$W$42,1,1)=\"\",\"\",INDEX('CB1'!$O$21:$O$70,$W$42,1,1)))","v":""},{"$f":"IF($W$42=\"\",\"\",IF(INDEX('CB2'!$O$21:$O$70,$W$42,1,1)=\"\",\"\",INDEX('CB2'!$O$21:$O$70,$W$42,1,1)))","v":""},{"$f":"IF($W$42=\"\",\"\",IF(INDEX('CB3'!$O$21:$O$70,$W$42,1,1)=\"\",\"\",INDEX('CB3'!$O$21:$O$70,$W$42,1,1)))","v":""},null,{"$f":"IF(S48=\"\",\"\",IF(T48=\"\",\"\",IF(U48=\"\",\"\",IF(V48=\"\",\"\",ROUND(SUM(S48:V48)/4,0)))))","v":""}]
[null,null,null,null,{"$f":"datpro!$E$44","v":"COMUNICACIÓN Y LENGUAJES "},{"$f":"IF($J$42=\"\",\"\",IF(INDEX('CB1'!$P$21:$P$70,$J$42,1,1)=\"\",\"\",INDEX('CB1'!$P$21:$P$70,$J$42,1,1)))","v":""},{"$f":"IF($J$42=\"\",\"\",IF(INDEX('CB2'!$P$21:$P$70,$J$42,1,1)=\"\",\"\",INDEX('CB2'!$P$21:$P$70,$J$42,1,1)))","v":""},{"$f":"IF($J$42=\"\",\"\",IF(INDEX('CB3'!$P$21:$P$70,$J$42,1,1)=\"\",\"\",INDEX('CB3'!$P$21:$P$70,$J$42,1,1)))","v":""},null,{"$f":"IF(F49=\"\",\"\",IF(G49=\"\",\"\",IF(H49=\"\",\"\",ROUND(SUM(F49:H49)/3,0))))","v":""},null,null,null,null,null,null,null,{"$f":"datpro!$E$44","v":"COMUNICACIÓN Y LENGUAJES "},{"$f":"IF($W$42=\"\",\"\",IF(INDEX('CB1'!$P$21:$P$70,$W$42,1,1)=\"\",\"\",INDEX('CB1'!$P$21:$P$70,$W$42,1,1)))","v":""},{"$f":"IF($W$42=\"\",\"\",IF(INDEX('CB2'!$P$21:$P$70,$W$42,1,1)=\"\",\"\",INDEX('CB2'!$P$21:$P$70,$W$42,1,1)))","v":""},{"$f":"IF($W$42=\"\",\"\",IF(INDEX('CB3'!$P$21:$P$70,$W$42,1,1)=\"\",\"\",INDEX('CB3'!$P$21:$P$70,$W$42,1,1)))","v":""},null,{"$f":"IF(S49=\"\",\"\",IF(T49=\"\",\"\",IF(U49=\"\",\"\",ROUND(SUM(S49:U49)/3,0))))","v":""}]
[null,null,null,null,{"$f":"datpro!$E$45","v":"LENGUA EXTRANJERA"},{"$f":"IF($J$42=\"\",\"\",IF(INDEX('CB1'!$Q$21:$Q$70,$J$42,1,1)=\"\",\"\",INDEX('CB1'!$Q$21:$Q$70,$J$42,1,1)))","v":""},{"$f":"IF($J$42=\"\",\"\",IF(INDEX('CB2'!$Q$21:$Q$70,$J$42,1,1)=\"\",\"\",INDEX('CB2'!$Q$21:$Q$70,$J$42,1,1)))","v":""},{"$f":"IF($J$42=\"\",\"\",IF(INDEX('CB3'!$Q$21:$Q$70,$J$42,1,1)=\"\",\"\",INDEX('CB3'!$Q$21:$Q$70,$J$42,1,1)))","v":""},null,{"$f":"IF(F50=\"\",\"\",IF(G50=\"\",\"\",IF(H50=\"\",\"\",ROUND(SUM(F50:H50)/3,0))))","v":""},null,null,null,null,null,null,null,{"$f":"datpro!$E$45","v":"LENGUA EXTRANJERA"},{"$f":"IF($W$42=\"\",\"\",IF(INDEX('CB1'!$Q$21:$Q$70,$W$42,1,1)=\"\",\"\",INDEX('CB1'!$Q$21:$Q$70,$W$42,1,1)))","v":""},{"$f":"IF($W$42=\"\",\"\",IF(INDEX('CB2'!$Q$21:$Q$70,$W$42,1,1)=\"\",\"\",INDEX('CB2'!$Q$21:$Q$70,$W$42,1,1)))","v":""},{"$f":"IF($W$42=\"\",\"\",IF(INDEX('CB3'!$Q$21:$Q$70,$W$42,1,1)=\"\",\"\",INDEX('CB3'!$Q$21:$Q$70,$W$42,1,1)))","v":""},null,{"$f":"IF(S50=\"\",\"\",IF(T50=\"\",\"\",IF(U50=\"\",\"\",ROUND(SUM(S50:U50)/3,0))))","v":""}]
[null,null,null,null,{"$f":"datpro!$E$46","v":"HISTORIA"},{"$f":"IF($J$42=\"\",\"\",IF(INDEX('CB1'!$R$21:$R$70,$J$42,1,1)=\"\",\"\",INDEX('CB1'!$R$21:$R$70,$J$42,1,1)))","v":""},{"$f":"IF($J$42=\"\",\"\",IF(INDEX('CB2'!$R$21:$R$70,$J$42,1,1)=\"\",\"\",INDEX('CB2'!$R$21:$R$70,$J$42,1,1)))","v":""},{"$f":"IF($J$42=\"\",\"\",IF(INDEX('CB3'!$R$21:$R$70,$J$42,1,1)=\"\",\"\",INDEX('CB3'!$R$21:$R$70,$J$42,1,1)))","v":""},null,"",null,null,null,null,null,null,null,{"$f":"datpro!$E$46","v":"HISTORIA"},{"$f":"IF($W$42=\"\",\"\",IF(INDEX('CB1'!$R$21:$R$70,$W$42,1,1)=\"\",\"\",INDEX('CB1'!$R$21:$R$70,$W$42,1,1)))","v":""},{"$f":"IF($W$42=\"\",\"\",IF(INDEX('CB2'!$R$21:$R$70,$W$42,1,1)=\"\",\"\",INDEX('CB2'!$R$21:$R$70,$W$42,1,1)))","v":""},{"$f":"IF($W$42=\"\",\"\",IF(INDEX('CB3'!$R$21:$R$70,$W$42,1,1)=\"\",\"\",INDEX('CB3'!$R$21:$R$70,$W$42,1,1)))","v":""},null,""]
[null,null,null,null,{"$f":"datpro!$E$47","v":"CIVICA"},{"$f":"IF($J$42=\"\",\"\",IF(INDEX('CB1'!$S$21:$S$70,$J$42,1,1)=\"\",\"\",INDEX('CB1'!$S$21:$S$70,$J$42,1,1)))","v":""},{"$f":"IF($J$42=\"\",\"\",IF(INDEX('CB2'!$S$21:$S$70,$J$42,1,1)=\"\",\"\",INDEX('CB2'!$S$21:$S$70,$J$42,1,1)))","v":""},{"$f":"IF($J$42=\"\",\"\",IF(INDEX('CB3'!$S$21:$S$70,$J$42,1,1)=\"\",\"\",INDEX('CB3'!$S$21:$S$70,$J$42,1,1)))","v":""},null,"",null,null,null,null,null,null,null,{"$f":"datpro!$E$47","v":"CIVICA"},{"$f":"IF($W$42=\"\",\"\",IF(INDEX('CB1'!$S$21:$S$70,$W$42,1,1)=\"\",\"\",INDEX('CB1'!$S$21:$S$70,$W$42,1,1)))","v":""},{"$f":"IF($W$42=\"\",\"\",IF(INDEX('CB2'!$S$21:$S$70,$W$42,1,1)=\"\",\"\",INDEX('CB2'!$S$21:$S$70,$W$42,1,1)))","v":""},{"$f":"IF($W$42=\"\",\"\",IF(INDEX('CB3'!$S$21:$S$70,$W$42,1,1)=\"\",\"\",INDEX('CB3'!$S$21:$S$70,$W$42,1,1)))","v":""},null,""]
[null,null,null,null,{"$f":"datpro!$E$48","v":"GEOGRAFIA"},{"$f":"IF($J$42=\"\",\"\",IF(INDEX('CB1'!$T$21:$T$70,$J$42,1,1)=\"\",\"\",INDEX('CB1'!$T$21:$T$70,$J$42,1,1)))","v":""},{"$f":"IF($J$42=\"\",\"\",IF(INDEX('CB2'!$T$21:$T$70,$J$42,1,1)=\"\",\"\",INDEX('CB2'!$T$21:$T$70,$J$42,1,1)))","v":""},{"$f":"IF($J$42=\"\",\"\",IF(INDEX('CB3'!$T$21:$T$70,$J$42,1,1)=\"\",\"\",INDEX('CB3'!$T$21:$T$70,$J$42,1,1)))","v":""},null,"",null,null,null,null,null,null,null,{"$f":"datpro!$E$48","v":"GEOGRAFIA"},{"$f":"IF($W$42=\"\",\"\",IF(INDEX('CB1'!$T$21:$T$70,$W$42,1,1)=\"\",\"\",INDEX('CB1'!$T$21:$T$70,$W$42,1,1)))","v":""},{"$f":"IF($W$42=\"\",\"\",IF(INDEX('CB2'!$T$21:$T$70,$W$42,1,1)=\"\",\"\",INDEX('CB2'!$T$21:$T$70,$W$42,1,1)))","v":""},{"$f":"IF($W$42=\"\",\"\",IF(INDEX('CB3'!$T$21:$T$70,$W$42,1,1)=\"\",\"\",INDEX('CB3'!$T$21:$T$70,$W$42,1,1)))","v":""},null,""]
[null,null,null,null,{"$f":"datpro!$E$49","v":"CIENCIAS SOCIALES"},{"$f":"IF($J$42=\"\",\"\",IF(INDEX('CB1'!$U$21:$U$70,$J$42,1,1)=\"\",\"\",INDEX('CB1'!$U$21:$U$70,$J$42,1,1)))","v":""},{"$f":"IF($J$42=\"\",\"\",IF(INDEX('CB2'!$U$21:$U$70,$J$42,1,1)=\"\",\"\",INDEX('CB2'!$U$21:$U$70,$J$42,1,1)))","v":""},{"$f":"IF($J$42=\"\",\"\",IF(INDEX('CB3'!$U$21:$U$70,$J$42,1,1)=\"\",\"\",INDEX('CB3'!$U$21:$U$70,$J$42,1,1)))","v":""},null,"",null,null,null,null,null,null,null,{"$f":"datpro!$E$49","v":"CIENCIAS SOCIALES"},{"$f":"IF($W$42=\"\",\"\",IF(INDEX('CB1'!$U$21:$U$70,$W$42,1,1)=\"\",\"\",INDEX('CB1'!$U$21:$U$70,$W$42,1,1)))","v":""},{"$f":"IF($W$42=\"\",\"\",IF(INDEX('CB2'!$U$21:$U$70,$W$42,1,1)=\"\",\"\",INDEX('CB2'!$U$21:$U$70,$W$42,1,1)))","v":""},{"$f":"IF($W$42=\"\",\"\",IF(INDEX('CB3'!$U$21:$U$70,$W$42,1,1)=\"\",\"\",INDEX('CB3'!$U$21:$U$70,$W$42,1,1)))","v":""},null,""]
[null,null,null,null,{"$f":"datpro!$E$50","v":"EDUCACION FISICA Y DEPORTES"},{"$f":"IF($J$42=\"\",\"\",IF(INDEX('CB1'!$V$21:$V$70,$J$42,1,1)=\"\",\"\",INDEX('CB1'!$V$21:$V$70,$J$42,1,1)))","v":""},{"$f":"IF($J$42=\"\",\"\",IF(INDEX('CB2'!$V$21:$V$70,$J$42,1,1)=\"\",\"\",INDEX('CB2'!$V$21:$V$70,$J$42,1,1)))","v":""},{"$f":"IF($J$42=\"\",\"\",IF(INDEX('CB3'!$V$21:$V$70,$J$42,1,1)=\"\",\"\",INDEX('CB3'!$V$21:$V$70,$J$42,1,1)))","v":""},null,"",null,null,null,null,null,null,null,{"$f":"datpro!$E$50","v":"EDUCACION FISICA Y DEPORTES"},{"$f":"IF($W$42=\"\",\"\",IF(INDEX('CB1'!$V$21:$V$70,$W$42,1,1)=\"\",\"\",INDEX('CB1'!$V$21:$V$70,$W$42,1,1)))","v":""},{"$f":"IF($W$42=\"\",\"\",IF(INDEX('CB2'!$V$21:$V$70,$W$42,1,1)=\"\",\"\",INDEX('CB2'!$V$21:$V$70,$W$42,1,1)))","v":""},{"$f":"IF($W$42=\"\",\"\",IF(INDEX('CB3'!$V$21:$V$70,$W$42,1,1)=\"\",\"\",INDEX('CB3'!$V$21:$V$70,$W$42,1,1)))","v":""},null,{"$f":"IF(S55=\"\",\"\",IF(T55=\"\",\"\",IF(U55=\"\",\"\",ROUND(SUM(S55:U55)/3,0))))","v":""}]
[null,null,null,null,{"$f":"datpro!$E$51","v":"EDUCACION MUSICAL"},{"$f":"IF($J$42=\"\",\"\",IF(INDEX('CB1'!$W$21:$W$70,$J$42,1,1)=\"\",\"\",INDEX('CB1'!$W$21:$W$70,$J$42,1,1)))","v":""},{"$f":"IF($J$42=\"\",\"\",IF(INDEX('CB2'!$W$21:$W$70,$J$42,1,1)=\"\",\"\",INDEX('CB2'!$W$21:$W$70,$J$42,1,1)))","v":""},{"$f":"IF($J$42=\"\",\"\",IF(INDEX('CB3'!$W$21:$W$70,$J$42,1,1)=\"\",\"\",INDEX('CB3'!$W$21:$W$70,$J$42,1,1)))","v":""},null,"",null,null,null,null,null,null,null,{"$f":"datpro!$E$51","v":"EDUCACION MUSICAL"},{"$f":"IF($W$42=\"\",\"\",IF(INDEX('CB1'!$W$21:$W$70,$W$42,1,1)=\"\",\"\",INDEX('CB1'!$W$21:$W$70,$W$42,1,1)))","v":""},{"$f":"IF($W$42=\"\",\"\",IF(INDEX('CB2'!$W$21:$W$70,$W$42,1,1)=\"\",\"\",INDEX('CB2'!$W$21:$W$70,$W$42,1,1)))","v":""},{"$f":"IF($W$42=\"\",\"\",IF(INDEX('CB3'!$W$21:$W$70,$W$42,1,1)=\"\",\"\",INDEX('CB3'!$W$21:$W$70,$W$42,1,1)))","v":""},null,""]
[null,null,null,null,{"$f":"datpro!$E$52","v":"ARTES PLASTICAS Y VISUALES"},{"$f":"IF($J$42=\"\",\"\",IF(INDEX('CB1'!$X$21:$X$70,$J$42,1,1)=\"\",\"\",INDEX('CB1'!$X$21:$X$70,$J$42,1,1)))","v":""},{"$f":"IF($J$42=\"\",\"\",IF(INDEX('CB2'!$X$21:$X$70,$J$42,1,1)=\"\",\"\",INDEX('CB2'!$X$21:$X$70,$J$42,1,1)))","v":""},{"$f":"IF($J$42=\"\",\"\",IF(INDEX('CB3'!$X$21:$X$70,$J$42,1,1)=\"\",\"\",INDEX('CB3'!$X$21:$X$70,$J$42,1,1)))","v":""},null,"",null,null,null,null,null,null,null,{"$f":"datpro!$E$52","v":"ARTES PLASTICAS Y VISUALES"},{"$f":"IF($W$42=\"\",\"\",IF(INDEX('CB1'!$X$21:$X$70,$W$42,1,1)=\"\",\"\",INDEX('CB1'!$X$21:$X$70,$W$42,1,1)))","v":""},{"$f":"IF($W$42=\"\",\"\",IF(INDEX('CB2'!$X$21:$X$70,$W$42,1,1)=\"\",\"\",INDEX('CB2'!$X$21:$X$70,$W$42,1,1)))","v":""},{"$f":"IF($W$42=\"\",\"\",IF(INDEX('CB3'!$X$21:$X$70,$W$42,1,1)=\"\",\"\",INDEX('CB3'!$X$21:$X$70,$W$42,1,1)))","v":""},null,""]
[null,null,null,null,{"$f":"datpro!$E$53","v":"MATEMATICAS"},{"$f":"IF($J$42=\"\",\"\",IF(INDEX('CB1'!$Y$21:$Y$70,$J$42,1,1)=\"\",\"\",INDEX('CB1'!$Y$21:$Y$70,$J$42,1,1)))","v":""},{"$f":"IF($J$42=\"\",\"\",IF(INDEX('CB2'!$Y$21:$Y$70,$J$42,1,1)=\"\",\"\",INDEX('CB2'!$Y$21:$Y$70,$J$42,1,1)))","v":""},{"$f":"IF($J$42=\"\",\"\",IF(INDEX('CB3'!$Y$21:$Y$70,$J$42,1,1)=\"\",\"\",INDEX('CB3'!$Y$21:$Y$70,$J$42,1,1)))","v":""},null,"",null,null,null,null,null,null,null,{"$f":"datpro!$E$53","v":"MATEMATICAS"},{"$f":"IF($W$42=\"\",\"\",IF(INDEX('CB1'!$Y$21:$Y$70,$W$42,1,1)=\"\",\"\",INDEX('CB1'!$Y$21:$Y$70,$W$42,1,1)))","v":""},{"$f":"IF($W$42=\"\",\"\",IF(INDEX('CB2'!$Y$21:$Y$70,$W$42,1,1)=\"\",\"\",INDEX('CB2'!$Y$21:$Y$70,$W$42,1,1)))","v":""},{"$f":"IF($W$42=\"\",\"\",IF(INDEX('CB3'!$Y$21:$Y$70,$W$42,1,1)=\"\",\"\",INDEX('CB3'!$Y$21:$Y$70,$W$42,1,1)))","v":""},null,""]
[null,null,null,null,{"$f":"datpro!$E$54","v":"TECNICA TECNOLOGIA"},{"$f":"IF($J$42=\"\",\"\",IF(INDEX('CB1'!$Z$21:$Z$70,$J$42,1,1)=\"\",\"\",INDEX('CB1'!$Z$21:$Z$70,$J$42,1,1)))","v":""},{"$f":"IF($J$42=\"\",\"\",IF(INDEX('CB2'!$Z$21:$Z$70,$J$42,1,1)=\"\",\"\",INDEX('CB2'!$Z$21:$Z$70,$J$42,1,1)))","v":""},{"$f":"IF($J$42=\"\",\"\",IF(INDEX('CB3'!$Z$21:$Z$70,$J$42,1,1)=\"\",\"\",INDEX('CB3'!$Z$21:$Z$70,$J$42,1,1)))","v":""},null,"",null,null,null,null,null,null,null,{"$f":"datpro!$E$54","v":"TECNICA TECNOLOGIA"},{"$f":"IF($W$42=\"\",\"\",IF(INDEX('CB1'!$Z$21:$Z$70,$W$42,1,1)=\"\",\"\",INDEX('CB1'!$Z$21:$Z$70,$W$42,1,1)))","v":""},{"$f":"IF($W$42=\"\",\"\",IF(INDEX('CB2'!$Z$21:$Z$70,$W$42,1,1)=\"\",\"\",INDEX('CB2'!$Z$21:$Z$70,$W$42,1,1)))","v":""},{"$f":"IF($W$42=\"\",\"\",IF(INDEX('CB3'!$Z$21:$Z$70,$W$42,1,1)=\"\",\"\",INDEX('CB3'!$Z$21:$Z$70,$W$42,1,1)))","v":""},null,""]
[null,null,null,null,{"$f":"datpro!$E$55","v":0},{"$f":"IF($J$42=\"\",\"\",IF(INDEX('CB1'!$AA$21:$AA$70,$J$42,1,1)=\"\",\"\",INDEX('CB1'!$AA$21:$AA$70,$J$42,1,1)))","v":""},{"$f":"IF($J$42=\"\",\"\",IF(INDEX('CB2'!$AA$21:$AA$70,$J$42,1,1)=\"\",\"\",INDEX('CB2'!$AA$21:$AA$70,$J$42,1,1)))","v":""},{"$f":"IF($J$42=\"\",\"\",IF(INDEX('CB3'!$AA$21:$AA$70,$J$42,1,1)=\"\",\"\",INDEX('CB3'!$AA$21:$AA$70,$J$42,1,1)))","v":""},null,"",null,null,null,null,null,null,null,{"$f":"datpro!$E$55","v":0},{"$f":"IF($W$42=\"\",\"\",IF(INDEX('CB1'!$AA$21:$AA$70,$W$42,1,1)=\"\",\"\",INDEX('CB1'!$AA$21:$AA$70,$W$42,1,1)))","v":""},{"$f":"IF($W$42=\"\",\"\",IF(INDEX('CB2'!$AA$21:$AA$70,$W$42,1,1)=\"\",\"\",INDEX('CB2'!$AA$21:$AA$70,$W$42,1,1)))","v":""},{"$f":"IF($W$42=\"\",\"\",IF(INDEX('CB3'!$AA$21:$AA$70,$W$42,1,1)=\"\",\"\",INDEX('CB3'!$AA$21:$AA$70,$W$42,1,1)))","v":""},null,""]
[null,null,null,null,{"$f":"datpro!$E$56","v":0},{"$f":"IF($J$42=\"\",\"\",IF(INDEX('CB1'!$AB$21:$AB$70,$J$42,1,1)=\"\",\"\",INDEX('CB1'!$AB$21:$AB$70,$J$42,1,1)))","v":""},{"$f":"IF($J$42=\"\",\"\",IF(INDEX('CB2'!$AB$21:$AB$70,$J$42,1,1)=\"\",\"\",INDEX('CB2'!$AB$21:$AB$70,$J$42,1,1)))","v":""},{"$f":"IF($J$42=\"\",\"\",IF(INDEX('CB3'!$AB$21:$AB$70,$J$42,1,1)=\"\",\"\",INDEX('CB3'!$AB$21:$AB$70,$J$42,1,1)))","v":""},null,"",null,null,null,null,null,null,null,{"$f":"datpro!$E$56","v":0},{"$f":"IF($W$42=\"\",\"\",IF(INDEX('CB1'!$AB$21:$AB$70,$W$42,1,1)=\"\",\"\",INDEX('CB1'!$AB$21:$AB$70,$W$42,1,1)))","v":""},{"$f":"IF($W$42=\"\",\"\",IF(INDEX('CB2'!$AB$21:$AB$70,$W$42,1,1)=\"\",\"\",INDEX('CB2'!$AB$21:$AB$70,$W$42,1,1)))","v":""},{"$f":"IF($W$42=\"\",\"\",IF(INDEX('CB3'!$AB$21:$AB$70,$W$42,1,1)=\"\",\"\",INDEX('CB3'!$AB$21:$AB$70,$W$42,1,1)))","v":""},null,""]
[null,null,null,null,{"$f":"datpro!$E$57","v":"CIENCIAS NATURALES"},{"$f":"IF($J$42=\"\",\"\",IF(INDEX('CB1'!$AC$21:$AC$70,$J$42,1,1)=\"\",\"\",INDEX('CB1'!$AC$21:$AC$70,$J$42,1,1)))","v":""},{"$f":"IF($J$42=\"\",\"\",IF(INDEX('CB2'!$AC$21:$AC$70,$J$42,1,1)=\"\",\"\",INDEX('CB2'!$AC$21:$AC$70,$J$42,1,1)))","v":""},{"$f":"IF($J$42=\"\",\"\",IF(INDEX('CB3'!$AC$21:$AC$70,$J$42,1,1)=\"\",\"\",INDEX('CB3'!$AC$21:$AC$70,$J$42,1,1)))","v":""},null,"",null,null,null,null,null,null,null,{"$f":"datpro!$E$57","v":"CIENCIAS NATURALES"},{"$f":"IF($W$42=\"\",\"\",IF(INDEX('CB1'!$AC$21:$AC$70,$W$42,1,1)=\"\",\"\",INDEX('CB1'!$AC$21:$AC$70,$W$42,1,1)))","v":""},{"$f":"IF($W$42=\"\",\"\",IF(INDEX('CB2'!$AC$21:$AC$70,$W$42,1,1)=\"\",\"\",INDEX('CB2'!$AC$21:$AC$70,$W$42,1,1)))","v":""},{"$f":"IF($W$42=\"\",\"\",IF(INDEX('CB3'!$AC$21:$AC$70,$W$42,1,1)=\"\",\"\",INDEX('CB3'!$AC$21:$AC$70,$W$42,1,1)))","v":""},null,""]
[null,null,null,null,{"$f":"datpro!$E$58","v":0},{"$f":"IF($J$42=\"\",\"\",IF(INDEX('CB1'!$AD$21:$AD$70,$J$42,1,1)=\"\",\"\",INDEX('CB1'!$AD$21:$AD$70,$J$42,1,1)))","v":""},{"$f":"IF($J$42=\"\",\"\",IF(INDEX('CB2'!$AD$21:$AD$70,$J$42,1,1)=\"\",\"\",INDEX('CB2'!$AD$21:$AD$70,$J$42,1,1)))","v":""},{"$f":"IF($J$42=\"\",\"\",IF(INDEX('CB3'!$AD$21:$AD$70,$J$42,1,1)=\"\",\"\",INDEX('CB3'!$AD$21:$AD$70,$J$42,1,1)))","v":""},null,"",null,null,null,null,null,null,null,{"$f":"datpro!$E$58","v":0},{"$f":"IF($W$42=\"\",\"\",IF(INDEX('CB1'!$AD$21:$AD$70,$W$42,1,1)=\"\",\"\",INDEX('CB1'!$AD$21:$AD$70,$W$42,1,1)))","v":""},{"$f":"IF($W$42=\"\",\"\",IF(INDEX('CB2'!$AD$21:$AD$70,$W$42,1,1)=\"\",\"\",INDEX('CB2'!$AD$21:$AD$70,$W$42,1,1)))","v":""},{"$f":"IF($W$42=\"\",\"\",IF(INDEX('CB3'!$AD$21:$AD$70,$W$42,1,1)=\"\",\"\",INDEX('CB3'!$AD$21:$AD$70,$W$42,1,1)))","v":""},null,""]
[null,null,null,null,{"$f":"datpro!$E$59","v":"FISICA"},{"$f":"IF($J$42=\"\",\"\",IF(INDEX('CB1'!$AE$21:$AE$70,$J$42,1,1)=\"\",\"\",INDEX('CB1'!$AE$21:$AE$70,$J$42,1,1)))","v":""},{"$f":"IF($J$42=\"\",\"\",IF(INDEX('CB2'!$AE$21:$AE$70,$J$42,1,1)=\"\",\"\",INDEX('CB2'!$AE$21:$AE$70,$J$42,1,1)))","v":""},{"$f":"IF($J$42=\"\",\"\",IF(INDEX('CB3'!$AE$21:$AE$70,$J$42,1,1)=\"\",\"\",INDEX('CB3'!$AE$21:$AE$70,$J$42,1,1)))","v":""},null,{"$f":"IF(F64=\"\",\"\",IF(G64=\"\",\"\",IF(H64=\"\",\"\",ROUND(SUM(F64:H64)/3,0))))","v":""},null,null,null,null,null,null,null,{"$f":"datpro!$E$59","v":"FISICA"},{"$f":"IF($W$42=\"\",\"\",IF(INDEX('CB1'!$AE$21:$AE$70,$W$42,1,1)=\"\",\"\",INDEX('CB1'!$AE$21:$AE$70,$W$42,1,1)))","v":""},{"$f":"IF($W$42=\"\",\"\",IF(INDEX('CB2'!$AE$21:$AE$70,$W$42,1,1)=\"\",\"\",INDEX('CB2'!$AE$21:$AE$70,$W$42,1,1)))","v":""},{"$f":"IF($W$42=\"\",\"\",IF(INDEX('CB3'!$AE$21:$AE$70,$W$42,1,1)=\"\",\"\",INDEX('CB3'!$AE$21:$AE$70,$W$42,1,1)))","v":""},null,{"$f":"IF(S64=\"\",\"\",IF(T64=\"\",\"\",IF(U64=\"\",\"\",ROUND(SUM(S64:U64)/3,0))))","v":""}]
[null,null,null,null,{"$f":"datpro!$E$60","v":"QUIMICA"},{"$f":"IF($J$42=\"\",\"\",IF(INDEX('CB1'!$AF$21:$AF$70,$J$42,1,1)=\"\",\"\",INDEX('CB1'!$AF$21:$AF$70,$J$42,1,1)))","v":""},{"$f":"IF($J$42=\"\",\"\",IF(INDEX('CB2'!$AF$21:$AF$70,$J$42,1,1)=\"\",\"\",INDEX('CB2'!$AF$21:$AF$70,$J$42,1,1)))","v":""},{"$f":"IF($J$42=\"\",\"\",IF(INDEX('CB3'!$AF$21:$AF$70,$J$42,1,1)=\"\",\"\",INDEX('CB3'!$AF$21:$AF$70,$J$42,1,1)))","v":""},null,"",null,null,null,null,null,null,null,{"$f":"datpro!$E$60","v":"QUIMICA"},{"$f":"IF($W$42=\"\",\"\",IF(INDEX('CB1'!$AF$21:$AF$70,$W$42,1,1)=\"\",\"\",INDEX('CB1'!$AF$21:$AF$70,$W$42,1,1)))","v":""},{"$f":"IF($W$42=\"\",\"\",IF(INDEX('CB2'!$AF$21:$AF$70,$W$42,1,1)=\"\",\"\",INDEX('CB2'!$AF$21:$AF$70,$W$42,1,1)))","v":""},{"$f":"IF($W$42=\"\",\"\",IF(INDEX('CB3'!$AF$21:$AF$70,$W$42,1,1)=\"\",\"\",INDEX('CB3'!$AF$21:$AF$70,$W$42,1,1)))","v":""},null,""]
[null,null,null,null,{"$f":"datpro!$E$61","v":0},{"$f":"IF($J$42=\"\",\"\",IF(INDEX('CB1'!$AG$21:$AG$70,$J$42,1,1)=\"\",\"\",INDEX('CB1'!$AG$21:$AG$70,$J$42,1,1)))","v":""},{"$f":"IF($J$42=\"\",\"\",IF(INDEX('CB2'!$AG$21:$AG$70,$J$42,1,1)=\"\",\"\",INDEX('CB2'!$AG$21:$AG$70,$J$42,1,1)))","v":""},{"$f":"IF($J$42=\"\",\"\",IF(INDEX('CB3'!$AG$21:$AG$70,$J$42,1,1)=\"\",\"\",INDEX('CB3'!$AG$21:$AG$70,$J$42,1,1)))","v":""},null,"",null,null,null,null,null,null,null,{"$f":"datpro!$E$61","v":0},{"$f":"IF($W$42=\"\",\"\",IF(INDEX('CB1'!$AG$21:$AG$70,$W$42,1,1)=\"\",\"\",INDEX('CB1'!$AG$21:$AG$70,$W$42,1,1)))","v":""},{"$f":"IF($W$42=\"\",\"\",IF(INDEX('CB2'!$AG$21:$AG$70,$W$42,1,1)=\"\",\"\",INDEX('CB2'!$AG$21:$AG$70,$W$42,1,1)))","v":""},{"$f":"IF($W$42=\"\",\"\",IF(INDEX('CB3'!$AG$21:$AG$70,$W$42,1,1)=\"\",\"\",INDEX('CB3'!$AG$21:$AG$70,$W$42,1,1)))","v":""},null,""]
[null,null,null,null,{"$f":"datpro!$E$62","v":0},{"$f":"IF($J$42=\"\",\"\",IF(INDEX('CB1'!$AH$21:$AH$70,$J$42,1,1)=\"\",\"\",INDEX('CB1'!$AH$21:$AH$70,$J$42,1,1)))","v":""},{"$f":"IF($J$42=\"\",\"\",IF(INDEX('CB2'!$AH$21:$AH$70,$J$42,1,1)=\"\",\"\",INDEX('CB2'!$AH$21:$AH$70,$J$42,1,1)))","v":""},{"$f":"IF($J$42=\"\",\"\",IF(INDEX('CB3'!$AH$21:$AH$70,$J$42,1,1)=\"\",\"\",INDEX('CB3'!$AH$21:$AH$70,$J$42,1,1)))","v":""},null,"",null,null,null,null,null,null,null,{"$f":"datpro!$E$62","v":0},{"$f":"IF($W$42=\"\",\"\",IF(INDEX('CB1'!$AH$21:$AH$70,$W$42,1,1)=\"\",\"\",INDEX('CB1'!$AH$21:$AH$70,$W$42,1,1)))","v":""},{"$f":"IF($W$42=\"\",\"\",IF(INDEX('CB2'!$AH$21:$AH$70,$W$42,1,1)=\"\",\"\",INDEX('CB2'!$AH$21:$AH$70,$W$42,1,1)))","v":""},{"$f":"IF($W$42=\"\",\"\",IF(INDEX('CB3'!$AH$21:$AH$70,$W$42,1,1)=\"\",\"\",INDEX('CB3'!$AH$21:$AH$70,$W$42,1,1)))","v":""},null,""]
[null,null,null,null,{"$f":"datpro!$E$63","v":0},{"$f":"IF($J$42=\"\",\"\",IF(INDEX('CB1'!$AI$21:$AI$70,$J$42,1,1)=\"\",\"\",INDEX('CB1'!$AI$21:$AI$70,$J$42,1,1)))","v":""},{"$f":"IF($J$42=\"\",\"\",IF(INDEX('CB2'!$AI$21:$AI$70,$J$42,1,1)=\"\",\"\",INDEX('CB2'!$AI$21:$AI$70,$J$42,1,1)))","v":""},{"$f":"IF($J$42=\"\",\"\",IF(INDEX('CB3'!$AI$21:$AI$70,$J$42,1,1)=\"\",\"\",INDEX('CB3'!$AI$21:$AI$70,$J$42,1,1)))","v":""},null,"",null,null,null,null,null,null,null,{"$f":"datpro!$E$63","v":0},{"$f":"IF($W$42=\"\",\"\",IF(INDEX('CB1'!$AI$21:$AI$70,$W$42,1,1)=\"\",\"\",INDEX('CB1'!$AI$21:$AI$70,$W$42,1,1)))","v":""},{"$f":"IF($W$42=\"\",\"\",IF(INDEX('CB2'!$AI$21:$AI$70,$W$42,1,1)=\"\",\"\",INDEX('CB2'!$AI$21:$AI$70,$W$42,1,1)))","v":""},{"$f":"IF($W$42=\"\",\"\",IF(INDEX('CB3'!$AI$21:$AI$70,$W$42,1,1)=\"\",\"\",INDEX('CB3'!$AI$21:$AI$70,$W$42,1,1)))","v":""},null,""]
[null,null,null,null,{"$f":"datpro!$E$64","v":"COSMOVISIONES, FILOSOFIA O PSICOLOGIA"},{"$f":"IF($J$42=\"\",\"\",IF(INDEX('CB1'!$AJ$21:$AJ$70,$J$42,1,1)=\"\",\"\",INDEX('CB1'!$AJ$21:$AJ$70,$J$42,1,1)))","v":""},{"$f":"IF($J$42=\"\",\"\",IF(INDEX('CB2'!$AJ$21:$AJ$70,$J$42,1,1)=\"\",\"\",INDEX('CB2'!$AJ$21:$AJ$70,$J$42,1,1)))","v":""},{"$f":"IF($J$42=\"\",\"\",IF(INDEX('CB3'!$AJ$21:$AJ$70,$J$42,1,1)=\"\",\"\",INDEX('CB3'!$AJ$21:$AJ$70,$J$42,1,1)))","v":""},null,"",null,null,null,null,null,null,null,{"$f":"datpro!$E$64","v":"COSMOVISIONES, FILOSOFIA O PSICOLOGIA"},{"$f":"IF($W$42=\"\",\"\",IF(INDEX('CB1'!$AJ$21:$AJ$70,$W$42,1,1)=\"\",\"\",INDEX('CB1'!$AJ$21:$AJ$70,$W$42,1,1)))","v":""},{"$f":"IF($W$42=\"\",\"\",IF(INDEX('CB2'!$AJ$21:$AJ$70,$W$42,1,1)=\"\",\"\",INDEX('CB2'!$AJ$21:$AJ$70,$W$42,1,1)))","v":""},{"$f":"IF($W$42=\"\",\"\",IF(INDEX('CB3'!$AJ$21:$AJ$70,$W$42,1,1)=\"\",\"\",INDEX('CB3'!$AJ$21:$AJ$70,$W$42,1,1)))","v":""},null,""]
[null,null,null,null,{"$f":"datpro!$E$65","v":"VALORES, ESPIRITUALIDAD Y RELIGIONES"},{"$f":"IF($J$42=\"\",\"\",IF(INDEX('CB1'!$AK$21:$AK$70,$J$42,1,1)=\"\",\"\",INDEX('CB1'!$AK$21:$AK$70,$J$42,1,1)))","v":""},{"$f":"IF($J$42=\"\",\"\",IF(INDEX('CB2'!$AK$21:$AK$70,$J$42,1,1)=\"\",\"\",INDEX('CB2'!$AK$21:$AK$70,$J$42,1,1)))","v":""},{"$f":"IF($J$42=\"\",\"\",IF(INDEX('CB3'!$AK$21:$AK$70,$J$42,1,1)=\"\",\"\",INDEX('CB3'!$AK$21:$AK$70,$J$42,1,1)))","v":""},null,"",null,null,null,null,null,null,null,{"$f":"datpro!$E$65","v":"VALORES, ESPIRITUALIDAD Y RELIGIONES"},{"$f":"IF($W$42=\"\",\"\",IF(INDEX('CB1'!$AK$21:$AK$70,$W$42,1,1)=\"\",\"\",INDEX('CB1'!$AK$21:$AK$70,$W$42,1,1)))","v":""},{"$f":"IF($W$42=\"\",\"\",IF(INDEX('CB2'!$AK$21:$AK$70,$W$42,1,1)=\"\",\"\",INDEX('CB2'!$AK$21:$AK$70,$W$42,1,1)))","v":""},{"$f":"IF($W$42=\"\",\"\",IF(INDEX('CB3'!$AK$21:$AK$70,$W$42,1,1)=\"\",\"\",INDEX('CB3'!$AK$21:$AK$70,$W$42,1,1)))","v":""},null,""]
[null,null,null,null,{"$f":"datpro!$E$66","v":"PROMEDIO"},{"$f":"IF($J$42=\"\",\"\",IF(INDEX('CB1'!$AL$21:$AL$70,$J$42,1,1)=\"\",\"\",INDEX('CB1'!$AL$21:$AL$70,$J$42,1,1)))","v":""},{"$f":"IF($J$42=\"\",\"\",IF(INDEX('CB2'!$AL$21:$AL$70,$J$42,1,1)=\"\",\"\",INDEX('CB2'!$AL$21:$AL$70,$J$42,1,1)))","v":""},{"$f":"IF($J$42=\"\",\"\",IF(INDEX('CB3'!$AL$21:$AL$70,$J$42,1,1)=\"\",\"\",INDEX('CB3'!$AL$21:$AL$70,$J$42,1,1)))","v":""},null,"",null,null,null,null,null,null,null,{"$f":"datpro!$E$66","v":"PROMEDIO"},{"$f":"IF($W$42=\"\",\"\",IF(INDEX('CB1'!$AL$21:$AL$70,$W$42,1,1)=\"\",\"\",INDEX('CB1'!$AL$21:$AL$70,$W$42,1,1)))","v":""},{"$f":"IF($W$42=\"\",\"\",IF(INDEX('CB2'!$AL$21:$AL$70,$W$42,1,1)=\"\",\"\",INDEX('CB2'!$AL$21:$AL$70,$W$42,1,1)))","v":""},{"$f":"IF($W$42=\"\",\"\",IF(INDEX('CB3'!$AL$21:$AL$70,$W$42,1,1)=\"\",\"\",INDEX('CB3'!$AL$21:$AL$70,$W$42,1,1)))","v":""},null,""]
[null,null,null,null,"_________________","__________________",null,null,null,null,null,null,null,null,null,null,null,"_________________","__________________"]
[null,null,null,null,{"$f":"datpro!$E$9","v":0},{"$f":"datpro!$E$8","v":0},null,null,null,null,null,null,null,null,null,null,null,{"$f":"datpro!$E$9","v":0},{"$f":"datpro!$E$8","v":0}]
[null,null,null,null,"MAESTRO(A)","DIRECTOR(A)",null,null,null,null,null,null,null,null,null,null,null,"MAESTRO(A)","DIRECTOR(A)"]
[null,null,null,"Ξ","Cerrar"]

{"sheet":"BJP","index":28,"n_rows":82,"n_cols":15,"rows_kept":82,"cut":false,"hidden":false,"merged":[[18,5,19,5],[18,6,19,6],[18,11,19,11],[1,5,1,11]]}
[]
[null,null,null,null,null,"BONO JUANCITO PINTO    GESTION 2023"]
[null,null,null,null,null,null,"UNIDAD EDUCATIVA ",{"$f":"datpro!$E$7","v":0}]
[null,null,null,null,null,null,"NIVEL ",{"$f":"datpro!$E$10","v":""}]
[null,null,null,null,null,null,"AÑO DE ESCOLARIDAD",{"$f":"CONCATENATE( datpro!$E$11,\"  -  \",datpro!$E$12)","v":"  -  "}]
[null,null,null,null,null,null,"DIRECTORA/OR",{"$f":"datpro!$E$8","v":0}]
[null,null,null,null,null,null,"MAESTRA/O",{"$f":"datpro!$E$9","v":0}]
[]
[]
[]
[]
[]
[]
[]
[null,null,null,null,null,null,"F21:L70","L"]
[]
[]
[]
[null,null,null,null,null,"N°","APELLIDOS Y NOMBRES","PROMEDIO","PROMEDIO","PROMEDIO","PROMEDIO","OBSERVACIONES"]
[null,null,null,null,null,null,null,"1er TRIMESTRE","2do TRIMESTRE","3er TRIMESTRE","4to BIMESTRE",null,"SEGUNDO BIMESTRE","TERCER BIMESTRE","CUARTO BIMESTRE"]
[null,null,null,null,null,null,"","","",""]
[null,null,null,null,null,null,"","","",""]
[null,null,null,null,null,null,"","","",""]
[null,null,null,null,null,null,"","","",""]
[null,null,null,null,null,null,"","","",""]
[null,null,null,null,null,null,"","","",""]
[null,null,null,null,null,null,"","","",""]
[null,null,null,null,null,null,"","","",""]
[null,null,null,null,null,null,"","","",""]
[null,null,null,null,null,null,"","","",""]
[null,null,null,null,null,null,"","","",""]
[null,null,null,null,null,null,"","","",""]
[null,null,null,null,null,null,"","","",""]
[null,null,null,null,null,null,"","","",""]
[null,null,null,null,null,null,"","","",""]
[null,null,null,null,null,null,"","","",""]
[null,null,null,null,null,null,"","","",""]
[null,null,null,null,null,null,"","","",""]
[null,null,null,null,null,null,"","","",""]
[null,null,null,null,null,null,"","","",""]
[null,null,null,null,null,null,"","","",""]
[null,null,null,null,null,null,"","","",""]
[null,null,null,null,null,null,"","","",""]
[null,null,null,null,null,null,"","","",""]
[null,null,null,null,null,null,"","","",""]
[null,null,null,null,null,null,"","","",""]
[null,null,null,null,null,null,"","","",""]
[null,null,null,null,null,null,"","","",""]
[null,null,null,null,null,null,"","","",""]
[null,null,null,null,null,null,"","","",""]
[null,null,null,null,null,null,"","","",""]
[null,null,null,null,null,null,"","","",""]
[null,null,null,null,null,null,"","","",""]
[null,null,null,null,null,null,"","","",""]
[null,null,null,null,null,null,"","","",""]
[null,null,null,null,null,null,"","","",""]
[null,null,null,null,null,null,"","","",""]
[null,null,null,null,null,null,"","","",""]
[null,null,null,null,null,null,"","","",""]
[null,null,null,null,null,null,"","","",""]
[null,null,null,null,null,null,"","","",""]
[null,null,null,null,null,null,"","","",""]
[null,null,null,null,null,null,"","","",""]
[null,null,null,null,null,null,"","","",""]
[null,null,null,null,null,null,"","","",""]
[null,null,null,null,null,null,"","","",""]
[null,null,null,null,null,null,"","","",""]
[null,null,null,null,null,null,"","","",""]
[null,null,null,null,null,null,"","","",""]
[null,null,null,null,null,null,"","","",""]
[]
[]
[]
[]
[]
[]
[]
[]
[]
[]
[null,null,null,null,null,null,"select_load",{"$f":"main!$AE$10","v":50}]
[null,null,null,null,null,null,"actual_save",{"$f":"main!$AE$17","v":0}]

{"sheet":"eco","index":29,"n_rows":122,"n_cols":35,"rows_kept":122,"cut":false,"hidden":false,"merged":[[58,10,58,11],[63,10,63,11],[64,10,64,11],[70,10,70,11],[66,10,66,11],[67,10,67,11],[68,10,68,11],[69,10,69,11],[65,10,65,11],[60,10,60,11],[61,10,61,11],[62,10,62,11],[59,10,59,11],[53,10,53,11],[54,10,54,11],[55,10,55,11],[56,10,56,11],[57,10,57,11],[48,10,48,11],[49,10,49,11],[50,10,50,11],[51,10,51,11],[52,10,52,11],[47,10,47,11],[36,10,36,11],[37,10,37,11],[38,10,38,11],[39,10,39,11],[40,10,40,11],[41,10,41,11],[42,10,42,11],[43,10,43,11],[44,10,44,11],[45,10,45,11],[46,10,46,11],[35,10,35,11],[24,10,24,11],[25,10,25,11],[26,10,26,11],[27,10,27,11],[28,10,28,11],[29,10,29,11],[30,10,30,11],[31,10,31,11],[32,10,32,11],[33,10,33,11],[34,10,34,11],[23,10,23,11],[17,31,19,31],[18,12,19,12],[18,20,19,20],[18,24,19,24],[18,25,19,25],[18,26,19,26],[18,27,19,27],[18,28,19,28],[20,10,20,11],[21,10,21,11],[22,10,22,11],[19,10,19,11],[7,35,8,35],[1,6,1,31],[14,20,14,30],[17,12,17,30],[18,29,19,29],[18,30,19,30],[7,34,8,34]]}
[]
[null,null,null,null,null,null,"PLANILLA DE CONTROL ECONOMICO "]
[null,null,null,null,null,null,"UE",null,null,null,"UNIDAD EDUCATIVA ",{"$f":"datpro!$E$7","v":0}]
[]
[null,null,null,null,null,null,"S2D",null,null,null,"AÑO DE ESCOLARIDAD",{"$f":"CONCATENATE( datpro!$E$11,\"  -  \",datpro!$E$12)","v":"  -  "}]
[null,null,null,null,null,null,null,null,null,null,"DIRECTORA/OR",{"$f":"datpro!$E$8","v":0}]
[null,null,null,null,null,null,"MAE",null,null,null,"MAESTRA/O",{"$f":"datpro!$E$9","v":0},null,null,null,null,null,null,null,null,null,null,null,null,null,null,null,null,null,null,null,null,null,null,"Ξ"]
[]
[null,null,null,null,null,null,"LEX"]
[]
[]
[]
[]
[]
[null,null,null,null,null,null,"F21:AF70","AF"]
[]
[]
[null,null,null,null,null,null,null,null,null,null,null,null,"ACTIVIDADES",null,null,null,null,null,null,null,null,null,null,null,null,null,null,null,null,null,null,"MONTO TOTAL",null,null,"Cerrar"]
[null,null,null,null,null,null,"COD"]
[null,null,null,null,null,"Nº",null,null,null,null,"APELLIDOS Y NOMBRES"]
[null,null,null,null,null,{"$f":"IF(filEst!F21=\"\",\"\",filEst!F21)","v":""},{"$f":"IF(filEst!G21=\"\",\"\",filEst!G21)","v":""},{"$f":"IF(filEst!L21=\"\",\"\",filEst!L21)","v":""},null,null,{"$f":"IF(filEst!K21=\"\",\"\",filEst!K21)","v":""},null,null,null,null,null,null,null,null,null,null,null,null,null,null,null,null,null,null,null,null,{"$f":"IF(SUM(M21:AE21)=0,\"\",(SUM(M21:AE21)))","v":""},null,null,"©  2023"]
[null,null,null,null,null,{"$f":"IF(filEst!F22=\"\",\"\",filEst!F22)","v":""},{"$f":"IF(filEst!G22=\"\",\"\",filEst!G22)","v":""},{"$f":"IF(filEst!L22=\"\",\"\",filEst!L22)","v":""},null,null,{"$f":"IF(filEst!K22=\"\",\"\",filEst!K22)","v":""},null,null,null,null,null,null,null,null,null,null,null,null,null,null,null,null,null,null,null,null,"",null,null,"PROYECTO REMDIZ"]
[null,null,null,null,null,{"$f":"IF(filEst!F23=\"\",\"\",filEst!F23)","v":""},{"$f":"IF(filEst!G23=\"\",\"\",filEst!G23)","v":""},{"$f":"IF(filEst!L23=\"\",\"\",filEst!L23)","v":""},null,null,{"$f":"IF(filEst!K23=\"\",\"\",filEst!K23)","v":""},null,null,null,null,null,null,null,null,null,null,null,null,null,null,null,null,null,null,null,null,""]
[null,null,null,null,null,{"$f":"IF(filEst!F24=\"\",\"\",filEst!F24)","v":""},{"$f":"IF(filEst!G24=\"\",\"\",filEst!G24)","v":""},{"$f":"IF(filEst!L24=\"\",\"\",filEst!L24)","v":""},null,null,{"$f":"IF(filEst!K24=\"\",\"\",filEst!K24)","v":""},null,null,null,null,null,null,null,null,null,null,null,null,null,null,null,null,null,null,null,null,""]
[null,null,null,null,null,{"$f":"IF(filEst!F25=\"\",\"\",filEst!F25)","v":""},{"$f":"IF(filEst!G25=\"\",\"\",filEst!G25)","v":""},{"$f":"IF(filEst!L25=\"\",\"\",filEst!L25)","v":""},null,null,{"$f":"IF(filEst!K25=\"\",\"\",filEst!K25)","v":""},null,null,null,null,null,null,null,null,null,null,null,null,null,null,null,null,null,null,null,null,""]
[null,null,null,null,null,{"$f":"IF(filEst!F26=\"\",\"\",filEst!F26)","v":""},{"$f":"IF(filEst!G26=\"\",\"\",filEst!G26)","v":""},{"$f":"IF(filEst!L26=\"\",\"\",filEst!L26)","v":""},null,null,{"$f":"IF(filEst!K26=\"\",\"\",filEst!K26)","v":""},null,null,null,null,null,null,null,null,null,null,null,null,null,null,null,null,null,null,null,null,""]
[null,null,null,null,null,{"$f":"IF(filEst!F27=\"\",\"\",filEst!F27)","v":""},{"$f":"IF(filEst!G27=\"\",\"\",filEst!G27)","v":""},{"$f":"IF(filEst!L27=\"\",\"\",filEst!L27)","v":""},null,null,{"$f":"IF(filEst!K27=\"\",\"\",filEst!K27)","v":""},null,null,null,null,null,null,null,null,null,null,null,null,null,null,null,null,null,null,null,null,""]
[null,null,null,null,null,{"$f":"IF(filEst!F28=\"\",\"\",filEst!F28)","v":""},{"$f":"IF(filEst!G28=\"\",\"\",filEst!G28)","v":""},{"$f":"IF(filEst!L28=\"\",\"\",filEst!L28)","v":""},null,null,{"$f":"IF(filEst!K28=\"\",\"\",filEst!K28)","v":""},null,null,null,null,null,null,null,null,null,null,null,null,null,null,null,null,null,null,null,null,""]
[null,null,null,null,null,{"$f":"IF(filEst!F29=\"\",\"\",filEst!F29)","v":""},{"$f":"IF(filEst!G29=\"\",\"\",filEst!G29)","v":""},{"$f":"IF(filEst!L29=\"\",\"\",filEst!L29)","v":""},null,null,{"$f":"IF(filEst!K29=\"\",\"\",filEst!K29)","v":""},null,null,null,null,null,null,null,null,null,null,null,null,null,null,null,null,null,null,null,null,""]
[null,null,null,null,null,{"$f":"IF(filEst!F30=\"\",\"\",filEst!F30)","v":""},{"$f":"IF(filEst!G30=\"\",\"\",filEst!G30)","v":""},{"$f":"IF(filEst!L30=\"\",\"\",filEst!L30)","v":""},null,null,{"$f":"IF(filEst!K30=\"\",\"\",filEst!K30)","v":""},null,null,null,null,null,null,null,null,null,null,null,null,null,null,null,null,null,null,null,null,""]
[null,null,null,null,null,{"$f":"IF(filEst!F31=\"\",\"\",filEst!F31)","v":""},{"$f":"IF(filEst!G31=\"\",\"\",filEst!G31)","v":""},{"$f":"IF(filEst!L31=\"\",\"\",filEst!L31)","v":""},null,null,{"$f":"IF(filEst!K31=\"\",\"\",filEst!K31)","v":""},null,null,null,null,null,null,null,null,null,null,null,null,null,null,null,null,null,null,null,null,""]
[null,null,null,null,null,{"$f":"IF(filEst!F32=\"\",\"\",filEst!F32)","v":""},{"$f":"IF(filEst!G32=\"\",\"\",filEst!G32)","v":""},{"$f":"IF(filEst!L32=\"\",\"\",filEst!L32)","v":""},null,null,{"$f":"IF(filEst!K32=\"\",\"\",filEst!K32)","v":""},null,null,null,null,null,null,null,null,null,null,null,null,null,null,null,null,null,null,null,null,""]
[null,null,null,null,null,{"$f":"IF(filEst!F33=\"\",\"\",filEst!F33)","v":""},{"$f":"IF(filEst!G33=\"\",\"\",filEst!G33)","v":""},{"$f":"IF(filEst!L33=\"\",\"\",filEst!L33)","v":""},null,null,{"$f":"IF(filEst!K33=\"\",\"\",filEst!K33)","v":""},null,null,null,null,null,null,null,null,null,null,null,null,null,null,null,null,null,null,null,null,""]
[null,null,null,null,null,{"$f":"IF(filEst!F34=\"\",\"\",filEst!F34)","v":""},{"$f":"IF(filEst!G34=\"\",\"\",filEst!G34)","v":""},{"$f":"IF(filEst!L34=\"\",\"\",filEst!L34)","v":""},null,null,{"$f":"IF(filEst!K34=\"\",\"\",filEst!K34)","v":""},null,null,null,null,null,null,null,null,null,null,null,null,null,null,null,null,null,null,null,null,""]
[null,null,null,null,null,{"$f":"IF(filEst!F35=\"\",\"\",filEst!F35)","v":""},{"$f":"IF(filEst!G35=\"\",\"\",filEst!G35)","v":""},{"$f":"IF(filEst!L35=\"\",\"\",filEst!L35)","v":""},null,null,{"$f":"IF(filEst!K35=\"\",\"\",filEst!K35)","v":""},null,null,null,null,null,null,null,null,null,null,null,null,null,null,null,null,null,null,null,null,""]
[null,null,null,null,null,{"$f":"IF(filEst!F36=\"\",\"\",filEst!F36)","v":""},{"$f":"IF(filEst!G36=\"\",\"\",filEst!G36)","v":""},{"$f":"IF(filEst!L36=\"\",\"\",filEst!L36)","v":""},null,null,{"$f":"IF(filEst!K36=\"\",\"\",filEst!K36)","v":""},null,null,null,null,null,null,null,null,null,null,null,null,null,null,null,null,null,null,null,null,""]
[null,null,null,null,null,{"$f":"IF(filEst!F37=\"\",\"\",filEst!F37)","v":""},{"$f":"IF(filEst!G37=\"\",\"\",filEst!G37)","v":""},{"$f":"IF(filEst!L37=\"\",\"\",filEst!L37)","v":""},null,null,{"$f":"IF(filEst!K37=\"\",\"\",filEst!K37)","v":""},null,null,null,null,null,null,null,null,null,null,null,null,null,null,null,null,null,null,null,null,""]
[null,null,null,null,null,{"$f":"IF(filEst!F38=\"\",\"\",filEst!F38)","v":""},{"$f":"IF(filEst!G38=\"\",\"\",filEst!G38)","v":""},{"$f":"IF(filEst!L38=\"\",\"\",filEst!L38)","v":""},null,null,{"$f":"IF(filEst!K38=\"\",\"\",filEst!K38)","v":""},null,null,null,null,null,null,null,null,null,null,null,null,null,null,null,null,null,null,null,null,""]
[null,null,null,null,null,{"$f":"IF(filEst!F39=\"\",\"\",filEst!F39)","v":""},{"$f":"IF(filEst!G39=\"\",\"\",filEst!G39)","v":""},{"$f":"IF(filEst!L39=\"\",\"\",filEst!L39)","v":""},null,null,{"$f":"IF(filEst!K39=\"\",\"\",filEst!K39)","v":""},null,null,null,null,null,null,null,null,null,null,null,null,null,null,null,null,null,null,null,null,""]
[null,null,null,null,null,{"$f":"IF(filEst!F40=\"\",\"\",filEst!F40)","v":""},{"$f":"IF(filEst!G40=\"\",\"\",filEst!G40)","v":""},{"$f":"IF(filEst!L40=\"\",\"\",filEst!L40)","v":""},null,null,{"$f":"IF(filEst!K40=\"\",\"\",filEst!K40)","v":""},null,null,null,null,null,null,null,null,null,null,null,null,null,null,null,null,null,null,null,null,""]
[null,null,null,null,null,{"$f":"IF(filEst!F41=\"\",\"\",filEst!F41)","v":""},{"$f":"IF(filEst!G41=\"\",\"\",filEst!G41)","v":""},{"$f":"IF(filEst!L41=\"\",\"\",filEst!L41)","v":""},null,null,{"$f":"IF(filEst!K41=\"\",\"\",filEst!K41)","v":""},null,null,null,null,null,null,null,null,null,null,null,null,null,null,null,null,null,null,null,null,""]
[null,null,null,null,null,{"$f":"IF(filEst!F42=\"\",\"\",filEst!F42)","v":""},{"$f":"IF(filEst!G42=\"\",\"\",filEst!G42)","v":""},{"$f":"IF(filEst!L42=\"\",\"\",filEst!L42)","v":""},null,null,{"$f":"IF(filEst!K42=\"\",\"\",filEst!K42)","v":""},null,null,null,null,null,null,null,null,null,null,null,null,null,null,null,null,null,null,null,null,""]
[null,null,null,null,null,{"$f":"IF(filEst!F43=\"\",\"\",filEst!F43)","v":""},{"$f":"IF(filEst!G43=\"\",\"\",filEst!G43)","v":""},{"$f":"IF(filEst!L43=\"\",\"\",filEst!L43)","v":""},null,null,{"$f":"IF(filEst!K43=\"\",\"\",filEst!K43)","v":""},null,null,null,null,null,null,null,null,null,null,null,null,null,null,null,null,null,null,null,null,""]
[null,null,null,null,null,{"$f":"IF(filEst!F44=\"\",\"\",filEst!F44)","v":""},{"$f":"IF(filEst!G44=\"\",\"\",filEst!G44)","v":""},{"$f":"IF(filEst!L44=\"\",\"\",filEst!L44)","v":""},null,null,{"$f":"IF(filEst!K44=\"\",\"\",filEst!K44)","v":""},null,null,null,null,null,null,null,null,null,null,null,null,null,null,null,null,null,null,null,null,""]
[null,null,null,null,null,{"$f":"IF(filEst!F45=\"\",\"\",filEst!F45)","v":""},{"$f":"IF(filEst!G45=\"\",\"\",filEst!G45)","v":""},{"$f":"IF(filEst!L45=\"\",\"\",filEst!L45)","v":""},null,null,{"$f":"IF(filEst!K45=\"\",\"\",filEst!K45)","v":""},null,null,null,null,null,null,null,null,null,null,null,null,null,null,null,null,null,null,null,null,""]
[null,null,null,null,null,{"$f":"IF(filEst!F46=\"\",\"\",filEst!F46)","v":""},{"$f":"IF(filEst!G46=\"\",\"\",filEst!G46)","v":""},{"$f":"IF(filEst!L46=\"\",\"\",filEst!L46)","v":""},null,null,{"$f":"IF(filEst!K46=\"\",\"\",filEst!K46)","v":""},null,null,null,null,null,null,null,null,null,null,null,null,null,null,null,null,null,null,null,null,""]
[null,null,null,null,null,{"$f":"IF(filEst!F47=\"\",\"\",filEst!F47)","v":""},{"$f":"IF(filEst!G47=\"\",\"\",filEst!G47)","v":""},{"$f":"IF(filEst!L47=\"\",\"\",filEst!L47)","v":""},null,null,{"$f":"IF(filEst!K47=\"\",\"\",filEst!K47)","v":""},null,null,null,null,null,null,null,null,null,null,null,null,null,null,null,null,null,null,null,null,""]
[null,null,null,null,null,{"$f":"IF(filEst!F48=\"\",\"\",filEst!F48)","v":""},{"$f":"IF(filEst!G48=\"\",\"\",filEst!G48)","v":""},{"$f":"IF(filEst!L48=\"\",\"\",filEst!L48)","v":""},null,null,{"$f":"IF(filEst!K48=\"\",\"\",filEst!K48)","v":""},null,null,null,null,null,null,null,null,null,null,null,null,null,null,null,null,null,null,null,null,""]
[null,null,null,null,null,{"$f":"IF(filEst!F49=\"\",\"\",filEst!F49)","v":""},{"$f":"IF(filEst!G49=\"\",\"\",filEst!G49)","v":""},{"$f":"IF(filEst!L49=\"\",\"\",filEst!L49)","v":""},null,null,{"$f":"IF(filEst!K49=\"\",\"\",filEst!K49)","v":""},null,null,null,null,null,null,null,null,null,null,null,null,null,null,null,null,null,null,null,null,""]
[null,null,null,null,null,{"$f":"IF(filEst!F50=\"\",\"\",filEst!F50)","v":""},{"$f":"IF(filEst!G50=\"\",\"\",filEst!G50)","v":""},{"$f":"IF(filEst!L50=\"\",\"\",filEst!L50)","v":""},null,null,{"$f":"IF(filEst!K50=\"\",\"\",filEst!K50)","v":""},null,null,null,null,null,null,null,null,null,null,null,null,null,null,null,null,null,null,null,null,""]
[null,null,null,null,null,{"$f":"IF(filEst!F51=\"\",\"\",filEst!F51)","v":""},{"$f":"IF(filEst!G51=\"\",\"\",filEst!G51)","v":""},{"$f":"IF(filEst!L51=\"\",\"\",filEst!L51)","v":""},null,null,{"$f":"IF(filEst!K51=\"\",\"\",filEst!K51)","v":""},null,null,null,null,null,null,null,null,null,null,null,null,null,null,null,null,null,null,null,null,""]
[null,null,null,null,null,{"$f":"IF(filEst!F52=\"\",\"\",filEst!F52)","v":""},{"$f":"IF(filEst!G52=\"\",\"\",filEst!G52)","v":""},{"$f":"IF(filEst!L52=\"\",\"\",filEst!L52)","v":""},null,null,{"$f":"IF(filEst!K52=\"\",\"\",filEst!K52)","v":""},null,null,null,null,null,null,null,null,null,null,null,null,null,null,null,null,null,null,null,null,""]
[null,null,null,null,null,{"$f":"IF(filEst!F53=\"\",\"\",filEst!F53)","v":""},{"$f":"IF(filEst!G53=\"\",\"\",filEst!G53)","v":""},{"$f":"IF(filEst!L53=\"\",\"\",filEst!L53)","v":""},null,null,{"$f":"IF(filEst!K53=\"\",\"\",filEst!K53)","v":""},null,null,null,null,null,null,null,null,null,null,null,null,null,null,null,null,null,null,null,null,""]
[null,null,null,null,null,{"$f":"IF(filEst!F54=\"\",\"\",filEst!F54)","v":""},{"$f":"IF(filEst!G54=\"\",\"\",filEst!G54)","v":""},{"$f":"IF(filEst!L54=\"\",\"\",filEst!L54)","v":""},null,null,{"$f":"IF(filEst!K54=\"\",\"\",filEst!K54)","v":""},null,null,null,null,null,null,null,null,null,null,null,null,null,null,null,null,null,null,null,null,""]
[null,null,null,null,null,{"$f":"IF(filEst!F55=\"\",\"\",filEst!F55)","v":""},{"$f":"IF(filEst!G55=\"\",\"\",filEst!G55)","v":""},{"$f":"IF(filEst!L55=\"\",\"\",filEst!L55)","v":""},null,null,{"$f":"IF(filEst!K55=\"\",\"\",filEst!K55)","v":""},null,null,null,null,null,null,null,null,null,null,null,null,null,null,null,null,null,null,null,null,""]
[null,null,null,null,null,{"$f":"IF(filEst!F56=\"\",\"\",filEst!F56)","v":""},{"$f":"IF(filEst!G56=\"\",\"\",filEst!G56)","v":""},{"$f":"IF(filEst!L56=\"\",\"\",filEst!L56)","v":""},null,null,{"$f":"IF(filEst!K56=\"\",\"\",filEst!K56)","v":""},null,null,null,null,null,null,null,null,null,null,null,null,null,null,null,null,null,null,null,null,""]
[null,null,null,null,null,{"$f":"IF(filEst!F57=\"\",\"\",filEst!F57)","v":""},{"$f":"IF(filEst!G57=\"\",\"\",filEst!G57)","v":""},{"$f":"IF(filEst!L57=\"\",\"\",filEst!L57)","v":""},null,null,{"$f":"IF(filEst!K57=\"\",\"\",filEst!K57)","v":""},null,null,null,null,null,null,null,null,null,null,null,null,null,null,null,null,null,null,null,null,""]
[null,null,null,null,null,{"$f":"IF(filEst!F58=\"\",\"\",filEst!F58)","v":""},{"$f":"IF(filEst!G58=\"\",\"\",filEst!G58)","v":""},{"$f":"IF(filEst!L58=\"\",\"\",filEst!L58)","v":""},null,null,{"$f":"IF(filEst!K58=\"\",\"\",filEst!K58)","v":""},null,null,null,null,null,null,null,null,null,null,null,null,null,null,null,null,null,null,null,null,""]
[null,null,null,null,null,{"$f":"IF(filEst!F59=\"\",\"\",filEst!F59)","v":""},{"$f":"IF(filEst!G59=\"\",\"\",filEst!G59)","v":""},{"$f":"IF(filEst!L59=\"\",\"\",filEst!L59)","v":""},null,null,{"$f":"IF(filEst!K59=\"\",\"\",filEst!K59)","v":""},null,null,null,null,null,null,null,null,null,null,null,null,null,null,null,null,null,null,null,null,""]
[null,null,null,null,null,{"$f":"IF(filEst!F60=\"\",\"\",filEst!F60)","v":""},{"$f":"IF(filEst!G60=\"\",\"\",filEst!G60)","v":""},{"$f":"IF(filEst!L60=\"\",\"\",filEst!L60)","v":""},null,null,{"$f":"IF(filEst!K60=\"\",\"\",filEst!K60)","v":""},null,null,null,null,null,null,null,null,null,null,null,null,null,null,null,null,null,null,null,null,""]
[null,null,null,null,null,{"$f":"IF(filEst!F61=\"\",\"\",filEst!F61)","v":""},{"$f":"IF(filEst!G61=\"\",\"\",filEst!G61)","v":""},{"$f":"IF(filEst!L61=\"\",\"\",filEst!L61)","v":""},null,null,{"$f":"IF(filEst!K61=\"\",\"\",filEst!K61)","v":""},null,null,null,null,null,null,null,null,null,null,null,null,null,null,null,null,null,null,null,null,""]
[null,null,null,null,null,{"$f":"IF(filEst!F62=\"\",\"\",filEst!F62)","v":""},{"$f":"IF(filEst!G62=\"\",\"\",filEst!G62)","v":""},{"$f":"IF(filEst!L62=\"\",\"\",filEst!L62)","v":""},null,null,{"$f":"IF(filEst!K62=\"\",\"\",filEst!K62)","v":""},null,null,null,null,null,null,null,null,null,null,null,null,null,null,null,null,null,null,null,null,""]
[null,null,null,null,null,{"$f":"IF(filEst!F63=\"\",\"\",filEst!F63)","v":""},{"$f":"IF(filEst!G63=\"\",\"\",filEst!G63)","v":""},{"$f":"IF(filEst!L63=\"\",\"\",filEst!L63)","v":""},null,null,{"$f":"IF(filEst!K63=\"\",\"\",filEst!K63)","v":""},null,null,null,null,null,null,null,null,null,null,null,null,null,null,null,null,null,null,null,null,""]
[null,null,null,null,null,{"$f":"IF(filEst!F64=\"\",\"\",filEst!F64)","v":""},{"$f":"IF(filEst!G64=\"\",\"\",filEst!G64)","v":""},{"$f":"IF(filEst!L64=\"\",\"\",filEst!L64)","v":""},null,null,{"$f":"IF(filEst!K64=\"\",\"\",filEst!K64)","v":""},null,null,null,null,null,null,null,null,null,null,null,null,null,null,null,null,null,null,null,null,""]
[null,null,null,null,null,{"$f":"IF(filEst!F65=\"\",\"\",filEst!F65)","v":""},{"$f":"IF(filEst!G65=\"\",\"\",filEst!G65)","v":""},{"$f":"IF(filEst!L65=\"\",\"\",filEst!L65)","v":""},null,null,{"$f":"IF(filEst!K65=\"\",\"\",filEst!K65)","v":""},null,null,null,null,null,null,null,null,null,null,null,null,null,null,null,null,null,null,null,null,""]
[null,null,null,null,null,{"$f":"IF(filEst!F66=\"\",\"\",filEst!F66)","v":""},{"$f":"IF(filEst!G66=\"\",\"\",filEst!G66)","v":""},{"$f":"IF(filEst!L66=\"\",\"\",filEst!L66)","v":""},null,null,{"$f":"IF(filEst!K66=\"\",\"\",filEst!K66)","v":""},null,null,null,null,null,null,null,null,null,null,null,null,null,null,null,null,null,null,null,null,""]
[null,null,null,null,null,{"$f":"IF(filEst!F67=\"\",\"\",filEst!F67)","v":""},{"$f":"IF(filEst!G67=\"\",\"\",filEst!G67)","v":""},{"$f":"IF(filEst!L67=\"\",\"\",filEst!L67)","v":""},null,null,{"$f":"IF(filEst!K67=\"\",\"\",filEst!K67)","v":""},null,null,null,null,null,null,null,null,null,null,null,null,null,null,null,null,null,null,null,null,""]
[null,null,null,null,null,{"$f":"IF(filEst!F68=\"\",\"\",filEst!F68)","v":""},{"$f":"IF(filEst!G68=\"\",\"\",filEst!G68)","v":""},{"$f":"IF(filEst!L68=\"\",\"\",filEst!L68)","v":""},null,null,{"$f":"IF(filEst!K68=\"\",\"\",filEst!K68)","v":""},null,null,null,null,null,null,null,null,null,null,null,null,null,null,null,null,null,null,null,null,{"$f":"IF(SUM(M68:AE68)=0,\"\",(SUM(M68:AE68)))","v":""}]
[null,null,null,null,null,{"$f":"IF(filEst!F69=\"\",\"\",filEst!F69)","v":""},{"$f":"IF(filEst!G69=\"\",\"\",filEst!G69)","v":""},{"$f":"IF(filEst!L69=\"\",\"\",filEst!L69)","v":""},null,null,{"$f":"IF(filEst!K69=\"\",\"\",filEst!K69)","v":""},null,null,null,null,null,null,null,null,null,null,null,null,null,null,null,null,null,null,null,null,{"$f":"IF(SUM(M69:AE69)=0,\"\",(SUM(M69:AE69)))","v":""}]
[null,null,null,null,null,{"$f":"IF(filEst!F70=\"\",\"\",filEst!F70)","v":""},{"$f":"IF(filEst!G70=\"\",\"\",filEst!G70)","v":""},{"$f":"IF(filEst!L70=\"\",\"\",filEst!L70)","v":""},null,null,{"$f":"IF(filEst!K70=\"\",\"\",filEst!K70)","v":""},null,null,null,null,null,null,null,null,null,null,null,null,null,null,null,null,null,null,null,null,{"$f":"IF(SUM(M70:AE70)=0,\"\",(SUM(M70:AE70)))","v":""}]
[null,null,null,null,null,null,null,null,null,null,"TOTAL CURSO",null,{"$f":"IF(SUM(M21:M70)=0,\"\",SUM(M21:M70))","v":""},{"$f":"IF(SUM(N21:N70)=0,\"\",SUM(N21:N70))","v":""},"","","","","","","","","","","","","","","","","",{"$f":"IF(SUM(AF21:AF70)=0,\"\",SUM(AF21:AF70))","v":""}]
[null,null,null,null,null,"Ξ",null,null,null,null,"Cerrar"]
[]
[]
[]
[]
[]
[]
[]
[]
[null,null,null,null,null,null,"select_load",{"$f":"main!$AE$10","v":50}]
[null,null,null,null,null,null,"actual_save",50]
[]
[]
[]
[]
[]
[]
[]
[]
[]
[]
[]
[]
[]
[]
[]
[]
[]
[]
[]
[null,null,null,null,null,null,"alto de fila",10]
[null,null,null,null,null,null,"ancho col nro",1]
[null,null,null,null,null,null,"ancho col est",25]
[null,null,null,null,null,null,"ancho col indicadores",2]
[null,null,null,null,null,null,"ancho col prom ind",2.5]
[null,null,null,null,null,null,"ancho nota prof",3.3]
[null,null,null,null,null,null,"ancho nota bim",2.5]
[null,null,null,null,null,null,"tamaño fuente",8]
[null,null,null,null,null,null,"alto indicador",120]
[null,null,null,null,null,null,"bimestre",4]
[null,null,null,null,null,null,"nroest",17]
[null,null,null,null,null,null,"hiden_cri_eva",1]
[null,null,null,null,null,null,"alto fila crieva",80]
[null,null,null,null,null,null,"alto fila actv",80]
[null,null,null,null,null,null,"paneles",0]
[null,null,null,null,null,null,"sit_bim_comp",1]
[null,null,null,null,null,null,"sit_bim_abrv",0.5]
[null,null,null,null,null,null,"cod_area"]
[null,null,null,null,null,null,"hiden_actividedes",1]
[null,null,null,null,null,null,"minedu",1]
[null,null,null,null,null,null,"distjs",0]

{"sheet":"acta","index":30,"n_rows":39,"n_cols":45,"rows_kept":39,"cut":false,"hidden":false,"merged":[[30,6,30,11],[30,13,30,18],[30,20,30,25],[30,27,30,32],[0,40,1,40],[2,6,2,18],[1,6,1,33],[13,6,13,32],[20,6,20,32]]}
[null,null,null,null,null,null,null,null,null,null,null,null,null,null,null,null,null,null,null,null,null,null,null,null,null,null,null,null,null,null,null,null,null,null,null,null,null,null,"Nro","Nro","ESTUDIANTE","FECHA","FALTA COMETIDA","ACCIONES A TOMAR"]
[null,null,null,null,null,null,{"$f":"CONCATENATE(datpro!D7,\"  \",datpro!E7 )","v":"UNIDAD EDUCATIVA   "},null,null,null,null,null,null,null,null,null,null,null,null,null,null,null,null,null,null,null,null,null,null,null,null,null,null,null,null,null,null,null,"CITA","EST",null,null,null,null,"Ξ"]
[null,null,null,null,null,null,"ACTA Nro.",null,null,null,null,null,null,null,null,null,null,null,null,null,null,null,null,null,null,null,null,null,null,null,null,null,null,null,null,null,null,null,1,4,{"$f":"IF($AN3<>\"\",INDEX(filEst!$K$21:$K$70,$AN3,1,1),\"\")","v":0},null,null,null,"Cerrar"]
[null,null,null,null,null,null,null,null,null,null,null,null,null,null,null,null,null,null,null,null,null,null,null,null,null,null,null,null,null,null,null,null,null,null,null,null,null,null,2,1,{"$f":"IF($AN4<>\"\",INDEX(filEst!$K$21:$K$70,$AN4,1,1),\"\")","v":0},null,null,null,"©  2023"]
[null,null,null,null,null,null,"DATOS ESTUDIANTE",null,null,null,null,null,2,null,null,null,null,null,null,null,null,null,null,null,null,null,null,null,null,null,null,null,null,null,null,null,null,null,3,2,{"$f":"IF($AN5<>\"\",INDEX(filEst!$K$21:$K$70,$AN5,1,1),\"\")","v":0},null,null,null,"PROYECTO REMDIZ"]
[null,null,null,null,null,null,null,null,null,null,null,null,null,null,null,null,null,null,null,null,null,null,null,null,null,null,null,null,null,null,null,null,null,null,null,null,null,null,4,3,{"$f":"IF($AN6<>\"\",INDEX(filEst!$K$21:$K$70,$AN6,1,1),\"\")","v":0}]
[null,null,null,null,null,null,"ESTUDIANTE",null,null,null,null,{"$f":"IF($M$5<>\"\",INDEX(filEst!K21:K70,$M$5,1,1),\"\")","v":0},null,null,null,null,null,null,null,null,null,null,null,null,null,null,null,null,null,null,null,null,null,null,null,null,null,null,5,4,{"$f":"IF($AN7<>\"\",INDEX(filEst!$K$21:$K$70,$AN7,1,1),\"\")","v":0}]
[null,null,null,null,null,null,"AREA",null,null,null,null,{"$f":"datpro!E14","v":0},null,null,null,null,null,null,null,null,null,null,null,null,null,null,null,null,null,null,null,null,null,null,null,null,null,null,6,null,{"$f":"IF($AN8<>\"\",INDEX(filEst!$K$21:$K$70,$AN8,1,1),\"\")","v":""}]
[null,null,null,null,null,null,"CURSO",null,null,null,null,{"$f":"CONCATENATE( datpro!$E$11,\"  -  \",datpro!$E$12)","v":"  -  "},null,null,null,null,null,null,null,null,null,null,null,null,null,null,null,null,null,null,null,null,null,null,null,null,null,null,7,null,{"$f":"IF($AN9<>\"\",INDEX(filEst!$K$21:$K$70,$AN9,1,1),\"\")","v":""}]
[null,null,null,null,null,null,"PROFESOR",null,null,null,null,{"$f":"datpro!E9","v":0},null,null,null,null,null,null,null,null,null,null,null,null,null,null,null,null,null,null,null,null,null,null,null,null,null,null,8,null,{"$f":"IF($AN10<>\"\",INDEX(filEst!$K$21:$K$70,$AN10,1,1),\"\")","v":""}]
[null,null,null,null,null,null,"FECHA",null,null,null,null,null,null,null,null,null,null,null,null,null,null,null,null,null,null,null,null,null,null,null,null,null,null,null,null,null,null,null,9,null,{"$f":"IF($AN11<>\"\",INDEX(filEst!$K$21:$K$70,$AN11,1,1),\"\")","v":""}]
[null,null,null,null,null,null,null,null,null,null,null,null,null,null,null,null,null,null,null,null,null,null,null,null,null,null,null,null,null,null,null,null,null,null,null,null,null,null,10,null,{"$f":"IF($AN12<>\"\",INDEX(filEst!$K$21:$K$70,$AN12,1,1),\"\")","v":""}]
[null,null,null,null,null,null,"FALTA COMETIDA",null,null,null,null,null,null,null,null,null,null,null,null,null,null,null,null,null,null,null,null,null,null,null,null,null,null,null,null,null,null,null,11,null,{"$f":"IF($AN13<>\"\",INDEX(filEst!$K$21:$K$70,$AN13,1,1),\"\")","v":""}]
[null,null,null,null,null,null,null,null,null,null,null,null,null,null,null,null,null,null,null,null,null,null,null,null,null,null,null,null,null,null,null,null,null,null,null,null,null,null,12,null,{"$f":"IF($AN14<>\"\",INDEX(filEst!$K$21:$K$70,$AN14,1,1),\"\")","v":""}]
[null,null,null,null,null,null,null,null,null,null,null,null,null,null,null,null,null,null,null,null,null,null,null,null,null,null,null,null,null,null,null,null,null,null,null,null,null,null,13,null,{"$f":"IF($AN15<>\"\",INDEX(filEst!$K$21:$K$70,$AN15,1,1),\"\")","v":""}]
[null,null,null,null,null,null,null,null,null,null,null,null,null,null,null,null,null,null,null,null,null,null,null,null,null,null,null,null,null,null,null,null,null,null,null,null,null,null,14,null,{"$f":"IF($AN16<>\"\",INDEX(filEst!$K$21:$K$70,$AN16,1,1),\"\")","v":""}]
[null,null,null,null,null,null,null,null,null,null,null,null,null,null,null,null,null,null,null,null,null,null,null,null,null,null,null,null,null,null,null,null,null,null,null,null,null,null,15,null,{"$f":"IF($AN17<>\"\",INDEX(filEst!$K$21:$K$70,$AN17,1,1),\"\")","v":""}]
[null,null,null,null,null,null,null,null,null,null,null,null,null,null,null,null,null,null,null,null,null,null,null,null,null,null,null,null,null,null,null,null,null,null,null,null,null,null,16,null,{"$f":"IF($AN18<>\"\",INDEX(filEst!$K$21:$K$70,$AN18,1,1),\"\")","v":""}]
[null,null,null,null,null,null,null,null,null,null,null,null,null,null,null,null,null,null,null,null,null,null,null,null,null,null,null,null,null,null,null,null,null,null,null,null,null,null,17,null,{"$f":"IF($AN19<>\"\",INDEX(filEst!$K$21:$K$70,$AN19,1,1),\"\")","v":""}]
[null,null,null,null,null,null,"ACCIONES A TOMAR",null,null,null,null,null,null,null,null,null,null,null,null,null,null,null,null,null,null,null,null,null,null,null,null,null,null,null,null,null,null,null,18,null,{"$f":"IF($AN20<>\"\",INDEX(filEst!$K$21:$K$70,$AN20,1,1),\"\")","v":""}]
[null,null,null,null,null,null,null,null,null,null,null,null,null,null,null,null,null,null,null,null,null,null,null,null,null,null,null,null,null,null,null,null,null,null,null,null,null,null,19,null,{"$f":"IF($AN21<>\"\",INDEX(filEst!$K$21:$K$70,$AN21,1,1),\"\")","v":""}]
[null,null,null,null,null,null,null,null,null,null,null,null,null,null,null,null,null,null,null,null,null,null,null,null,null,null,null,null,null,null,null,null,null,null,null,null,null,null,20,null,{"$f":"IF($AN22<>\"\",INDEX(filEst!$K$21:$K$70,$AN22,1,1),\"\")","v":""}]
[null,null,null,null,null,null,null,null,null,null,null,null,null,null,null,null,null,null,null,null,null,null,null,null,null,null,null,null,null,null,null,null,null,null,null,null,null,null,21,null,{"$f":"IF($AN23<>\"\",INDEX(filEst!$K$21:$K$70,$AN23,1,1),\"\")","v":""}]
[null,null,null,null,null,null,null,null,null,null,null,null,null,null,null,null,null,null,null,null,null,null,null,null,null,null,null,null,null,null,null,null,null,null,null,null,null,null,22,null,{"$f":"IF($AN24<>\"\",INDEX(filEst!$K$21:$K$70,$AN24,1,1),\"\")","v":""}]
[null,null,null,null,null,null,null,null,null,null,null,null,null,null,null,null,null,null,null,null,null,null,null,null,null,null,null,null,null,null,null,null,null,null,null,null,null,null,23,null,{"$f":"IF($AN25<>\"\",INDEX(filEst!$K$21:$K$70,$AN25,1,1),\"\")","v":""}]
[null,null,null,null,null,null,null,null,null,null,null,null,null,null,null,null,null,null,null,null,null,null,null,null,null,null,null,null,null,null,null,null,null,null,null,null,null,null,24,null,{"$f":"IF($AN26<>\"\",INDEX(filEst!$K$21:$K$70,$AN26,1,1),\"\")","v":""}]
[null,null,null,null,null,null,"FIRMAS/SELLOS",null,null,null,null,null,null,null,null,null,null,null,null,null,null,null,null,null,null,null,null,null,null,null,null,null,null,null,null,null,null,null,25,null,{"$f":"IF($AN27<>\"\",INDEX(filEst!$K$21:$K$70,$AN27,1,1),\"\")","v":""}]
[null,null,null,null,null,null,null,null,null,null,null,null,null,null,null,null,null,null,null,null,null,null,null,null,null,null,null,null,null,null,null,null,null,null,null,null,null,null,26,null,{"$f":"IF($AN28<>\"\",INDEX(filEst!$K$21:$K$70,$AN28,1,1),\"\")","v":""}]
[null,null,null,null,null,null,null,null,null,null,null,null,null,null,null,null,null,null,null,null,null,null,null,null,null,null,null,null,null,null,null,null,null,null,null,null,null,null,27,null,{"$f":"IF($AN29<>\"\",INDEX(filEst!$K$21:$K$70,$AN29,1,1),\"\")","v":""}]
[null,null,null,null,null,null,null,null,null,null,null,null,null,null,null,null,null,null,null,null,null,null,null,null,null,null,null,null,null,null,null,null,null,null,null,null,null,null,28,null,{"$f":"IF($AN30<>\"\",INDEX(filEst!$K$21:$K$70,$AN30,1,1),\"\")","v":""}]
[null,null,null,null,null,null,"Padre",null,null,null,null,null,null,"Estudiante",null,null,null,null,null,null,"Profesor",null,null,null,null,null,null,"Director(a)",null,null,null,null,null,null,null,null,null,null,29,null,{"$f":"IF($AN31<>\"\",INDEX(filEst!$K$21:$K$70,$AN31,1,1),\"\")","v":""}]
[null,null,null,null,null,null,"NOTA ACLARATORIA",null,null,null,null,null,null,null,null,null,null,null,null,null,null,null,null,null,null,null,null,null,null,null,null,null,null,null,null,null,null,null,30,null,{"$f":"IF($AN32<>\"\",INDEX(filEst!$K$21:$K$70,$AN32,1,1),\"\")","v":""}]
[null,null,null,null,null,null,null,null,null,null,null,null,null,null,null,null,null,null,null,null,null,null,null,null,null,null,null,null,null,null,null,null,null,null,null,null,null,null,31,null,{"$f":"IF($AN33<>\"\",INDEX(filEst!$K$21:$K$70,$AN33,1,1),\"\")","v":""}]
[null,null,null,null,null,null,null,null,null,null,null,null,null,null,null,null,null,null,null,null,null,null,null,null,null,null,null,null,null,null,null,null,null,null,null,null,null,null,32,null,{"$f":"IF($AN34<>\"\",INDEX(filEst!$K$21:$K$70,$AN34,1,1),\"\")","v":""}]
[null,null,null,null,null,null,null,null,null,null,null,null,null,null,null,null,null,null,null,null,null,null,null,null,null,null,null,null,null,null,null,null,null,null,null,null,null,null,33,null,{"$f":"IF($AN35<>\"\",INDEX(filEst!$K$21:$K$70,$AN35,1,1),\"\")","v":""}]
[null,null,null,null,null,null,null,null,null,null,null,null,null,null,null,null,null,null,null,null,null,null,null,null,null,null,null,null,null,null,null,null,null,null,null,null,null,null,34,null,{"$f":"IF($AN36<>\"\",INDEX(filEst!$K$21:$K$70,$AN36,1,1),\"\")","v":""}]
[null,null,null,null,null,null,null,null,null,null,null,null,null,null,null,null,null,null,null,null,null,null,null,null,null,null,null,null,null,null,null,null,null,null,null,null,null,null,35,null,{"$f":"IF($AN37<>\"\",INDEX(filEst!$K$21:$K$70,$AN37,1,1),\"\")","v":""}]
[]
[null,null,null,null,null,null,null,null,null,"Ξ","Cerrar"]

{"sheet":"cita","index":31,"n_rows":72,"n_cols":39,"rows_kept":72,"cut":false,"hidden":false,"merged":[[0,36,0,37],[0,33,0,34],[0,31,1,31],[0,35,1,35],[22,6,22,13],[6,6,6,10],[8,7,8,10],[10,7,10,10],[21,6,21,13],[13,11,13,13],[12,8,12,14]]}
[null,null,null,null,null,null,null,null,null,null,null,null,null,null,null,null,null,null,null,null,null,null,null,null,null,null,null,null,null,"Nro","Nro","ESTUDIANTE",null,"FECHA DE CITACION",null,"MOTIVO DE LA CITACION","Tarija,"]
[null,null,null,null,null,null,"Ξ",null,null,null,null,null,null,null,null,null,null,null,null,null,null,null,null,null,null,null,null,null,null,"CITA","EST",null,"APODERADO","DIA/SEMANA","Hora",null,"dia","mes ",2023]
[null,null,null,null,null,null,null,null,null,null,null,null,null,null,null,null,null,null,null,null,null,null,null,null,null,null,null,null,null,1,1,{"$f":"IF($AE3<>\"\",INDEX(filEst!$K$21:$K$70,$AE3,1,1),\"\")","v":0},{"$f":"IF($AE3<>\"\",INDEX(filEst!$V$21:$V$70,$AE3,1,1),\"\")","v":0},"LUNES","12","ASISTENCIA",null,null,{"$f":"CONCATENATE($AK$1,\"  \",AK3,\" de \",AL3, \" de \", $AM$2)","v":"Tarija,   de  de 2023"}]
[null,null,null,null,null,null,null,null,null,null,null,null,null,null,null,null,null,null,null,null,null,null,null,null,null,null,null,null,null,2,null,{"$f":"IF($AE4<>\"\",INDEX(filEst!$K$21:$K$70,$AE4,1,1),\"\")","v":""},"",null,null,null,null,null,{"$f":"CONCATENATE($AK$1,\"  \",AK4,\" de \",AL4, \" de \", $AM$2)","v":"Tarija,   de  de 2023"}]
[null,null,null,null,null,null,null,null,null,null,null,null,null,null,null,null,null,null,null,null,null,null,null,null,null,null,null,null,null,3,null,{"$f":"IF($AE5<>\"\",INDEX(filEst!$K$21:$K$70,$AE5,1,1),\"\")","v":""},"",null,null,null,null,null,{"$f":"CONCATENATE($AK$1,\"  \",AK5,\" de \",AL5, \" de \", $AM$2)","v":"Tarija,   de  de 2023"}]
[null,null,null,null,null,null,null,null,null,null,null,null,null,null,null,null,null,null,null,null,null,null,null,null,null,null,null,null,null,4,null,{"$f":"IF($AE6<>\"\",INDEX(filEst!$K$21:$K$70,$AE6,1,1),\"\")","v":""},"",null,null,null,null,null,{"$f":"CONCATENATE($AK$1,\"  \",AK6,\" de \",AL6, \" de \", $AM$2)","v":"Tarija,   de  de 2023"}]
[null,null,null,null,null,null,"CITACIÓN     Nro.",null,null,null,null,1,null,null,null,null,null,null,null,null,null,null,null,null,null,null,null,null,null,5,null,{"$f":"IF($AE7<>\"\",INDEX(filEst!$K$21:$K$70,$AE7,1,1),\"\")","v":""},"",null,null,null,null,null,{"$f":"CONCATENATE($AK$1,\"  \",AK7,\" de \",AL7, \" de \", $AM$2)","v":"Tarija,   de  de 2023"}]
[null,null,null,null,null,null,null,null,null,null,null,null,null,null,null,null,null,null,null,null,null,null,null,null,null,null,null,null,null,6,null,{"$f":"IF($AE8<>\"\",INDEX(filEst!$K$21:$K$70,$AE8,1,1),\"\")","v":""},"",null,null,null,null,null,"Tarija,   de  de 2023"]
[null,null,null,null,null,null,"Señor(a) :",{"$f":"IF($L$7<>\"\",INDEX(AG3:AG73,$L$7,1,1),\"\")","v":0},null,null,null,null,null,null,null,null,null,null,null,null,null,null,null,null,null,null,null,null,null,7,null,{"$f":"IF($AE9<>\"\",INDEX(filEst!$K$21:$K$70,$AE9,1,1),\"\")","v":""},"",null,null,null,null,null,"Tarija,   de  de 2023"]
[null,null,null,null,null,null,"Apoderado del:",null,null,null,null,null,null,null,null,null,null,null,null,null,null,null,null,null,null,null,null,null,null,8,null,{"$f":"IF($AE10<>\"\",INDEX(filEst!$K$21:$K$70,$AE10,1,1),\"\")","v":""},"",null,null,null,null,null,"Tarija,   de  de 2023"]
[null,null,null,null,null,null,"Estudiante:",{"$f":"IF($L$7<>\"\",INDEX(AF3:AF73,$L$7,1,1),\"\")","v":0},null,null,null,null,null,null,null,null,null,null,null,null,null,null,null,null,null,null,null,null,null,9,null,{"$f":"IF($AE11<>\"\",INDEX(filEst!$K$21:$K$70,$AE11,1,1),\"\")","v":""},"",null,null,null,null,null,"Tarija,   de  de 2023"]
[null,null,null,null,null,null,"Debe presentase a la",null,null,null,null,null,null,null,null,null,null,null,null,null,null,null,null,null,null,null,null,null,null,10,null,{"$f":"IF($AE12<>\"\",INDEX(filEst!$K$21:$K$70,$AE12,1,1),\"\")","v":""},"",null,null,null,null,null,"Tarija,   de  de 2023"]
[null,null,null,null,null,null,"Unidad Educativa:",null,{"$f":"datpro!E7","v":0},null,null,null,null,null,null,null,null,null,null,null,null,null,null,null,null,null,null,null,null,11,null,{"$f":"IF($AE13<>\"\",INDEX(filEst!$K$21:$K$70,$AE13,1,1),\"\")","v":""},"",null,null,null,null,null,"Tarija,   de  de 2023"]
[null,null,null,null,null,null,"El dia ",{"$f":"IF($L$7<>\"\",INDEX(AH3:AH73,$L$7,1,1),\"\")","v":"LUNES"},null,"a horas",{"$f":"IF($L$7<>\"\",INDEX(AI3:AI73,$L$7,1,1),\"\")","v":"12"},"del presente mes",null,null,null,null,null,null,null,null,null,null,null,null,null,null,null,null,null,12,null,{"$f":"IF($AE14<>\"\",INDEX(filEst!$K$21:$K$70,$AE14,1,1),\"\")","v":""},"",null,null,null,null,null,"Tarija,   de  de 2023"]
[null,null,null,null,null,null,"Para Informarle sobre el ",null,null,null,null,null,null,null,null,null,null,null,null,null,null,null,null,null,null,null,null,null,null,13,null,{"$f":"IF($AE15<>\"\",INDEX(filEst!$K$21:$K$70,$AE15,1,1),\"\")","v":""},"",null,null,null,null,null,"Tarija,   de  de 2023"]
[null,null,null,null,null,null,{"$f":"IF($L$7<>\"\",INDEX(AJ3:AJ73,$L$7,1,1),\"\")","v":"ASISTENCIA"},null,null,null,null,null,null,null,null,null,null,null,null,null,null,null,null,null,null,null,null,null,null,14,null,{"$f":"IF($AE16<>\"\",INDEX(filEst!$K$21:$K$70,$AE16,1,1),\"\")","v":""},null,null,null,null,null,null,"Tarija,   de  de 2023"]
[null,null,null,null,null,null," de su hijo(a). Caso contrario nos ",null,null,null,null,null,null,null,null,null,null,null,null,null,null,null,null,null,null,null,null,null,null,15,null,{"$f":"IF($AE17<>\"\",INDEX(filEst!$K$21:$K$70,$AE17,1,1),\"\")","v":""},null,null,null,null,null,null,"Tarija,   de  de 2023"]
[null,null,null,null,null,null,"veremos obligados a aplicar el REGLAMENTO DE FALTAS Y SANCIONES en actual vigencia. ",null,null,null,null,null,null,null,null,null,null,null,null,null,null,null,null,null,null,null,null,null,null,16,null,{"$f":"IF($AE18<>\"\",INDEX(filEst!$K$21:$K$70,$AE18,1,1),\"\")","v":""},"",null,null,null,null,null,"Tarija,   de  de 2023"]
[null,null,null,null,null,null,{"$f":"IF($L$7<>\"\",INDEX(AM3:AM73,$L$7,1,1),\"\")","v":"Tarija,   de  de 2023"},null,null,null,null,null,null,null,null,null,null,null,null,null,null,null,null,null,null,null,null,null,null,17,null,{"$f":"IF($AE19<>\"\",INDEX(filEst!$K$21:$K$70,$AE19,1,1),\"\")","v":""},"",null,null,null,null,null,"Tarija,   de  de 2023"]
[null,null,null,null,null,null,null,null,null,null,null,null,null,null,null,null,null,null,null,null,null,null,null,null,null,null,null,null,null,18,null,{"$f":"IF($AE20<>\"\",INDEX(filEst!$K$21:$K$70,$AE20,1,1),\"\")","v":""},"",null,null,null,null,null,"Tarija,   de  de 2023"]
[null,null,null,null,null,null,null,null,null,null,null,null,null,null,null,null,null,null,null,null,null,null,null,null,null,null,null,null,null,19,null,{"$f":"IF($AE21<>\"\",INDEX(filEst!$K$21:$K$70,$AE21,1,1),\"\")","v":""},"",null,null,null,null,null,"Tarija,   de  de 2023"]
[null,null,null,null,null,null,"______________________                                                  ______________________",null,null,null,null,null,null,null,null,null,null,null,null,null,null,null,null,null,null,null,null,null,null,20,null,{"$f":"IF($AE22<>\"\",INDEX(filEst!$K$21:$K$70,$AE22,1,1),\"\")","v":""},"",null,null,null,null,null,"Tarija,   de  de 2023"]
[null,null,null,null,null,null,"FIRMA MAESTRO/A                                                            FIRMA DIRECTOR/A",null,null,null,null,null,null,null,null,null,null,null,null,null,null,null,null,null,null,null,null,null,null,21,null,{"$f":"IF($AE23<>\"\",INDEX(filEst!$K$21:$K$70,$AE23,1,1),\"\")","v":""},"",null,null,null,null,null,"Tarija,   de  de 2023"]
[null,null,null,null,null,null,null,null,null,null,null,null,null,null,null,null,null,null,null,null,null,null,null,null,null,null,null,null,null,22,null,{"$f":"IF($AE24<>\"\",INDEX(filEst!$K$21:$K$70,$AE24,1,1),\"\")","v":""},"",null,null,null,null,null,"Tarija,   de  de 2023"]
[null,null,null,null,null,null,null,null,null,null,null,null,null,null,null,null,null,null,null,null,null,null,null,null,null,null,null,null,null,23,null,{"$f":"IF($AE25<>\"\",INDEX(filEst!$K$21:$K$70,$AE25,1,1),\"\")","v":""},"",null,null,null,null,null,"Tarija,   de  de 2023"]
[null,null,null,null,null,"Ξ","Cerrar",null,null,null,null,null,null,null,null,null,null,null,null,null,null,null,null,null,null,null,null,null,null,24,null,{"$f":"IF($AE26<>\"\",INDEX(filEst!$K$21:$K$70,$AE26,1,1),\"\")","v":""},"",null,null,null,null,null,"Tarija,   de  de 2023"]
[null,null,null,null,null,null,null,null,null,null,null,null,null,null,null,null,null,null,null,null,null,null,null,null,null,null,null,null,null,25,null,{"$f":"IF($AE27<>\"\",INDEX(filEst!$K$21:$K$70,$AE27,1,1),\"\")","v":""},"",null,null,null,null,null,"Tarija,   de  de 2023"]
[null,null,null,null,null,null,null,null,null,null,null,null,null,null,null,null,null,null,null,null,null,null,null,null,null,null,null,null,null,26,null,{"$f":"IF($AE28<>\"\",INDEX(filEst!$K$21:$K$70,$AE28,1,1),\"\")","v":""},"",null,null,null,null,null,"Tarija,   de  de 2023"]
[null,null,null,null,null,null,null,null,null,null,null,null,null,null,null,null,null,null,null,null,null,null,null,null,null,null,null,null,null,27,null,{"$f":"IF($AE29<>\"\",INDEX(filEst!$K$21:$K$70,$AE29,1,1),\"\")","v":""},"",null,null,null,null,null,"Tarija,   de  de 2023"]
[null,null,null,null,null,null,null,null,null,null,null,null,null,null,null,null,null,null,null,null,null,null,null,null,null,null,null,null,null,28,null,{"$f":"IF($AE30<>\"\",INDEX(filEst!$K$21:$K$70,$AE30,1,1),\"\")","v":""},"",null,null,null,null,null,"Tarija,   de  de 2023"]
[null,null,null,null,null,null,null,null,null,null,null,null,null,null,null,null,null,null,null,null,null,null,null,null,null,null,null,null,null,29,null,{"$f":"IF($AE31<>\"\",INDEX(filEst!$K$21:$K$70,$AE31,1,1),\"\")","v":""},"",null,null,null,null,null,"Tarija,   de  de 2023"]
[null,null,null,null,null,null,null,null,null,null,null,null,null,null,null,null,null,null,null,null,null,null,null,null,null,null,null,null,null,30,null,{"$f":"IF($AE32<>\"\",INDEX(filEst!$K$21:$K$70,$AE32,1,1),\"\")","v":""},"",null,null,null,null,null,"Tarija,   de  de 2023"]
[null,null,null,null,null,null,null,null,null,null,null,null,null,null,null,null,null,null,null,null,null,null,null,null,null,null,null,null,null,31,null,{"$f":"IF($AE33<>\"\",INDEX(filEst!$K$21:$K$70,$AE33,1,1),\"\")","v":""},"",null,null,null,null,null,"Tarija,   de  de 2023"]
[null,null,null,null,null,null,null,null,null,null,null,null,null,null,null,null,null,null,null,null,null,null,null,null,null,null,null,null,null,32,null,{"$f":"IF($AE34<>\"\",INDEX(filEst!$K$21:$K$70,$AE34,1,1),\"\")","v":""},"",null,null,null,null,null,"Tarija,   de  de 2023"]
[null,null,null,null,null,null,null,null,null,null,null,null,null,null,null,null,null,null,null,null,null,null,null,null,null,null,null,null,null,33,null,{"$f":"IF($AE35<>\"\",INDEX(filEst!$K$21:$K$70,$AE35,1,1),\"\")","v":""},"",null,null,null,null,null,"Tarija,   de  de 2023"]
[null,null,null,null,null,null,null,null,null,null,null,null,null,null,null,null,null,null,null,null,null,null,null,null,null,null,null,null,null,34,null,{"$f":"IF($AE36<>\"\",INDEX(filEst!$K$21:$K$70,$AE36,1,1),\"\")","v":""},"",null,null,null,null,null,"Tarija,   de  de 2023"]
[null,null,null,null,null,null,null,null,null,null,null,null,null,null,null,null,null,null,null,null,null,null,null,null,null,null,null,null,null,35,null,{"$f":"IF($AE37<>\"\",INDEX(filEst!$K$21:$K$70,$AE37,1,1),\"\")","v":""},"",null,null,null,null,null,"Tarija,   de  de 2023"]
[null,null,null,null,null,null,null,null,null,null,null,null,null,null,null,null,null,null,null,null,null,null,null,null,null,null,null,null,null,36,null,{"$f":"IF($AE38<>\"\",INDEX(filEst!$K$21:$K$70,$AE38,1,1),\"\")","v":""},"",null,null,null,null,null,"Tarija,   de  de 2023"]
[null,null,null,null,null,null,null,null,null,null,null,null,null,null,null,null,null,null,null,null,null,null,null,null,null,null,null,null,null,37,null,{"$f":"IF($AE39<>\"\",INDEX(filEst!$K$21:$K$70,$AE39,1,1),\"\")","v":""},"",null,null,null,null,null,"Tarija,   de  de 2023"]
[null,null,null,null,null,null,null,null,null,null,null,null,null,null,null,null,null,null,null,null,null,null,null,null,null,null,null,null,null,38,null,{"$f":"IF($AE40<>\"\",INDEX(filEst!$K$21:$K$70,$AE40,1,1),\"\")","v":""},"",null,null,null,null,null,"Tarija,   de  de 2023"]
[null,null,null,null,null,null,null,null,null,null,null,null,null,null,null,null,null,null,null,null,null,null,null,null,null,null,null,null,null,39,null,{"$f":"IF($AE41<>\"\",INDEX(filEst!$K$21:$K$70,$AE41,1,1),\"\")","v":""},"",null,null,null,null,null,"Tarija,   de  de 2023"]
[null,null,null,null,null,null,null,null,null,null,null,null,null,null,null,null,null,null,null,null,null,null,null,null,null,null,null,null,null,40,null,{"$f":"IF($AE42<>\"\",INDEX(filEst!$K$21:$K$70,$AE42,1,1),\"\")","v":""},"",null,null,null,null,null,"Tarija,   de  de 2023"]
[null,null,null,null,null,null,null,null,null,null,null,null,null,null,null,null,null,null,null,null,null,null,null,null,null,null,null,null,null,41,null,{"$f":"IF($AE43<>\"\",INDEX(filEst!$K$21:$K$70,$AE43,1,1),\"\")","v":""},"",null,null,null,null,null,"Tarija,   de  de 2023"]
[null,null,null,null,null,null,null,null,null,null,null,null,null,null,null,null,null,null,null,null,null,null,null,null,null,null,null,null,null,42,null,{"$f":"IF($AE44<>\"\",INDEX(filEst!$K$21:$K$70,$AE44,1,1),\"\")","v":""},"",null,null,null,null,null,"Tarija,   de  de 2023"]
[null,null,null,null,null,null,null,null,null,null,null,null,null,null,null,null,null,null,null,null,null,null,null,null,null,null,null,null,null,43,null,{"$f":"IF($AE45<>\"\",INDEX(filEst!$K$21:$K$70,$AE45,1,1),\"\")","v":""},"",null,null,null,null,null,"Tarija,   de  de 2023"]
[null,null,null,null,null,null,null,null,null,null,null,null,null,null,null,null,null,null,null,null,null,null,null,null,null,null,null,null,null,44,null,{"$f":"IF($AE46<>\"\",INDEX(filEst!$K$21:$K$70,$AE46,1,1),\"\")","v":""},"",null,null,null,null,null,"Tarija,   de  de 2023"]
[null,null,null,null,null,null,null,null,null,null,null,null,null,null,null,null,null,null,null,null,null,null,null,null,null,null,null,null,null,45,null,{"$f":"IF($AE47<>\"\",INDEX(filEst!$K$21:$K$70,$AE47,1,1),\"\")","v":""},"",null,null,null,null,null,"Tarija,   de  de 2023"]
[null,null,null,null,null,null,null,null,null,null,null,null,null,null,null,null,null,null,null,null,null,null,null,null,null,null,null,null,null,46,null,{"$f":"IF($AE48<>\"\",INDEX(filEst!$K$21:$K$70,$AE48,1,1),\"\")","v":""},"",null,null,null,null,null,"Tarija,   de  de 2023"]
[null,null,null,null,null,null,null,null,null,null,null,null,null,null,null,null,null,null,null,null,null,null,null,null,null,null,null,null,null,47,null,{"$f":"IF($AE49<>\"\",INDEX(filEst!$K$21:$K$70,$AE49,1,1),\"\")","v":""},"",null,null,null,null,null,"Tarija,   de  de 2023"]
[null,null,null,null,null,null,null,null,null,null,null,null,null,null,null,null,null,null,null,null,null,null,null,null,null,null,null,null,null,48,null,{"$f":"IF($AE50<>\"\",INDEX(filEst!$K$21:$K$70,$AE50,1,1),\"\")","v":""},"",null,null,null,null,null,"Tarija,   de  de 2023"]
[null,null,null,null,null,null,null,null,null,null,null,null,null,null,null,null,null,null,null,null,null,null,null,null,null,null,null,null,null,49,null,{"$f":"IF($AE51<>\"\",INDEX(filEst!$K$21:$K$70,$AE51,1,1),\"\")","v":""},"",null,null,null,null,null,"Tarija,   de  de 2023"]
[null,null,null,null,null,null,null,null,null,null,null,null,null,null,null,null,null,null,null,null,null,null,null,null,null,null,null,null,null,50,null,{"$f":"IF($AE52<>\"\",INDEX(filEst!$K$21:$K$70,$AE52,1,1),\"\")","v":""},"",null,null,null,null,null,"Tarija,   de  de 2023"]
[null,null,null,null,null,null,null,null,null,null,null,null,null,null,null,null,null,null,null,null,null,null,null,null,null,null,null,null,null,51,null,{"$f":"IF($AE53<>\"\",INDEX(filEst!$K$21:$K$70,$AE53,1,1),\"\")","v":""},"",null,null,null,null,null,"Tarija,   de  de 2023"]
[null,null,null,null,null,null,null,null,null,null,null,null,null,null,null,null,null,null,null,null,null,null,null,null,null,null,null,null,null,52,null,{"$f":"IF($AE54<>\"\",INDEX(filEst!$K$21:$K$70,$AE54,1,1),\"\")","v":""},"",null,null,null,null,null,"Tarija,   de  de 2023"]
[null,null,null,null,null,null,null,null,null,null,null,null,null,null,null,null,null,null,null,null,null,null,null,null,null,null,null,null,null,53,null,{"$f":"IF($AE55<>\"\",INDEX(filEst!$K$21:$K$70,$AE55,1,1),\"\")","v":""},"",null,null,null,null,null,"Tarija,   de  de 2023"]
[null,null,null,null,null,null,null,null,null,null,null,null,null,null,null,null,null,null,null,null,null,null,null,null,null,null,null,null,null,54,null,{"$f":"IF($AE56<>\"\",INDEX(filEst!$K$21:$K$70,$AE56,1,1),\"\")","v":""},"",null,null,null,null,null,"Tarija,   de  de 2023"]
[null,null,null,null,null,null,null,null,null,null,null,null,null,null,null,null,null,null,null,null,null,null,null,null,null,null,null,null,null,55,null,{"$f":"IF($AE57<>\"\",INDEX(filEst!$K$21:$K$70,$AE57,1,1),\"\")","v":""},"",null,null,null,null,null,"Tarija,   de  de 2023"]
[null,null,null,null,null,null,null,null,null,null,null,null,null,null,null,null,null,null,null,null,null,null,null,null,null,null,null,null,null,56,null,{"$f":"IF($AE58<>\"\",INDEX(filEst!$K$21:$K$70,$AE58,1,1),\"\")","v":""},"",null,null,null,null,null,"Tarija,   de  de 2023"]
[null,null,null,null,null,null,null,null,null,null,null,null,null,null,null,null,null,null,null,null,null,null,null,null,null,null,null,null,null,57,null,{"$f":"IF($AE59<>\"\",INDEX(filEst!$K$21:$K$70,$AE59,1,1),\"\")","v":""},"",null,null,null,null,null,"Tarija,   de  de 2023"]
[null,null,null,null,null,null,null,null,null,null,null,null,null,null,null,null,null,null,null,null,null,null,null,null,null,null,null,null,null,58,null,{"$f":"IF($AE60<>\"\",INDEX(filEst!$K$21:$K$70,$AE60,1,1),\"\")","v":""},"",null,null,null,null,null,"Tarija,   de  de 2023"]
[null,null,null,null,null,null,null,null,null,null,null,null,null,null,null,null,null,null,null,null,null,null,null,null,null,null,null,null,null,59,null,{"$f":"IF($AE61<>\"\",INDEX(filEst!$K$21:$K$70,$AE61,1,1),\"\")","v":""},"",null,null,null,null,null,"Tarija,   de  de 2023"]
[null,null,null,null,null,null,null,null,null,null,null,null,null,null,null,null,null,null,null,null,null,null,null,null,null,null,null,null,null,60,null,{"$f":"IF($AE62<>\"\",INDEX(filEst!$K$21:$K$70,$AE62,1,1),\"\")","v":""},"",null,null,null,null,null,"Tarija,   de  de 2023"]
[null,null,null,null,null,null,null,null,null,null,null,null,null,null,null,null,null,null,null,null,null,null,null,null,null,null,null,null,null,61,null,{"$f":"IF($AE63<>\"\",INDEX(filEst!$K$21:$K$70,$AE63,1,1),\"\")","v":""},"",null,null,null,null,null,"Tarija,   de  de 2023"]
[null,null,null,null,null,null,null,null,null,null,null,null,null,null,null,null,null,null,null,null,null,null,null,null,null,null,null,null,null,62,null,{"$f":"IF($AE64<>\"\",INDEX(filEst!$K$21:$K$70,$AE64,1,1),\"\")","v":""},"",null,null,null,null,null,"Tarija,   de  de 2023"]
[null,null,null,null,null,null,null,null,null,null,null,null,null,null,null,null,null,null,null,null,null,null,null,null,null,null,null,null,null,63,null,{"$f":"IF($AE65<>\"\",INDEX(filEst!$K$21:$K$70,$AE65,1,1),\"\")","v":""},"",null,null,null,null,null,"Tarija,   de  de 2023"]
[null,null,null,null,null,null,null,null,null,null,null,null,null,null,null,null,null,null,null,null,null,null,null,null,null,null,null,null,null,64,null,{"$f":"IF($AE66<>\"\",INDEX(filEst!$K$21:$K$70,$AE66,1,1),\"\")","v":""},"",null,null,null,null,null,"Tarija,   de  de 2023"]
[null,null,null,null,null,null,null,null,null,null,null,null,null,null,null,null,null,null,null,null,null,null,null,null,null,null,null,null,null,65,null,{"$f":"IF($AE67<>\"\",INDEX(filEst!$K$21:$K$70,$AE67,1,1),\"\")","v":""},"",null,null,null,null,null,"Tarija,   de  de 2023"]
[null,null,null,null,null,null,null,null,null,null,null,null,null,null,null,null,null,null,null,null,null,null,null,null,null,null,null,null,null,66,null,{"$f":"IF($AE68<>\"\",INDEX(filEst!$K$21:$K$70,$AE68,1,1),\"\")","v":""},"",null,null,null,null,null,"Tarija,   de  de 2023"]
[null,null,null,null,null,null,null,null,null,null,null,null,null,null,null,null,null,null,null,null,null,null,null,null,null,null,null,null,null,67,null,{"$f":"IF($AE69<>\"\",INDEX(filEst!$K$21:$K$70,$AE69,1,1),\"\")","v":""},"",null,null,null,null,null,"Tarija,   de  de 2023"]
[null,null,null,null,null,null,null,null,null,null,null,null,null,null,null,null,null,null,null,null,null,null,null,null,null,null,null,null,null,68,null,{"$f":"IF($AE70<>\"\",INDEX(filEst!$K$21:$K$70,$AE70,1,1),\"\")","v":""},"",null,null,null,null,null,"Tarija,   de  de 2023"]
[null,null,null,null,null,null,null,null,null,null,null,null,null,null,null,null,null,null,null,null,null,null,null,null,null,null,null,null,null,69,null,{"$f":"IF($AE71<>\"\",INDEX(filEst!$K$21:$K$70,$AE71,1,1),\"\")","v":""},"",null,null,null,null,null,{"$f":"CONCATENATE($AK$1,\"  \",AK71,\" de \",AL71, \" de \", $AM$2)","v":"Tarija,   de  de 2023"}]
[null,null,null,null,null,null,null,null,null,null,null,null,null,null,null,null,null,null,null,null,null,null,null,null,null,null,null,null,null,70,null,{"$f":"IF($AE72<>\"\",INDEX(filEst!$K$21:$K$70,$AE72,1,1),\"\")","v":""},"",null,null,null,null,null,{"$f":"CONCATENATE($AK$1,\"  \",AK72,\" de \",AL72, \" de \", $AM$2)","v":"Tarija,   de  de 2023"}]

{"sheet":"apf","index":32,"n_rows":122,"n_cols":36,"rows_kept":122,"cut":false,"hidden":false,"merged":[[63,10,63,11],[52,10,52,11],[64,10,64,11],[53,10,53,11],[54,10,54,11],[56,10,56,11],[57,10,57,11],[58,10,58,11],[59,10,59,11],[61,10,61,11],[62,10,62,11],[55,10,55,11],[60,10,60,11],[70,20,70,22],[65,10,65,11],[66,10,66,11],[67,10,67,11],[68,10,68,11],[69,10,69,11],[48,10,48,11],[49,10,49,11],[50,10,50,11],[51,10,51,11],[31,10,31,11],[32,10,32,11],[33,10,33,11],[34,10,34,11],[30,10,30,11],[24,10,24,11],[47,10,47,11],[46,10,46,11],[35,10,35,11],[36,10,36,11],[37,10,37,11],[38,10,38,11],[39,10,39,11],[40,10,40,11],[41,10,41,11],[42,10,42,11],[43,10,43,11],[44,10,44,11],[45,10,45,11],[29,10,29,11],[1,6,1,32],[17,12,17,19],[18,20,19,20],[18,21,19,21],[17,23,17,31],[14,24,14,31],[18,24,19,24],[21,10,21,11],[25,10,25,11],[26,10,26,11],[27,10,27,11],[28,10,28,11],[22,10,22,11],[23,10,23,11],[20,10,20,11],[18,25,19,25],[18,28,19,28],[17,32,19,32],[18,26,19,26],[18,27,19,27],[18,29,19,29],[18,30,19,30],[18,31,19,31],[17,22,19,22],[18,23,19,23],[19,10,19,11],[19,34,19,37],[7,35,8,35],[7,36,8,36],[14,12,14,17],[14,18,14,23],[18,34,18,37]]}
[]
[null,null,null,null,null,null,"REGISTRO DE ASISTENCIA A REUNIONES DE PADRES DE FAMILIA"]
[null,null,null,null,null,null,"UE",null,null,null,"UNIDAD EDUCATIVA ",{"$f":"datpro!$E$7","v":0},null,null,null,null,null,null,null,null,null,null,null,null,null,null,null,null,null,null,null,null,null,null,".","=  Asistencias"]
[]
[null,null,null,null,null,null,"S2D",null,null,null,"AÑO DE ESCOLARIDAD",{"$f":"CONCATENATE( datpro!$E$11,\"  -  \",datpro!$E$12)","v":"  -  "},null,null,null,null,null,null,null,null,null,null,null,null,null,null,null,null,null,null,null,null,null,null,"F","=  Faltas"]
[null,null,null,null,null,null,null,null,null,null,"DIRECTORA/OR",{"$f":"datpro!$E$8","v":0}]
[null,null,null,null,null,null,"MAE",null,null,null,"MAESTRA/O",{"$f":"datpro!$E$9","v":0},null,null,null,null,null,null,null,null,null,null,null,null,null,null,null,null,null,null,null,null,null,null,"Ξ","Cerrar"]
[]
[null,null,null,null,null,null,"LEX"]
[]
[]
[]
[]
[]
[null,null,null,null,null,null,"F21:AG70","AG"]
[]
[]
[null,null,null,null,null,null,null,null,null,null,null,null,"__ FECHA DE REUNION",null,null,null,null,null,null,null,null,null,"TOTAL REUNIONES","ACTIVIDADES",null,null,null,null,null,null,null,null,"MONTO TOTAL"]
[null,null,null,null,null,null,"COD",null,null,null,null,null,null,null,null,null,null,null,null,null,"ASISTENCIAS","FALTAS"]
[null,null,null,null,null,"Nº",null,null,null,null,"APELLIDOS Y NOMBRES",null,null,null,{"$f":"(IF(O19=\"\",\"\",TEXT(O19,\"DDD\")))","v":""},"","","","",""]
[null,null,null,null,null,{"$f":"IF(filEst!F21=\"\",\"\",filEst!F21)","v":""},{"$f":"IF(filEst!G21=\"\",\"\",filEst!G21)","v":""},{"$f":"IF(filEst!L21=\"\",\"\",filEst!L21)","v":""},null,null,{"$f":"IF(filEst!K21=\"\",\"\",filEst!K21)","v":""},null,null,null,null,null,null,null,null,null,{"$f":"IF(COUNTIF(M21:T21,\".\")=0,\"\",COUNTIF(M21:T21,\".\"))","v":""},{"$f":"IF(COUNTIF(M21:T21,\"F\")=0,\"\",COUNTIF(M21:T21,\"F\"))","v":""},{"$f":"IF(SUM(U21:V21)=0,\"\",SUM(U21:V21))","v":""},null,null,null,null,null,null,null,null,null,{"$f":"IF(SUM(X21:AF21)=0,\"\",(SUM(X21:AF21)))","v":""},null,null,"©  2023"]
[null,null,null,null,null,{"$f":"IF(filEst!F22=\"\",\"\",filEst!F22)","v":""},{"$f":"IF(filEst!G22=\"\",\"\",filEst!G22)","v":""},{"$f":"IF(filEst!L22=\"\",\"\",filEst!L22)","v":""},null,null,{"$f":"IF(filEst!K22=\"\",\"\",filEst!K22)","v":""},null,null,null,null,null,null,null,null,null,"","","",null,null,null,null,null,null,null,null,null,"",null,null,"PROYECTO REMDIZ"]
[null,null,null,null,null,{"$f":"IF(filEst!F23=\"\",\"\",filEst!F23)","v":""},{"$f":"IF(filEst!G23=\"\",\"\",filEst!G23)","v":""},{"$f":"IF(filEst!L23=\"\",\"\",filEst!L23)","v":""},null,null,{"$f":"IF(filEst!K23=\"\",\"\",filEst!K23)","v":""},null,null,null,null,null,null,null,null,null,"","","",null,null,null,null,null,null,null,null,null,""]
[null,null,null,null,null,{"$f":"IF(filEst!F24=\"\",\"\",filEst!F24)","v":""},{"$f":"IF(filEst!G24=\"\",\"\",filEst!G24)","v":""},{"$f":"IF(filEst!L24=\"\",\"\",filEst!L24)","v":""},null,null,{"$f":"IF(filEst!K24=\"\",\"\",filEst!K24)","v":""},null,null,null,null,null,null,null,null,null,"","","",null,null,null,null,null,null,null,null,null,""]
[null,null,null,null,null,{"$f":"IF(filEst!F25=\"\",\"\",filEst!F25)","v":""},{"$f":"IF(filEst!G25=\"\",\"\",filEst!G25)","v":""},{"$f":"IF(filEst!L25=\"\",\"\",filEst!L25)","v":""},null,null,{"$f":"IF(filEst!K25=\"\",\"\",filEst!K25)","v":""},null,null,null,null,null,null,null,null,null,"","","",null,null,null,null,null,null,null,null,null,""]
[null,null,null,null,null,{"$f":"IF(filEst!F26=\"\",\"\",filEst!F26)","v":""},{"$f":"IF(filEst!G26=\"\",\"\",filEst!G26)","v":""},{"$f":"IF(filEst!L26=\"\",\"\",filEst!L26)","v":""},null,null,{"$f":"IF(filEst!K26=\"\",\"\",filEst!K26)","v":""},null,null,null,null,null,null,null,null,null,"","","",null,null,null,null,null,null,null,null,null,""]
[null,null,null,null,null,{"$f":"IF(filEst!F27=\"\",\"\",filEst!F27)","v":""},{"$f":"IF(filEst!G27=\"\",\"\",filEst!G27)","v":""},{"$f":"IF(filEst!L27=\"\",\"\",filEst!L27)","v":""},null,null,{"$f":"IF(filEst!K27=\"\",\"\",filEst!K27)","v":""},null,null,null,null,null,null,null,null,null,"","","",null,null,null,null,null,null,null,null,null,""]
[null,null,null,null,null,{"$f":"IF(filEst!F28=\"\",\"\",filEst!F28)","v":""},{"$f":"IF(filEst!G28=\"\",\"\",filEst!G28)","v":""},{"$f":"IF(filEst!L28=\"\",\"\",filEst!L28)","v":""},null,null,{"$f":"IF(filEst!K28=\"\",\"\",filEst!K28)","v":""},null,null,null,null,null,null,null,null,null,"","","",null,null,null,null,null,null,null,null,null,""]
[null,null,null,null,null,{"$f":"IF(filEst!F29=\"\",\"\",filEst!F29)","v":""},{"$f":"IF(filEst!G29=\"\",\"\",filEst!G29)","v":""},{"$f":"IF(filEst!L29=\"\",\"\",filEst!L29)","v":""},null,null,{"$f":"IF(filEst!K29=\"\",\"\",filEst!K29)","v":""},null,null,null,null,null,null,null,null,null,"","","",null,null,null,null,null,null,null,null,null,""]
[null,null,null,null,null,{"$f":"IF(filEst!F30=\"\",\"\",filEst!F30)","v":""},{"$f":"IF(filEst!G30=\"\",\"\",filEst!G30)","v":""},{"$f":"IF(filEst!L30=\"\",\"\",filEst!L30)","v":""},null,null,{"$f":"IF(filEst!K30=\"\",\"\",filEst!K30)","v":""},null,null,null,null,null,null,null,null,null,"","","",null,null,null,null,null,null,null,null,null,""]
[null,null,null,null,null,{"$f":"IF(filEst!F31=\"\",\"\",filEst!F31)","v":""},{"$f":"IF(filEst!G31=\"\",\"\",filEst!G31)","v":""},{"$f":"IF(filEst!L31=\"\",\"\",filEst!L31)","v":""},null,null,{"$f":"IF(filEst!K31=\"\",\"\",filEst!K31)","v":""},null,null,null,null,null,null,null,null,null,"","","",null,null,null,null,null,null,null,null,null,""]
[null,null,null,null,null,{"$f":"IF(filEst!F32=\"\",\"\",filEst!F32)","v":""},{"$f":"IF(filEst!G32=\"\",\"\",filEst!G32)","v":""},{"$f":"IF(filEst!L32=\"\",\"\",filEst!L32)","v":""},null,null,{"$f":"IF(filEst!K32=\"\",\"\",filEst!K32)","v":""},null,null,null,null,null,null,null,null,null,"","","",null,null,null,null,null,null,null,null,null,""]
[null,null,null,null,null,{"$f":"IF(filEst!F33=\"\",\"\",filEst!F33)","v":""},{"$f":"IF(filEst!G33=\"\",\"\",filEst!G33)","v":""},{"$f":"IF(filEst!L33=\"\",\"\",filEst!L33)","v":""},null,null,{"$f":"IF(filEst!K33=\"\",\"\",filEst!K33)","v":""},null,null,null,null,null,null,null,null,null,"","","",null,null,null,null,null,null,null,null,null,""]
[null,null,null,null,null,{"$f":"IF(filEst!F34=\"\",\"\",filEst!F34)","v":""},{"$f":"IF(filEst!G34=\"\",\"\",filEst!G34)","v":""},{"$f":"IF(filEst!L34=\"\",\"\",filEst!L34)","v":""},null,null,{"$f":"IF(filEst!K34=\"\",\"\",filEst!K34)","v":""},null,null,null,null,null,null,null,null,null,"","","",null,null,null,null,null,null,null,null,null,""]
[null,null,null,null,null,{"$f":"IF(filEst!F35=\"\",\"\",filEst!F35)","v":""},{"$f":"IF(filEst!G35=\"\",\"\",filEst!G35)","v":""},{"$f":"IF(filEst!L35=\"\",\"\",filEst!L35)","v":""},null,null,{"$f":"IF(filEst!K35=\"\",\"\",filEst!K35)","v":""},null,null,null,null,null,null,null,null,null,"","","",null,null,null,null,null,null,null,null,null,""]
[null,null,null,null,null,{"$f":"IF(filEst!F36=\"\",\"\",filEst!F36)","v":""},{"$f":"IF(filEst!G36=\"\",\"\",filEst!G36)","v":""},{"$f":"IF(filEst!L36=\"\",\"\",filEst!L36)","v":""},null,null,{"$f":"IF(filEst!K36=\"\",\"\",filEst!K36)","v":""},null,null,null,null,null,null,null,null,null,"","","",null,null,null,null,null,null,null,null,null,""]
[null,null,null,null,null,{"$f":"IF(filEst!F37=\"\",\"\",filEst!F37)","v":""},{"$f":"IF(filEst!G37=\"\",\"\",filEst!G37)","v":""},{"$f":"IF(filEst!L37=\"\",\"\",filEst!L37)","v":""},null,null,{"$f":"IF(filEst!K37=\"\",\"\",filEst!K37)","v":""},null,null,null,null,null,null,null,null,null,"","","",null,null,null,null,null,null,null,null,null,""]
[null,null,null,null,null,{"$f":"IF(filEst!F38=\"\",\"\",filEst!F38)","v":""},{"$f":"IF(filEst!G38=\"\",\"\",filEst!G38)","v":""},{"$f":"IF(filEst!L38=\"\",\"\",filEst!L38)","v":""},null,null,{"$f":"IF(filEst!K38=\"\",\"\",filEst!K38)","v":""},null,null,null,null,null,null,null,null,null,"","","",null,null,null,null,null,null,null,null,null,""]
[null,null,null,null,null,{"$f":"IF(filEst!F39=\"\",\"\",filEst!F39)","v":""},{"$f":"IF(filEst!G39=\"\",\"\",filEst!G39)","v":""},{"$f":"IF(filEst!L39=\"\",\"\",filEst!L39)","v":""},null,null,{"$f":"IF(filEst!K39=\"\",\"\",filEst!K39)","v":""},null,null,null,null,null,null,null,null,null,"","","",null,null,null,null,null,null,null,null,null,""]
[null,null,null,null,null,{"$f":"IF(filEst!F40=\"\",\"\",filEst!F40)","v":""},{"$f":"IF(filEst!G40=\"\",\"\",filEst!G40)","v":""},{"$f":"IF(filEst!L40=\"\",\"\",filEst!L40)","v":""},null,null,{"$f":"IF(filEst!K40=\"\",\"\",filEst!K40)","v":""},null,null,null,null,null,null,null,null,null,"","","",null,null,null,null,null,null,null,null,null,""]
[null,null,null,null,null,{"$f":"IF(filEst!F41=\"\",\"\",filEst!F41)","v":""},{"$f":"IF(filEst!G41=\"\",\"\",filEst!G41)","v":""},{"$f":"IF(filEst!L41=\"\",\"\",filEst!L41)","v":""},null,null,{"$f":"IF(filEst!K41=\"\",\"\",filEst!K41)","v":""},null,null,null,null,null,null,null,null,null,"","","",null,null,null,null,null,null,null,null,null,""]
[null,null,null,null,null,{"$f":"IF(filEst!F42=\"\",\"\",filEst!F42)","v":""},{"$f":"IF(filEst!G42=\"\",\"\",filEst!G42)","v":""},{"$f":"IF(filEst!L42=\"\",\"\",filEst!L42)","v":""},null,null,{"$f":"IF(filEst!K42=\"\",\"\",filEst!K42)","v":""},null,null,null,null,null,null,null,null,null,"","","",null,null,null,null,null,null,null,null,null,""]
[null,null,null,null,null,{"$f":"IF(filEst!F43=\"\",\"\",filEst!F43)","v":""},{"$f":"IF(filEst!G43=\"\",\"\",filEst!G43)","v":""},{"$f":"IF(filEst!L43=\"\",\"\",filEst!L43)","v":""},null,null,{"$f":"IF(filEst!K43=\"\",\"\",filEst!K43)","v":""},null,null,null,null,null,null,null,null,null,"","","",null,null,null,null,null,null,null,null,null,""]
[null,null,null,null,null,{"$f":"IF(filEst!F44=\"\",\"\",filEst!F44)","v":""},{"$f":"IF(filEst!G44=\"\",\"\",filEst!G44)","v":""},{"$f":"IF(filEst!L44=\"\",\"\",filEst!L44)","v":""},null,null,{"$f":"IF(filEst!K44=\"\",\"\",filEst!K44)","v":""},null,null,null,null,null,null,null,null,null,"","","",null,null,null,null,null,null,null,null,null,""]
[null,null,null,null,null,{"$f":"IF(filEst!F45=\"\",\"\",filEst!F45)","v":""},{"$f":"IF(filEst!G45=\"\",\"\",filEst!G45)","v":""},{"$f":"IF(filEst!L45=\"\",\"\",filEst!L45)","v":""},null,null,{"$f":"IF(filEst!K45=\"\",\"\",filEst!K45)","v":""},null,null,null,null,null,null,null,null,null,"","","",null,null,null,null,null,null,null,null,null,""]
[null,null,null,null,null,{"$f":"IF(filEst!F46=\"\",\"\",filEst!F46)","v":""},{"$f":"IF(filEst!G46=\"\",\"\",filEst!G46)","v":""},{"$f":"IF(filEst!L46=\"\",\"\",filEst!L46)","v":""},null,null,{"$f":"IF(filEst!K46=\"\",\"\",filEst!K46)","v":""},null,null,null,null,null,null,null,null,null,"","","",null,null,null,null,null,null,null,null,null,""]
[null,null,null,null,null,{"$f":"IF(filEst!F47=\"\",\"\",filEst!F47)","v":""},{"$f":"IF(filEst!G47=\"\",\"\",filEst!G47)","v":""},{"$f":"IF(filEst!L47=\"\",\"\",filEst!L47)","v":""},null,null,{"$f":"IF(filEst!K47=\"\",\"\",filEst!K47)","v":""},null,null,null,null,null,null,null,null,null,"","","",null,null,null,null,null,null,null,null,null,""]
[null,null,null,null,null,{"$f":"IF(filEst!F48=\"\",\"\",filEst!F48)","v":""},{"$f":"IF(filEst!G48=\"\",\"\",filEst!G48)","v":""},{"$f":"IF(filEst!L48=\"\",\"\",filEst!L48)","v":""},null,null,{"$f":"IF(filEst!K48=\"\",\"\",filEst!K48)","v":""},null,null,null,null,null,null,null,null,null,"","","",null,null,null,null,null,null,null,null,null,""]
[null,null,null,null,null,{"$f":"IF(filEst!F49=\"\",\"\",filEst!F49)","v":""},{"$f":"IF(filEst!G49=\"\",\"\",filEst!G49)","v":""},{"$f":"IF(filEst!L49=\"\",\"\",filEst!L49)","v":""},null,null,{"$f":"IF(filEst!K49=\"\",\"\",filEst!K49)","v":""},null,null,null,null,null,null,null,null,null,"","","",null,null,null,null,null,null,null,null,null,""]
[null,null,null,null,null,{"$f":"IF(filEst!F50=\"\",\"\",filEst!F50)","v":""},{"$f":"IF(filEst!G50=\"\",\"\",filEst!G50)","v":""},{"$f":"IF(filEst!L50=\"\",\"\",filEst!L50)","v":""},null,null,{"$f":"IF(filEst!K50=\"\",\"\",filEst!K50)","v":""},null,null,null,null,null,null,null,null,null,"","","",null,null,null,null,null,null,null,null,null,""]
[null,null,null,null,null,{"$f":"IF(filEst!F51=\"\",\"\",filEst!F51)","v":""},{"$f":"IF(filEst!G51=\"\",\"\",filEst!G51)","v":""},{"$f":"IF(filEst!L51=\"\",\"\",filEst!L51)","v":""},null,null,{"$f":"IF(filEst!K51=\"\",\"\",filEst!K51)","v":""},null,null,null,null,null,null,null,null,null,"","","",null,null,null,null,null,null,null,null,null,""]
[null,null,null,null,null,{"$f":"IF(filEst!F52=\"\",\"\",filEst!F52)","v":""},{"$f":"IF(filEst!G52=\"\",\"\",filEst!G52)","v":""},{"$f":"IF(filEst!L52=\"\",\"\",filEst!L52)","v":""},null,null,{"$f":"IF(filEst!K52=\"\",\"\",filEst!K52)","v":""},null,null,null,null,null,null,null,null,null,"","","",null,null,null,null,null,null,null,null,null,""]
[null,null,null,null,null,{"$f":"IF(filEst!F53=\"\",\"\",filEst!F53)","v":""},{"$f":"IF(filEst!G53=\"\",\"\",filEst!G53)","v":""},{"$f":"IF(filEst!L53=\"\",\"\",filEst!L53)","v":""},null,null,{"$f":"IF(filEst!K53=\"\",\"\",filEst!K53)","v":""},null,null,null,null,null,null,null,null,null,"","","",null,null,null,null,null,null,null,null,null,""]
[null,null,null,null,null,{"$f":"IF(filEst!F54=\"\",\"\",filEst!F54)","v":""},{"$f":"IF(filEst!G54=\"\",\"\",filEst!G54)","v":""},{"$f":"IF(filEst!L54=\"\",\"\",filEst!L54)","v":""},null,null,{"$f":"IF(filEst!K54=\"\",\"\",filEst!K54)","v":""},null,null,null,null,null,null,null,null,null,"","","",null,null,null,null,null,null,null,null,null,""]
[null,null,null,null,null,{"$f":"IF(filEst!F55=\"\",\"\",filEst!F55)","v":""},{"$f":"IF(filEst!G55=\"\",\"\",filEst!G55)","v":""},{"$f":"IF(filEst!L55=\"\",\"\",filEst!L55)","v":""},null,null,{"$f":"IF(filEst!K55=\"\",\"\",filEst!K55)","v":""},null,null,null,null,null,null,null,null,null,"","","",null,null,null,null,null,null,null,null,null,""]
[null,null,null,null,null,{"$f":"IF(filEst!F56=\"\",\"\",filEst!F56)","v":""},{"$f":"IF(filEst!G56=\"\",\"\",filEst!G56)","v":""},{"$f":"IF(filEst!L56=\"\",\"\",filEst!L56)","v":""},null,null,{"$f":"IF(filEst!K56=\"\",\"\",filEst!K56)","v":""},null,null,null,null,null,null,null,null,null,"","","",null,null,null,null,null,null,null,null,null,""]
[null,null,null,null,null,{"$f":"IF(filEst!F57=\"\",\"\",filEst!F57)","v":""},{"$f":"IF(filEst!G57=\"\",\"\",filEst!G57)","v":""},{"$f":"IF(filEst!L57=\"\",\"\",filEst!L57)","v":""},null,null,{"$f":"IF(filEst!K57=\"\",\"\",filEst!K57)","v":""},null,null,null,null,null,null,null,null,null,"","","",null,null,null,null,null,null,null,null,null,""]
[null,null,null,null,null,{"$f":"IF(filEst!F58=\"\",\"\",filEst!F58)","v":""},{"$f":"IF(filEst!G58=\"\",\"\",filEst!G58)","v":""},{"$f":"IF(filEst!L58=\"\",\"\",filEst!L58)","v":""},null,null,{"$f":"IF(filEst!K58=\"\",\"\",filEst!K58)","v":""},null,null,null,null,null,null,null,null,null,"","","",null,null,null,null,null,null,null,null,null,""]
[null,null,null,null,null,{"$f":"IF(filEst!F59=\"\",\"\",filEst!F59)","v":""},{"$f":"IF(filEst!G59=\"\",\"\",filEst!G59)","v":""},{"$f":"IF(filEst!L59=\"\",\"\",filEst!L59)","v":""},null,null,{"$f":"IF(filEst!K59=\"\",\"\",filEst!K59)","v":""},null,null,null,null,null,null,null,null,null,"","","",null,null,null,null,null,null,null,null,null,""]
[null,null,null,null,null,{"$f":"IF(filEst!F60=\"\",\"\",filEst!F60)","v":""},{"$f":"IF(filEst!G60=\"\",\"\",filEst!G60)","v":""},{"$f":"IF(filEst!L60=\"\",\"\",filEst!L60)","v":""},null,null,{"$f":"IF(filEst!K60=\"\",\"\",filEst!K60)","v":""},null,null,null,null,null,null,null,null,null,"","","",null,null,null,null,null,null,null,null,null,""]
[null,null,null,null,null,{"$f":"IF(filEst!F61=\"\",\"\",filEst!F61)","v":""},{"$f":"IF(filEst!G61=\"\",\"\",filEst!G61)","v":""},{"$f":"IF(filEst!L61=\"\",\"\",filEst!L61)","v":""},null,null,{"$f":"IF(filEst!K61=\"\",\"\",filEst!K61)","v":""},null,null,null,null,null,null,null,null,null,"","","",null,null,null,null,null,null,null,null,null,""]
[null,null,null,null,null,{"$f":"IF(filEst!F62=\"\",\"\",filEst!F62)","v":""},{"$f":"IF(filEst!G62=\"\",\"\",filEst!G62)","v":""},{"$f":"IF(filEst!L62=\"\",\"\",filEst!L62)","v":""},null,null,{"$f":"IF(filEst!K62=\"\",\"\",filEst!K62)","v":""},null,null,null,null,null,null,null,null,null,"","","",null,null,null,null,null,null,null,null,null,""]
[null,null,null,null,null,{"$f":"IF(filEst!F63=\"\",\"\",filEst!F63)","v":""},{"$f":"IF(filEst!G63=\"\",\"\",filEst!G63)","v":""},{"$f":"IF(filEst!L63=\"\",\"\",filEst!L63)","v":""},null,null,{"$f":"IF(filEst!K63=\"\",\"\",filEst!K63)","v":""},null,null,null,null,null,null,null,null,null,"","","",null,null,null,null,null,null,null,null,null,""]
[null,null,null,null,null,{"$f":"IF(filEst!F64=\"\",\"\",filEst!F64)","v":""},{"$f":"IF(filEst!G64=\"\",\"\",filEst!G64)","v":""},{"$f":"IF(filEst!L64=\"\",\"\",filEst!L64)","v":""},null,null,{"$f":"IF(filEst!K64=\"\",\"\",filEst!K64)","v":""},null,null,null,null,null,null,null,null,null,"","","",null,null,null,null,null,null,null,null,null,""]
[null,null,null,null,null,{"$f":"IF(filEst!F65=\"\",\"\",filEst!F65)","v":""},{"$f":"IF(filEst!G65=\"\",\"\",filEst!G65)","v":""},{"$f":"IF(filEst!L65=\"\",\"\",filEst!L65)","v":""},null,null,{"$f":"IF(filEst!K65=\"\",\"\",filEst!K65)","v":""},null,null,null,null,null,null,null,null,null,"","","",null,null,null,null,null,null,null,null,null,""]
[null,null,null,null,null,{"$f":"IF(filEst!F66=\"\",\"\",filEst!F66)","v":""},{"$f":"IF(filEst!G66=\"\",\"\",filEst!G66)","v":""},{"$f":"IF(filEst!L66=\"\",\"\",filEst!L66)","v":""},null,null,{"$f":"IF(filEst!K66=\"\",\"\",filEst!K66)","v":""},null,null,null,null,null,null,null,null,null,"","","",null,null,null,null,null,null,null,null,null,""]
[null,null,null,null,null,{"$f":"IF(filEst!F67=\"\",\"\",filEst!F67)","v":""},{"$f":"IF(filEst!G67=\"\",\"\",filEst!G67)","v":""},{"$f":"IF(filEst!L67=\"\",\"\",filEst!L67)","v":""},null,null,{"$f":"IF(filEst!K67=\"\",\"\",filEst!K67)","v":""},null,null,null,null,null,null,null,null,null,"","","",null,null,null,null,null,null,null,null,null,""]
[null,null,null,null,null,{"$f":"IF(filEst!F68=\"\",\"\",filEst!F68)","v":""},{"$f":"IF(filEst!G68=\"\",\"\",filEst!G68)","v":""},{"$f":"IF(filEst!L68=\"\",\"\",filEst!L68)","v":""},null,null,{"$f":"IF(filEst!K68=\"\",\"\",filEst!K68)","v":""},null,null,null,null,null,null,null,null,null,{"$f":"IF(COUNTIF(M68:T68,\".\")=0,\"\",COUNTIF(M68:T68,\".\"))","v":""},{"$f":"IF(COUNTIF(M68:T68,\"F\")=0,\"\",COUNTIF(M68:T68,\"F\"))","v":""},{"$f":"IF(SUM(U68:V68)=0,\"\",SUM(U68:V68))","v":""},null,null,null,null,null,null,null,null,null,{"$f":"IF(SUM(X68:AF68)=0,\"\",(SUM(X68:AF68)))","v":""}]
[null,null,null,null,null,{"$f":"IF(filEst!F69=\"\",\"\",filEst!F69)","v":""},{"$f":"IF(filEst!G69=\"\",\"\",filEst!G69)","v":""},{"$f":"IF(filEst!L69=\"\",\"\",filEst!L69)","v":""},null,null,{"$f":"IF(filEst!K69=\"\",\"\",filEst!K69)","v":""},null,null,null,null,null,null,null,null,null,{"$f":"IF(COUNTIF(M69:T69,\".\")=0,\"\",COUNTIF(M69:T69,\".\"))","v":""},{"$f":"IF(COUNTIF(M69:T69,\"F\")=0,\"\",COUNTIF(M69:T69,\"F\"))","v":""},{"$f":"IF(SUM(U69:V69)=0,\"\",SUM(U69:V69))","v":""},null,null,null,null,null,null,null,null,null,{"$f":"IF(SUM(X69:AF69)=0,\"\",(SUM(X69:AF69)))","v":""}]
[null,null,null,null,null,{"$f":"IF(filEst!F70=\"\",\"\",filEst!F70)","v":""},{"$f":"IF(filEst!G70=\"\",\"\",filEst!G70)","v":""},{"$f":"IF(filEst!L70=\"\",\"\",filEst!L70)","v":""},null,null,{"$f":"IF(filEst!K70=\"\",\"\",filEst!K70)","v":""},null,null,null,null,null,null,null,null,null,{"$f":"IF(COUNTIF(M70:T70,\".\")=0,\"\",COUNTIF(M70:T70,\".\"))","v":""},{"$f":"IF(COUNTIF(M70:T70,\"F\")=0,\"\",COUNTIF(M70:T70,\"F\"))","v":""},{"$f":"IF(SUM(U70:V70)=0,\"\",SUM(U70:V70))","v":""},null,null,null,null,null,null,null,null,null,{"$f":"IF(SUM(X70:AF70)=0,\"\",(SUM(X70:AF70)))","v":""}]
[null,null,null,null,null,null,null,null,null,null,null,null,null,null,null,null,null,null,null,null,"TOTAL",null,null,{"$f":"IF(SUM(X21:X70)=0,\"\",SUM(X21:X70))","v":""},"","","","","","","","",{"$f":"IF(SUM(AG21:AG70)=0,\"\",SUM(AG21:AG70))","v":""}]
[]
[]
[]
[]
[]
[]
[]
[]
[]
[null,null,null,null,null,null,"select_load",{"$f":"main!$AE$10","v":50}]
[null,null,null,null,null,null,"actual_save",50]
[]
[]
[]
[]
[]
[]
[]
[]
[]
[]
[]
[]
[]
[]
[]
[]
[]
[]
[]
[null,null,null,null,null,null,"alto de fila",10]
[null,null,null,null,null,null,"ancho col nro",1]
[null,null,null,null,null,null,"ancho col est",25]
[null,null,null,null,null,null,"ancho col indicadores",2]
[null,null,null,null,null,null,"ancho col prom ind",2.5]
[null,null,null,null,null,null,"ancho nota prof",3.3]
[null,null,null,null,null,null,"ancho nota bim",2.5]
[null,null,null,null,null,null,"tamaño fuente",8]
[null,null,null,null,null,null,"alto indicador",120]
[null,null,null,null,null,null,"bimestre",4]
[null,null,null,null,null,null,"nroest",17]
[null,null,null,null,null,null,"hiden_cri_eva",1]
[null,null,null,null,null,null,"alto fila crieva",80]
[null,null,null,null,null,null,"alto fila actv",80]
[null,null,null,null,null,null,"paneles",0]
[null,null,null,null,null,null,"sit_bim_comp",1]
[null,null,null,null,null,null,"sit_bim_abrv",0.5]
[null,null,null,null,null,null,"cod_area"]
[null,null,null,null,null,null,"hiden_actividedes",1]
[null,null,null,null,null,null,"minedu",1]
[null,null,null,null,null,null,"distjs",0]

{"sheet":"car","index":33,"n_rows":53,"n_cols":28,"rows_kept":53,"cut":false,"hidden":false,"merged":[[4,27,4,30],[5,27,5,30],[43,8,43,15],[3,8,7,15],[8,8,8,15],[9,8,9,15],[12,8,12,15],[42,8,42,15]]}
[]
[]
[null,null,null,null,null,null,null,null,null,null,null,null,null,null,null,null,null,null,null,null,null,null,null,null,null,null,"Ξ","Cerrar"]
[null,null,null,null,null,null,null,null,{"$f":"datpro!$E$10","v":""}]
[]
[]
[]
[]
[null,null,null,null,null,null,null,null,"CUADERNO "]
[null,null,null,null,null,null,null,null,"PEDAGÓGICO"]
[]
[]
[]
[]
[]
[]
[]
[]
[]
[]
[]
[]
[]
[]
[]
[]
[]
[]
[null,null,null,null,null,null,null,null,null,"UNIDAD EDUCATIVA:",null,{"$f":"datpro!E7","v":0}]
[]
[null,null,null,null,null,null,null,null,null,"AREA"]
[]
[null,null,null,null,null,null,null,null,null,"GRADO"]
[]
[null,null,null,null,null,null,null,null,null,"PARALELO:"]
[]
[null,null,null,null,null,null,null,null,null,"MAESTRO(A)",null,{"$f":"datpro!E9","v":0}]
[]
[null,null,null,null,null,null,null,null,null,"GESTION:",null,2023]
[]
[]
[]
[null,null,null,null,null,null,null,null,"Bolivia"]
[]
[]
[]
[]
[]
[]
[]
[]
[]
[null,null,null,null,null,null,"Ξ",null,"Cerrar"]

{"sheet":"obsB1","index":34,"n_rows":13,"n_cols":90,"rows_kept":13,"cut":false,"hidden":false,"merged":[]}
[null,null,null,null,null,null,null,null,null,null,null,null,0]
[null,null,null,null,null,"Ξ",null,null,null,null,null,null,20]
[null,null,null,null,null,"Cerrar"]
[]
[]
[]
[null,null,"Las observaciones han sido descontinuadas"]
[null,null,"si desea registrar las observaciones "]
[null,null,"puede hacerlo via internet por 5bs. Adicionales ",null,null,null,null,null,null,null,null,null,null,null,null,null,null,null,null,null,null,null,null,null,null,null,null,null,null,null,null,null,null,null,null,null,null,null,null,null,null,null,null,null,null,null,null,null,null,null,null,null,null,null,null,null,null,null,null,null,null,null,null,null,null,null,null,null,null,null,null,null,null,null,null,null,null,null,null,null,null,null,null,null,null,null,null,null,null,2]
[null,null,"registrese en "]
[null,null,"www.registros.remdiz.net"]
[]
[null,null,"El primer trimestre es una prueba  gratis"]